Workbook

Sheet LLIBRE NOU
AC2: INICI STOCK: 1/09/2019
D3: ESTOC INICIAL | E3: VENDES | U3: TOTAL EXEMPLARS VENUTS | V3: TOTAL INGRESSOS € | W3: ENTREGUES PROTOCOL | X3: MERMES | Y3: REPOSICIONS/NOVETATS | Z3: DEVOLUCIONS NÚM EXEMPLARS EFECTIU | AA3: DEVOLUCIONS NÚM EXEMPLARS TARJETA | AB3: DEVOLUCIONS EFECTIU € | AC3: DEVOLUCIONS TARJETA € | AD3: ESTOC FINAL
E4: EFECTIU | G4: TARGETA | I4: EFECTIU | K4: TARGETA | M4: EFECTIU | O4: TARGETA | Q4: EFECTIU | S4: TARGETA
A5: TÍTOL LLIBRE NOU | B5: IDIOMA | C5: PREU UNITARI | E5: Núm | F5: Preu VP | G5: Núm | H5: Preu VP | I5: Núm | J5: Preu AJ BCN | K5: Núm | L5: Preu AJ BCN | M5: Núm | N5: Preu Sant Jordi | O5: Núm | P5: Preu Sant Jordi | Q5: Núm | R5: Preu Carnet Biblioteca | S5: Núm | T5: Preu Carnet Biblioteca
J6: 0.3 | L6: 0.3 | N6: 0.1 | P6: 0.1 | R6: 0.05 | T6: 0.05 | V6: (A) | AD6: (B)
D12: =SUM(D7:D11) -> 0 | AD12: =SUM(AD7:AD11) -> 0
A13: TOTALS | E13: =SUM(E7:E11) -> 0 | F13: =SUM(F7:F11) -> 0 | G13: =SUM(G7:G11) -> 0 | H13: =SUM(H7:H11) -> 0 | I13: =SUM(I7:I11) -> 0 | J13: =SUM(J7:J11) -> 0 | K13: =SUM(K7:K11) -> 0 | L13: =SUM(L7:L11) -> 0 | ... X13: =SUM(X7:X11) -> 0 | Z13: =SUM(Z7:Z11) -> 0 | AA13: =SUM(AA7:AA11) -> 0 | AB13: =SUM(AB7:AB11) -> 0 | AC13: =SUM(AC7:AC11) -> 0
A17: TOTALS NOU+VELL | B17: NUM METÀL·LIC | D17: NUM TARJA | F17: NUM M+T
B18: =E13+I13+Q13-Z13+'LLIBRE VELL'!D16-'LLIBRE VELL'!Q16 -> 0 | D18: =G13+K13+O13+S13+'LLIBRE VELL'!F16-AA13-'LLIBRE VELL'!R16 -> 0 | F18: =B18+D18 -> 0
B20: PREU METÀL·LIC | D20: PREU TARJA | F20: PREU M+T | T20: TOTALS VENDES EXEMPLARS NOU+EXEMPLARS VELL+BOSSES
B21: =F13+J13-AB13+N13+R13+'LLIBRE VELL'!E16-'LLIBRE VELL'!S16 -> 0 | D21: =H13+L13+P13+T13+'LLIBRE VELL'!G16-AC13-'LLIBRE VELL'!T16 -> 0 | F21: =V13+'LLIBRE VELL'!M16 -> 0 | T21: PREU METÀL·LIC | V21: PREU TARJA | X21: PREU M+T
T22: =B21+B27 -> 0 | V22: =D21+D27 -> 0 | X22: =T22+V22 -> 0
A23: TOTALS BOSSES | B23: NUM METÀL·LIC | D23: NUM TARJA | F23: NUM M+T
B24: =BOSSES!E11+BOSSES!I11 -> 0 | D24: =BOSSES!G11+BOSSES!K11 -> 0 | F24: =B24+D24 -> 0 | T24: TOTALS NÚM EXEMPLARS NOU+EXEMPLARS VELL+BOSSES
T25: NUM METÀL·LIC | V25: NUM TARJA | X25: NUM M+T
B26: PREU METÀL·LIC | D26: PREU TARJA | F26: PREU M+T | T26: =B18+B24 -> 0 | V26: =D18+D24 -> 0 | X26: =T26+V26 -> 0
B27: =SUM(BOSSES!F11+BOSSES!J11) -> 0 | D27: =SUM(BOSSES!H11+BOSSES!L11) -> 0 | F27: =B27+D27 -> 0

Sheet LLIBRE VELL
R2: INICI STOCK: 1/6/2018
C3: ESTOC INICIAL | D3: VENDES | L3: TOTAL EXEMPLARS VENUTS | M3: TOTAL INGRESSOS € | N3: ENTREGUES PROTOCOL | O3: MERMES | P3: REPOSICIONS/NOVETATS | Q3: DEVOLUCIONS NÚM EXEMPLARS EFECTIU | R3: DEVOLUCIONS NÚM EXEMPLARS TARJETA | S3: DEVOLUCIONS EFECTIU € | T3: DEVOLUCIONS TARGETA € | U3: ESTOC FINAL
D4: EFECTIU | F4: TARGETA | H4: EFECTIU | J4: TARGETA
A5: TÍTOL LLIBRE VELL | B5: PREU UNITARI | D5: Núm | E5: Preu VP | F5: Núm | G5: Preu VP | H5: Núm | I5: Preu AJ BCN | J5: Núm | K5: Preu AJ BCN
I6: 0.3 | K6: 0.3 | M6: (A) | U6: (B)
C15: =SUM(C7:C14) -> 0 | U15: =SUM(U7:U14) -> 0
A16: TOTALS | D16: =SUM(D7:D14) -> 0 | E16: =SUM(E7:E14) -> 0 | F16: =SUM(F7:F15) -> 0 | G16: =SUM(G7:G14) -> 0 | I16: =(B16-(B16*30%))*H16 -> 0 | K16: =SUM(K7:K14) -> 0 | L16: =SUM(L7:L14) -> 0 | M16: =SUM(M7:M14) -> 0 | P16: =SUM(P8:P14) -> 0 | Q16: =SUM(Q7:Q14) -> 0 | R16: =SUM(R7:R14) -> 0 | S16: =SUM(S7:S14) -> 0 | T16: =SUM(T7:T14) -> 0

Sheet BOSSES
D1: ESTOC INICIAL | E1: VENDES | M1: TOTAL EXEMPLARS VENUTS | N1: TOTAL INGRESSOS € | O1: ENTREGUES PROTOCOL | P1: MERMES | Q1: REPOSICIONS/NOVETATS | R1: DEVOLUCIONS | S1: ESTOC FINAL
E2: EFECTIU | G2: TARGETA | I2: EFECTIU | K2: TARGETA
A3: BOSSES | B3: ISBN | C3: PREU UNITARI | E3: Núm | F3: Preu VP | G3: Núm | H3: Preu VP | I3: Núm | J3: Preu AJ BCN | K3: Núm | L3: Preu AJ BCN
J4: 0.3 | L4: 0.3 | N4: (A) | S4: (B)
D10: =D5+D6+D7+D8+D9 -> 0 | S10: =SUM(S5:S9) -> 0
A11: TOTALS | E11: =SUM(E5:E9) -> 0 | F11: =SUM(F5:F9) -> 0 | G11: =SUM(G5:G9) -> 0 | H11: =SUM(H5:H9) -> 0 | I11: =SUM(I5:I9) -> 0 | J11: =SUM(J5:J9) -> 0 | K11: =SUM(K5:K9) -> 0 | L11: =SUM(L5:L9) -> 0 | ... N11: =SUM(N5:N9) -> 0
