Workbook

Sheet Resum
E1: Despesa anual (€) | J1: Despesa mitja (€/mes) | O1: Quantitat mitja (SMS/mes)
A2: Línia | B2: Compte fact | C2: Entitat | D2: Ceco | E2: 2019 | F2: 2020 | G2: 2021 | H2: 2022 | I2: 2023 | J2: 2019 | K2: 2020 | L2: 2021 | M2: 2022 | N2: 2023 | O2: 2019 | P2: 2020 | Q2: 2021 | R2: 2022 | S2: 2023
A3: 600124277 | B3: 28989768 | C3: SAU | D3: IMI | E3: =SUM('Evolució despesa (€)'!C3:N3) -> 4046.6333 | F3: =SUM('Evolució despesa (€)'!O3:Z3) -> 5086.8763 | G3: =SUM('Evolució despesa (€)'!AA3:AL3) -> 5257.6255 | H3: =SUM('Evolució despesa (€)'!AM3:AX3) -> 6217.0768 | I3: =SUM('Evolució despesa (€)'!AY3:BJ3) -> 3208.9839 | J3: =AVERAGE('Evolució despesa (€)'!I3:N3) -> 595.61141 | K3: =AVERAGE('Evolució despesa (€)'!O3:Z3) -> 423.90636 | L3: =AVERAGE('Evolució despesa (€)'!AA3:AL3) -> 438.13545 | M3: =AVERAGE('Evolució despesa (€)'!AM3:AX3) -> 518.08973 | N3: =AVERAGE('Evolució despesa (€)'!AY3:BJ3) -> 320.89839 | O3: =ROUNDUP(AVERAGE('Evolució consum (SMS)'!I3:N3),0) -> 14062 | P3: =ROUNDUP(AVERAGE('Evolució consum (SMS)'!O3:Z3),0) -> 10009 | Q3: =ROUNDUP(AVERAGE('Evolució consum (SMS)'!AA3:AL3),0) -> 10346 | R3: =ROUNDUP(AVERAGE('Evolució consum (SMS)'!AM3:AX3),0) -> 13658 | S3: =ROUNDUP(AVERAGE('Evolució consum (SMS)'!AY3:BJ3),0) -> 10201
A4: 600124492 | B4: 28989796 | C4: AYTOBCN | D4: IMI / IMHisenda | E4: =SUM('Evolució despesa (€)'!C4:N4) -> 8869.1004 | F4: =SUM('Evolució despesa (€)'!O4:Z4) -> 6106.7006 | G4: =SUM('Evolució despesa (€)'!AA4:AL4) -> 10469.198 | H4: =SUM('Evolució despesa (€)'!AM4:AX4) -> 13609.51 | I4: =SUM('Evolució despesa (€)'!AY4:BJ4) -> 5325.1414 | J4: =AVERAGE('Evolució despesa (€)'!I4:N4) -> 1451.6027 | K4: =AVERAGE('Evolució despesa (€)'!O4:Z4) -> 508.89172 | L4: =AVERAGE('Evolució despesa (€)'!AA4:AL4) -> 872.43319 | M4: =AVERAGE('Evolució despesa (€)'!AM4:AX4) -> 1134.1258 | N4: =AVERAGE('Evolució despesa (€)'!AY4:BJ4) -> 532.51414 | O4: =ROUNDUP(AVERAGE('Evolució consum (SMS)'!I4:N4),0) -> 14954 | P4: =ROUNDUP(AVERAGE('Evolució consum (SMS)'!O4:Z4),0) -> 7760 | Q4: =ROUNDUP(AVERAGE('Evolució consum (SMS)'!AA4:AL4),0) -> 10153 | R4: =ROUNDUP(AVERAGE('Evolució consum (SMS)'!AM4:AX4),0) -> 18652 | S4: =ROUNDUP(AVERAGE('Evolució consum (SMS)'!AY4:BJ4),0) -> 16927
A5: 600124493 | B5: 28989800 | C5: GUBSCC | D5: 0400.Gerència d’Àrea Seguretat i Prevenció | E5: =SUM('Evolució despesa (€)'!C5:N5) -> 17712.549 | F5: =SUM('Evolució despesa (€)'!O5:Z5) -> 55596.614 | G5: =SUM('Evolució despesa (€)'!AA5:AL5) -> 84766.362 | H5: =SUM('Evolució despesa (€)'!AM5:AX5) -> 41120.468 | I5: =SUM('Evolució despesa (€)'!AY5:BJ5) -> 24696.696 | J5: =AVERAGE('Evolució despesa (€)'!I5:N5) -> 2917.1951 | K5: =AVERAGE('Evolució despesa (€)'!O5:Z5) -> 4633.0512 | L5: =AVERAGE('Evolució despesa (€)'!AA5:AL5) -> 7063.8635 | M5: =AVERAGE('Evolució despesa (€)'!AM5:AX5) -> 3426.7057 | N5: =AVERAGE('Evolució despesa (€)'!AY5:BJ5) -> 2469.6696 | O5: =ROUNDUP(AVERAGE('Evolució consum (SMS)'!I5:N5),0) -> 68883 | P5: =ROUNDUP(AVERAGE('Evolució consum (SMS)'!O5:Z5),0) -> 109400 | Q5: =ROUNDUP(AVERAGE('Evolució consum (SMS)'!AA5:AL5),0) -> 166798 | R5: =ROUNDUP(AVERAGE('Evolució consum (SMS)'!AM5:AX5),0) -> 91699 | S5: =ROUNDUP(AVERAGE('Evolució consum (SMS)'!AY5:BJ5),0) -> 78502
A6: 600124494 | B6: 29030267 | C6: DAC | D6: 0801. Drets de Ciutadania | E6: =SUM('Evolució despesa (€)'!C6:N6) -> 16920.719 | F6: =SUM('Evolució despesa (€)'!O6:Z6) -> 26516.025 | G6: =SUM('Evolució despesa (€)'!AA6:AL6) -> 39885.309 | H6: =SUM('Evolució despesa (€)'!AM6:AX6) -> 33855.618 | I6: =SUM('Evolució despesa (€)'!AY6:BJ6) -> 24138.594 | J6: =AVERAGE('Evolució despesa (€)'!I6:N6) -> 2818.3975 | K6: =AVERAGE('Evolució despesa (€)'!O6:Z6) -> 2209.6687 | L6: =AVERAGE('Evolució despesa (€)'!AA6:AL6) -> 3323.7757 | M6: =AVERAGE('Evolució despesa (€)'!AM6:AX6) -> 2821.3015 | N6: =AVERAGE('Evolució despesa (€)'!AY6:BJ6) -> 2413.8594 | O6: =ROUNDUP(AVERAGE('Evolució consum (SMS)'!I6:N6),0) -> 66499 | P6: =ROUNDUP(AVERAGE('Evolució consum (SMS)'!O6:Z6),0) -> 52127 | Q6: =ROUNDUP(AVERAGE('Evolució consum (SMS)'!AA6:AL6),0) -> 78297 | R6: =ROUNDUP(AVERAGE('Evolució consum (SMS)'!AM6:AX6),0) -> 77776 | S6: =ROUNDUP(AVERAGE('Evolució consum (SMS)'!AY6:BJ6),0) -> 76728
A7: 600124495 | B7: 29030267 | C7: IMEB | D7: IMEB | E7: =SUM('Evolució despesa (€)'!C7:N7) -> 129.76645 | F7: =SUM('Evolució despesa (€)'!O7:Z7) -> 735.7042 | G7: =SUM('Evolució despesa (€)'!AA7:AL7) -> 2057.6171 | H7: =SUM('Evolució despesa (€)'!AM7:AX7) -> 1278.1073 | I7: =SUM('Evolució despesa (€)'!AY7:BJ7) -> 1277.9674 | J7: =AVERAGE('Evolució despesa (€)'!I7:N7) -> 21.627742 | K7: =AVERAGE('Evolució despesa (€)'!O7:Z7) -> 66.8822 | L7: =AVERAGE('Evolució despesa (€)'!AA7:AL7) -> 171.46809 | M7: =AVERAGE('Evolució despesa (€)'!AM7:AX7) -> 106.50894 | N7: =AVERAGE('Evolució despesa (€)'!AY7:BJ7) -> 127.79674 | O7: =ROUNDUP(AVERAGE('Evolució consum (SMS)'!I7:N7),0) -> 490 | P7: =ROUNDUP(AVERAGE('Evolució consum (SMS)'!O7:Z7),0) -> 1580 | Q7: =ROUNDUP(AVERAGE('Evolució consum (SMS)'!AA7:AL7),0) -> 4049 | R7: =ROUNDUP(AVERAGE('Evolució consum (SMS)'!AM7:AX7),0) -> 3131 | S7: =ROUNDUP(AVERAGE('Evolució consum (SMS)'!AY7:BJ7),0) -> 4063
A8: 600124496 | B8: 29030267 | C8: SOCIALS | D8: 0200.Gerència d’Àrea Drets socials, Justícia Global, Feminismes i LGTBI | E8: =SUM('Evolució despesa (€)'!C8:N8) -> 8258.9276 | F8: =SUM('Evolució despesa (€)'!O8:Z8) -> 9453.8329 | G8: =SUM('Evolució despesa (€)'!AA8:AL8) -> 22128.595 | H8: =SUM('Evolució despesa (€)'!AM8:AX8) -> 25805.626 | I8: =SUM('Evolució despesa (€)'!AY8:BJ8) -> 23150.662 | J8: =AVERAGE('Evolució despesa (€)'!I8:N8) -> 1376.4879 | K8: =AVERAGE('Evolució despesa (€)'!O8:Z8) -> 787.8194 | L8: =AVERAGE('Evolució despesa (€)'!AA8:AL8) -> 1844.0496 | M8: =AVERAGE('Evolució despesa (€)'!AM8:AX8) -> 2150.4689 | N8: =AVERAGE('Evolució despesa (€)'!AY8:BJ8) -> 2315.0662 | O8: =ROUNDUP(AVERAGE('Evolució consum (SMS)'!I8:N8),0) -> 32503 | P8: =ROUNDUP(AVERAGE('Evolució consum (SMS)'!O8:Z8),0) -> 18603 | Q8: =ROUNDUP(AVERAGE('Evolució consum (SMS)'!AA8:AL8),0) -> 43544 | R8: =ROUNDUP(AVERAGE('Evolució consum (SMS)'!AM8:AX8),0) -> 59431 | S8: =ROUNDUP(AVERAGE('Evolució consum (SMS)'!AY8:BJ8),0) -> 73588
A9: 600124497 | B9: 29031959 | C9: GUBSCC | D9: 0400.Gerència d’Àrea Seguretat i Prevenció | E9: =SUM('Evolució despesa (€)'!C9:N9) -> 2365.2899 | F9: =SUM('Evolució despesa (€)'!O9:Z9) -> 3498.1221 | G9: =SUM('Evolució despesa (€)'!AA9:AL9) -> 4447.0888 | H9: =SUM('Evolució despesa (€)'!AM9:AX9) -> 4269.4172 | I9: =SUM('Evolució despesa (€)'!AY9:BJ9) -> 2821.2412 | J9: =AVERAGE('Evolució despesa (€)'!I9:N9) -> 473.05797 | K9: =AVERAGE('Evolució despesa (€)'!O9:Z9) -> 291.51018 | L9: =AVERAGE('Evolució despesa (€)'!AA9:AL9) -> 370.59073 | M9: =AVERAGE('Evolució despesa (€)'!AM9:AX9) -> 355.78477 | N9: =AVERAGE('Evolució despesa (€)'!AY9:BJ9) -> 282.12412 | O9: =ROUNDUP(AVERAGE('Evolució consum (SMS)'!I9:N9),0) -> 11171 | P9: =ROUNDUP(AVERAGE('Evolució consum (SMS)'!O9:Z9),0) -> 6881 | Q9: =ROUNDUP(AVERAGE('Evolució consum (SMS)'!AA9:AL9),0) -> 8751 | R9: =ROUNDUP(AVERAGE('Evolució consum (SMS)'!AM9:AX9),0) -> 9962 | S9: =ROUNDUP(AVERAGE('Evolució consum (SMS)'!AY9:BJ9),0) -> 8968
A10: 600124604 | B10: 29013182 | C10: DECIDIMBCN | D10: 0801. Drets de Ciutadania | E10: =SUM('Evolució despesa (€)'!C10:N10) -> 46.1131 | F10: =SUM('Evolució despesa (€)'!O10:Z10) -> 35.0053 | G10: =SUM('Evolució despesa (€)'!AA10:AL10) -> 2461.3881 | H10: =SUM('Evolució despesa (€)'!AM10:AX10) -> 45.00716 | I10: =SUM('Evolució despesa (€)'!AY10:BJ10) -> 35.173 | J10: =AVERAGE('Evolució despesa (€)'!I10:N10) -> 4.3217167 | K10: =AVERAGE('Evolució despesa (€)'!O10:Z10) -> 2.9171083 | L10: =AVERAGE('Evolució despesa (€)'!AA10:AL10) -> 205.11567 | M10: =AVERAGE('Evolució despesa (€)'!AM10:AX10) -> 3.7505967 | N10: =AVERAGE('Evolució despesa (€)'!AY10:BJ10) -> 3.5173 | O10: =ROUNDUP(AVERAGE('Evolució consum (SMS)'!I10:N10),0) -> 97 | P10: =ROUNDUP(AVERAGE('Evolució consum (SMS)'!O10:Z10),0) -> 64 | Q10: =ROUNDUP(AVERAGE('Evolució consum (SMS)'!AA10:AL10),0) -> 4767 | R10: =ROUNDUP(AVERAGE('Evolució consum (SMS)'!AM10:AX10),0) -> 109 | S10: =ROUNDUP(AVERAGE('Evolució consum (SMS)'!AY10:BJ10),0) -> 112
E11: =SUM(E3:E10) -> 58349.098 | F11: =SUM(F3:F10) -> 107028.88 | G11: =SUM(G3:G10) -> 171473.18 | H11: =SUM(H3:H10) -> 126200.83 | I11: =SUM(I3:I10) -> 84654.46 | J11: =SUM(J3:J10) -> 9658.3021 | K11: =SUM(K3:K10) -> 8924.6469 | L11: =SUM(L3:L10) -> 14289.432 | ... S11: =SUM(S3:S10) -> 269089
A13: - Els imports contemplen IVA
A14: - En el cas de les mitjanes de 2019 es considera el periode juliol - desembre

Sheet Evolució consum (SMS)
C1: 2019 | O1: 2020 | AA1: 2021 | AM1: 2022 | AY1: 2023
A2: Telèfon | B2: Entitat | C2: gen | D2: feb | E2: març | F2: abr | G2: maig | H2: jun | I2: jul | J2: ago | K2: set | L2: oct | M2: nov | N2: des | O2: gen | P2: feb | Q2: març | R2: abr | S2: maig | T2: jun | U2: jul | V2: ago | W2: set | X2: oct | Y2: nov | Z2: des | AA2: gen | AB2: feb | AC2: març | AD2: abr | AE2: maig | AF2: jun | AG2: jul | AH2: ago | AI2: set | AJ2: oct | AK2: nov | AL2: des | AM2: gen | AN2: feb | AO2: març | AP2: abr | AQ2: maig | AR2: jun | AS2: jul | AT2: ago | AU2: set | AV2: oct | AW2: nov | AX2: des | AY2: gen | AZ2: feb | BA2: març | BB2: abr | BC2: maig | BD2: jun | BE2: jul | BF2: ago | BG2: set | BH2: oct | BI2: nov | BJ2: des
A3: 600124277 | B3: SAU | D3: 1 | E3: 9 | F3: 2 | G3: 13 | H3: 11143 | I3: 11963 | J3: 5921 | K3: 11997 | L3: 13796 | M3: 30302 | N3: 10389 | O3: 11817 | P3: 11119 | Q3: 16909 | R3: 5171 | S3: 11382 | T3: 12912 | U3: 11343 | V3: 4812 | W3: 10707 | X3: 12448 | Y3: 6473 | Z3: 5006 | AA3: 9018 | AB3: 13335 | AC3: 13987 | AD3: 5624 | AE3: 11070 | AF3: 7160 | AG3: 10711 | AH3: 5637 | AI3: 10869 | AJ3: 9219 | AK3: 13550 | AL3: 13967 | AM3: 23116 | AN3: 22964 | AO3: 21628 | AP3: 10477 | AQ3: 19247 | AR3: 7543 | AS3: 12905 | AT3: 6689 | AU3: 11561 | AV3: 10875 | AW3: 10790 | AX3: 6097 | AY3: 9397 | AZ3: 10445 | BA3: 10013 | BB3: 7848 | BC3: 14269 | BD3: 13499 | BE3: 13724 | BF3: 5932 | BG3: 8747 | BH3: 8128
A4: 600124492 | B4: AYTOBCN | H4: 1635 | I4: 17861 | J4: 10150 | K4: 12502 | L4: 13979 | M4: 23489 | N4: 11739 | O4: 12622 | P4: 11623 | Q4: 7605 | R4: 2816 | S4: 3770 | T4: 9825 | U4: 8448 | V4: 6665 | W4: 7846 | X4: 7833 | Y4: 7431 | Z4: 6636 | AA4: 6284 | AB4: 6361 | AC4: 7824 | AD4: 7103 | AE4: 10612 | AF4: 8355 | AG4: 8601 | AH4: 7547 | AI4: 8857 | AJ4: 13329 | AK4: 19907 | AL4: 17045 | AM4: 22157 | AN4: 17037 | AO4: 21400 | AP4: 18371 | AQ4: 22147 | AR4: 18509 | AS4: 18206 | AT4: 12026 | AU4: 19880 | AV4: 19075 | AW4: 19159 | AX4: 15849 | AY4: 15585 | AZ4: 17110 | BA4: 20677 | BB4: 15442 | BC4: 21686 | BD4: 16953 | BE4: 18555 | BF4: 10671 | BG4: 14863 | BH4: 17725
A5: 600124493 | B5: GUBSCC | H5: 4944 | I5: 56597 | J5: 40388 | K5: 46082 | L5: 106683 | M5: 96495 | N5: 67053 | O5: 67564 | P5: 70904 | Q5: 74687 | R5: 84344 | S5: 96000 | T5: 137904 | U5: 66210 | V5: 74436 | W5: 94821 | X5: 208297 | Y5: 147225 | Z5: 190397 | AA5: 168430 | AB5: 221917 | AC5: 182782 | AD5: 168862 | AE5: 240842 | AF5: 182492 | AG5: 141541 | AH5: 132526 | AI5: 180447 | AJ5: 136177 | AK5: 133946 | AL5: 111605 | AM5: 92196 | AN5: 100265 | AO5: 168574 | AP5: 113750 | AQ5: 122315 | AR5: 91812 | AS5: 64712 | AT5: 50468 | AU5: 80818 | AV5: 75169 | AW5: 69170 | AX5: 71134 | AY5: 72271 | AZ5: 51480 | BA5: 69542 | BB5: 68075 | BC5: 96113 | BD5: 77767 | BE5: 95764 | BF5: 70983 | BG5: 102385 | BH5: 80639
A6: 600124494 | B6: DAC | H6: 244 | I6: 108094 | J6: 34989 | K6: 61825 | L6: 80051 | M6: 61992 | N6: 52043 | O6: 65702 | P6: 64235 | Q6: 52381 | R6: 6847 | S6: 16532 | T6: 43312 | U6: 61481 | V6: 47864 | W6: 62405 | X6: 68928 | Y6: 75815 | Z6: 60017 | AA6: 69968 | AB6: 74443 | AC6: 87001 | AD6: 79766 | AE6: 91108 | AF6: 89196 | AG6: 75573 | AH6: 58632 | AI6: 80637 | AJ6: 83397 | AK6: 81753 | AL6: 68084 | AM6: 78471 | AN6: 62846 | AO6: 93329 | AP6: 77296 | AQ6: 94863 | AR6: 82220 | AS6: 77924 | AT6: 57012 | AU6: 76873 | AV6: 83377 | AW6: 87442 | AX6: 61657 | AY6: 86801 | AZ6: 81794 | BA6: 100235 | BB6: 88410 | BC6: 101130 | BD6: 57215 | BE6: 66548 | BF6: 46530 | BG6: 58967 | BH6: 79649
A7: 600124495 | B7: IMEB | I7: 1105 | J7: 345 | K7: 979 | L7: 334 | M7: 123 | N7: 49 | O7: 124 | P7: 81 | Q7: 43 | S7: 2 | T7: 148 | U7: 11603 | V7: 15 | W7: 2783 | X7: 1359 | Y7: 798 | Z7: 416 | AA7: 437 | AB7: 402 | AC7: 285 | AD7: 6002 | AE7: 6808 | AF7: 18285 | AG7: 13005 | AH7: 270 | AI7: 1486 | AJ7: 1021 | AK7: 384 | AL7: 201 | AM7: 323 | AN7: 308 | AO7: 221 | AP7: 194 | AQ7: 7801 | AR7: 12930 | AS7: 13238 | AT7: 297 | AU7: 1152 | AV7: 649 | AW7: 291 | AX7: 160 | AY7: 320 | AZ7: 264 | BA7: 206 | BB7: 4827 | BC7: 8567 | BD7: 8985 | BE7: 15527 | BF7: 127 | BG7: 1268 | BH7: 531
A8: 600124496 | B8: SOCIALS | I8: 54472 | J8: 9519 | K8: 26003 | L8: 40052 | M8: 42862 | N8: 22108 | O8: 32276 | P8: 32073 | Q8: 25980 | R8: 2286 | S8: 2356 | T8: 45289 | U8: 2154 | V8: 2022 | W8: 3004 | X8: 51595 | Y8: 17793 | Z8: 6403 | AA8: 28238 | AB8: 31585 | AC8: 34782 | AD8: 32809 | AE8: 141058 | AF8: 41307 | AG8: 34597 | AH8: 16929 | AI8: 36129 | AJ8: 47495 | AK8: 36641 | AL8: 40947 | AM8: 40845 | AN8: 39160 | AO8: 47339 | AP8: 65921 | AQ8: 116149 | AR8: 72106 | AS8: 33083 | AT8: 20383 | AU8: 78327 | AV8: 104532 | AW8: 66225 | AX8: 29093 | AY8: 50004 | AZ8: 41270 | BA8: 107162 | BB8: 38339 | BC8: 92277 | BD8: 55211 | BE8: 141633 | BF8: 115082 | BG8: 44065 | BH8: 50833
A9: 600124497 | B9: GUBSCC | J9: 17662 | K9: 10861 | L9: 7100 | M9: 9965 | N9: 10263 | O9: 9685 | P9: 5772 | Q9: 7580 | R9: 4667 | S9: 4648 | T9: 5810 | U9: 8995 | V9: 8420 | W9: 6266 | X9: 6243 | Y9: 6820 | Z9: 7662 | AA9: 10169 | AB9: 7380 | AC9: 9703 | AD9: 5390 | AE9: 8398 | AF9: 9167 | AG9: 11140 | AH9: 9835 | AI9: 8692 | AJ9: 6650 | AK9: 7359 | AL9: 11125 | AM9: 11710 | AN9: 7529 | AO9: 7403 | AP9: 8112 | AQ9: 11946 | AR9: 13992 | AS9: 12231 | AT9: 12342 | AU9: 10102 | AV9: 6939 | AW9: 8144 | AX9: 9094 | AY9: 9981 | AZ9: 5153 | BA9: 10957 | BB9: 7173 | BC9: 8275 | BD9: 6692 | BE9: 12494 | BF9: 9876 | BG9: 11199 | BH9: 7877
A10: 600124604 | B10: DECIDIMBCN | C10: 4 | D10: 15 | E10: 21 | F10: 135 | G10: 113 | H10: 124 | I10: 33 | J10: 1 | K10: 7 | L10: 118 | M10: 48 | N10: 373 | O10: 95 | P10: 181 | Q10: 161 | R10: 33 | S10: 101 | T10: 36 | U10: 15 | V10: 1 | W10: 9 | X10: 50 | Y10: 55 | Z10: 25 | AA10: 21 | AB10: 149 | AC10: 559 | AD10: 2054 | AE10: 2482 | AF10: 51620 | AG10: 21 | AH10: 3 | AI10: 30 | AJ10: 25 | AK10: 229 | AL10: 7 | AM10: 9 | AN10: 43 | AO10: 56 | AP10: 5 | AQ10: 19 | AR10: 27 | AS10: 16 | AT10: 11 | AU10: 25 | AV10: 70 | AW10: 921 | AX10: 96 | AY10: 28 | AZ10: 21 | BA10: 68 | BB10: 16 | BC10: 112 | BD10: 688 | BE10: 147 | BF10: 5 | BG10: 12 | BH10: 21
A12: - El periode fa referència al mes de consum, no al mes de facturació per part de l'operador

Sheet Evolució despesa (€)
C1: 2019 | O1: 2020 | AA1: 2021 | AM1: 2022 | AY1: 2023
A2: Telèfon | B2: Entitat | C2: gen | D2: feb | E2: març | F2: abr | G2: maig | H2: jun | I2: jul | J2: ago | K2: set | L2: oct | M2: nov | N2: des | O2: gen | P2: feb | Q2: març | R2: abr | S2: maig | T2: jun | U2: jul | V2: ago | W2: set | X2: oct | Y2: nov | Z2: des | AA2: gen | AB2: feb | AC2: març | AD2: abr | AE2: maig | AF2: jun | AG2: jul | AH2: ago | AI2: set | AJ2: oct | AK2: nov | AL2: des | AM2: gen | AN2: feb | AO2: març | AP2: abr | AQ2: maig | AR2: jun | AS2: jul | AT2: ago | AU2: set | AV2: oct | AW2: nov | AX2: des | AY2: gen | AZ2: feb | BA2: març | BB2: abr | BC2: maig | BD2: jun | BE2: jul | BF2: ago | BG2: set | BH2: oct | BI2: nov | BJ2: des
A3: 600124277 | B3: SAU | D3: 0.04235 | E3: 0.38115 | F3: 0.0847 | G3: 0.55055 | H3: 471.90605 | I3: 507.3167 | J3: 250.75435 | K3: 508.07295 | L3: 584.2606 | M3: 1283.2897 | N3: 439.97415 | O3: 500.44995 | P3: 471.5733 | Q3: 716.09615 | R3: 218.99185 | S3: 482.0277 | T3: 546.8232 | U3: 480.37605 | V3: 203.7882 | W3: 453.44145 | X3: 527.1728 | Y3: 274.13155 | Z3: 212.0041 | AA3: 381.9123 | AB3: 564.73725 | AC3: 592.34945 | AD3: 238.1764 | AE3: 468.8145 | AF3: 303.226 | AG3: 453.61085 | AH3: 238.72695 | AI3: 460.30215 | AJ3: 390.42465 | AK3: 573.8425 | AL3: 591.50245 | AM3: 978.9626 | AN3: 972.5254 | AO3: 915.9458 | AP3: 443.70095 | AQ3: 815.11045 | AR3: 237.30278 | AS3: 405.9913 | AT3: 210.43594 | AU3: 363.70906 | AV3: 342.1275 | AW3: 339.4534 | AX3: 191.81162 | AY3: 295.62962 | AZ3: 328.5997 | BA3: 315.01 | BB3: 246.89808 | BC3: 448.90274 | BD3: 424.67854 | BE3: 431.75704 | BF3: 186.62072 | BG3: 275.18062 | BH3: 255.70688
A4: 600124492 | B4: AYTOBCN | H4: 159.48405 | I4: 1829.7439 | J4: 1193.4895 | K4: 1242.5066 | L4: 1364.5351 | M4: 1873.2494 | N4: 1206.0917 | O4: 1192.213 | P4: 1152.6399 | Q4: 588.69525 | R4: 133.61425 | S4: 179.48535 | T4: 448.2203 | U4: 437.0762 | V4: 364.9844 | W4: 466.95715 | X4: 435.64235 | Y4: 357.08915 | Z4: 350.08325 | AA4: 316.03385 | AB4: 336.38605 | AC4: 399.02775 | AD4: 366.44245 | AE4: 557.4349 | AF4: 598.58095 | AG4: 866.05145 | AH4: 1153.6684 | AI4: 1121.6397 | AJ4: 1438.1879 | AK4: 1817.2627 | AL4: 1498.4821 | AM4: 1453.1374 | AN4: 1509.0817 | AO4: 2683.0964 | AP4: 1976.4503 | AQ4: 2127.4765 | AR4: 582.29314 | AS4: 572.76076 | AT4: 378.33796 | AU4: 625.4248 | AV4: 600.0995 | AW4: 602.74214 | AX4: 498.60954 | AY4: 490.3041 | AZ4: 538.2806 | BA4: 650.5 | BB4: 485.80532 | BC4: 682.24156 | BD4: 533.34138 | BE4: 583.7403 | BF4: 335.70966 | BG4: 467.58998 | BH4: 557.6285
A5: 600124493 | B5: GUBSCC | H5: 209.3784 | I5: 2396.883 | J5: 1710.4318 | K5: 1951.5727 | L5: 4518.0251 | M5: 4086.5633 | N5: 2839.6946 | O5: 2861.3354 | P5: 3002.7844 | Q5: 3162.9945 | R5: 3571.9684 | S5: 4065.6 | T5: 5840.2344 | U5: 2803.9935 | V5: 3152.3646 | W5: 4015.6694 | X5: 8821.378 | Y5: 6234.9788 | Z5: 8063.313 | AA5: 7133.0105 | AB5: 9398.185 | AC5: 7740.8177 | AD5: 7151.3057 | AE5: 10199.659 | AF5: 7728.5362 | AG5: 5994.2614 | AH5: 5612.4761 | AI5: 7641.9305 | AJ5: 5767.096 | AK5: 5672.6131 | AL5: 4726.4718 | AM5: 3904.5006 | AN5: 4246.2228 | AO5: 7139.1089 | AP5: 4817.3125 | AQ5: 5180.0403 | AR5: 2888.4055 | AS5: 2035.8395 | AT5: 1587.7233 | AU5: 2542.5343 | AV5: 2364.8167 | AW5: 2176.0882 | AX5: 2237.8756 | AY5: 2273.6457 | AZ5: 1619.5608 | BA5: 2187.79 | BB5: 2141.6395 | BC5: 3023.715 | BD5: 2446.5498 | BE5: 3012.7354 | BF5: 2233.1252 | BG5: 3221.0321 | BH5: 2536.9029
A6: 600124494 | B6: DAC | H6: 10.3334 | I6: 4577.7809 | J6: 1483.8351 | K6: 2619.6561 | L6: 3392.8945 | M6: 2629.4631 | N6: 2206.7557 | O6: 2783.847 | P6: 2722.4032 | Q6: 2218.3354 | R6: 290.6541 | S6: 700.81385 | T6: 1834.9469 | U6: 2604.404 | V6: 2027.0404 | W6: 2648.321 | X6: 2927.3046 | Y6: 3213.4999 | Z6: 2544.4546 | AA6: 2967.9304 | AB6: 3157.4466 | AC6: 3687.227 | AD6: 3384.243 | AE6: 3861.1584 | AF6: 3786.3381 | AG6: 3205.3021 | AH6: 2494.0036 | AI6: 3429.3336 | AJ6: 3546.9033 | AK6: 3475.9126 | AL6: 2889.5103 | AM6: 3338.2872 | AN6: 2677.2521 | AO6: 3965.4725 | AP6: 3286.475 | AQ6: 4024.2846 | AR6: 2586.6412 | AS6: 2451.489 | AT6: 1793.5975 | AU6: 2418.4246 | AV6: 2623.0404 | AW6: 2750.9253 | AX6: 1939.7292 | AY6: 2730.7595 | AZ6: 2573.2392 | BA6: 3153.39 | BB6: 2781.3786 | BC6: 3181.5498 | BD6: 1799.9839 | BE6: 2093.6001 | BF6: 1463.8338 | BG6: 1855.1018 | BH6: 2505.7575
A7: 600124495 | B7: IMEB | I7: 52.26595 | J7: 14.61075 | K7: 41.46065 | L7: 14.1449 | M7: 5.20905 | N7: 2.07515 | O7: 5.2514 | P7: 3.43035 | Q7: 1.82105 | S7: 0.0847 | T7: 6.2678 | U7: 491.38705 | V7: 0.63525 | W7: 117.86005 | X7: 57.55365 | Y7: 33.7953 | Z7: 17.6176 | AA7: 18.50695 | AB7: 17.0247 | AC7: 12.06975 | AD7: 254.1847 | AE7: 288.3188 | AF7: 774.36975 | AG7: 550.76175 | AH7: 11.4345 | AI7: 62.9321 | AJ7: 43.23935 | AK7: 16.2624 | AL7: 8.51235 | AM7: 13.67905 | AN7: 13.0438 | AO7: 9.35935 | AP7: 8.2159 | AQ7: 330.37235 | AR7: 406.7778 | AS7: 416.46748 | AT7: 9.34362 | AU7: 36.24192 | AV7: 20.41754 | AW7: 9.15486 | AX7: 5.0336 | AY7: 10.0672 | AZ7: 8.30544 | BA7: 6.48 | BB7: 151.85742 | BC7: 269.51782 | BD7: 282.6681 | BE7: 488.47942 | BF7: 3.99542 | BG7: 39.89128 | BH7: 16.70526
A8: 600124496 | B8: SOCIALS | I8: 2306.8892 | J8: 403.12965 | K8: 1101.2271 | L8: 1696.2022 | M8: 1815.2057 | N8: 936.2738 | O8: 1366.8886 | P8: 1358.2916 | Q8: 1100.253 | R8: 96.8121 | S8: 99.7766 | T8: 1917.9892 | U8: 91.2219 | V8: 85.6317 | W8: 127.2194 | X8: 2185.0483 | Y8: 753.53355 | Z8: 271.16705 | AA8: 1195.8793 | AB8: 1337.6248 | AC8: 1473.0177 | AD8: 1389.4612 | AE8: 5973.8063 | AF8: 1749.3515 | AG8: 1465.183 | AH8: 716.94315 | AI8: 1530.0632 | AJ8: 2011.4133 | AK8: 1551.7464 | AL8: 1734.1055 | AM8: 1729.7858 | AN8: 1658.426 | AO8: 2004.8067 | AP8: 2791.7544 | AQ8: 4918.9102 | AR8: 2268.4548 | AS8: 1040.7912 | AT8: 641.24918 | AU8: 2464.1674 | AV8: 3288.5767 | AW8: 2083.4385 | AX8: 915.26578 | AY8: 1573.1258 | AZ8: 1298.3542 | BA8: 3371.32 | BB8: 1206.1449 | BC8: 2903.0344 | BD8: 1736.9381 | BE8: 4455.7742 | BF8: 3620.4797 | BG8: 1386.2849 | BH8: 1599.2062
A9: 600124497 | B9: GUBSCC | J9: 747.9857 | K9: 459.96335 | L9: 300.685 | M9: 422.01775 | N9: 434.63805 | O9: 410.15975 | P9: 244.4442 | Q9: 322.3803 | R9: 197.64745 | S9: 196.8428 | T9: 246.0535 | U9: 380.93825 | V9: 356.587 | W9: 265.3651 | X9: 264.39105 | Y9: 288.827 | Z9: 324.4857 | AA9: 430.65715 | AB9: 312.543 | AC9: 410.92205 | AD9: 228.2665 | AE9: 355.6553 | AF9: 388.22245 | AG9: 471.779 | AH9: 416.51225 | AI9: 368.1062 | AJ9: 281.6275 | AK9: 311.65365 | AL9: 471.14375 | AM9: 495.9185 | AN9: 318.85315 | AO9: 313.51705 | AP9: 343.5432 | AQ9: 505.9131 | AR9: 440.18832 | AS9: 384.78726 | AT9: 388.27932 | AU9: 317.80892 | AV9: 218.30094 | AW9: 256.21024 | AX9: 286.09724 | AY9: 314.00226 | AZ9: 162.11338 | BA9: 344.71 | BB9: 225.66258 | BC9: 260.3315 | BD9: 210.53032 | BE9: 393.06124 | BF9: 310.69896 | BG9: 352.32054 | BH9: 247.81042
A10: 600124604 | B10: DECIDIMBCN | C10: 0.1694 | D10: 0.63525 | E10: 0.88935 | F10: 8.45185 | G10: 4.78555 | H10: 5.2514 | I10: 1.39755 | J10: 0.04235 | K10: 0.29645 | L10: 5.68095 | M10: 2.71645 | N10: 15.79655 | O10: 4.02325 | P10: 7.66535 | Q10: 6.81835 | R10: 2.0812 | S10: 4.961 | T10: 1.5246 | U10: 0.63525 | V10: 0.04235 | W10: 0.38115 | X10: 2.80115 | Y10: 3.0129 | Z10: 1.05875 | AA10: 0.88935 | AB10: 6.9938 | AC10: 25.7246 | AD10: 89.03785 | AE10: 105.1127 | AF10: 2217.5549 | AG10: 0.88935 | AH10: 0.8107 | AI10: 1.95415 | AJ10: 1.7424 | AK10: 10.3818 | AL10: 0.29645 | AM10: 0.38115 | AN10: 2.5047 | AO10: 4.42255 | AP10: 0.21175 | AQ10: 0.80465 | AR10: 0.84942 | AS10: 0.50336 | AT10: 0.34606 | AU10: 0.7865 | AV10: 2.2022 | AW10: 28.97466 | AX10: 3.02016 | AY10: 0.88088 | AZ10: 0.66066 | BA10: 2.14 | BB10: 0.50336 | BC10: 3.52352 | BD10: 21.64448 | BE10: 4.62462 | BF10: 0.1573 | BG10: 0.37752 | BH10: 0.66066
A12: - El periode fa referència al mes de consum, no al mes de facturació per part de l'operador
