Workbook
Name VEany2: 'Lot 2 CC'!#REF!
Name VEany2: 'Total Lot 2'!#REF!
Name VEany3: 'Lot 2 CC'!#REF!
Name VEany3: 'Total Lot 2'!#REF!
Name VEany4: 'Lot 2 CC'!#REF!
Name VEany4: 'Total Lot 2'!#REF!
Name VEcolA3: 'Lot 2 CC'!#REF!
Name VEcolA3: 'Total Lot 2'!#REF!
Name VEcolA4: 'Lot 2 CC'!#REF!
Name VEcolA4: 'Total Lot 2'!#REF!
Name VEcolAtot: 'Lot 2 CC'!#REF!
Name VEcolAtot: 'Total Lot 2'!#REF!
Name VEcolC3: 'Lot 2 CC'!#REF!
Name VEcolC3: 'Total Lot 2'!#REF!
Name VEcolC4: 'Lot 2 CC'!#REF!
Name VEcolC4: 'Total Lot 2'!#REF!
Name VEsuma3: 'Lot 2 CC'!#REF!
Name VEsuma3: 'Total Lot 2'!#REF!
Name VEsuma4: 'Lot 2 CC'!#REF!
Name VEsuma4: 'Total Lot 2'!#REF!
Name VEsumatot: 'Lot 2 CC'!#REF!
Name VEsumatot: 'Total Lot 2'!#REF!

Sheet Total Lot 2
C1: LOT 2: Gestió, dinamització, organització i coordinació del Centre Cívic Vil•la Urània, del Casal Infantil, de l’Espai Familiar de Criança Municipal La Saleta i de l’Aula Ambiental Vil•la Urània
C3: DESPESES | E3: 2025 | F3: 2026 | G3: 2027 | H3: TOTALS
C5: A.- Personal | E5: =E6+E15+E20+E24 -> 0 | F5: =F6+F15+F20+F24 -> 0 | G5: =G6+G15+G20+G24 -> 0 | H5: =SUM(E5:G5) -> 0
C6: Centre cívic | E6: =SUM(E7:E14) -> 0 | F6: =SUM(F7:F14) -> 0 | G6: =SUM(G7:G14) -> 0 | H6: =SUM(E6:G6) -> 0
C7: ='Lot 2 CC'!C6 -> A.1.- Direcció (37,5h) | E7: ='Lot 2 CC'!E6 -> 0 | F7: ='Lot 2 CC'!F6 -> 0 | G7: ='Lot 2 CC'!G6 -> 0 | H7: =SUM(E7:G7) -> 0
C8: ='Lot 2 CC'!C7 -> A.2.- Cap de programes i projectes (112,5h) | E8: ='Lot 2 CC'!E7 -> 0 | F8: ='Lot 2 CC'!F7 -> 0 | G8: ='Lot 2 CC'!G7 -> 0 | H8: =SUM(E7:G7) -> 0
C9: ='Lot 2 CC'!C8 -> A.3.- Coordinació de comunicació i xarxes socials (37,5h) | E9: ='Lot 2 CC'!E8 -> 0 | F9: ='Lot 2 CC'!F8 -> 0 | G9: ='Lot 2 CC'!G8 -> 0 | H9: =SUM(E9:G9) -> 0
C10: ='Lot 2 CC'!C9 -> A.4.- Administració (37,5h) | E10: ='Lot 2 CC'!E9 -> 0 | F10: ='Lot 2 CC'!F9 -> 0 | G10: ='Lot 2 CC'!G9 -> 0 | H10: =SUM(E10:G10) -> 0
C11: ='Lot 2 CC'!C10 -> A.5.- Informació sociocultural (150 h) | E11: ='Lot 2 CC'!E10 -> 0 | F11: ='Lot 2 CC'!F10 -> 0 | G11: ='Lot 2 CC'!G10 -> 0 | H11: =SUM(E11:G11) -> 0
C12: ='Lot 2 CC'!C11 -> A.6.- Técnic/a de promoció (37,5h) | E12: ='Lot 2 CC'!E11 -> 0 | F12: ='Lot 2 CC'!F11 -> 0 | G12: ='Lot 2 CC'!G11 -> 0 | H12: =SUM(E12:G12) -> 0
C13: ='Lot 2 CC'!C12 -> A.7.- Seguretat Social | E13: ='Lot 2 CC'!E12 -> 0 | F13: ='Lot 2 CC'!F12 -> 0 | G13: ='Lot 2 CC'!G12 -> 0 | H13: =SUM(E13:G13) -> 0
C14: ='Lot 2 CC'!C13 -> A.8.- Suports i suplències | E14: ='Lot 2 CC'!E13 -> 0 | F14: ='Lot 2 CC'!F13 -> 0 | G14: ='Lot 2 CC'!G13 -> 0 | H14: =SUM(E14:G14) -> 0
C15: Casal Infantil | E15: =SUM(E16:E19) -> 0 | F15: =SUM(F16:F19) -> 0 | G15: =SUM(G16:G19) -> 0 | H15: =SUM(E15:G15) -> 0
C16: ='Lot 2 CI'!C6 -> A. 9.- Direcció (37,5h) | E16: ='Lot 2 CI'!E6 -> 0 | F16: ='Lot 2 CI'!F6 -> 0 | G16: ='Lot 2 CI'!G6 -> 0 | H16: =SUM(E16:G16) -> 0
C17: ='Lot 2 CI'!C7 -> A.10.- Dinamització (2x37,5h+15h) | E17: ='Lot 2 CI'!E7 -> 0 | F17: ='Lot 2 CI'!F7 -> 0 | G17: ='Lot 2 CI'!G7 -> 0 | H17: =SUM(E17:G17) -> 0
C18: ='Lot 2 CI'!C8 -> A.11.- Seguretat Social | E18: ='Lot 2 CI'!E8 -> 0 | F18: ='Lot 2 CI'!F8 -> 0 | G18: ='Lot 2 CI'!G8 -> 0 | H18: =SUM(E18:G18) -> 0
C19: ='Lot 2 CI'!C9 -> A.12.- Suports i suplències | E19: ='Lot 2 CI'!E9 -> 0 | F19: ='Lot 2 CI'!F9 -> 0 | G19: ='Lot 2 CI'!G9 -> 0 | H19: =SUM(E19:G19) -> 0
C20: Espai familiar La saleta | E20: =SUM(E21:E23) -> 0 | F20: =SUM(F21:F23) -> 0 | G20: =SUM(G21:G23) -> 0 | H20: =SUM(E20:G20) -> 0
C21: ='Lot 2 EF Saleta'!C6 -> A.13.- Dinamització (112,5h) | E21: ='Lot 2 EF Saleta'!E6 -> 0 | F21: ='Lot 2 EF Saleta'!F6 -> 0 | G21: ='Lot 2 EF Saleta'!G6 -> 0 | H21: =SUM(E21:G21) -> 0
C22: ='Lot 2 EF Saleta'!C7 -> A.14.- Seguretat Social | E22: ='Lot 2 EF Saleta'!E7 -> 0 | F22: ='Lot 2 EF Saleta'!F7 -> 0 | G22: ='Lot 2 EF Saleta'!G7 -> 0 | H22: =SUM(E22:G22) -> 0
C23: ='Lot 2 EF Saleta'!C8 -> A.15.- Suport i suplències | E23: ='Lot 2 EF Saleta'!E8 -> 0 | F23: ='Lot 2 EF Saleta'!F8 -> 0 | G23: ='Lot 2 EF Saleta'!G8 -> 0 | H23: =SUM(E23:G23) -> 0
C24: Aula Ambiental Vil·la Urània | E24: =SUM(E25:E27) -> 0 | F24: =SUM(F25:F27) -> 0 | G24: =SUM(G25:G27) -> 0 | H24: =SUM(E24:G24) -> 0
C25: ='Lot 2 A.Ambiental'!C6 -> A.16.- Dinamització (37,5h) | E25: ='Lot 2 A.Ambiental'!E6 -> 0 | F25: ='Lot 2 A.Ambiental'!F6 -> 0 | G25: ='Lot 2 A.Ambiental'!G6 -> 0 | H25: =SUM(E25:G25) -> 0
C26: ='Lot 2 A.Ambiental'!C7 -> A.17.- Seguretat Social | E26: ='Lot 2 A.Ambiental'!E7 -> 0 | F26: ='Lot 2 A.Ambiental'!F7 -> 0 | G26: ='Lot 2 A.Ambiental'!G7 -> 0 | H26: =SUM(E26:G26) -> 0
C27: ='Lot 2 A.Ambiental'!C8 -> A.18.- Suport i suplències | E27: ='Lot 2 A.Ambiental'!E8 -> 0 | F27: ='Lot 2 A.Ambiental'!F8 -> 0 | G27: ='Lot 2 A.Ambiental'!G8 -> 0 | H27: =SUM(E27:G27) -> 0
C28: B.- Despeses generals | E28: =SUM(E29:E41) -> 0 | F28: =SUM(F29:F41) -> 0 | G28: =SUM(G29:G41) -> 0 | H28: =SUM(E28:G28) -> 0
C29: B.1.-Material oficina | E29: ='Lot 2 CC'!E15+'Lot 2 CI'!E11+'Lot 2 EF Saleta'!E10+'Lot 2 A.Ambiental'!E10 -> 0 | F29: ='Lot 2 CC'!F15+'Lot 2 CI'!F11+'Lot 2 EF Saleta'!F10+'Lot 2 A.Ambiental'!F10 -> 0 | G29: ='Lot 2 CC'!G15+'Lot 2 CI'!G11+'Lot 2 EF Saleta'!G10+'Lot 2 A.Ambiental'!G10 -> 0 | H29: =SUM(E29:G29) -> 0
C30: B.2.-Compra material i petita inversió | E30: ='Lot 2 CC'!E16+'Lot 2 CI'!E12+'Lot 2 EF Saleta'!E11+'Lot 2 A.Ambiental'!E11 -> 0 | F30: ='Lot 2 CC'!F16+'Lot 2 CI'!F12+'Lot 2 EF Saleta'!F11+'Lot 2 A.Ambiental'!F11 -> 0 | G30: ='Lot 2 CC'!G16+'Lot 2 CI'!G12+'Lot 2 EF Saleta'!G11+'Lot 2 A.Ambiental'!G11 -> 0 | H30: =SUM(E30:G30) -> 0
C31: B.3.-Reparacions i Petit Manteniment Edifici | E31: ='Lot 2 CC'!E17+'Lot 2 CI'!E13+'Lot 2 EF Saleta'!E12+'Lot 2 A.Ambiental'!E12 -> 0 | F31: ='Lot 2 CC'!F17+'Lot 2 CI'!F13+'Lot 2 EF Saleta'!F12+'Lot 2 A.Ambiental'!F12 -> 0 | G31: ='Lot 2 CC'!G17+'Lot 2 CI'!G13+'Lot 2 EF Saleta'!G12+'Lot 2 A.Ambiental'!G12 -> 0 | H31: =SUM(E31:G31) -> 0
C32: B.4. Manteniment informàtic | E32: ='Lot 2 CC'!E18+'Lot 2 CI'!E14+'Lot 2 EF Saleta'!E13+'Lot 2 A.Ambiental'!E13 -> 0 | F32: ='Lot 2 CC'!F18+'Lot 2 CI'!F14+'Lot 2 EF Saleta'!F13+'Lot 2 A.Ambiental'!F13 -> 0 | G32: ='Lot 2 CC'!G18+'Lot 2 CI'!G14+'Lot 2 EF Saleta'!G13+'Lot 2 A.Ambiental'!G13 -> 0 | H32: =SUM(E32:G32) -> 0
C33: B.5.-Primes d'Assegurances | E33: ='Lot 2 CC'!E19+'Lot 2 CI'!E15+'Lot 2 EF Saleta'!E14+'Lot 2 A.Ambiental'!E14 -> 0 | F33: ='Lot 2 CC'!F19+'Lot 2 CI'!F15+'Lot 2 EF Saleta'!F14+'Lot 2 A.Ambiental'!F14 -> 0 | G33: ='Lot 2 CC'!G19+'Lot 2 CI'!G15+'Lot 2 EF Saleta'!G14+'Lot 2 A.Ambiental'!G14 -> 0 | H33: =SUM(E33:G33) -> 0
C34: B.6.-Subministraments | E34: ='Lot 2 CC'!E20+'Lot 2 CI'!E16+'Lot 2 EF Saleta'!E15+'Lot 2 A.Ambiental'!E15 -> 0 | F34: ='Lot 2 CC'!F20+'Lot 2 CI'!F16+'Lot 2 EF Saleta'!F15+'Lot 2 A.Ambiental'!F15 -> 0 | G34: ='Lot 2 CC'!G20+'Lot 2 CI'!G16+'Lot 2 EF Saleta'!G15+'Lot 2 A.Ambiental'!G15 -> 0 | H34: =SUM(E34:G34) -> 0
C35: B.7.-Arrendaments i canons | E35: ='Lot 2 CC'!E21+'Lot 2 CI'!E17+'Lot 2 EF Saleta'!E16+'Lot 2 A.Ambiental'!E16 -> 0 | F35: ='Lot 2 CC'!F21+'Lot 2 CI'!F17+'Lot 2 EF Saleta'!F16+'Lot 2 A.Ambiental'!F16 -> 0 | G35: ='Lot 2 CC'!G21+'Lot 2 CI'!G17+'Lot 2 EF Saleta'!G16+'Lot 2 A.Ambiental'!G16 -> 0 | H35: =SUM(E35:G35) -> 0
C36: B.8.-Neteja | E36: ='Lot 2 CC'!E22+'Lot 2 CI'!E18+'Lot 2 EF Saleta'!E17+'Lot 2 A.Ambiental'!E17 -> 0 | F36: ='Lot 2 CC'!F22+'Lot 2 CI'!F18+'Lot 2 EF Saleta'!F17+'Lot 2 A.Ambiental'!F17 -> 0 | G36: ='Lot 2 CC'!G22+'Lot 2 CI'!G18+'Lot 2 EF Saleta'!G17+'Lot 2 A.Ambiental'!G17 -> 0 | H36: =SUM(E36:G36) -> 0
C37: B.9.-Serveis professionals independents | E37: ='Lot 2 CC'!E23+'Lot 2 CI'!E19+'Lot 2 EF Saleta'!E18+'Lot 2 A.Ambiental'!E18 -> 0 | F37: ='Lot 2 CC'!F23+'Lot 2 CI'!F19+'Lot 2 EF Saleta'!F18+'Lot 2 A.Ambiental'!F18 -> 0 | G37: ='Lot 2 CC'!G23+'Lot 2 CI'!G19+'Lot 2 EF Saleta'!G18+'Lot 2 A.Ambiental'!G18 -> 0 | H37: =SUM(E37:G37) -> 0
C38: B.10.-Transports | E38: ='Lot 2 CC'!E24+'Lot 2 CI'!E20+'Lot 2 EF Saleta'!E19+'Lot 2 A.Ambiental'!E19 -> 0 | F38: ='Lot 2 CC'!F24+'Lot 2 CI'!F20+'Lot 2 EF Saleta'!F19+'Lot 2 A.Ambiental'!F19 -> 0 | G38: ='Lot 2 CC'!G24+'Lot 2 CI'!G20+'Lot 2 EF Saleta'!G19+'Lot 2 A.Ambiental'!G19 -> 0 | H38: =SUM(E38:G38) -> 0
C39: B.11.-Despeses Bancàries | E39: ='Lot 2 CC'!E25+'Lot 2 CI'!E21+'Lot 2 EF Saleta'!E20+'Lot 2 A.Ambiental'!E20 -> 0 | F39: ='Lot 2 CC'!F25+'Lot 2 CI'!F21+'Lot 2 EF Saleta'!F20+'Lot 2 A.Ambiental'!F20 -> 0 | G39: ='Lot 2 CC'!G25+'Lot 2 CI'!G21+'Lot 2 EF Saleta'!G20+'Lot 2 A.Ambiental'!G20 -> 0 | H39: =SUM(E39:G39) -> 0
C40: B.12.-Tributs i Taxes | E40: ='Lot 2 CC'!E26+'Lot 2 CI'!E22+'Lot 2 EF Saleta'!E21+'Lot 2 A.Ambiental'!E21 -> 0 | F40: ='Lot 2 CC'!F26+'Lot 2 CI'!F22+'Lot 2 EF Saleta'!F21+'Lot 2 A.Ambiental'!F21 -> 0 | G40: ='Lot 2 CC'!G26+'Lot 2 CI'!G22+'Lot 2 EF Saleta'!G21+'Lot 2 A.Ambiental'!G21 -> 0 | H40: =SUM(E40:G40) -> 0
... C42: C.- Difusió | E42: ='Lot 2 CC'!E28+'Lot 2 CI'!E24+'Lot 2 EF Saleta'!E23+'Lot 2 A.Ambiental'!E23 -> 0 | F42: ='Lot 2 CC'!F28+'Lot 2 CI'!F24+'Lot 2 EF Saleta'!F23+'Lot 2 A.Ambiental'!F23 -> 0 | G42: ='Lot 2 CC'!G28+'Lot 2 CI'!G24+'Lot 2 EF Saleta'!G23+'Lot 2 A.Ambiental'!G23 -> 0 | H42: =SUM(E42:G42) -> 0
C43: TOTAL DESPESES FUNCIONAMENT (A+B+C) | E43: =E5+E28+E42 -> 0 | F43: =F5+F28+F42 -> 0 | G43: =G5+G28+G42 -> 0 | H43: =SUM(E43:G43) -> 0
C45: ='Lot 2 CC'!C31 -> D.- Serveis Centre cívic | E45: ='Lot 2 CC'!E31 -> 0 | F45: ='Lot 2 CC'!F31 -> 0 | G45: ='Lot 2 CC'!G31 -> 0 | H45: =SUM(E45:G45) -> 0
C46: ='Lot 2 CC'!C43 -> E.- ProjectesCentre cívic | E46: ='Lot 2 CC'!E43 -> 0 | F46: ='Lot 2 CC'!F43 -> 0 | G46: ='Lot 2 CC'!G43 -> 0 | H46: =SUM(E46:G46) -> 0
C47: ='Lot 2 CI'!C27 -> F.- Formació Infància | E47: ='Lot 2 CI'!E27 -> 0 | F47: ='Lot 2 CI'!F27 -> 0 | G47: ='Lot 2 CI'!G27 -> 0 | H47: =SUM(E47:G47) -> 0
C48: ='Lot 2 CI'!C28 -> G.- Activitats científiques infància | E48: ='Lot 2 CI'!E28 -> 0 | F48: ='Lot 2 CI'!F28 -> 0 | G48: ='Lot 2 CI'!G28 -> 0 | H48: =SUM(E48:G48) -> 0
C49: ='Lot 2 CI'!C29 -> H.- Casal Infantil i Espai Familiar diari | E49: ='Lot 2 CI'!E29 -> 0 | F49: ='Lot 2 CI'!F29 -> 0 | G49: ='Lot 2 CI'!G29 -> 0 | H49: =SUM(E49:G49) -> 0
C50: ='Lot 2 CI'!C30 -> I.- Casals Extraordinaris | E50: ='Lot 2 CI'!E30 -> 0 | F50: ='Lot 2 CI'!F30 -> 0 | G50: ='Lot 2 CI'!G30 -> 0 | H50: =SUM(E50:G50) -> 0
C51: ='Lot 2 EF Saleta'!C26 -> J.- Formació Saleta | E51: ='Lot 2 EF Saleta'!E26 -> 0 | F51: ='Lot 2 EF Saleta'!F26 -> 0 | G51: ='Lot 2 EF Saleta'!G26 -> 0 | H51: =SUM(E51:G51) -> 0
C52: ='Lot 2 EF Saleta'!C27 -> K.- Casal Infantil i Espai Familiar diari Saleta | E52: ='Lot 2 EF Saleta'!E27 -> 0 | F52: ='Lot 2 EF Saleta'!F27 -> 0 | G52: ='Lot 2 EF Saleta'!G27 -> 0 | H52: =SUM(E52:G52) -> 0
C53: ='Lot 2 EF Saleta'!C28 -> L.- Casals Extraordinaris Saleta | E53: ='Lot 2 EF Saleta'!E28 -> 0 | F53: ='Lot 2 EF Saleta'!F28 -> 0 | G53: ='Lot 2 EF Saleta'!G28 -> 0 | H53: =SUM(E53:G53) -> 0
C54: ='Lot 2 A.Ambiental'!C26 -> M.- Formació Aula Ambiental | E54: ='Lot 2 A.Ambiental'!E26 -> 0 | F54: ='Lot 2 A.Ambiental'!F26 -> 0 | G54: ='Lot 2 A.Ambiental'!G26 -> 0 | H54: =SUM(E54:G54) -> 0
C55: TOTAL DESPESES ACTIVITAT (D+E+F+G+H+I+J+K+L+M) | E55: =SUM(E45:E54) -> 0 | F55: =SUM(F45:F54) -> 0 | G55: =SUM(G45:G54) -> 0 | H55: =SUM(E55:G55) -> 0
C57: TOTAL DESPESES OPERACIONALS | E57: =E55+E43 -> 0 | F57: =F55+F43 -> 0 | G57: =G55+G43 -> 0 | H57: =SUM(E57:G57) -> 0
C58: (DESP. FUNCIONAMENT + DESP. ACTIVITATS OBLIGATÒRIES)
C60: DESPESES ESTRUCTURALS (+-4%) | E60: =ROUND(E57*4%,2) -> 0 | F60: =ROUND(F57*4%,2) -> 0 | G60: =ROUND(G57*4%,2) -> 0 | H60: =SUM(E60:G60) -> 0
C61: 4% DE TOTAL DESPESES OPERACIONALS
C62: DESPESES GESTIO (+-4%) | E62: =ROUND((E57+E60)*4%,2) -> 0 | F62: =ROUND((F57+F60)*4%,2) -> 0 | G62: =ROUND((G57+G60)*4%,2) -> 0 | H62: =ROUND((H57+H60)*4%,2) -> 0
C63: 4% DE TOTAL DESPESES OPERACIONALS+ESTRUCTURALS
C65: SUBTOTAL DESPESES | E65: =E57+E60+E62 -> 0 | F65: =F57+F60+F62 -> 0 | G65: =G57+G60+G62 -> 0 | H65: =SUM(E65:G65) -> 0
C66: IVA 21% | E66: =ROUND(E65*21%,2) -> 0 | F66: =ROUND(F65*21%,2) -> 0 | G66: =ROUND(G65*21%,2) -> 0 | H66: =SUM(E66:G66) -> 0
C68: TOTAL DESPESES | E68: =E65+E66 -> 0 | F68: =F65+F66 -> 0 | G68: =G65+G66 -> 0 | H68: =SUM(E68:G68) -> 0

Sheet Lot 2 CC
C1: LOT 2: Gestió, dinamització, organització i coordinació del Centre Cívic Vil•la Urània
C3: DESPESES | E3: 2025 | F3: 2026 | G3: 2027 | H3: TOTALS
C5: A.- Personal | E5: =SUM(E6:E13) -> 0 | F5: =SUM(F6:F13) -> 0 | G5: =SUM(G6:G13) -> 0 | H5: =SUM(E5:G5) -> 0
C6: A.1.- Direcció (37,5h) | E6: 0 | F6: =ROUND(E6*1.035,2) -> 0 | G6: =ROUND(F6*1.035,2) -> 0 | H6: =SUM(E6:G6) -> 0
C7: A.2.- Cap de programes i projectes (112,5h) | E7: 0 | F7: =ROUND(E7*1.035,2) -> 0 | G7: =ROUND(F7*1.035,2) -> 0 | H7: =SUM(E7:G7) -> 0
C8: A.3.- Coordinació de comunicació i xarxes socials (37,5h) | E8: 0 | F8: =ROUND(E8*1.035,2) -> 0 | G8: =ROUND(F8*1.035,2) -> 0 | H8: =SUM(E8:G8) -> 0
C9: A.4.- Administració (37,5h) | E9: 0 | F9: =ROUND(E9*1.035,2) -> 0 | G9: =ROUND(F9*1.035,2) -> 0 | H9: =SUM(E9:G9) -> 0
C10: A.5.- Informació sociocultural (150 h) | E10: 0 | F10: =ROUND(E10*1.035,2) -> 0 | G10: =ROUND(F10*1.035,2) -> 0 | H10: =SUM(E10:G10) -> 0
C11: A.6.- Técnic/a de promoció (37,5h) | E11: 0 | F11: =ROUND(E11*1.035,2) -> 0 | G11: =ROUND(F11*1.035,2) -> 0 | H11: =SUM(E11:G11) -> 0
C12: A.7.- Seguretat Social | E12: =ROUND(SUM(E6:E11)*33%,2) -> 0 | F12: =ROUND(SUM(F6:F11)*33%,2) -> 0 | G12: =ROUND(SUM(G6:G11)*33%,2) -> 0 | H12: =SUM(E12:G12) -> 0
C13: A.8.- Suports i suplències | E13: 0 | F13: =E13 -> 0 | G13: =F13 -> 0 | H13: =SUM(E13:G13) -> 0
C14: B.- Despeses generals | E14: =SUM(E15:E27) -> 0 | F14: =SUM(F15:F27) -> 0 | G14: =SUM(G15:G27) -> 0 | H14: =SUM(E14:G14) -> 0
C15: B.1.-Material oficina i estructura | E15: 0 | F15: =ROUND(E15*1.025,2) -> 0 | G15: =ROUND(F15*1.025,2) -> 0 | H15: =SUM(E15:G15) -> 0
C16: B.2.-Compra material i petita inversió | E16: 0 | F16: =ROUND(E16*1.025,2) -> 0 | G16: =ROUND(F16*1.025,2) -> 0 | H16: =SUM(E16:G16) -> 0
C17: B.3.-Reparacions i Petit Manteniment Edifici | E17: 0 | F17: =ROUND(E17*1.025,2) -> 0 | G17: =ROUND(F17*1.025,2) -> 0 | H17: =SUM(E17:G17) -> 0
C18: B.4.-Manteniment informàtic | E18: 0 | F18: =ROUND(E18*1.025,2) -> 0 | G18: =ROUND(F18*1.025,2) -> 0 | H18: =SUM(E18:G18) -> 0
C19: B.5.-Primes d'Assegurances | E19: 0 | F19: =ROUND(E19*1.025,2) -> 0 | G19: =ROUND(F19*1.025,2) -> 0 | H19: =SUM(E19:G19) -> 0
C20: B.6.-Subministraments | E20: 0 | F20: =ROUND(E20*1.025,2) -> 0 | G20: =ROUND(F20*1.025,2) -> 0 | H20: =SUM(E20:G20) -> 0
C21: B.7.-Arrendaments i canons | E21: 0 | F21: =ROUND(E21*1.025,2) -> 0 | G21: =ROUND(F21*1.025,2) -> 0 | H21: =SUM(E21:G21) -> 0
C22: B.8.-Neteja | E22: 0 | F22: =ROUND(E22*1.025,2) -> 0 | G22: =ROUND(F22*1.025,2) -> 0 | H22: =SUM(E22:G22) -> 0
C23: B.9.-Serveis professionals independents | E23: 0 | F23: =ROUND(E23*1.025,2) -> 0 | G23: =ROUND(F23*1.025,2) -> 0 | H23: =SUM(E23:G23) -> 0
C24: B.10.-Transports | E24: 0 | F24: =ROUND(E24*1.025,2) -> 0 | G24: =ROUND(F24*1.025,2) -> 0 | H24: =SUM(E24:G24) -> 0
C25: B.11.-Despeses Bancàries | E25: 0 | F25: =ROUND(E25*1.025,2) -> 0 | G25: =ROUND(F25*1.025,2) -> 0 | H25: =SUM(E25:G25) -> 0
C26: B.12.-Tributs i Taxes | E26: 0 | F26: =ROUND(E26*1.025,2) -> 0 | G26: =ROUND(F26*1.025,2) -> 0 | H26: =SUM(E26:G26) -> 0
C27: B.13.-Altres despeses | E27: 0 | F27: =ROUND(E27*1.025,2) -> 0 | G27: =ROUND(F27*1.025,2) -> 0 | H27: =SUM(E27:G27) -> 0
C28: C.- Difusió | E28: 0 | F28: =E28*1.025 -> 0 | G28: =F28*1.025 -> 0 | H28: =SUM(E28:G28) -> 0
C29: TOTAL DESPESES FUNCIONAMENT (A+B+C) | E29: =E5+E14+E28 -> 0 | F29: =F5+F14+F28 -> 0 | G29: =G5+G14+G28 -> 0 | H29: =SUM(E29:G29) -> 0
C31: D.- Serveis Centre cívic | E31: =SUM(E32+E33+E37+E38+E39+E40+E41+E42) -> 0 | F31: =SUM(F32+F33+F37+F38+F39+F40+F41+F42) -> 0 | G31: =SUM(G32+G33+G37+G38+G39+G40+G41+G42) -> 0 | H31: =SUM(E31:G31) -> 0
C32: D.1.- Servei d'Activitats Formatives | E32: 0 | F32: =ROUND(E32*1.025,2) -> 0 | G32: =ROUND(F32*1.025,2) -> 0 | H32: =SUM(E32:G32) -> 0
C33: D.2.- Difusió i divulgació cultural | E33: =SUM(E34:E36) -> 0 | F33: =SUM(F34:F36) -> 0 | G33: =SUM(G34:G36) -> 0 | H33: =SUM(E33:G33) -> 0
D34: D.2.1.-Actuacions musicals | E34: 0 | F34: =ROUND(E34*1.025,2) -> 0 | G34: =ROUND(F34*1.025,2) -> 0 | H34: =SUM(E34:G34) -> 0
D35: D.2.2.-Arts escéniques | E35: 0 | F35: =ROUND(E35*1.025,2) -> 0 | G35: =ROUND(F35*1.025,2) -> 0 | H35: =SUM(E35:G35) -> 0
D36: D.2.3.-Audiovisuals | E36: 0 | F36: =ROUND(E36*1.025,2) -> 0 | G36: =ROUND(F36*1.025,2) -> 0 | H36: =SUM(E36:G36) -> 0
C37: D.3.- Servei d'exposicions | E37: 0 | F37: =ROUND(E37*1.025,2) -> 0 | G37: =ROUND(F37*1.025,2) -> 0 | H37: =SUM(E37:G37) -> 0
C38: D.4.- Servei de seminaris, debats i conferències | E38: 0 | F38: =ROUND(E38*1.025,2) -> 0 | G38: =ROUND(F38*1.025,2) -> 0 | H38: =SUM(E38:G38) -> 0
C39: D.5.- Servei de cessió i lloguers d'espai | E39: 0 | F39: =ROUND(E39*1.025,2) -> 0 | G39: =ROUND(F39*1.025,2) -> 0 | H39: =SUM(E39:G39) -> 0
C40: D.6.- Servei de suport a grups i entitats | E40: 0 | F40: =ROUND(E40*1.025,2) -> 0 | G40: =ROUND(F40*1.025,2) -> 0 | H40: =SUM(E40:G40) -> 0
C41: D.7.- Servei de festes i tradicions | E41: 0 | F41: =ROUND(E41*1.025,2) -> 0 | G41: =ROUND(F41*1.025,2) -> 0 | H41: =SUM(E41:G41) -> 0
C42: D.8.- Servei de suport a la creació | E42: 0 | F42: =ROUND(E42*1.025,2) -> 0 | G42: =ROUND(F42*1.025,2) -> 0 | H42: =SUM(E42:G42) -> 0
C43: E.- ProjectesCentre cívic | E43: =SUM(E44:E48) -> 0 | F43: =SUM(F44:F48) -> 0 | G43: =SUM(G44:G48) -> 0 | H43: =SUM(E43:G43) -> 0
C44: E.1.-Cultura i Educació | E44: 0 | F44: =ROUND(E44*1.025,2) -> 0 | G44: =ROUND(F44*1.025,2) -> 0 | H44: =SUM(E44:G44) -> 0
C45: E.2.-Projecte de creació artística comunitaria | E45: 0 | F45: =ROUND(E45*1.025,2) -> 0 | G45: =ROUND(F45*1.025,2) -> 0 | H45: =SUM(E45:G45) -> 0
C46: E.3.-Especialització en ciència | E46: 0 | F46: =ROUND(E46*1.025,2) -> 0 | G46: =ROUND(F46*1.025,2) -> 0 | H46: =SUM(E46:G46) -> 0
C47: E.4.- Projecte singular d'art tèxtil | E47: 0 | F47: =ROUND(E47*1.025,2) -> 0 | G47: =ROUND(F47*1.025,2) -> 0 | H47: =SUM(E47:G47) -> 0
C48: E.5.- Projecte de radio | E48: 0 | F48: =ROUND(E48*1.025,2) -> 0 | G48: =ROUND(F48*1.025,2) -> 0 | H48: =SUM(E48:G48) -> 0
C49: TOTAL DESPESES ACTIVITAT (D+E) | E49: =E31+E43 -> 0 | F49: =F31+F43 -> 0 | G49: =G31+G43 -> 0 | H49: =SUM(E49:G49) -> 0
C51: TOTAL DESPESES OPERACIONALS | E51: =E29+E49 -> 0 | F51: =F29+F49 -> 0 | G51: =G29+G49 -> 0 | H51: =SUM(E51:G51) -> 0
C52: (DESP. FUNCIONAMENT + DESP. ACTIVITATS OBLIGATÒRIES)
C54: DESPESES ESTRUCTURALS (+-4%) | E54: =ROUND(E51*4%,2) -> 0 | F54: =ROUND(F51*4%,2) -> 0 | G54: =ROUND(G51*4%,2) -> 0 | H54: =SUM(E54:G54) -> 0
C55: 4% DE TOTAL DESPESES OPERACIONALS
C56: DESPESES GESTIO (+-4%) | E56: =ROUND((E54+E51)*4%,2) -> 0 | F56: =ROUND((F54+F51)*4%,2) -> 0 | G56: =ROUND((G54+G51)*4%,2) -> 0 | H56: =SUM(E56:G56) -> 0
C57: 4% DE TOTAL DESPESES OPERACIONALS+ESTRUCTURALS
C59: SUBTOTAL DESPESES | E59: =E56+E54+E51 -> 0 | F59: =F56+F54+F51 -> 0 | G59: =G56+G54+G51 -> 0 | H59: =SUM(E59:G59) -> 0
C60: IVA 21% | E60: =ROUND(E59*21%,2) -> 0 | F60: =ROUND(F59*21%,2) -> 0 | G60: =ROUND(G59*21%,2) -> 0 | H60: =SUM(E60:G60) -> 0
C62: TOTAL DESPESES | E62: =E59+E60 -> 0 | F62: =F59+F60 -> 0 | G62: =G59+G60 -> 0 | H62: =H59+H60 -> 0

Sheet Lot 2 CI
C1: LOT 2: Gestió, dinamització, organització i coordinació del Casal Infantil
C3: DESPESES | E3: 2025 | F3: 2026 | G3: 2027 | H3: TOTALS
C5: A.- Personal | E5: =SUM(E6:E9) -> 0 | F5: =SUM(F6:F9) -> 0 | G5: =SUM(G6:G9) -> 0 | H5: =SUM(E5:G5) -> 0
C6: A. 9.- Direcció (37,5h) | E6: 0 | F6: =ROUND(E6*1.035,2) -> 0 | G6: =ROUND(F6*1.035,2) -> 0 | H6: =SUM(E6:G6) -> 0
C7: A.10.- Dinamització (2x37,5h+15h) | E7: 0 | F7: =ROUND(E7*1.035,2) -> 0 | G7: =ROUND(F7*1.035,2) -> 0 | H7: =SUM(E7:G7) -> 0
C8: A.11.- Seguretat Social | E8: =ROUND((E6+E7)*33%,2) -> 0 | F8: =ROUND((F6+F7)*33%,2) -> 0 | G8: =ROUND((G6+G7)*33%,2) -> 0 | H8: =SUM(E8:G8) -> 0
C9: A.12.- Suports i suplències | E9: 0 | F9: =E9 -> 0 | G9: =F9 -> 0 | H9: =SUM(E9:G9) -> 0
C10: B.- Despeses generals | E10: =SUM(E11:E23) -> 0 | F10: =SUM(F11:F23) -> 0 | G10: =SUM(G11:G23) -> 0 | H10: =SUM(E10:G10) -> 0
C11: B.1.-Material oficina | E11: 0 | F11: =ROUND(E11*1.025,2) -> 0 | G11: =ROUND(F11*1.025,2) -> 0 | H11: =SUM(E11:G11) -> 0
C12: B.2.-Compra material i petita inversió | E12: 0 | F12: =ROUND(E12*1.025,2) -> 0 | G12: =ROUND(F12*1.025,2) -> 0 | H12: =SUM(E12:G12) -> 0
C13: B.3.-Reparacions i Petit Manteniment Edifici | E13: 0 | F13: =ROUND(E13*1.025,2) -> 0 | G13: =ROUND(F13*1.025,2) -> 0 | H13: =SUM(E13:G13) -> 0
C14: B.4. Manteniment informàtic | E14: 0 | F14: =ROUND(E14*1.025,2) -> 0 | G14: =ROUND(F14*1.025,2) -> 0 | H14: =SUM(E14:G14) -> 0
C15: B.5.-Primes d'Assegurances | E15: 0 | F15: =ROUND(E15*1.025,2) -> 0 | G15: =ROUND(F15*1.025,2) -> 0 | H15: =SUM(E15:G15) -> 0
C16: B.6.-Subministraments | E16: 0 | F16: =ROUND(E16*1.025,2) -> 0 | G16: =ROUND(F16*1.025,2) -> 0 | H16: =SUM(E16:G16) -> 0
C17: B.7.-Arrendaments i canons | E17: 0 | F17: =ROUND(E17*1.025,2) -> 0 | G17: =ROUND(F17*1.025,2) -> 0 | H17: =SUM(E17:G17) -> 0
C18: B.8.-Neteja | E18: 0 | F18: =ROUND(E18*1.025,2) -> 0 | G18: =ROUND(F18*1.025,2) -> 0 | H18: =SUM(E18:G18) -> 0
C19: B.9.-Serveis professionals independents | E19: 0 | F19: =ROUND(E19*1.025,2) -> 0 | G19: =ROUND(F19*1.025,2) -> 0 | H19: =SUM(E19:G19) -> 0
C20: B.10-Transports | E20: 0 | F20: =ROUND(E20*1.025,2) -> 0 | G20: =ROUND(F20*1.025,2) -> 0 | H20: =SUM(E20:G20) -> 0
C21: B.11.-Despeses Bancàries | E21: 0 | F21: =ROUND(E21*1.025,2) -> 0 | G21: =ROUND(F21*1.025,2) -> 0 | H21: =SUM(E21:G21) -> 0
C22: B.12.-Tributs i Taxes | E22: 0 | F22: =ROUND(E22*1.025,2) -> 0 | G22: =ROUND(F22*1.025,2) -> 0 | H22: =SUM(E22:G22) -> 0
... C24: C.- Difusió | E24: 0 | F24: =ROUND(E24*1.025,2) -> 0 | G24: =ROUND(F24*1.025,2) -> 0 | H24: =SUM(E24:G24) -> 0
C25: TOTAL DESPESES FUNCIONAMENT (A+B+C) | E25: =E5+E10+E24 -> 0 | F25: =F5+F10+F24 -> 0 | G25: =G5+G10+G24 -> 0 | H25: =SUM(E25:G25) -> 0
C27: F.- Formació Infància | E27: 0 | F27: =ROUND(E27*1.025,2) -> 0 | G27: =ROUND(F27*1.025,2) -> 0 | H27: =SUM(E27:G27) -> 0
C28: G.- Activitats científiques infància | E28: 0 | F28: =ROUND(E28*1.025,2) -> 0 | G28: =ROUND(F28*1.025,2) -> 0 | H28: =SUM(E28:G28) -> 0
C29: H.- Casal Infantil i Espai Familiar diari | E29: 0 | F29: =ROUND(E29*1.025,2) -> 0 | G29: =ROUND(F29*1.025,2) -> 0 | H29: =SUM(E29:G29) -> 0
C30: I.- Casals Extraordinaris | E30: 0 | F30: =ROUND(E30*1.025,2) -> 0 | G30: =ROUND(F30*1.025,2) -> 0 | H30: =SUM(E30:G30) -> 0
C31: TOTAL DESPESES ACTIVITAT (F+G+H+I) | E31: =E27+E28+E29+E30 -> 0 | F31: =F27+F28+F29+F30 -> 0 | G31: =G27+G28+G29+G30 -> 0 | H31: =SUM(E31:G31) -> 0
C33: TOTAL DESPESES OPERACIONALS | E33: =E31+E25 -> 0 | F33: =F31+F25 -> 0 | G33: =G31+G25 -> 0 | H33: =SUM(E33:G33) -> 0
C34: (DESP. FUNCIONAMENT + DESP. ACTIVITATS OBLIGATÒRIES)
C36: DESPESES ESTRUCTURALS (+-4%) | E36: =ROUND(E33*4%,2) -> 0 | F36: =ROUND(F33*4%,2) -> 0 | G36: =ROUND(G33*4%,2) -> 0 | H36: =SUM(E36:G36) -> 0
C37: 4% DE TOTAL DESPESES OPERACIONALS
C38: DESPESES GESTIO (+-4%) | E38: =ROUND((E33+E36)*4%,2) -> 0 | F38: =ROUND((F33+F36)*4%,2) -> 0 | G38: =ROUND((G33+G36)*4%,2) -> 0 | H38: =SUM(E38:G38) -> 0
C39: 4% DE TOTAL DESPESES OPERACIONALS+ESTRUCTURALS
C41: SUBTOTAL DESPESES | E41: =E33+E36+E38 -> 0 | F41: =F33+F36+F38 -> 0 | G41: =G33+G36+G38 -> 0 | H41: =SUM(E41:G41) -> 0
C42: IVA 21% | E42: =ROUND(E41*21%,2) -> 0 | F42: =ROUND(F41*21%,2) -> 0 | G42: =ROUND(G41*21%,2) -> 0 | H42: =SUM(E42:G42) -> 0
C44: TOTAL DESPESES | E44: =E41+E42 -> 0 | F44: =F41+F42 -> 0 | G44: =G41+G42 -> 0 | H44: =SUM(E44:G44) -> 0

Sheet Lot 2 EF Saleta
C1: LOT 2: Gestió, dinamització, organització i coordinació de l’Espai Familiar de Criança Municipal La Saleta
C3: DESPESES | E3: 2025 | F3: 2026 | G3: 2027 | H3: TOTALS
C5: A.- Personal | E5: =SUM(E6:E8) -> 0 | F5: =SUM(F6:F8) -> 0 | G5: =SUM(G6:G8) -> 0 | H5: =SUM(E5:G5) -> 0
C6: A.13.- Dinamització (112,5h) | E6: 0 | F6: =ROUND(E6*1.035,2) -> 0 | G6: =ROUND(F6*1.035,2) -> 0 | H6: =SUM(E6:G6) -> 0
C7: A.14.- Seguretat Social | E7: =ROUND(E6*33%,2) -> 0 | F7: =ROUND(F6*33%,2) -> 0 | G7: =ROUND(G6*33%,2) -> 0 | H7: =SUM(E7:G7) -> 0
C8: A.15.- Suport i suplències | E8: 0 | F8: =E8 -> 0 | G8: =F8 -> 0 | H8: =SUM(E8:G8) -> 0
C9: B.- Despeses generals | E9: =SUM(E10:E22) -> 0 | F9: =SUM(F10:F22) -> 0 | G9: =SUM(G10:G22) -> 0 | H9: =SUM(E9:G9) -> 0
C10: B.1.-Material oficina | E10: 0 | F10: =ROUND(E10*1.025,2) -> 0 | G10: =ROUND(F10*1.025,2) -> 0 | H10: =SUM(E10:G10) -> 0
C11: B.2.-Compra material i petita inversió | E11: 0 | F11: =ROUND(E11*1.025,2) -> 0 | G11: =ROUND(F11*1.025,2) -> 0 | H11: =SUM(E11:G11) -> 0
C12: B.3.-Reparacions i Petit Manteniment Edifici | E12: 0 | F12: =ROUND(E12*1.025,2) -> 0 | G12: =ROUND(F12*1.025,2) -> 0 | H12: =SUM(E12:G12) -> 0
C13: B.4. Manteniment informàtic | E13: 0 | F13: =ROUND(E13*1.025,2) -> 0 | G13: =ROUND(F13*1.025,2) -> 0 | H13: =SUM(E13:G13) -> 0
C14: B.5.-Primes d'Assegurances | E14: 0 | F14: =ROUND(E14*1.025,2) -> 0 | G14: =ROUND(F14*1.025,2) -> 0 | H14: =SUM(E14:G14) -> 0
C15: B.6.-Subministraments | E15: 0 | F15: =ROUND(E15*1.025,2) -> 0 | G15: =ROUND(F15*1.025,2) -> 0 | H15: =SUM(E15:G15) -> 0
C16: B.7.-Arrendaments i canons | E16: 0 | F16: =ROUND(E16*1.025,2) -> 0 | G16: =ROUND(F16*1.025,2) -> 0 | H16: =SUM(E16:G16) -> 0
C17: B.8.-Neteja | E17: 0 | F17: =ROUND(E17*1.025,2) -> 0 | G17: =ROUND(F17*1.025,2) -> 0 | H17: =SUM(E17:G17) -> 0
C18: B.9.-Serveis professionals independents | E18: 0 | F18: =ROUND(E18*1.025,2) -> 0 | G18: =ROUND(F18*1.025,2) -> 0 | H18: =SUM(E18:G18) -> 0
C19: B.10-Transports | E19: 0 | F19: =ROUND(E19*1.025,2) -> 0 | G19: =ROUND(F19*1.025,2) -> 0 | H19: =SUM(E19:G19) -> 0
C20: B.11.-Despeses Bancàries | E20: 0 | F20: =ROUND(E20*1.025,2) -> 0 | G20: =ROUND(F20*1.025,2) -> 0 | H20: =SUM(E20:G20) -> 0
C21: B.12.-Tributs i Taxes | E21: 0 | F21: =ROUND(E21*1.025,2) -> 0 | G21: =ROUND(F21*1.025,2) -> 0 | H21: =SUM(E21:G21) -> 0
... C23: C.- Difusió | E23: 0 | F23: =ROUND(E23*1.025,2) -> 0 | G23: =ROUND(F23*1.025,2) -> 0 | H23: =SUM(E23:G23) -> 0
C24: TOTAL DESPESES FUNCIONAMENT (A+B+C) | E24: =E5+E9+E23 -> 0 | F24: =F5+F9+F23 -> 0 | G24: =G5+G9+G23 -> 0 | H24: =SUM(E24:G24) -> 0
C26: J.- Formació Saleta | E26: 0 | F26: =ROUND(E26*1.025,2) -> 0 | G26: =ROUND(F26*1.025,2) -> 0 | H26: =SUM(E26:G26) -> 0
C27: K.- Casal Infantil i Espai Familiar diari Saleta | E27: 0 | F27: =ROUND(E27*1.025,2) -> 0 | G27: =ROUND(F27*1.025,2) -> 0 | H27: =SUM(E27:G27) -> 0
C28: L.- Casals Extraordinaris Saleta | E28: 0 | F28: =ROUND(E28*1.025,2) -> 0 | G28: =ROUND(F28*1.025,2) -> 0 | H28: =SUM(E28:G28) -> 0
C29: TOTAL DESPESES ACTIVITAT (J+K+L) | E29: =E26+E27+E28 -> 0 | F29: =F26+F27+F28 -> 0 | G29: =G26+G27+G28 -> 0 | H29: =SUM(E29:G29) -> 0
C31: TOTAL DESPESES OPERACIONALS | E31: =E24+E29 -> 0 | F31: =F24+F29 -> 0 | G31: =G24+G29 -> 0 | H31: =SUM(E31:G31) -> 0
C32: (DESP. FUNCIONAMENT + DESP. ACTIVITATS OBLIGATÒRIES)
C34: DESPESES ESTRUCTURALS (+-4%) | E34: =ROUND(E31*4%,2) -> 0 | F34: =ROUND(F31*4%,2) -> 0 | G34: =ROUND(G31*4%,2) -> 0 | H34: =SUM(E34:G34) -> 0
C35: 4% DE TOTAL DESPESES OPERACIONALS
C36: DESPESES GESTIO (+-4%) | E36: =ROUND((E31+E34)*4%,2) -> 0 | F36: =ROUND((F31+F34)*4%,2) -> 0 | G36: =ROUND((G31+G34)*4%,2) -> 0 | H36: =SUM(E36:G36) -> 0
C37: 4% DE TOTAL DESPESES OPERACIONALS+ESTRUCTURALS
C39: SUBTOTAL DESPESES | E39: =E31+E34+E36 -> 0 | F39: =F31+F34+F36 -> 0 | G39: =G31+G34+G36 -> 0 | H39: =SUM(E39:G39) -> 0
C40: IVA 21% | E40: =ROUND(E39*21%,2) -> 0 | F40: =ROUND(F39*21%,2) -> 0 | G40: =ROUND(G39*21%,2) -> 0 | H40: =SUM(E40:G40) -> 0
C42: TOTAL DESPESES | E42: =E39+E40 -> 0 | F42: =F39+F40 -> 0 | G42: =G39+G40 -> 0 | H42: =SUM(E42:G42) -> 0

Sheet Lot 2 A.Ambiental
C1: LOT 2: Gestió, dinamització, organització i coordinació de l’Aula Ambiental Vil•la Urània
C3: DESPESES | E3: 2025 | F3: 2026 | G3: 2027 | H3: TOTALS
C5: A.- Personal | E5: =SUM(E6:E8) -> 0 | F5: =SUM(F6:F8) -> 0 | G5: =SUM(G6:G8) -> 0 | H5: =SUM(E5:G5) -> 0
C6: A.16.- Dinamització (37,5h) | E6: 0 | F6: =ROUND(E6*1.035,2) -> 0 | G6: =ROUND(F6*1.035,2) -> 0 | H6: =SUM(E6:G6) -> 0
C7: A.17.- Seguretat Social | E7: =ROUND(E6*33%,2) -> 0 | F7: =ROUND(F6*33%,2) -> 0 | G7: =ROUND(G6*33%,2) -> 0 | H7: =SUM(E7:G7) -> 0
C8: A.18.- Suport i suplències | E8: 0 | F8: =E8 -> 0 | G8: =F8 -> 0 | H8: =SUM(E8:G8) -> 0
C9: B.- Despeses generals | E9: =SUM(E10:E22) -> 0 | F9: =SUM(F10:F22) -> 0 | G9: =SUM(G10:G22) -> 0 | H9: =SUM(E9:G9) -> 0
C10: B.1.-Material oficina | E10: 0 | F10: =ROUND(E10*1.025,2) -> 0 | G10: =ROUND(F10*1.025,2) -> 0 | H10: =SUM(E10:G10) -> 0
C11: B.2.-Compra material i petita inversió | E11: 0 | F11: =ROUND(E11*1.025,2) -> 0 | G11: =ROUND(F11*1.025,2) -> 0 | H11: =SUM(E11:G11) -> 0
C12: B.3.-Reparacions i Petit Manteniment Edifici | E12: 0 | F12: =ROUND(E12*1.025,2) -> 0 | G12: =ROUND(F12*1.025,2) -> 0 | H12: =SUM(E12:G12) -> 0
C13: B.4. Manteniment informàtic | E13: 0 | F13: =ROUND(E13*1.025,2) -> 0 | G13: =ROUND(F13*1.025,2) -> 0
C14: B.5.-Primes d'Assegurances | E14: 0 | F14: =ROUND(E14*1.025,2) -> 0 | G14: =ROUND(F14*1.025,2) -> 0 | H14: =SUM(E14:G14) -> 0
C15: B.6.-Subministraments | E15: 0 | F15: =ROUND(E15*1.025,2) -> 0 | G15: =ROUND(F15*1.025,2) -> 0 | H15: =SUM(E15:G15) -> 0
C16: B.7.-Arrendaments i canons | E16: 0 | F16: =ROUND(E16*1.025,2) -> 0 | G16: =ROUND(F16*1.025,2) -> 0 | H16: =SUM(E16:G16) -> 0
C17: B.8.-Neteja | E17: 0 | F17: =ROUND(E17*1.025,2) -> 0 | G17: =ROUND(F17*1.025,2) -> 0 | H17: =SUM(E17:G17) -> 0
C18: B.9.-Serveis professionals independents | E18: 0 | F18: =ROUND(E18*1.025,2) -> 0 | G18: =ROUND(F18*1.025,2) -> 0 | H18: =SUM(E18:G18) -> 0
C19: B.10-Transports | E19: 0 | F19: =ROUND(E19*1.025,2) -> 0 | G19: =ROUND(F19*1.025,2) -> 0 | H19: =SUM(E19:G19) -> 0
C20: B.11.-Despeses Bancàries | E20: 0 | F20: =ROUND(E20*1.025,2) -> 0 | G20: =ROUND(F20*1.025,2) -> 0 | H20: =SUM(E20:G20) -> 0
C21: B.12.-Tributs i Taxes | E21: 0 | F21: =ROUND(E21*1.025,2) -> 0 | G21: =ROUND(F21*1.025,2) -> 0 | H21: =SUM(E21:G21) -> 0
C22: B.13.-Altres despeses | E22: 0 | F22: =ROUND(E22*1.025,2) -> 0 | G22: =ROUND(F22*1.025,2) -> 0 | H22: =SUM(E22:G22) -> 0
C23: C.- Difusió | E23: 0 | F23: =ROUND(E23*1.025,2) -> 0 | G23: =ROUND(F23*1.025,2) -> 0 | H23: =SUM(E23:G23) -> 0
C24: TOTAL DESPESES FUNCIONAMENT (A+B+C) | E24: =E5+E9+E23 -> 0 | F24: =F5+F9+F23 -> 0 | G24: =G5+G9+G23 -> 0 | H24: =SUM(E24:G24) -> 0
C26: M.- Formació Aula Ambiental | E26: 0 | F26: =ROUND(E26*1.025,2) -> 0 | G26: =ROUND(F26*1.025,2) -> 0 | H26: =SUM(E26:G26) -> 0
C27: TOTAL DESPESES ACTIVITAT (M) | E27: =E26 -> 0 | F27: =F26 -> 0 | G27: =G26 -> 0 | H27: =SUM(E27:G27) -> 0
C29: TOTAL DESPESES OPERACIONALS | E29: =E24+E27 -> 0 | F29: =F24+F27 -> 0 | G29: =G24+G27 -> 0 | H29: =SUM(E29:G29) -> 0
C30: (DESP. FUNCIONAMENT + DESP. ACTIVITATS OBLIGATÒRIES)
C32: DESPESES ESTRUCTURALS (+-4%) | E32: =ROUND(E29*4%,2) -> 0 | F32: =ROUND(F29*4%,2) -> 0 | G32: =ROUND(G29*4%,2) -> 0 | H32: =SUM(E32:G32) -> 0
C33: 4% DE TOTAL DESPESES OPERACIONALS
C34: DESPESES GESTIO (+-4%) | E34: =ROUND((E29+E32)*4%,2) -> 0 | F34: =ROUND((F29+F32)*4%,2) -> 0 | G34: =ROUND((G29+G32)*4%,2) -> 0 | H34: =SUM(E34:G34) -> 0
C35: 4% DE TOTAL DESPESES OPERACIONALS+ESTRUCTURALS
C37: SUBTOTAL DESPESES | E37: =E29+E32+E34 -> 0 | F37: =F29+F32+F34 -> 0 | G37: =G29+G32+G34 -> 0 | H37: =SUM(E37:G37) -> 0
C38: IVA 21% | E38: =ROUND(E37*21%,2) -> 0 | F38: =ROUND(F37*21%,2) -> 0 | G38: =ROUND(G37*21%,2) -> 0 | H38: =SUM(E38:G38) -> 0
C40: TOTAL DESPESES | E40: =E37+E38 -> 0 | F40: =F37+F38 -> 0 | G40: =G37+G38 -> 0 | H40: =SUM(E40:G40) -> 0
