Workbook

Sheet Total Lot 1
A1: DESPESES | C1: 2025 | D1: 2025 (1/5/2025 al 31/12/2025) | E1: 2026 | F1: 2027 | G1: PRÒRROGA 2028 | H1: TOTAL
A2: A.- Personal | C2: =C3+C9+C15+C21+C26 -> 457898.58 | D2: =D3+D9+D15+D21+D26 -> 0 | E2: =E3+E9+E15+E21+E26 -> 0 | F2: =F3+F9+F15+F21+F26 -> 0 | G2: =G3+G9+G15+G21+G26 -> 0 | H2: =SUM(D2:G2) -> 0
A3: ='Lot 1 CC Castello'!A3 -> Equipament CC Can Castelló | C3: ='Lot 1 CC Castello'!C3 -> 111065 | D3: ='Lot 1 CC Castello'!D3 -> 0 | E3: ='Lot 1 CC Castello'!E3 -> 0 | F3: ='Lot 1 CC Castello'!F3 -> 0 | G3: ='Lot 1 CC Castello'!G3 -> 0 | H3: =SUM(D3:G3) -> 0
A4: ='Lot 1 CC Castello'!A4 -> A.1.- Direcció (37,5h) | C4: ='Lot 1 CC Castello'!C4 -> 32500 | D4: ='Lot 1 CC Castello'!D4 -> 0 | E4: ='Lot 1 CC Castello'!E4 -> 0 | F4: ='Lot 1 CC Castello'!F4 -> 0 | G4: ='Lot 1 CC Castello'!G4 -> 0 | H4: =SUM(D4:G4) -> 0
A5: ='Lot 1 CC Castello'!A5 -> A.2.- Coordinació de projectes, programes i activitats (37,5h) | C5: ='Lot 1 CC Castello'!C5 -> 26000 | D5: ='Lot 1 CC Castello'!D5 -> 0 | E5: ='Lot 1 CC Castello'!E5 -> 0 | F5: ='Lot 1 CC Castello'!F5 -> 0 | G5: ='Lot 1 CC Castello'!G5 -> 0 | H5: =SUM(D5:G5) -> 0
A6: ='Lot 1 CC Castello'!A6 -> A.3.- Informació (37,5h) | C6: ='Lot 1 CC Castello'!C6 -> 22000 | D6: ='Lot 1 CC Castello'!D6 -> 0 | E6: ='Lot 1 CC Castello'!E6 -> 0 | F6: ='Lot 1 CC Castello'!F6 -> 0 | G6: ='Lot 1 CC Castello'!G6 -> 0 | H6: =SUM(D6:G6) -> 0
A7: ='Lot 1 CC Castello'!A7 -> A.4.- Seguretat Social | C7: ='Lot 1 CC Castello'!C7 -> 26565 | D7: ='Lot 1 CC Castello'!D7 -> 0 | E7: ='Lot 1 CC Castello'!E7 -> 0 | F7: ='Lot 1 CC Castello'!F7 -> 0 | G7: ='Lot 1 CC Castello'!G7 -> 0 | H7: =SUM(D7:G7) -> 0
A8: ='Lot 1 CC Castello'!A8 -> A.5.- Suplencies | C8: ='Lot 1 CC Castello'!C8 -> 4000 | D8: ='Lot 1 CC Castello'!D8 -> 0 | E8: ='Lot 1 CC Castello'!E8 -> 0 | F8: ='Lot 1 CC Castello'!F8 -> 0 | G8: ='Lot 1 CC Castello'!G8 -> 0 | H8: =SUM(D8:G8) -> 0
A9: ='Lot 1 CGG Castello'!A3 -> Equipament CGG Can Castelló | C9: ='Lot 1 CGG Castello'!C3 -> 113760.75 | D9: ='Lot 1 CGG Castello'!D3 -> 0 | E9: ='Lot 1 CGG Castello'!E3 -> 0 | F9: ='Lot 1 CGG Castello'!F3 -> 0 | G9: ='Lot 1 CGG Castello'!G3 -> 0 | H9: =SUM(D9:G9) -> 0
A10: ='Lot 1 CGG Castello'!A4 -> A.6.- Direcció (37,5h) | C10: ='Lot 1 CGG Castello'!C4 -> 26775 | D10: ='Lot 1 CGG Castello'!D4 -> 0 | E10: ='Lot 1 CGG Castello'!E4 -> 0 | F10: ='Lot 1 CGG Castello'!F4 -> 0 | G10: ='Lot 1 CGG Castello'!G4 -> 0 | H10: =SUM(D10:G10) -> 0
A11: ='Lot 1 CGG Castello'!A5 -> A.7.- Animació (18,75h) | C11: ='Lot 1 CGG Castello'!C5 -> 11000 | D11: ='Lot 1 CGG Castello'!D5 -> 0 | E11: ='Lot 1 CGG Castello'!E5 -> 0 | F11: ='Lot 1 CGG Castello'!F5 -> 0 | G11: ='Lot 1 CGG Castello'!G5 -> 0 | H11: =SUM(D11:G11) -> 0
A12: ='Lot 1 CGG Castello'!A6 -> A.8.- Informació (75h) | C12: ='Lot 1 CGG Castello'!C6 -> 44000 | D12: ='Lot 1 CGG Castello'!D6 -> 0 | E12: ='Lot 1 CGG Castello'!E6 -> 0 | F12: ='Lot 1 CGG Castello'!F6 -> 0 | G12: ='Lot 1 CGG Castello'!G6 -> 0 | H12: =SUM(D12:G12) -> 0
A13: ='Lot 1 CGG Castello'!A7 -> A.9.- Seguretat Social | C13: ='Lot 1 CGG Castello'!C7 -> 26985.75 | D13: ='Lot 1 CGG Castello'!D7 -> 0 | E13: ='Lot 1 CGG Castello'!E7 -> 0 | F13: ='Lot 1 CGG Castello'!F7 -> 0 | G13: ='Lot 1 CGG Castello'!G7 -> 0 | H13: =SUM(D13:G13) -> 0
A14: ='Lot 1 CGG Castello'!A8 -> A.10.- Suplències | C14: ='Lot 1 CGG Castello'!C8 -> 5000 | D14: ='Lot 1 CGG Castello'!D8 -> 0 | E14: ='Lot 1 CGG Castello'!E8 -> 0 | F14: ='Lot 1 CGG Castello'!F8 -> 0 | G14: ='Lot 1 CGG Castello'!G8 -> 0 | H14: =SUM(D14:G14) -> 0
A15: ='Lot 1 CGG Fabregas'!A3 -> Equipament CGG Can Fàbregas | C15: ='Lot 1 CGG Fabregas'!C3 -> 113986 | D15: ='Lot 1 CGG Fabregas'!D3 -> 0 | E15: ='Lot 1 CGG Fabregas'!E3 -> 0 | F15: ='Lot 1 CGG Fabregas'!F3 -> 0 | G15: ='Lot 1 CGG Fabregas'!G3 -> 0 | H15: =SUM(D15:G15) -> 0
A16: ='Lot 1 CGG Fabregas'!A4 -> A.11.- Direcció (37,5h) | C16: ='Lot 1 CGG Fabregas'!C4 -> 29200 | D16: ='Lot 1 CGG Fabregas'!D4 -> 0 | E16: ='Lot 1 CGG Fabregas'!E4 -> 0 | F16: ='Lot 1 CGG Fabregas'!F4 -> 0 | G16: ='Lot 1 CGG Fabregas'!G4 -> 0 | H16: =SUM(D16:G16) -> 0
A17: ='Lot 1 CGG Fabregas'!A5 -> A.12.- Animació (18'75h) | C17: ='Lot 1 CGG Fabregas'!C5 -> 11000 | D17: ='Lot 1 CGG Fabregas'!D5 -> 0 | E17: ='Lot 1 CGG Fabregas'!E5 -> 0 | F17: ='Lot 1 CGG Fabregas'!F5 -> 0 | G17: ='Lot 1 CGG Fabregas'!G5 -> 0 | H17: =SUM(D17:G17) -> 0
A18: ='Lot 1 CGG Fabregas'!A6 -> A.13.- Informació (75h) | C18: ='Lot 1 CGG Fabregas'!C6 -> 44000 | D18: ='Lot 1 CGG Fabregas'!D6 -> 0 | E18: ='Lot 1 CGG Fabregas'!E6 -> 0 | F18: ='Lot 1 CGG Fabregas'!F6 -> 0 | G18: ='Lot 1 CGG Fabregas'!G6 -> 0 | H18: =SUM(D18:G18) -> 0
A19: ='Lot 1 CGG Fabregas'!A7 -> A.14.- Seguretat Social | C19: ='Lot 1 CGG Fabregas'!C7 -> 27786 | D19: ='Lot 1 CGG Fabregas'!D7 -> 0 | E19: ='Lot 1 CGG Fabregas'!E7 -> 0 | F19: ='Lot 1 CGG Fabregas'!F7 -> 0 | G19: ='Lot 1 CGG Fabregas'!G7 -> 0 | H19: =SUM(D19:G19) -> 0
A20: ='Lot 1 CGG Fabregas'!A8 -> A.15.- Suplències | C20: ='Lot 1 CGG Fabregas'!C8 -> 2000 | D20: ='Lot 1 CGG Fabregas'!D8 -> 0 | E20: ='Lot 1 CGG Fabregas'!E8 -> 0 | F20: ='Lot 1 CGG Fabregas'!F8 -> 0 | G20: ='Lot 1 CGG Fabregas'!G8 -> 0 | H20: =SUM(D20:G20) -> 0
A21: ='Lot 1 CGG Ildefons'!A3 -> Equipament CGG Sant Ildefons | C21: ='Lot 1 CGG Ildefons'!C3 -> 65870.75 | D21: ='Lot 1 CGG Ildefons'!D3 -> 0 | E21: ='Lot 1 CGG Ildefons'!E3 -> 0 | F21: ='Lot 1 CGG Ildefons'!F3 -> 0 | G21: ='Lot 1 CGG Ildefons'!G3 -> 0 | H21: =SUM(D21:G21) -> 0
A22: ='Lot 1 CGG Ildefons'!A4 -> A.16.- Direcció (37,5h) | C22: ='Lot 1 CGG Ildefons'!C4 -> 26775 | D22: ='Lot 1 CGG Ildefons'!D4 -> 0 | E22: ='Lot 1 CGG Ildefons'!E4 -> 0 | F22: ='Lot 1 CGG Ildefons'!F4 -> 0 | G22: ='Lot 1 CGG Ildefons'!G4 -> 0 | H22: =SUM(D22:G22) -> 0
A23: ='Lot 1 CGG Ildefons'!A5 -> A.17.- Informació (37,5h) | C23: ='Lot 1 CGG Ildefons'!C5 -> 22000 | D23: ='Lot 1 CGG Ildefons'!D5 -> 0 | E23: ='Lot 1 CGG Ildefons'!E5 -> 0 | F23: ='Lot 1 CGG Ildefons'!F5 -> 0 | G23: ='Lot 1 CGG Ildefons'!G5 -> 0 | H23: =SUM(D23:G23) -> 0
A24: ='Lot 1 CGG Ildefons'!A6 -> A.18.- Seguretat Social | C24: ='Lot 1 CGG Ildefons'!C6 -> 16095.75 | D24: ='Lot 1 CGG Ildefons'!D6 -> 0 | E24: ='Lot 1 CGG Ildefons'!E6 -> 0 | F24: ='Lot 1 CGG Ildefons'!F6 -> 0 | G24: ='Lot 1 CGG Ildefons'!G6 -> 0 | H24: =SUM(D24:G24) -> 0
A25: ='Lot 1 CGG Ildefons'!A7 -> A.19.- Suplències | C25: ='Lot 1 CGG Ildefons'!C7 -> 1000 | D25: ='Lot 1 CGG Ildefons'!D7 -> 0 | E25: ='Lot 1 CGG Ildefons'!E7 -> 0 | F25: ='Lot 1 CGG Ildefons'!F7 -> 0 | G25: ='Lot 1 CGG Ildefons'!G7 -> 0 | H25: =SUM(D25:G25) -> 0
A26: ='Lot 1 Programa'!A3 -> Programa de dinamització de gent gran | C26: ='Lot 1 Programa'!C3 -> 53216.08 | D26: ='Lot 1 Programa'!D3 -> 0 | E26: ='Lot 1 Programa'!E3 -> 0 | F26: ='Lot 1 Programa'!F3 -> 0 | G26: ='Lot 1 Programa'!G3 -> 0 | H26: =SUM(D26:G26) -> 0
A27: ='Lot 1 Programa'!A4 -> A.20.- Direcció (37,5h) | C27: ='Lot 1 Programa'!C4 -> 26775 | D27: ='Lot 1 Programa'!D4 -> 0 | E27: ='Lot 1 Programa'!E4 -> 0 | F27: ='Lot 1 Programa'!F4 -> 0 | G27: ='Lot 1 Programa'!G4 -> 0 | H27: =SUM(D27:G27) -> 0
A28: ='Lot 1 Programa'!A5 -> A.21.- Animació (20h) | C28: ='Lot 1 Programa'!C5 -> 11733.33 | D28: ='Lot 1 Programa'!D5 -> 0 | E28: ='Lot 1 Programa'!E5 -> 0 | F28: ='Lot 1 Programa'!F5 -> 0 | G28: ='Lot 1 Programa'!G5 -> 0 | H28: =SUM(D28:G28) -> 0
A29: ='Lot 1 Programa'!A6 -> A.22.- Seguretat Social | C29: ='Lot 1 Programa'!C6 -> 12707.75 | D29: ='Lot 1 Programa'!D6 -> 0 | E29: ='Lot 1 Programa'!E6 -> 0 | F29: ='Lot 1 Programa'!F6 -> 0 | G29: ='Lot 1 Programa'!G6 -> 0 | H29: =SUM(D29:G29) -> 0
A30: ='Lot 1 Programa'!A7 -> A.23.- Suplències | C30: ='Lot 1 Programa'!C7 -> 2000 | D30: ='Lot 1 Programa'!D7 -> 0 | E30: ='Lot 1 Programa'!E7 -> 0 | F30: ='Lot 1 Programa'!F7 -> 0 | G30: ='Lot 1 Programa'!G7 -> 0 | H30: =SUM(D30:G30) -> 0
A31: B.- Despeses generals | C31: =SUM(C32:C44) -> 105300 | D31: =SUM(D32:D44) -> 0 | E31: =SUM(E32:E44) -> 0 | F31: =SUM(F32:F44) -> 0 | G31: =SUM(G32:G44) -> 0 | H31: =SUM(D31:G31) -> 0
A32: ='Lot 1 CC Castello'!A10 -> B.1.- Material oficina | C32: ='Lot 1 CC Castello'!C10+'Lot 1 CGG Castello'!C10+'Lot 1 CGG Fabregas'!C10+'Lot 1 CGG Ildefons'!C9+'Lot 1 Programa'!C9 -> 3850 | D32: ='Lot 1 CC Castello'!D10+'Lot 1 CGG Castello'!D10+'Lot 1 CGG Fabregas'!D10+'Lot 1 CGG Ildefons'!D9+'Lot 1 Programa'!D9 -> 0 | E32: ='Lot 1 CC Castello'!E10+'Lot 1 CGG Castello'!E10+'Lot 1 CGG Fabregas'!E10+'Lot 1 CGG Ildefons'!E9+'Lot 1 Programa'!E9 -> 0 | F32: ='Lot 1 CC Castello'!F10+'Lot 1 CGG Castello'!F10+'Lot 1 CGG Fabregas'!F10+'Lot 1 CGG Ildefons'!F9+'Lot 1 Programa'!F9 -> 0 | G32: ='Lot 1 CC Castello'!G10+'Lot 1 CGG Castello'!G10+'Lot 1 CGG Fabregas'!G10+'Lot 1 CGG Ildefons'!G9+'Lot 1 Programa'!G9 -> 0 | H32: =SUM(D32:G32) -> 0
A33: ='Lot 1 CC Castello'!A11 -> B.2.- Compra material i petita inversió | C33: ='Lot 1 CC Castello'!C11+'Lot 1 CGG Castello'!C11+'Lot 1 CGG Fabregas'!C11+'Lot 1 CGG Ildefons'!C10+'Lot 1 Programa'!C10 -> 2850 | D33: ='Lot 1 CC Castello'!D11+'Lot 1 CGG Castello'!D11+'Lot 1 CGG Fabregas'!D11+'Lot 1 CGG Ildefons'!D10+'Lot 1 Programa'!D10 -> 0 | E33: ='Lot 1 CC Castello'!E11+'Lot 1 CGG Castello'!E11+'Lot 1 CGG Fabregas'!E11+'Lot 1 CGG Ildefons'!E10+'Lot 1 Programa'!E10 -> 0 | F33: ='Lot 1 CC Castello'!F11+'Lot 1 CGG Castello'!F11+'Lot 1 CGG Fabregas'!F11+'Lot 1 CGG Ildefons'!F10+'Lot 1 Programa'!F10 -> 0 | G33: ='Lot 1 CC Castello'!G11+'Lot 1 CGG Castello'!G11+'Lot 1 CGG Fabregas'!G11+'Lot 1 CGG Ildefons'!G10+'Lot 1 Programa'!G10 -> 0 | H33: =SUM(D33:G33) -> 0
A34: ='Lot 1 CC Castello'!A12 -> B.3.- Reparacions i Petit Manteniment | C34: ='Lot 1 CC Castello'!C12+'Lot 1 CGG Castello'!C12+'Lot 1 CGG Fabregas'!C12+'Lot 1 CGG Ildefons'!C11+'Lot 1 Programa'!C11 -> 13500 | D34: ='Lot 1 CC Castello'!D12+'Lot 1 CGG Castello'!D12+'Lot 1 CGG Fabregas'!D12+'Lot 1 CGG Ildefons'!D11+'Lot 1 Programa'!D11 -> 0 | E34: ='Lot 1 CC Castello'!E12+'Lot 1 CGG Castello'!E12+'Lot 1 CGG Fabregas'!E12+'Lot 1 CGG Ildefons'!E11+'Lot 1 Programa'!E11 -> 0 | F34: ='Lot 1 CC Castello'!F12+'Lot 1 CGG Castello'!F12+'Lot 1 CGG Fabregas'!F12+'Lot 1 CGG Ildefons'!F11+'Lot 1 Programa'!F11 -> 0 | G34: ='Lot 1 CC Castello'!G12+'Lot 1 CGG Castello'!G12+'Lot 1 CGG Fabregas'!G12+'Lot 1 CGG Ildefons'!G11+'Lot 1 Programa'!G11 -> 0 | H34: =SUM(D34:G34) -> 0
A35: ='Lot 1 CC Castello'!A13 -> B.4. Manteniment informàtic | C35: ='Lot 1 CC Castello'!C13+'Lot 1 CGG Castello'!C13+'Lot 1 CGG Fabregas'!C13+'Lot 1 CGG Ildefons'!C12+'Lot 1 Programa'!C12 -> 3000 | D35: ='Lot 1 CC Castello'!D13+'Lot 1 CGG Castello'!D13+'Lot 1 CGG Fabregas'!D13+'Lot 1 CGG Ildefons'!D12+'Lot 1 Programa'!D12 -> 0 | E35: ='Lot 1 CC Castello'!E13+'Lot 1 CGG Castello'!E13+'Lot 1 CGG Fabregas'!E13+'Lot 1 CGG Ildefons'!E12+'Lot 1 Programa'!E12 -> 0 | F35: ='Lot 1 CC Castello'!F13+'Lot 1 CGG Castello'!F13+'Lot 1 CGG Fabregas'!F13+'Lot 1 CGG Ildefons'!F12+'Lot 1 Programa'!F12 -> 0 | G35: ='Lot 1 CC Castello'!G13+'Lot 1 CGG Castello'!G13+'Lot 1 CGG Fabregas'!G13+'Lot 1 CGG Ildefons'!G12+'Lot 1 Programa'!G12 -> 0 | H35: =SUM(D35:G35) -> 0
A36: ='Lot 1 CC Castello'!A14 -> B.5.- Primes d'Assegurances | C36: ='Lot 1 CC Castello'!C14+'Lot 1 CGG Castello'!C14+'Lot 1 CGG Fabregas'!C14+'Lot 1 CGG Ildefons'!C13+'Lot 1 Programa'!C13 -> 3000 | D36: ='Lot 1 CC Castello'!D14+'Lot 1 CGG Castello'!D14+'Lot 1 CGG Fabregas'!D14+'Lot 1 CGG Ildefons'!D13+'Lot 1 Programa'!D13 -> 0 | E36: ='Lot 1 CC Castello'!E14+'Lot 1 CGG Castello'!E14+'Lot 1 CGG Fabregas'!E14+'Lot 1 CGG Ildefons'!E13+'Lot 1 Programa'!E13 -> 0 | F36: ='Lot 1 CC Castello'!F14+'Lot 1 CGG Castello'!F14+'Lot 1 CGG Fabregas'!F14+'Lot 1 CGG Ildefons'!F13+'Lot 1 Programa'!F13 -> 0 | G36: ='Lot 1 CC Castello'!G14+'Lot 1 CGG Castello'!G14+'Lot 1 CGG Fabregas'!G14+'Lot 1 CGG Ildefons'!G13+'Lot 1 Programa'!G13 -> 0 | H36: =SUM(D36:G36) -> 0
A37: ='Lot 1 CC Castello'!A15 -> B.6.- Subministraments | C37: ='Lot 1 CC Castello'!C15+'Lot 1 CGG Castello'!C15+'Lot 1 CGG Fabregas'!C15+'Lot 1 CGG Ildefons'!C14+'Lot 1 Programa'!C14 -> 0 | D37: ='Lot 1 CC Castello'!D15+'Lot 1 CGG Castello'!D15+'Lot 1 CGG Fabregas'!D15+'Lot 1 CGG Ildefons'!D14+'Lot 1 Programa'!D14 -> 0 | E37: ='Lot 1 CC Castello'!E15+'Lot 1 CGG Castello'!E15+'Lot 1 CGG Fabregas'!E15+'Lot 1 CGG Ildefons'!E14+'Lot 1 Programa'!E14 -> 0 | F37: ='Lot 1 CC Castello'!F15+'Lot 1 CGG Castello'!F15+'Lot 1 CGG Fabregas'!F15+'Lot 1 CGG Ildefons'!F14+'Lot 1 Programa'!F14 -> 0 | G37: ='Lot 1 CC Castello'!G15+'Lot 1 CGG Castello'!G15+'Lot 1 CGG Fabregas'!G15+'Lot 1 CGG Ildefons'!G14+'Lot 1 Programa'!G14 -> 0 | H37: =SUM(D37:G37) -> 0
A38: ='Lot 1 CC Castello'!A16 -> B.7.- Arrendaments i canons | C38: ='Lot 1 CC Castello'!C16+'Lot 1 CGG Castello'!C16+'Lot 1 CGG Fabregas'!C16+'Lot 1 CGG Ildefons'!C15+'Lot 1 Programa'!C15 -> 2900 | D38: ='Lot 1 CC Castello'!D16+'Lot 1 CGG Castello'!D16+'Lot 1 CGG Fabregas'!D16+'Lot 1 CGG Ildefons'!D15+'Lot 1 Programa'!D15 -> 0 | E38: ='Lot 1 CC Castello'!E16+'Lot 1 CGG Castello'!E16+'Lot 1 CGG Fabregas'!E16+'Lot 1 CGG Ildefons'!E15+'Lot 1 Programa'!E15 -> 0 | F38: ='Lot 1 CC Castello'!F16+'Lot 1 CGG Castello'!F16+'Lot 1 CGG Fabregas'!F16+'Lot 1 CGG Ildefons'!F15+'Lot 1 Programa'!F15 -> 0 | G38: ='Lot 1 CC Castello'!G16+'Lot 1 CGG Castello'!G16+'Lot 1 CGG Fabregas'!G16+'Lot 1 CGG Ildefons'!G15+'Lot 1 Programa'!G15 -> 0 | H38: =SUM(D38:G38) -> 0
A39: ='Lot 1 CC Castello'!A17 -> B.8.- Neteja | C39: ='Lot 1 CC Castello'!C17+'Lot 1 CGG Castello'!C17+'Lot 1 CGG Fabregas'!C17+'Lot 1 CGG Ildefons'!C16+'Lot 1 Programa'!C16 -> 64000 | D39: ='Lot 1 CC Castello'!D17+'Lot 1 CGG Castello'!D17+'Lot 1 CGG Fabregas'!D17+'Lot 1 CGG Ildefons'!D16+'Lot 1 Programa'!D16 -> 0 | E39: ='Lot 1 CC Castello'!E17+'Lot 1 CGG Castello'!E17+'Lot 1 CGG Fabregas'!E17+'Lot 1 CGG Ildefons'!E16+'Lot 1 Programa'!E16 -> 0 | F39: ='Lot 1 CC Castello'!F17+'Lot 1 CGG Castello'!F17+'Lot 1 CGG Fabregas'!F17+'Lot 1 CGG Ildefons'!F16+'Lot 1 Programa'!F16 -> 0 | G39: ='Lot 1 CC Castello'!G17+'Lot 1 CGG Castello'!G17+'Lot 1 CGG Fabregas'!G17+'Lot 1 CGG Ildefons'!G16+'Lot 1 Programa'!G16 -> 0 | H39: =SUM(D39:G39) -> 0
A40: ='Lot 1 CC Castello'!A18 -> B.9.- Serveis professionals independents | C40: ='Lot 1 CC Castello'!C18+'Lot 1 CGG Castello'!C18+'Lot 1 CGG Fabregas'!C18+'Lot 1 CGG Ildefons'!C17+'Lot 1 Programa'!C17 -> 1600 | D40: ='Lot 1 CC Castello'!D18+'Lot 1 CGG Castello'!D18+'Lot 1 CGG Fabregas'!D18+'Lot 1 CGG Ildefons'!D17+'Lot 1 Programa'!D17 -> 0 | E40: ='Lot 1 CC Castello'!E18+'Lot 1 CGG Castello'!E18+'Lot 1 CGG Fabregas'!E18+'Lot 1 CGG Ildefons'!E17+'Lot 1 Programa'!E17 -> 0 | F40: ='Lot 1 CC Castello'!F18+'Lot 1 CGG Castello'!F18+'Lot 1 CGG Fabregas'!F18+'Lot 1 CGG Ildefons'!F17+'Lot 1 Programa'!F17 -> 0 | G40: ='Lot 1 CC Castello'!G18+'Lot 1 CGG Castello'!G18+'Lot 1 CGG Fabregas'!G18+'Lot 1 CGG Ildefons'!G17+'Lot 1 Programa'!G17 -> 0 | H40: =SUM(D40:G40) -> 0
A41: ='Lot 1 CC Castello'!A19 -> B.10.- Transports | C41: ='Lot 1 CC Castello'!C19+'Lot 1 CGG Castello'!C19+'Lot 1 CGG Fabregas'!C19+'Lot 1 CGG Ildefons'!C18+'Lot 1 Programa'!C18 -> 850 | D41: ='Lot 1 CC Castello'!D19+'Lot 1 CGG Castello'!D19+'Lot 1 CGG Fabregas'!D19+'Lot 1 CGG Ildefons'!D18+'Lot 1 Programa'!D18 -> 0 | E41: ='Lot 1 CC Castello'!E19+'Lot 1 CGG Castello'!E19+'Lot 1 CGG Fabregas'!E19+'Lot 1 CGG Ildefons'!E18+'Lot 1 Programa'!E18 -> 0 | F41: ='Lot 1 CC Castello'!F19+'Lot 1 CGG Castello'!F19+'Lot 1 CGG Fabregas'!F19+'Lot 1 CGG Ildefons'!F18+'Lot 1 Programa'!F18 -> 0 | G41: ='Lot 1 CC Castello'!G19+'Lot 1 CGG Castello'!G19+'Lot 1 CGG Fabregas'!G19+'Lot 1 CGG Ildefons'!G18+'Lot 1 Programa'!G18 -> 0 | H41: =SUM(D41:G41) -> 0
A42: ='Lot 1 CC Castello'!A20 -> B.11.- Despeses Bancàries | C42: ='Lot 1 CC Castello'!C20+'Lot 1 CGG Castello'!C20+'Lot 1 CGG Fabregas'!C20+'Lot 1 CGG Ildefons'!C19+'Lot 1 Programa'!C19 -> 3750 | D42: ='Lot 1 CC Castello'!D20+'Lot 1 CGG Castello'!D20+'Lot 1 CGG Fabregas'!D20+'Lot 1 CGG Ildefons'!D19+'Lot 1 Programa'!D19 -> 0 | E42: ='Lot 1 CC Castello'!E20+'Lot 1 CGG Castello'!E20+'Lot 1 CGG Fabregas'!E20+'Lot 1 CGG Ildefons'!E19+'Lot 1 Programa'!E19 -> 0 | F42: ='Lot 1 CC Castello'!F20+'Lot 1 CGG Castello'!F20+'Lot 1 CGG Fabregas'!F20+'Lot 1 CGG Ildefons'!F19+'Lot 1 Programa'!F19 -> 0 | G42: ='Lot 1 CC Castello'!G20+'Lot 1 CGG Castello'!G20+'Lot 1 CGG Fabregas'!G20+'Lot 1 CGG Ildefons'!G19+'Lot 1 Programa'!G19 -> 0 | H42: =SUM(D42:G42) -> 0
A43: ='Lot 1 CC Castello'!A21 -> B.12.- Tributs i Taxes | C43: ='Lot 1 CC Castello'!C21+'Lot 1 CGG Castello'!C21+'Lot 1 CGG Fabregas'!C21+'Lot 1 CGG Ildefons'!C20+'Lot 1 Programa'!C20 -> 0 | D43: ='Lot 1 CC Castello'!D21+'Lot 1 CGG Castello'!D21+'Lot 1 CGG Fabregas'!D21+'Lot 1 CGG Ildefons'!D20+'Lot 1 Programa'!D20 -> 0 | E43: ='Lot 1 CC Castello'!E21+'Lot 1 CGG Castello'!E21+'Lot 1 CGG Fabregas'!E21+'Lot 1 CGG Ildefons'!E20+'Lot 1 Programa'!E20 -> 0 | F43: ='Lot 1 CC Castello'!F21+'Lot 1 CGG Castello'!F21+'Lot 1 CGG Fabregas'!F21+'Lot 1 CGG Ildefons'!F20+'Lot 1 Programa'!F20 -> 0 | G43: ='Lot 1 CC Castello'!G21+'Lot 1 CGG Castello'!G21+'Lot 1 CGG Fabregas'!G21+'Lot 1 CGG Ildefons'!G20+'Lot 1 Programa'!G20 -> 0 | H43: =SUM(D43:G43) -> 0
A44: ='Lot 1 CC Castello'!A22 -> B.13.- Altres despeses | C44: ='Lot 1 CC Castello'!C22+'Lot 1 CGG Castello'!C22+'Lot 1 CGG Fabregas'!C22+'Lot 1 CGG Ildefons'!C21+'Lot 1 Programa'!C21 -> 6000 | D44: ='Lot 1 CC Castello'!D22+'Lot 1 CGG Castello'!D22+'Lot 1 CGG Fabregas'!D22+'Lot 1 CGG Ildefons'!D21+'Lot 1 Programa'!D21 -> 0 | E44: ='Lot 1 CC Castello'!E22+'Lot 1 CGG Castello'!E22+'Lot 1 CGG Fabregas'!E22+'Lot 1 CGG Ildefons'!E21+'Lot 1 Programa'!E21 -> 0 | F44: ='Lot 1 CC Castello'!F22+'Lot 1 CGG Castello'!F22+'Lot 1 CGG Fabregas'!F22+'Lot 1 CGG Ildefons'!F21+'Lot 1 Programa'!F21 -> 0 | G44: ='Lot 1 CC Castello'!G22+'Lot 1 CGG Castello'!G22+'Lot 1 CGG Fabregas'!G22+'Lot 1 CGG Ildefons'!G21+'Lot 1 Programa'!G21 -> 0 | H44: =SUM(D44:G44) -> 0
A45: C.- Difusió | C45: ='Lot 1 CC Castello'!C23+'Lot 1 CGG Castello'!C23+'Lot 1 CGG Fabregas'!C23+'Lot 1 CGG Ildefons'!C22+'Lot 1 Programa'!C22 -> 12500 | D45: ='Lot 1 CC Castello'!D23+'Lot 1 CGG Castello'!D23+'Lot 1 CGG Fabregas'!D23+'Lot 1 CGG Ildefons'!D22+'Lot 1 Programa'!D22 -> 0 | E45: ='Lot 1 CC Castello'!E23+'Lot 1 CGG Castello'!E23+'Lot 1 CGG Fabregas'!E23+'Lot 1 CGG Ildefons'!E22+'Lot 1 Programa'!E22 -> 0 | F45: ='Lot 1 CC Castello'!F23+'Lot 1 CGG Castello'!F23+'Lot 1 CGG Fabregas'!F23+'Lot 1 CGG Ildefons'!F22+'Lot 1 Programa'!F22 -> 0 | G45: ='Lot 1 CC Castello'!G23+'Lot 1 CGG Castello'!G23+'Lot 1 CGG Fabregas'!G23+'Lot 1 CGG Ildefons'!G22+'Lot 1 Programa'!G22 -> 0 | H45: =SUM(D45:G45) -> 0
A46: TOTAL DESPESES FUNCIONAMENT | C46: =C2+C31+C45 -> 575698.58 | D46: =D2+D31+D45 -> 0 | E46: =E2+E31+E45 -> 0 | F46: =F2+F31+F45 -> 0 | G46: =G2+G31+G45 -> 0 | H46: =SUM(D46:G46) -> 0
A48: D.- Serveis | C48: ='Lot 1 CC Castello'!C26 -> 46300 | D48: ='Lot 1 CC Castello'!D26 -> 0 | E48: ='Lot 1 CC Castello'!E26 -> 0 | F48: ='Lot 1 CC Castello'!F26 -> 0 | G48: ='Lot 1 CC Castello'!G26 -> 0 | H48: =SUM(D48:G48) -> 0
A49: E.- Projectes Centre cívic | C49: ='Lot 1 CC Castello'!C38 -> 6000 | D49: ='Lot 1 CC Castello'!D38 -> 0 | E49: ='Lot 1 CC Castello'!E38 -> 0 | F49: ='Lot 1 CC Castello'!F38 -> 0 | G49: ='Lot 1 CC Castello'!G38 -> 0 | H49: =SUM(D49:G49) -> 0
A50: F.- Cursos i tallers | C50: ='Lot 1 CGG Castello'!C26+'Lot 1 CGG Fabregas'!C26+'Lot 1 CGG Ildefons'!C25+'Lot 1 Programa'!C25 -> 129755 | D50: ='Lot 1 CGG Castello'!D26+'Lot 1 CGG Fabregas'!D26+'Lot 1 CGG Ildefons'!D25+'Lot 1 Programa'!D25 -> 0 | E50: ='Lot 1 CGG Castello'!E26+'Lot 1 CGG Fabregas'!E26+'Lot 1 CGG Ildefons'!E25+'Lot 1 Programa'!E25 -> 0 | F50: ='Lot 1 CGG Castello'!F26+'Lot 1 CGG Fabregas'!F26+'Lot 1 CGG Ildefons'!F25+'Lot 1 Programa'!F25 -> 0 | G50: ='Lot 1 CGG Castello'!G26+'Lot 1 CGG Fabregas'!G26+'Lot 1 CGG Ildefons'!G25+'Lot 1 Programa'!G25 -> 0 | H50: =SUM(D50:G50) -> 0
A51: G.- Exposicions i cessions d'espais | C51: ='Lot 1 Programa'!C28 -> 0 | D51: ='Lot 1 Programa'!D28 -> 0 | E51: ='Lot 1 Programa'!E28 -> 0 | F51: ='Lot 1 Programa'!F28 -> 0 | G51: ='Lot 1 Programa'!G28 -> 0 | H51: =SUM(D51:G51) -> 0
A52: TOTAL DESPESES ACTIVITAT | C52: =C48+C49+C50+C51 -> 182055 | D52: =D48+D49+D50+D51 -> 0 | E52: =E48+E49+E50+E51 -> 0 | F52: =F48+F49+F50+F51 -> 0 | G52: =G48+G49+G50+G51 -> 0 | H52: =H48+H49+H50+H51 -> 0
A54: TOTAL DESPESES OPERACIONALS | C54: =C46+C52 -> 757753.58 | D54: =D46+D52 -> 0 | E54: =E46+E52 -> 0 | F54: =F46+F52 -> 0 | G54: =G46+G52 -> 0 | H54: =SUM(D54:G54) -> 0
A56: H.- DESPESES D'ESTRUCTURA (+4%) | C56: =ROUND(C54*0.04,2) -> 30310.14 | D56: =ROUND(D54*0.04,2) -> 0 | E56: =ROUND(E54*0.04,2) -> 0 | F56: =ROUND(F54*0.04,2) -> 0 | G56: =ROUND(G54*0.04,2) -> 0 | H56: =SUM(D56:G56) -> 0
A57: I.- DESPESES DE GESTIÓ (+4%) | C57: =ROUND((C54+C56)*0.04,2) -> 31522.55 | D57: =ROUND((D54+D56)*0.04,2) -> 0 | E57: =ROUND((E54+E56)*0.04,2) -> 0 | F57: =ROUND((F54+F56)*0.04,2) -> 0 | G57: =ROUND((G54+G56)*0.04,2) -> 0 | H57: =SUM(D57:G57) -> 0
A59: SUBTOTAL DESPESES | C59: =C54+C56+C57 -> 819586.27 | D59: =D54+D56+D57 -> 0 | E59: =E54+E56+E57 -> 0 | F59: =F54+F56+F57 -> 0 | G59: =G54+G56+G57 -> 0 | H59: =SUM(D59:G59) -> 0
A60: IVA 21% | C60: =ROUND(C59*21%,2) -> 172113.12 | D60: =ROUND(D59*21%,2) -> 0 | E60: =ROUND(E59*21%,2) -> 0 | F60: =ROUND(F59*21%,2) -> 0 | G60: =ROUND(G59*21%,2) -> 0 | H60: =SUM(D60:G60) -> 0
A62: TOTAL DESPESES | C62: =C59+C60 -> 991699.39 | D62: =D59+D60 -> 0 | E62: =E59+E60 -> 0 | F62: =F59+F60 -> 0 | G62: =G59+G60 -> 0 | H62: =SUM(D62:G62) -> 0
A63: MODIFICACIONS DE CONTRACTE | C63: 0 | D63: 0 | E63: 0 | F63: 0 | G63: 0 | H63: 0
A65: IMPORT TOTAL LICITACIÓ | G65: =D62+E62+F62 -> 0
A66: VEC | G66: =D59+E59+F59+G59 -> 0

Sheet Lot 1 CC Castello
A1: DESPESES | C1: 2025 | D1: 2025 (1/5/2025 al 31/12/2025) | E1: 2026 | F1: 2027 | G1: PRÒRROGA 2028 | H1: TOTAL
A2: A.- Personal | C2: =C3 -> 111065 | D2: =D3 -> 0 | E2: =E3 -> 0 | F2: =F3 -> 0 | G2: =G3 -> 0 | H2: =SUM(D2:G2) -> 0
A3: Equipament CC Can Castelló | C3: =SUM(C4:C8) -> 111065 | D3: =SUM(D4:D8) -> 0 | E3: =SUM(E4:E8) -> 0 | F3: =SUM(F4:F8) -> 0 | G3: =SUM(G4:G8) -> 0 | H3: =SUM(D3:G3) -> 0
A4: A.1.- Direcció (37,5h) | C4: 32500 | H4: =SUM(D4:G4) -> 0
A5: A.2.- Coordinació de projectes, programes i activitats (37,5h) | C5: 26000 | H5: =SUM(D5:G5) -> 0
A6: A.3.- Informació (37,5h) | C6: 22000 | H6: =SUM(D6:G6) -> 0
A7: A.4.- Seguretat Social | C7: =ROUND((C4+C5+C6)*0.33,2) -> 26565 | H7: =SUM(D7:G7) -> 0
A8: A.5.- Suplencies | C8: 4000 | H8: =SUM(D8:G8) -> 0
A9: B.- Despeses generals | C9: =SUM(C10:C22) -> 26650 | D9: =SUM(D10:D22) -> 0 | E9: =SUM(E10:E22) -> 0 | F9: =SUM(F10:F22) -> 0 | G9: =SUM(G10:G22) -> 0 | H9: =SUM(D9:G9) -> 0
A10: B.1.- Material oficina | C10: 1000 | H10: =SUM(D10:G10) -> 0
A11: B.2.- Compra material i petita inversió | C11: 1000 | H11: =SUM(D11:G11) -> 0
A12: B.3.- Reparacions i Petit Manteniment | C12: 3500 | H12: =SUM(D12:G12) -> 0
A13: B.4. Manteniment informàtic | C13: 1000 | H13: =SUM(D13:G13) -> 0
A14: B.5.- Primes d'Assegurances | C14: 500 | H14: =SUM(D14:G14) -> 0
A15: B.6.- Subministraments | C15: 0 | H15: =SUM(D15:G15) -> 0
A16: B.7.- Arrendaments i canons | C16: 700 | H16: =SUM(D16:G16) -> 0
A17: B.8.- Neteja | C17: 15000 | H17: =SUM(D17:G17) -> 0
A18: B.9.- Serveis professionals independents | C18: 1000 | H18: =SUM(D18:G18) -> 0
A19: B.10.- Transports | C19: 200 | H19: =SUM(D19:G19) -> 0
A20: B.11.- Despeses Bancàries | C20: 750 | H20: =SUM(D20:G20) -> 0
A21: B.12.- Tributs i Taxes | C21: 0 | H21: =SUM(D21:G21) -> 0
... A23: C.- Difusió | C23: 5000 | H23: =SUM(D23:G23) -> 0
A24: TOTAL DESPESES FUNCIONAMENT | C24: =C2+C9+C23 -> 142715 | D24: =D2+D9+D23 -> 0 | E24: =E2+E9+E23 -> 0 | F24: =F2+F9+F23 -> 0 | G24: =G2+G9+G23 -> 0 | H24: =SUM(D24:G24) -> 0
A26: D.- Serveis | C26: =C27+C28+C32+C33+C34+C35+C36+C37 -> 46300 | D26: =D27+D28+D32+D33+D34+D35+D36+D37 -> 0 | E26: =E27+E28+E32+E33+E34+E35+E36+E37 -> 0 | F26: =F27+F28+F32+F33+F34+F35+F36+F37 -> 0 | G26: =G27+G28+G32+G33+G34+G35+G36+G37 -> 0 | H26: =SUM(D26:G26) -> 0
A27: D.1.- Servei d'Activitats Formatives | C27: 25500 | H27: =SUM(D27:G27) -> 0
A28: D.2.- Difusió i divulgació cultural | C28: =SUM(C29:C31) -> 15800 | H28: =SUM(D28:G28) -> 0
B29: D.2.1.-Actuacions musicals | C29: 5500 | H29: =SUM(D29:G29) -> 0
B30: D.2.2.-Arts escéniques | C30: 7800 | H30: =SUM(D30:G30) -> 0
B31: D.2.3.-Audiovisuals | C31: 2500 | H31: =SUM(D31:G31) -> 0
A32: D.3.- Servei d'exposicions | C32: 1000 | H32: =SUM(D32:G32) -> 0
A33: D.4.- Servei de seminaris, debats i conferències | C33: 1500 | H33: =SUM(D33:G33) -> 0
A34: D.5.- Servei de cessió i lloguers d'espai | C34: 500 | H34: =SUM(D34:G34) -> 0
A35: D.6.- Servei de suport a grups i entitats | C35: 500 | H35: =SUM(D35:G35) -> 0
A36: D.7.- Servei de festes i tradicions | C36: 1000 | H36: =SUM(D36:G36) -> 0
A37: D.8.- Servei de suport a la creació | C37: 500 | H37: =SUM(D37:G37) -> 0
A38: E.- Projectes Centre cívic | C38: =SUM(C39:C41) -> 6000 | D38: =SUM(D39:D41) -> 0 | E38: =SUM(E39:E41) -> 0 | F38: =SUM(F39:F41) -> 0 | G38: =SUM(G39:G41) -> 0 | H38: =SUM(H39:H41) -> 0
A39: E.1.- Cultura i Educació | C39: 2000 | H39: =SUM(D39:G39) -> 0
A40: E.2.- Projecte de creació artística comunitaria | C40: 2000 | H40: =SUM(D40:G40) -> 0
A41: E.3.- Projecte singular de joc | C41: 2000 | H41: =SUM(D41:G41) -> 0
A42: TOTAL DESPESES ACTIVITAT | C42: =C38+C26 -> 52300 | D42: =D38+D26 -> 0 | E42: =E38+E26 -> 0 | F42: =F38+F26 -> 0 | G42: =G38+G26 -> 0 | H42: =SUM(D42:G42) -> 0
A44: TOTAL DESPESES OPERACIONALS | C44: =C24+C42 -> 195015 | D44: =D24+D42 -> 0 | E44: =E24+E42 -> 0 | F44: =F24+F42 -> 0 | G44: =G24+G42 -> 0 | H44: =SUM(D44:G44) -> 0
A46: H.- DESPESES D'ESTRUCTURA (+4%) | C46: =ROUND(C44*0.04,2) -> 7800.6 | D46: =ROUND(D44*0.04,2) -> 0 | E46: =ROUND(E44*0.04,2) -> 0 | F46: =ROUND(F44*0.04,2) -> 0 | G46: =ROUND(G44*0.04,2) -> 0 | H46: =SUM(D46:G46) -> 0
A47: I.- DESPESES DE GESTIÓ (+4%) | C47: =ROUND((C44+C46)*0.04,2) -> 8112.62 | D47: =ROUND((D44+D46)*0.04,2) -> 0 | E47: =ROUND((E44+E46)*0.04,2) -> 0 | F47: =ROUND((F44+F46)*0.04,2) -> 0 | G47: =ROUND((G44+G46)*0.04,2) -> 0 | H47: =SUM(D47:G47) -> 0
A49: SUBTOTAL DESPESES | C49: =C44+C47+C46 -> 210928.22 | D49: =D44+D47+D46 -> 0 | E49: =E44+E47+E46 -> 0 | F49: =F44+F47+F46 -> 0 | G49: =G44+G47+G46 -> 0 | H49: =SUM(D49:G49) -> 0
A50: IVA 21% | C50: =ROUND(C49*21%,2) -> 44294.93 | D50: =ROUND(D49*21%,2) -> 0 | E50: =ROUND(E49*21%,2) -> 0 | F50: =ROUND(F49*21%,2) -> 0 | G50: =ROUND(G49*21%,2) -> 0 | H50: =SUM(D50:G50) -> 0
A52: TOTAL DESPESES | C52: =SUM(C49:C50) -> 255223.15 | D52: =SUM(D49:D50) -> 0 | E52: =SUM(E49:E50) -> 0 | F52: =SUM(F49:F50) -> 0 | G52: =SUM(G49:G50) -> 0 | H52: =SUM(D52:G52) -> 0
A53: MODIFICACIONS DE CONTRACTE | C53: 0 | D53: 0 | E53: 0 | F53: 0 | G53: 0 | H53: =SUM(D53:G53) -> 0

Sheet Lot 1 CGG Castello
A1: DESPESES | C1: 2025 | D1: 2025 (1/5/2025 al 31/12/2025) | E1: 2026 | F1: 2027 | G1: PRÒRROGA 2028 | H1: TOTAL
A2: A.- Personal | C2: =C3 -> 113760.75 | D2: =D3 -> 0 | E2: =E3 -> 0 | F2: =F3 -> 0 | G2: =G3 -> 0 | H2: =SUM(D2:G2) -> 0
A3: Equipament CGG Can Castelló | C3: =SUM(C4:C8) -> 113760.75 | D3: =SUM(D4:D8) -> 0 | E3: =SUM(E4:E8) -> 0 | F3: =SUM(F4:F8) -> 0 | G3: =SUM(G4:G8) -> 0 | H3: =SUM(D3:G3) -> 0
A4: A.6.- Direcció (37,5h) | C4: =ROUND(25500*1.05,2) -> 26775 | H4: =SUM(D4:G4) -> 0
A5: A.7.- Animació (18,75h) | C5: =ROUND((22000*18.75/37.5),2) -> 11000 | H5: =SUM(D5:G5) -> 0
A6: A.8.- Informació (75h) | C6: =ROUND((22000*2),2) -> 44000 | H6: =SUM(D6:G6) -> 0
A7: A.9.- Seguretat Social | C7: =ROUND((C4+C5+C6)*0.33,2) -> 26985.75 | H7: =SUM(D7:G7) -> 0
A8: A.10.- Suplències | C8: 5000 | H8: =SUM(D8:G8) -> 0
A9: B.- Despeses generals | C9: =SUM(C10:C22) -> 29150 | D9: =SUM(D10:D22) -> 0 | E9: =SUM(E10:E22) -> 0 | F9: =SUM(F10:F22) -> 0 | G9: =SUM(G10:G22) -> 0 | H9: =SUM(D9:G9) -> 0
A10: B.1.- Material oficina | C10: 750 | H10: =SUM(D10:G10) -> 0
A11: B.2.- Compra material i petita inversió | C11: 750 | H11: =SUM(D11:G11) -> 0
A12: B.3.- Reparacions i Petit Manteniment | C12: 3500 | H12: =SUM(D12:G12) -> 0
A13: B.4.- Manteniment informàtic | C13: 1000 | H13: =SUM(D13:G13) -> 0
A14: B.5.- Primes d'Assegurances | C14: 500 | H14: =SUM(D14:G14) -> 0
A15: B.6.- Subministraments | C15: 0 | H15: =SUM(D15:G15) -> 0
A16: B.7.- Arrendaments i canons | C16: 700 | H16: =SUM(D16:G16) -> 0
A17: B.8.- Neteja | C17: 20000 | H17: =SUM(D17:G17) -> 0
A18: B.9.- Serveis professionals independents | C18: 100 | H18: =SUM(D18:G18) -> 0
A19: B.10.- Transports | C19: 100 | H19: =SUM(D19:G19) -> 0
A20: B.11.- Despeses Bancàries | C20: 750 | H20: =SUM(D20:G20) -> 0
A21: B.12.- Tributs i Taxes | C21: 0 | H21: =SUM(D21:G21) -> 0
... A23: C.- Difusió | C23: 3000 | H23: =SUM(D23:G23) -> 0
A24: TOTAL DESPESES FUNCIONAMENT | C24: =C2+C9+C23 -> 145910.75 | D24: =D2+D9+D23 -> 0 | E24: =E2+E9+E23 -> 0 | F24: =F2+F9+F23 -> 0 | G24: =G2+G9+G23 -> 0 | H24: =SUM(D24:G24) -> 0
A26: F.- Cursos i tallers | C26: =SUM(C27:C28) -> 52125 | D26: =SUM(D27:D28) -> 0 | E26: =SUM(E27:E28) -> 0 | F26: =SUM(F27:F28) -> 0 | G26: =SUM(G27:G28) -> 0 | H26: =SUM(D26:G26) -> 0
A27: F.1.- Cursos i Tallers | C27: 48625 | H27: =SUM(D27:G27) -> 0
A28: F.2.- Activitats puntuals i Difusió cultural | C28: 3500 | H28: =SUM(D28:G28) -> 0
A29: TOTAL DESPESES ACTIVITAT | C29: =C26 -> 52125 | D29: =D26 -> 0 | E29: =E26 -> 0 | F29: =F26 -> 0 | G29: =G26 -> 0 | H29: =SUM(D29:G29) -> 0
A31: TOTAL DESPESES OPERACIONALS | C31: =C24+C29 -> 198035.75 | D31: =D24+D29 -> 0 | E31: =E24+E29 -> 0 | F31: =F24+F29 -> 0 | G31: =G24+G29 -> 0 | H31: =SUM(D31:G31) -> 0
A33: H.- DESPESES D'ESTRUCTURA (+4%) | C33: =ROUND(C31*0.04,2) -> 7921.43 | D33: =ROUND(D31*0.04,2) -> 0 | E33: =ROUND(E31*0.04,2) -> 0 | F33: =ROUND(F31*0.04,2) -> 0 | G33: =ROUND(G31*0.04,2) -> 0 | H33: =SUM(D33:G33) -> 0
A34: I.- DESPESES DE GESTIÓ (+4%) | C34: =ROUND((C31+C33)*0.04,2) -> 8238.29 | D34: =ROUND((D31+D33)*0.04,2) -> 0 | E34: =ROUND((E31+E33)*0.04,2) -> 0 | F34: =ROUND((F31+F33)*0.04,2) -> 0 | G34: =ROUND((G31+G33)*0.04,2) -> 0 | H34: =SUM(D34:G34) -> 0
A36: SUBTOTAL DESPESES | C36: =C31+C34+C33 -> 214195.47 | D36: =D31+D34+D33 -> 0 | E36: =E31+E34+E33 -> 0 | F36: =F31+F34+F33 -> 0 | G36: =G31+G34+G33 -> 0 | H36: =SUM(D36:G36) -> 0
A37: IVA 21% | C37: =ROUND(C36*21%,2) -> 44981.05 | D37: =ROUND(D36*21%,2) -> 0 | E37: =ROUND(E36*21%,2) -> 0 | F37: =ROUND(F36*21%,2) -> 0 | G37: =ROUND(G36*21%,2) -> 0 | H37: =SUM(D37:G37) -> 0
A39: TOTAL DESPESES | C39: =SUM(C36:C37) -> 259176.52 | D39: =SUM(D36:D37) -> 0 | E39: =SUM(E36:E37) -> 0 | F39: =SUM(F36:F37) -> 0 | G39: =SUM(G36:G37) -> 0 | H39: =SUM(D39:G39) -> 0
A40: MODIFICACIONS DE CONTRACTE | C40: 0 | D40: 0 | E40: 0 | F40: 0 | G40: 0 | H40: =SUM(D40:G40) -> 0

Sheet Lot 1 CGG Fabregas
A1: DESPESES | C1: 2025 | D1: 2025 (1/5/2025 al 31/12/2025) | E1: 2026 | F1: 2027 | G1: PRÒRROGA 2028 | H1: TOTAL
A2: A.- Personal | C2: =C3 -> 113986 | D2: =D3 -> 0 | E2: =E3 -> 0 | F2: =F3 -> 0 | G2: =G3 -> 0 | H2: =SUM(D2:G2) -> 0
A3: Equipament CGG Can Fàbregas | C3: =SUM(C4:C8) -> 113986 | D3: =SUM(D4:D8) -> 0 | E3: =SUM(E4:E8) -> 0 | F3: =SUM(F4:F8) -> 0 | G3: =SUM(G4:G8) -> 0 | H3: =SUM(D3:G3) -> 0
A4: A.11.- Direcció (37,5h) | C4: 29200 | H4: =SUM(D4:G4) -> 0
A5: A.12.- Animació (18'75h) | C5: =ROUND(22000*18.75/37.5,2) -> 11000 | H5: =SUM(D5:G5) -> 0
A6: A.13.- Informació (75h) | C6: =22000*2 -> 44000 | H6: =SUM(D6:G6) -> 0
A7: A.14.- Seguretat Social | C7: =ROUND((C4+C6+C5)*0.33,2) -> 27786 | H7: =SUM(D7:G7) -> 0
A8: A.15.- Suplències | C8: 2000 | H8: =SUM(D8:G8) -> 0
A9: B.- Despeses generals | C9: =SUM(C10:C22) -> 30650 | D9: =SUM(D10:D22) -> 0 | E9: =SUM(E10:E22) -> 0 | F9: =SUM(F10:F22) -> 0 | G9: =SUM(G10:G22) -> 0 | H9: =SUM(D9:G9) -> 0
A10: B.1.- Material oficina | C10: 1000 | H10: =SUM(D10:G10) -> 0
A11: B.2.- Compra material i petita inversió | C11: 500 | H11: =SUM(D11:G11) -> 0
A12: B.3.- Reparacions i Petit Manteniment | C12: 4500 | H12: =SUM(D12:G12) -> 0
A13: B.4.- Primes d'Assegurances | C13: 500 | H13: =SUM(D13:G13) -> 0
A14: B.5.- Manteniment informàtic | C14: 1000 | H14: =SUM(D14:G14) -> 0
A15: B.6.- Subministraments | C15: 0 | H15: =SUM(D15:G15) -> 0
A16: B.7.- Arrendaments i canons | C16: 1300 | H16: =SUM(D16:G16) -> 0
A17: B.8.- Neteja | C17: 20000 | H17: =SUM(D17:G17) -> 0
A18: B.9.- Serveis professionals independents | C18: 0 | H18: =SUM(D18:G18) -> 0
A19: B.10.- Transports | C19: 100 | H19: =SUM(D19:G19) -> 0
A20: B.11.- Despeses Bancàries | C20: 750 | H20: =SUM(D20:G20) -> 0
A21: B.12.- Tributs i Taxes | C21: 0 | H21: =SUM(D21:G21) -> 0
... A23: C.- Difusió | C23: 3000 | H23: =SUM(D23:G23) -> 0
A24: TOTAL DESPESES FUNCIONAMENT | C24: =C2+C9+C23 -> 147636 | D24: =D2+D9+D23 -> 0 | E24: =E2+E9+E23 -> 0 | F24: =F2+F9+F23 -> 0 | G24: =G2+G9+G23 -> 0 | H24: =SUM(D24:G24) -> 0
A26: F.- Cursos i tallers | C26: =SUM(C27:C28) -> 34680 | D26: =SUM(D27:D28) -> 0 | E26: =SUM(E27:E28) -> 0 | F26: =SUM(F27:F28) -> 0 | G26: =SUM(G27:G28) -> 0 | H26: =SUM(D26:G26) -> 0
A27: F.1.- Cursos i Tallers | C27: 31180 | H27: =SUM(D27:G27) -> 0
A28: F.2.- Activitats puntuals i Difusió cultural | C28: 3500 | H28: =SUM(D28:G28) -> 0
A29: TOTAL DESPESES ACTIVITAT | C29: =C26 -> 34680 | D29: =D26 -> 0 | E29: =E26 -> 0 | F29: =F26 -> 0 | G29: =G26 -> 0 | H29: =SUM(D29:G29) -> 0
A31: TOTAL DESPESES OPERACIONALS | C31: =C24+C29 -> 182316 | D31: =D24+D29 -> 0 | E31: =E24+E29 -> 0 | F31: =F24+F29 -> 0 | G31: =G24+G29 -> 0 | H31: =SUM(D31:G31) -> 0
A33: H.- DESPESES D'ESTRUCTURA (+4%) | C33: =ROUND(C31*0.04,2) -> 7292.64 | D33: =ROUND(D31*0.04,2) -> 0 | E33: =ROUND(E31*0.04,2) -> 0 | F33: =ROUND(F31*0.04,2) -> 0 | G33: =ROUND(G31*0.04,2) -> 0 | H33: =SUM(D33:G33) -> 0
A34: I.- DESPESES DE GESTIÓ (+4%) | C34: =ROUND((C31+C33)*0.04,2) -> 7584.35 | D34: =ROUND((D31+D33)*0.04,2) -> 0 | E34: =ROUND((E31+E33)*0.04,2) -> 0 | F34: =ROUND((F31+F33)*0.04,2) -> 0 | G34: =ROUND((G31+G33)*0.04,2) -> 0 | H34: =SUM(D34:G34) -> 0
A36: SUBTOTAL DESPESES | C36: =C31+C34+C33 -> 197192.99 | D36: =D31+D34+D33 -> 0 | E36: =E31+E34+E33 -> 0 | F36: =F31+F34+F33 -> 0 | G36: =G31+G34+G33 -> 0 | H36: =SUM(D36:G36) -> 0
A37: IVA 21% | C37: =ROUND(C36*21%,2) -> 41410.53 | D37: =ROUND(D36*21%,2) -> 0 | E37: =ROUND(E36*21%,2) -> 0 | F37: =ROUND(F36*21%,2) -> 0 | G37: =ROUND(G36*21%,2) -> 0 | H37: =SUM(D37:G37) -> 0
A39: TOTAL DESPESES | C39: =SUM(C36:C37) -> 238603.52 | D39: =SUM(D36:D37) -> 0 | E39: =SUM(E36:E37) -> 0 | F39: =SUM(F36:F37) -> 0 | G39: =SUM(G36:G37) -> 0 | H39: =SUM(D39:G39) -> 0
A40: MODIFICACIONS DE CONTRACTE | C40: 0 | D40: 0 | E40: 0 | F40: 0 | G40: 0 | H40: =SUM(D40:G40) -> 0

Sheet Lot 1 CGG Ildefons
A1: DESPESES | C1: 2025 | D1: 2025 (1/5/2025 al 31/12/2025) | E1: 2026 | F1: 2027 | G1: PRÒRROGA 2028 | H1: TOTAL
A2: A.- Personal | C2: =C3 -> 65870.75 | D2: =D3 -> 0 | E2: =E3 -> 0 | F2: =F3 -> 0 | G2: =G3 -> 0 | H2: =SUM(D2:G2) -> 0
A3: Equipament CGG Sant Ildefons | C3: =SUM(C4:C7) -> 65870.75 | D3: =SUM(D4:D7) -> 0 | E3: =SUM(E4:E7) -> 0 | F3: =SUM(F4:F7) -> 0 | G3: =SUM(G4:G7) -> 0 | H3: =SUM(D3:G3) -> 0
A4: A.16.- Direcció (37,5h) | C4: 26775 | H4: =SUM(D4:G4) -> 0
A5: A.17.- Informació (37,5h) | C5: 22000 | H5: =SUM(D5:G5) -> 0
A6: A.18.- Seguretat Social | C6: =ROUND((C4+C5)*0.33,2) -> 16095.75 | H6: =SUM(D6:G6) -> 0
A7: A.19.- Suplències | C7: 1000 | H7: =SUM(D7:G7) -> 0
A8: B.- Despeses generals | C8: =SUM(C9:C21) -> 16650 | D8: =SUM(D9:D21) -> 0 | E8: =SUM(E9:E21) -> 0 | F8: =SUM(F9:F21) -> 0 | G8: =SUM(G9:G21) -> 0 | H8: =SUM(D8:G8) -> 0
A9: B.1.- Material oficina | C9: 1000 | H9: =SUM(D9:G9) -> 0
A10: B.2.- Compra material i petita inversió | C10: 500 | H10: =SUM(D10:G10) -> 0
A11: B.3.- Reparacions i Petit Manteniment | C11: 2000 | H11: =SUM(D11:G11) -> 0
A12: B.4.- Primes d'Assegurances | C12: 500 | H12: =SUM(D12:G12) -> 0
A13: B.5.- Manteniment informàtic | C13: 1000 | H13: =SUM(D13:G13) -> 0
A14: B.6.- Subministraments | C14: 0 | H14: 0
A15: B.7.- Arrendaments i canons | C15: 200 | H15: =SUM(D15:G15) -> 0
A16: B.8.- Neteja | C16: 9000 | H16: =SUM(D16:G16) -> 0
A17: B.9.- Serveis professionals independents | C17: 500 | H17: =SUM(D17:G17) -> 0
A18: B.10.- Transports | C18: 200 | H18: =SUM(D18:G18) -> 0
A19: B.11.- Despeses Bancàries | C19: 750 | H19: =SUM(D19:G19) -> 0
A20: B.12.- Tributs i Taxes | C20: 0 | H20: =SUM(D20:G20) -> 0
A21: B.13.- Altres despeses | C21: 1000 | H21: =SUM(D21:G21) -> 0
A22: C.- Difusió | C22: 1000 | H22: =SUM(D22:G22) -> 0
A23: TOTAL DESPESES FUNCIONAMENT | C23: =C2+C8+C22 -> 83520.75 | D23: =D2+D8+D22 -> 0 | E23: =E2+E8+E22 -> 0 | F23: =F2+F8+F22 -> 0 | G23: =G2+G8+G22 -> 0 | H23: =SUM(D23:G23) -> 0
A25: F.- Cursos i tallers | C25: =SUM(C26:C28) -> 35950 | D25: =SUM(D26:D28) -> 0 | E25: =SUM(E26:E28) -> 0 | F25: =SUM(F26:F28) -> 0 | G25: =SUM(G26:G28) -> 0 | H25: =SUM(D25:G25) -> 0
A26: F.1.- Cursos i Tallers | C26: 32700 | H26: =SUM(D26:G26) -> 0
A27: F.2.- Activitats puntuals i Difusió cultural | C27: 3000 | H27: =SUM(D27:G27) -> 0
A28: F.3.- Servei d'exposicions | C28: 250 | H28: =SUM(D28:G28) -> 0
A29: TOTAL DESPESES ACTIVITAT | C29: =C25+C28 -> 36200 | D29: =D25 -> 0 | E29: =E25 -> 0 | F29: =F25 -> 0 | G29: =G25 -> 0 | H29: =SUM(D29:G29) -> 0
A31: TOTAL DESPESES OPERACIONALS | C31: =C23+C29 -> 119720.75 | D31: =D23+D29 -> 0 | E31: =E23+E29 -> 0 | F31: =F23+F29 -> 0 | G31: =G23+G29 -> 0 | H31: =SUM(D31:G31) -> 0
A33: H.- DESPESES D'ESTRUCTURA (+4%) | C33: =ROUND(C31*0.04,2) -> 4788.83 | D33: =ROUND(D31*0.04,2) -> 0 | E33: =ROUND(E31*0.04,2) -> 0 | F33: =ROUND(F31*0.04,2) -> 0 | G33: =ROUND(G31*0.04,2) -> 0 | H33: =SUM(D33:G33) -> 0
A34: I.- DESPESES DE GESTIÓ (+4%) | C34: =ROUND((C31+C33)*0.04,2) -> 4980.38 | D34: =ROUND((D31+D33)*0.04,2) -> 0 | E34: =ROUND((E31+E33)*0.04,2) -> 0 | F34: =ROUND((F31+F33)*0.04,2) -> 0 | G34: =ROUND((G31+G33)*0.04,2) -> 0 | H34: =SUM(D34:G34) -> 0
A36: SUBTOTAL DESPESES | C36: =C31+C34+C33 -> 129489.96 | D36: =D31+D34+D33 -> 0 | E36: =E31+E34+E33 -> 0 | F36: =F31+F34+F33 -> 0 | G36: =G31+G34+G33 -> 0 | H36: =SUM(D36:G36) -> 0
A37: IVA 21% | C37: =ROUND(C36*21%,2) -> 27192.89 | D37: =ROUND(D36*21%,2) -> 0 | E37: =ROUND(E36*21%,2) -> 0 | F37: =ROUND(F36*21%,2) -> 0 | G37: =ROUND(G36*21%,2) -> 0 | H37: =SUM(D37:G37) -> 0
A39: TOTAL DESPESES | C39: =C36+C37 -> 156682.85 | D39: =D36+D37 -> 0 | E39: =E36+E37 -> 0 | F39: =F36+F37 -> 0 | G39: =G36+G37 -> 0 | H39: =SUM(D39:G39) -> 0
A40: MODIFICACIONS DE CONTRACTE | C40: 0 | D40: 0 | E40: 0 | F40: 0 | G40: 0 | H40: =SUM(D40:G40) -> 0

Sheet Lot 1 Programa
A1: DESPESES | C1: 2025 | D1: 2025 (1/5/2025 al 31/12/2025) | E1: 2026 | F1: 2027 | G1: PRÒRROGA 2028 | H1: TOTAL
A2: A.- Personal | C2: =C3 -> 53216.08 | D2: =D3 -> 0 | E2: =E3 -> 0 | F2: =F3 -> 0 | G2: =G3 -> 0 | H2: =SUM(D2:G2) -> 0
A3: Programa de dinamització de gent gran | C3: =SUM(C4:C7) -> 53216.08 | D3: =SUM(D4:D7) -> 0 | E3: =SUM(E4:E7) -> 0 | F3: =SUM(F4:F7) -> 0 | G3: =SUM(G4:G7) -> 0 | H3: =SUM(D3:G3) -> 0
A4: A.20.- Direcció (37,5h) | C4: 26775 | H4: =SUM(D4:G4) -> 0
A5: A.21.- Animació (20h) | C5: =ROUND((22000*20/37.5),2) -> 11733.33 | H5: =SUM(D5:G5) -> 0
A6: A.22.- Seguretat Social | C6: =ROUND((C4+C5)*0.33,2) -> 12707.75 | H6: =SUM(D6:G6) -> 0
A7: A.23.- Suplències | C7: 2000 | H7: =SUM(D7:G7) -> 0
A8: B.- Despeses generals | C8: =SUM(C9:C21) -> 2200 | D8: =SUM(D9:D21) -> 0 | E8: =SUM(E9:E21) -> 0 | F8: =SUM(F9:F21) -> 0 | G8: =SUM(G9:G21) -> 0 | H8: =SUM(D8:G8) -> 0
A9: B.1.- Material oficina | C9: 100 | H9: =SUM(D9:G9) -> 0
A10: B.2.- Compra material i petita inversió | C10: 100 | H10: =SUM(D10:G10) -> 0
A11: B.3.- Reparacions i Petit Manteniment | C11: 0 | H11: =SUM(D11:G11) -> 0
A12: B.4.- Primes d'Assegurances | C12: 0 | H12: =SUM(D12:G12) -> 0
A13: B.5.- Manteniment informàtic | C13: 0 | H13: =SUM(D13:G13) -> 0
A14: B.6.- Subministraments | C14: 0 | H14: =SUM(D14:G14) -> 0
A15: B.7.- Arrendaments i canons | C15: 0 | H15: =SUM(D15:G15) -> 0
A16: B.8.- Neteja | C16: 0 | H16: =SUM(D16:G16) -> 0
A17: B.9.- Serveis professionals independents | C17: 0 | H17: =SUM(D17:G17) -> 0
A18: B.10.- Transports | C18: 250 | H18: =SUM(D18:G18) -> 0
A19: B.11.- Despeses Bancàries | C19: 750 | H19: =SUM(D19:G19) -> 0
A20: B.12.- Tributs i Taxes | C20: 0 | H20: =SUM(D20:G20) -> 0
... A22: C.- Difusió | C22: 500 | H22: =SUM(D22:G22) -> 0
A23: TOTAL DESPESES FUNCIONAMENT | C23: =C2+C8+C22 -> 55916.08 | D23: =D2+D8+D22 -> 0 | E23: =E2+E8+E22 -> 0 | F23: =F2+F8+F22 -> 0 | G23: =G2+G8+G22 -> 0 | H23: =SUM(D23:G23) -> 0
A25: F.- Cursos i tallers | C25: =SUM(C26:C27) -> 7000 | D25: =SUM(D26:D27) -> 0 | E25: =SUM(E26:E27) -> 0 | F25: =SUM(F26:F27) -> 0 | G25: =SUM(G26:G27) -> 0 | H25: =SUM(D25:G25) -> 0
A26: F.1.- Cursos i Tallers | C26: 0 | H26: =SUM(D26:G26) -> 0
A27: F.2.- Activitats puntuals i Difusió cultural | C27: 7000 | H27: =SUM(D27:G27) -> 0
A28: G.- Exposicions i cessions d'espais | C28: 0 | D28: =ROUND((C28/12)*8,2) -> 0 | E28: =ROUND(C28*1,2) -> 0 | F28: =ROUND(E28*1,2) -> 0 | G28: =F28 -> 0 | H28: =SUM(D28:G28) -> 0
A29: TOTAL DESPESES ACTIVITAT | C29: =C25+C28 -> 7000 | D29: =D25+D28 -> 0 | E29: =E25+E28 -> 0 | F29: =F25+F28 -> 0 | G29: =G25+G28 -> 0 | H29: =SUM(D29:G29) -> 0
A31: TOTAL DESPESES OPERACIONALS | C31: =C23+C29 -> 62916.08 | D31: =D23+D29 -> 0 | E31: =E23+E29 -> 0 | F31: =F23+F29 -> 0 | G31: =G23+G29 -> 0 | H31: =SUM(D31:G31) -> 0
A33: G.- DESPESES D'ESTRUCTURA (+4%) | C33: =ROUND(C31*0.04,2) -> 2516.64 | D33: =ROUND(D31*0.04,2) -> 0 | E33: =ROUND(E31*0.04,2) -> 0 | F33: =ROUND(F31*0.04,2) -> 0 | G33: =ROUND(G31*0.04,2) -> 0 | H33: =SUM(D33:G33) -> 0
A34: H.- DESPESES DE GESTIÓ (+4%) | C34: =ROUND((C31+C33)*0.04,2) -> 2617.31 | D34: =ROUND((D31+D33)*0.04,2) -> 0 | E34: =ROUND((E31+E33)*0.04,2) -> 0 | F34: =ROUND((F31+F33)*0.04,2) -> 0 | G34: =ROUND((G31+G33)*0.04,2) -> 0 | H34: =SUM(D34:G34) -> 0
A36: SUBTOTAL DESPESES | C36: =C31+C34+C33 -> 68050.03 | D36: =D31+D34+D33 -> 0 | E36: =E31+E34+E33 -> 0 | F36: =F31+F34+F33 -> 0 | G36: =G31+G34+G33 -> 0 | H36: =SUM(D36:G36) -> 0
A37: IVA 21% | C37: =ROUND(C36*21%,2) -> 14290.51 | D37: =ROUND(D36*21%,2) -> 0 | E37: =ROUND(E36*21%,2) -> 0 | F37: =ROUND(F36*21%,2) -> 0 | G37: =ROUND(G36*21%,2) -> 0 | H37: =SUM(D37:G37) -> 0
A39: TOTAL DESPESES | C39: =C36+C37 -> 82340.54 | D39: =D36+D37 -> 0 | E39: =E36+E37 -> 0 | F39: =F36+F37 -> 0 | G39: =G36+G37 -> 0 | H39: =SUM(D39:G39) -> 0
A40: MODIFICACIONS DE CONTRACTE | C40: 0 | D40: 0 | E40: 0 | F40: 0 | G40: 0 | H40: =SUM(D40:G40) -> 0
