Workbook
Name _ftn1: 'Total Lot 2'!$J$43
Name _ftn2: 'Total Lot 2'!#REF!
Name _ftnref1: 'Total Lot 2'!$J$37
Name _ftnref2: 'Total Lot 2'!#REF!

Sheet Total Lot 2
A1: DESPESES | C1: 2025 | D1: 2026 | E1: 2027 | F1: PRÒRROGA 2028 | G1: TOTALS
A2: A.- Personal | C2: =C3+C13 -> 0 | D2: =D3+D13 -> 0 | E2: =E3+E13 -> 0 | F2: =F3+F13 -> 0 | G2: =SUM(C2:F2) -> 0
A3: Espai Jove | C3: ='Lot 2 EJ'!C2 -> 0 | D3: ='Lot 2 EJ'!D2 -> 0 | E3: ='Lot 2 EJ'!E2 -> 0 | F3: ='Lot 2 EJ'!F2 -> 0 | G3: =SUM(C3:F3) -> 0
A4: ='Lot 2 EJ'!A3 -> A.1.- Direcció (37,5h) | C4: ='Lot 2 EJ'!C3 -> 0 | D4: ='Lot 2 EJ'!D3 -> 0 | E4: ='Lot 2 EJ'!E3 -> 0 | F4: ='Lot 2 EJ'!F3 -> 0 | G4: =SUM(C4:F4) -> 0
A5: ='Lot 2 EJ'!A4 -> A.2.- Direcció de programes (75h) | C5: ='Lot 2 EJ'!C4 -> 0 | D5: ='Lot 2 EJ'!D4 -> 0 | E5: ='Lot 2 EJ'!E4 -> 0 | F5: ='Lot 2 EJ'!F4 -> 0 | G5: =SUM(C5:F5) -> 0
A6: ='Lot 2 EJ'!A5 -> A.3.- Coordinació de projectes (75h) | C6: ='Lot 2 EJ'!C5 -> 0 | D6: ='Lot 2 EJ'!D5 -> 0 | E6: ='Lot 2 EJ'!E5 -> 0 | F6: ='Lot 2 EJ'!F5 -> 0 | G6: =SUM(C6:F6) -> 0
A7: ='Lot 2 EJ'!A6 -> A.4.- Animació sociocultural (20h) | C7: ='Lot 2 EJ'!C6 -> 0 | D7: ='Lot 2 EJ'!D6 -> 0 | E7: ='Lot 2 EJ'!E6 -> 0 | F7: ='Lot 2 EJ'!F6 -> 0 | G7: =SUM(C7:F7) -> 0
A8: ='Lot 2 EJ'!A7 -> A.5.- Informació (75h) | C8: ='Lot 2 EJ'!C7 -> 0 | D8: ='Lot 2 EJ'!D7 -> 0 | E8: ='Lot 2 EJ'!E7 -> 0 | F8: ='Lot 2 EJ'!F7 -> 0 | G8: =SUM(C8:F8) -> 0
A9: ='Lot 2 EJ'!A8 -> A.6.- Tècnic/a de producció (37,5h) | C9: ='Lot 2 EJ'!C8 -> 0 | D9: ='Lot 2 EJ'!D8 -> 0 | E9: ='Lot 2 EJ'!E8 -> 0 | F9: ='Lot 2 EJ'!F8 -> 0 | G9: =SUM(C9:F9) -> 0
A10: ='Lot 2 EJ'!A9 -> A.7.- Administració (37,5h) | C10: ='Lot 2 EJ'!C9 -> 0 | D10: ='Lot 2 EJ'!D9 -> 0 | E10: ='Lot 2 EJ'!E9 -> 0 | F10: ='Lot 2 EJ'!F9 -> 0 | G10: =SUM(C10:F10) -> 0
A11: ='Lot 2 EJ'!A10 -> A.8.- Seguretat Social | C11: ='Lot 2 EJ'!C10 -> 0 | D11: ='Lot 2 EJ'!D10 -> 0 | E11: ='Lot 2 EJ'!E10 -> 0 | F11: ='Lot 2 EJ'!F10 -> 0 | G11: =SUM(C11:F11) -> 0
A12: ='Lot 2 EJ'!A11 -> A.9.- Suport i suplències | C12: ='Lot 2 EJ'!C11 -> 0 | D12: ='Lot 2 EJ'!D11 -> 0 | E12: ='Lot 2 EJ'!E11 -> 0 | F12: ='Lot 2 EJ'!F11 -> 0 | G12: =SUM(C12:F12) -> 0
A13: Servei Joves de Sarrià - Sant Gervasi | C13: ='Lot 2 SJ'!C2 -> 0 | D13: ='Lot 2 SJ'!D2 -> 0 | E13: ='Lot 2 SJ'!E2 -> 0 | F13: ='Lot 2 SJ'!F2 -> 0 | G13: =SUM(C13:F13) -> 0
A14: ='Lot 2 SJ'!A3 -> A.10.- Coordinació de projectes (37,5h) | C14: ='Lot 2 SJ'!C3 -> 0 | D14: ='Lot 2 SJ'!D3 -> 0 | E14: ='Lot 2 SJ'!E3 -> 0 | F14: ='Lot 2 SJ'!F3 -> 0 | G14: =SUM(C14:F14) -> 0
A15: ='Lot 2 SJ'!A4 -> A.11.- Informació juvenil (37,5h) | C15: ='Lot 2 SJ'!C4 -> 0 | D15: ='Lot 2 SJ'!D4 -> 0 | E15: ='Lot 2 SJ'!E4 -> 0 | F15: ='Lot 2 SJ'!F4 -> 0 | G15: =SUM(C15:F15) -> 0
A16: ='Lot 2 SJ'!A5 -> A.12.- Informació juvenil antic JIP (37,5h) | C16: ='Lot 2 SJ'!C5 -> 0 | D16: ='Lot 2 SJ'!D5 -> 0 | E16: ='Lot 2 SJ'!E5 -> 0 | F16: ='Lot 2 SJ'!F5 -> 0 | G16: =SUM(C16:F16) -> 0
A17: ='Lot 2 SJ'!A6 -> A.13.- Seguretat social | C17: ='Lot 2 SJ'!C6 -> 0 | D17: ='Lot 2 SJ'!D6 -> 0 | E17: ='Lot 2 SJ'!E6 -> 0 | F17: ='Lot 2 SJ'!F6 -> 0 | G17: =SUM(C17:F17) -> 0
A18: ='Lot 2 SJ'!A7 -> A.14.- Suport i suplències | C18: ='Lot 2 SJ'!C7 -> 0 | D18: ='Lot 2 SJ'!D7 -> 0 | E18: ='Lot 2 SJ'!E7 -> 0 | F18: ='Lot 2 SJ'!F7 -> 0 | G18: =SUM(C18:F18) -> 0
A19: B.- Despeses generals | C19: =SUM(C20:C32) -> 0 | D19: =SUM(D20:D32) -> 0 | E19: =SUM(E20:E32) -> 0 | F19: =SUM(F20:F32) -> 0 | G19: =SUM(C19:F19) -> 0
A20: B.1.- Material oficina i estructura | C20: ='Lot 2 EJ'!C13+'Lot 2 SJ'!C9 -> 0 | D20: ='Lot 2 EJ'!D13+'Lot 2 SJ'!D9 -> 0 | E20: ='Lot 2 EJ'!E13+'Lot 2 SJ'!E9 -> 0 | F20: ='Lot 2 EJ'!F13+'Lot 2 SJ'!F9 -> 0 | G20: =SUM(C20:F20) -> 0
A21: B.2.- Compra material i petita inversió | C21: ='Lot 2 EJ'!C14+'Lot 2 SJ'!C10 -> 0 | D21: ='Lot 2 EJ'!D14+'Lot 2 SJ'!D10 -> 0 | E21: ='Lot 2 EJ'!E14+'Lot 2 SJ'!E10 -> 0 | F21: ='Lot 2 EJ'!F14+'Lot 2 SJ'!F10 -> 0 | G21: =SUM(C21:F21) -> 0
A22: B.3.- Reparacions i Petit Manteniment | C22: ='Lot 2 EJ'!C15+'Lot 2 SJ'!C11 -> 0 | D22: ='Lot 2 EJ'!D15+'Lot 2 SJ'!D11 -> 0 | E22: ='Lot 2 EJ'!E15+'Lot 2 SJ'!E11 -> 0 | F22: ='Lot 2 EJ'!F15+'Lot 2 SJ'!F11 -> 0 | G22: =SUM(G20:G21) -> 0
A23: B.4.- Manteniment informàtic | C23: ='Lot 2 EJ'!C16+'Lot 2 SJ'!C12 -> 0 | D23: ='Lot 2 EJ'!D16+'Lot 2 SJ'!D12 -> 0 | E23: ='Lot 2 EJ'!E16+'Lot 2 SJ'!E12 -> 0 | F23: ='Lot 2 EJ'!F16+'Lot 2 SJ'!F12 -> 0 | G23: =SUM(C23:F23) -> 0
A24: B.5.- Primes d'Assegurances | C24: ='Lot 2 EJ'!C17+'Lot 2 SJ'!C13 -> 0 | D24: ='Lot 2 EJ'!D17+'Lot 2 SJ'!D13 -> 0 | E24: ='Lot 2 EJ'!E17+'Lot 2 SJ'!E13 -> 0 | F24: ='Lot 2 EJ'!F17+'Lot 2 SJ'!F13 -> 0 | G24: =SUM(C24:F24) -> 0
A25: B.6.- Subministraments | C25: ='Lot 2 EJ'!C18+'Lot 2 SJ'!C14 -> 0 | D25: ='Lot 2 EJ'!D18+'Lot 2 SJ'!D14 -> 0 | E25: ='Lot 2 EJ'!E18+'Lot 2 SJ'!E14 -> 0 | F25: ='Lot 2 EJ'!F18+'Lot 2 SJ'!F14 -> 0 | G25: =SUM(C25:F25) -> 0
A26: B.7.- Arrendaments i canons | C26: ='Lot 2 EJ'!C19+'Lot 2 SJ'!C15 -> 0 | D26: ='Lot 2 EJ'!D19+'Lot 2 SJ'!D15 -> 0 | E26: ='Lot 2 EJ'!E19+'Lot 2 SJ'!E15 -> 0 | F26: ='Lot 2 EJ'!F19+'Lot 2 SJ'!F15 -> 0 | G26: =C26+D26+E26+F26 -> 0
A27: B.8.- Neteja | C27: ='Lot 2 EJ'!C20+'Lot 2 SJ'!C16 -> 0 | D27: ='Lot 2 EJ'!D20+'Lot 2 SJ'!D16 -> 0 | E27: ='Lot 2 EJ'!E20+'Lot 2 SJ'!E16 -> 0 | F27: ='Lot 2 EJ'!F20+'Lot 2 SJ'!F16 -> 0 | G27: =SUM(C27:F27) -> 0
A28: B.9.- Serveis professionals independents | C28: ='Lot 2 EJ'!C21+'Lot 2 SJ'!C17 -> 0 | D28: ='Lot 2 EJ'!D21+'Lot 2 SJ'!D17 -> 0 | E28: ='Lot 2 EJ'!E21+'Lot 2 SJ'!E17 -> 0 | F28: ='Lot 2 EJ'!F21+'Lot 2 SJ'!F17 -> 0 | G28: =SUM(C28:F28) -> 0
A29: B.10.- Transports | C29: ='Lot 2 EJ'!C22+'Lot 2 SJ'!C18 -> 0 | D29: ='Lot 2 EJ'!D22+'Lot 2 SJ'!D18 -> 0 | E29: ='Lot 2 EJ'!E22+'Lot 2 SJ'!E18 -> 0 | F29: ='Lot 2 EJ'!F22+'Lot 2 SJ'!F18 -> 0 | G29: =SUM(C29:F29) -> 0
A30: B.11.- Despeses Bancàries | C30: ='Lot 2 EJ'!C23+'Lot 2 SJ'!C19 -> 0 | D30: ='Lot 2 EJ'!D23+'Lot 2 SJ'!D19 -> 0 | E30: ='Lot 2 EJ'!E23+'Lot 2 SJ'!E19 -> 0 | F30: ='Lot 2 EJ'!F23+'Lot 2 SJ'!F19 -> 0 | G30: =SUM(C30:F30) -> 0
A31: B.12.- Tributs i Taxes | C31: ='Lot 2 EJ'!C24+'Lot 2 SJ'!C20 -> 0 | D31: ='Lot 2 EJ'!D24+'Lot 2 SJ'!D20 -> 0 | E31: ='Lot 2 EJ'!E24+'Lot 2 SJ'!E20 -> 0 | F31: ='Lot 2 EJ'!F24+'Lot 2 SJ'!F20 -> 0 | G31: =SUM(C31:F31) -> 0
A32: B.13.- Altres despeses | C32: ='Lot 2 EJ'!C25+'Lot 2 SJ'!C21 -> 0 | D32: ='Lot 2 EJ'!D25+'Lot 2 SJ'!D21 -> 0 | E32: ='Lot 2 EJ'!E25+'Lot 2 SJ'!E21 -> 0 | F32: ='Lot 2 EJ'!F25+'Lot 2 SJ'!F21 -> 0 | G32: =SUM(C32:F32) -> 0
A33: C.- Difusió | C33: ='Lot 2 EJ'!C26+'Lot 2 SJ'!C22 -> 0 | D33: ='Lot 2 EJ'!D26+'Lot 2 SJ'!D22 -> 0 | E33: ='Lot 2 EJ'!E26+'Lot 2 SJ'!E22 -> 0 | F33: ='Lot 2 EJ'!F26+'Lot 2 SJ'!F22 -> 0 | G33: =SUM(C33:F33) -> 0
A34: TOTAL DESPESES FUNCIONAMENT | C34: =C2+C19+C33 -> 0 | D34: =D2+D19+D33 -> 0 | E34: =E2+E19+E33 -> 0 | F34: =F2+F19+F33 -> 0 | G34: =SUM(C34:F34) -> 0
A36: D.- Formació | C36: =SUM(C37:C37)+C38 -> 0 | D36: =SUM(D37:D37)+D38 -> 0 | E36: =SUM(E37:E37)+E38 -> 0 | F36: =SUM(F37:F37)+F38 -> 0 | G36: =SUM(C36:F36) -> 0
A37: D.1.- Cursos i Tallers | C37: ='Lot 2 EJ'!C30+'Lot 2 SJ'!C26 -> 0 | D37: ='Lot 2 EJ'!D30+'Lot 2 SJ'!D26 -> 0 | E37: ='Lot 2 EJ'!E30+'Lot 2 SJ'!E26 -> 0 | F37: ='Lot 2 EJ'!F30+'Lot 2 SJ'!F26 -> 0 | G37: =SUM(C37:F37) -> 0
A38: D.2.- Activitats puntuals | C38: ='Lot 2 EJ'!C33+'Lot 2 SJ'!C27 -> 0 | D38: ='Lot 2 EJ'!D33+'Lot 2 SJ'!D27 -> 0 | E38: ='Lot 2 EJ'!E33+'Lot 2 SJ'!E27 -> 0 | F38: ='Lot 2 EJ'!F33+'Lot 2 SJ'!F27 -> 0 | G38: =SUM(C38:F38) -> 0
A39: E.- Difusió i divulgació cultural | C39: ='Lot 2 EJ'!C44 -> 0 | D39: ='Lot 2 EJ'!D44 -> 0 | E39: ='Lot 2 EJ'!E44 -> 0 | F39: ='Lot 2 EJ'!F44 -> 0 | G39: =SUM(C39:F39) -> 0
A40: F.- Exposicions i cessions d'espais | C40: ='Lot 2 EJ'!C46 -> 0 | D40: ='Lot 2 EJ'!D46 -> 0 | E40: ='Lot 2 EJ'!E46 -> 0 | F40: ='Lot 2 EJ'!F46 -> 0 | G40: ='Lot 2 EJ'!G46 -> 0
A41: TOTAL DESPESES ACTIVITAT | C41: =C36+C39+C40 -> 0 | D41: =D36+D39+D40 -> 0 | E41: =E36+E39+E40 -> 0 | F41: =F36+F39+F40 -> 0 | G41: =SUM(C41:F41) -> 0
A43: TOTAL DESPESES OPERACIONALS | C43: =C34+C41 -> 0 | D43: =D34+D41 -> 0 | E43: =E34+E41 -> 0 | F43: =F34+F41 -> 0 | G43: =SUM(C43:F43) -> 0
A45: G.- DESPESES D'ESTRUCTURA (+4%) | C45: =ROUND(C43*0.04,2) -> 0 | D45: =ROUND(D43*0.04,2) -> 0 | E45: =ROUND(E43*0.04,2) -> 0 | F45: =ROUND(F43*0.04,2) -> 0 | G45: =SUM(C45:F45) -> 0
A46: H.- DESPESES DE GESTIÓ (+4%) | C46: =ROUND((C43+C45)*0.04,2) -> 0 | D46: =ROUND((D43+D45)*0.04,2) -> 0 | E46: =ROUND((E43+E45)*0.04,2) -> 0 | F46: =ROUND((F43+F45)*0.04,2) -> 0 | G46: =SUM(C46:F46) -> 0
A48: SUBTOTAL DESPESES | C48: =C43+C45+C46 -> 0 | D48: =D43+D45+D46 -> 0 | E48: =E43+E45+E46 -> 0 | F48: =F43+F45+F46 -> 0 | G48: =SUM(C48:F48) -> 0
A49: IVA 10% | C49: =ROUND(C48*10%,2) -> 0 | D49: =ROUND(D48*10%,2) -> 0 | E49: =ROUND(E48*10%,2) -> 0 | F49: =ROUND(F48*10%,2) -> 0 | G49: =SUM(C49:F49) -> 0
A51: TOTAL DESPESES | C51: =C48+C49 -> 0 | D51: =D48+D49 -> 0 | E51: =E48+E49 -> 0 | F51: =F48+F49 -> 0 | G51: =SUM(C51:F51) -> 0
A52: MODIFICACIONS DE CONTRACTE | C52: 0 | D52: 0 | E52: 0 | F52: 0 | G52: 0
A54: IMPORT TOTAL LICITACIÓ | C54: =C51+D51+E51 -> 0
A55: VEC | C55: =C48+D48+E48+F48 -> 0

Sheet Lot 2 EJ
A1: DESPESES | C1: 2025 | D1: 2026 | E1: 2027 | F1: PRÒRROGA 2028 | G1: TOTALS
A2: A.- Personal | C2: =SUM(C3:C11) -> 0 | D2: =SUM(D3:D11) -> 0 | E2: =SUM(E3:E11) -> 0 | F2: =SUM(F3:F11) -> 0 | G2: =SUM(C2:F2) -> 0
A3: A.1.- Direcció (37,5h) | G3: =SUM(C3:F3) -> 0
A4: A.2.- Direcció de programes (75h) | G4: =SUM(C4:F4) -> 0
A5: A.3.- Coordinació de projectes (75h) | G5: =SUM(C5:F5) -> 0
A6: A.4.- Animació sociocultural (20h) | G6: =SUM(C6:F6) -> 0
A7: A.5.- Informació (75h) | G7: =SUM(C7:F7) -> 0
A8: A.6.- Tècnic/a de producció (37,5h) | G8: =SUM(C8:F8) -> 0
A9: A.7.- Administració (37,5h) | G9: =SUM(C9:F9) -> 0
A10: A.8.- Seguretat Social | G10: =SUM(C10:F10) -> 0
A11: A.9.- Suport i suplències | G11: =SUM(C11:F11) -> 0
A12: B.- Despeses generals | C12: =SUM(C13:C25) -> 0 | D12: =SUM(D13:D25) -> 0 | E12: =SUM(E13:E25) -> 0 | F12: =SUM(F13:F25) -> 0 | G12: =SUM(C12:F12) -> 0
A13: B.1.- Material oficina i estructura | G13: =SUM(C13:F13) -> 0
A14: B.2.- Compra material i petita inversió | G14: =SUM(C14:F14) -> 0
A15: B.3.- Reparacions i Petit Manteniment | G15: =SUM(C15:F15) -> 0
A16: B.4.- Manteniment informàtic | G16: =SUM(C16:F16) -> 0
A17: B.5.- Primes d'Assegurances | G17: =SUM(C17:F17) -> 0
A18: B.6.- Subministraments
A19: B.7.- Arrendaments i canons | G19: =SUM(C19:F19) -> 0
A20: B.8.- Neteja | G20: =SUM(C20:F20) -> 0
A21: B.9.- Serveis professionals independents | G21: =SUM(C21:F21) -> 0
A22: B.10.- Transports | G22: =SUM(C22:F22) -> 0
A23: B.11.- Despeses Bancàries | G23: =SUM(C23:F23) -> 0
A24: B.12.- Tributs i Taxes | G24: =SUM(C24:F24) -> 0
A25: B.13.- Altres despeses | G25: =SUM(C25:F25) -> 0
A26: C.- Difusió | G26: =SUM(C26:F26) -> 0
A27: TOTAL DESPESES FUNCIONAMENT | C27: =C2+C12+C26 -> 0 | D27: =D2+D12+D26 -> 0 | E27: =E2+E12+E26 -> 0 | F27: =F2+F12+F26 -> 0 | G27: =SUM(C27:F27) -> 0
A29: D.- Formació | C29: =C30+C33 -> 0 | D29: =D30+D33 -> 0 | E29: =E30+E33 -> 0 | F29: =F30+F33 -> 0 | G29: =SUM(C29:F29) -> 0
A30: D.1.- Cursos i Tallers | C30: =SUM(C31:C32) -> 0 | D30: =SUM(D31:D32) -> 0 | E30: =SUM(E31:E32) -> 0 | F30: =SUM(F31:F32) -> 0 | G30: =SUM(C30:F30) -> 0
B31: D.1.1.- Cursos i tallers | G31: =SUM(C31:F31) -> 0
B32: D.1.2.- Servei de monitoratge de suport | G32: =SUM(C32:F32) -> 0
A33: D.2.- Activitats puntuals | C33: =SUM(C34:C43) -> 0 | D33: =SUM(D34:D43) -> 0 | E33: =SUM(E34:E43) -> 0 | F33: =SUM(F34:F43) -> 0 | G33: =SUM(C33:F33) -> 0
B34: D.2.1.- TRAS | G34: =SUM(C34:F34) -> 0
B35: D.2.2.- Robótica i noves tecnologies | G35: =SUM(C35:F35) -> 0
B36: D.2.3.- Mur lliure | G36: =SUM(C36:F36) -> 0
B37: D.2.4.- Dinamització Espai de trobada | G37: =SUM(C37:F37) -> 0
B38: D.2.5.- Doocs cooperants | G38: =SUM(C38:F38) -> 0
B39: D.2.6.- Taller de radio | G39: =SUM(C39:F39) -> 0
B40: D.2.7.- Kapura | G40: =SUM(C40:F40) -> 0
B41: D.2.8.- Altres Projectes | G41: =SUM(C41:F41) -> 0
B42: D.2.9,- Estiu i Casals vacances | G42: =SUM(C42:F42) -> 0
B43: D.2.10.- Dinamització territori casal 11-14 | G43: =SUM(C43:F43) -> 0
A44: E.- Difusió i divulgació cultural | C44: =C45 -> 0 | D44: =ROUND(C44*1,2) -> 0 | E44: =ROUND(D44*1,2) -> 0 | F44: =E44 -> 0 | G44: =SUM(C44:F44) -> 0
A45: E.1.- Espectacles i difusió cultural | G45: =SUM(C45:F45) -> 0
A46: F.- Exposicions i cessions d'espais | G46: =SUM(C46:F46) -> 0
A47: TOTAL DESPESES ACTIVITAT | C47: =C29+C44+C46 -> 0 | D47: =D29+D44+D46 -> 0 | E47: =E29+E44+E46 -> 0 | F47: =F29+F44+F46 -> 0 | G47: =SUM(C47:F47) -> 0
A49: TOTAL DESPESES OPERACIONALS | C49: =C27+C47 -> 0 | D49: =D27+D47 -> 0 | E49: =E27+E47 -> 0 | F49: =F27+F47 -> 0 | G49: =SUM(C49:F49) -> 0
A51: G.- DESPESES D'ESTRUCTURA (+4%) | C51: =ROUND(C49*0.04,2) -> 0 | D51: =ROUND(D49*0.04,2) -> 0 | E51: =ROUND(E49*0.04,2) -> 0 | F51: =ROUND(F49*0.04,2) -> 0 | G51: =G49*0.04 -> 0
A52: H.- DESPESES DE GESTIÓ (+4%) | C52: =ROUND((C49+C51)*0.04,2) -> 0 | D52: =ROUND((D49+D51)*0.04,2) -> 0 | E52: =ROUND((E49+E51)*0.04,2) -> 0 | F52: =ROUND((F49+F51)*0.04,2) -> 0 | G52: =(G49+G51)*0.04 -> 0
A54: SUBTOTAL DESPESES | C54: =C49+C52+C51 -> 0 | D54: =D49+D52+D51 -> 0 | E54: =E49+E52+E51 -> 0 | F54: =F49+F52+F51 -> 0 | G54: =G49+G52+G51 -> 0
A55: IVA 10% | C55: =ROUND(C54*10%,2) -> 0 | D55: =ROUND(D54*10%,2) -> 0 | E55: =ROUND(E54*10%,2) -> 0 | F55: =ROUND(F54*10%,2) -> 0 | G55: =SUM(C55:F55) -> 0
A57: TOTAL DESPESES | C57: =C54+C55 -> 0 | D57: =D54+D55 -> 0 | E57: =E54+E55 -> 0 | F57: =F54+F55 -> 0 | G57: =SUM(C57:F57) -> 0
A58: MODIFICACIONS DE CONTRACTE | C58: 0 | D58: 0 | E58: 0 | F58: 0 | G58: 0

Sheet Lot 2 SJ
A1: DESPESES | C1: 2025 | D1: 2026 | E1: 2027 | F1: PRÒRROGA 2028 | G1: TOTALS
A2: A.- Personal | C2: =SUM(C3:C7) -> 0 | D2: =SUM(D3:D7) -> 0 | E2: =SUM(E3:E7) -> 0 | F2: =SUM(F3:F7) -> 0 | G2: =SUM(C2:F2) -> 0
A3: A.10.- Coordinació de projectes (37,5h) | G3: =SUM(C3:F3) -> 0
A4: A.11.- Informació juvenil (37,5h) | G4: =SUM(C4:F4) -> 0
A5: A.12.- Informació juvenil antic JIP (37,5h) | G5: =SUM(C5:F5) -> 0
A6: A.13.- Seguretat social | G6: =SUM(C6:F6) -> 0
A7: A.14.- Suport i suplències | G7: =SUM(C7:F7) -> 0
A8: B.- Despeses generals | C8: =SUM(C9:C21) -> 0 | D8: =SUM(D9:D21) -> 0 | E8: =SUM(E9:E21) -> 0 | F8: =SUM(F9:F21) -> 0 | G8: =SUM(C8:F8) -> 0
A9: B.1.- Material oficina i estructura | G9: =SUM(C9:F9) -> 0
A10: B.2.- Compra material i petita inversió | G10: =SUM(C10:F10) -> 0
A11: B.3.- Reparacions i Petit Manteniment | G11: =SUM(C11:F11) -> 0
A12: B.4.- Manteniment informàtic | G12: =SUM(C12:F12) -> 0
A13: B.5.- Primes d'Assegurances | G13: =SUM(C13:F13) -> 0
A14: B.6.- Subministraments (Telefonia i Fibra) | G14: =SUM(C14:F14) -> 0
A15: B.7.- Arrendaments i canons | G15: =SUM(C15:F15) -> 0
A16: B.8.- Neteja | G16: =SUM(C16:F16) -> 0
A17: B.9.- Serveis professionals independents | G17: =SUM(C17:F17) -> 0
A18: B.10.- Transports | G18: =SUM(C18:F18) -> 0
A19: B.11.- Despeses Bancàries | G19: =SUM(C19:F19) -> 0
A20: B.12.- Tributs i Taxes | G20: =SUM(C20:F20) -> 0
... A22: C.- Difusió | G22: =SUM(C22:F22) -> 0
A23: TOTAL DESPESES FUNCIONAMENT | C23: =C2+C8+C22 -> 0 | D23: =D2+D8+D22 -> 0 | E23: =E2+E8+E22 -> 0 | F23: =F2+F8+F22 -> 0 | G23: =SUM(C23:F23) -> 0
A25: D.- Formació | C25: =SUM(C26:C27) -> 0 | D25: =SUM(D26:D27) -> 0 | E25: =SUM(E26:E27) -> 0 | F25: =SUM(F26:F27) -> 0 | G25: =SUM(C25:F25) -> 0
A26: D.1.- Cursos i Tallers | G26: =SUM(C26:F26) -> 0
A27: D.2.- Activitats puntuals | G27: =SUM(C27:F27) -> 0
A28: TOTAL DESPESES ACTIVITAT | C28: =C25 -> 0 | D28: =D25 -> 0 | E28: =E25 -> 0 | F28: =F25 -> 0 | G28: =SUM(C28:F28) -> 0
A30: TOTAL DESPESES OPERACIONALS | C30: =C28+C23 -> 0 | D30: =D28+D23 -> 0 | E30: =E28+E23 -> 0 | F30: =F28+F23 -> 0 | G30: =SUM(C30:F30) -> 0
A32: G.- DESPESES D'ESTRUCTURA (+4%) | C32: =ROUND(C30*0.04,2) -> 0 | D32: =ROUND(D30*0.04,2) -> 0 | E32: =ROUND(E30*0.04,2) -> 0 | F32: =ROUND(F30*0.04,2) -> 0 | G32: =SUM(C32:F32) -> 0
A33: H.- DESPESES DE GESTIÓ (+4%) | C33: =ROUND((C30+C32)*0.04,2) -> 0 | D33: =ROUND((D30+D32)*0.04,2) -> 0 | E33: =ROUND((E30+E32)*0.04,2) -> 0 | F33: =ROUND((F30+F32)*0.04,2) -> 0 | G33: =SUM(C33:F33) -> 0
A35: SUBTOTAL DESPESES | C35: =C33+C30+C32 -> 0 | D35: =D33+D30+D32 -> 0 | E35: =E33+E30+E32 -> 0 | F35: =F33+F30+F32 -> 0 | G35: =SUM(C35:F35) -> 0
A36: IVA 10% | C36: =ROUND(C35*10%,2) -> 0 | D36: =ROUND(D35*10%,2) -> 0 | E36: =ROUND(E35*10%,2) -> 0 | F36: =ROUND(F35*10%,2) -> 0 | G36: =SUM(C36:F36) -> 0
A38: TOTAL DESPESES | C38: =C35+C36 -> 0 | D38: =D35+D36 -> 0 | E38: =E35+E36 -> 0 | F38: =F35+F36 -> 0 | G38: =SUM(C38:F38) -> 0
A39: MODIFICACIONS DE CONTRACTE | C39: 0 | D39: 0 | E39: 0 | F39: 0 | G39: 0
