Workbook
Name OLE_LINK1: 'Manteniment TRES CRUÏLLES'!$B$2
Name Print_Area: RESUM!$A$2:$I$48

Sheet Preus Unitaris
B2: PREUS UNITARIS | E2: DISTRICTE LES CORTS - AJT. BCN
B4: Ítem | C4: Unitat Mesura | D4: Descripció | E4: Preu Unit. €
B6: Obra Civil
B7: OC01 | C7: ML | D7: CANALITZACIÓ EN VORERA INCLOENT SUBMINISTRAMENT I INSTAL·LACIÓ DE 1 TUB DE PE D110 mm DE DOBLE CAPA, LLIS A L'INTERIOR I CORRUGAT A L'EXTERIOR, INCLÒS EXCAVACIÓ EN RASA DE 40 x 76 cm DE PROFUNDITAT, BASE I PROTECCIÓ DE FORMIGÓ HM20, EN VORERES DE PANOT INCLÒS LA SEVA REPOSICIÓ. TOTALMENT EXECUTADA SEGONS PLEC I D'ACORD AMB LES ORDENANCES MUNICIPALS I INDICACIONS PARTICULARS D'ACEFAT. | E7: 79.98
B8: OC02 | C8: ML | D8: CANALITZACIÓ EN VORERA INCLOENT SUBMINISTRAMENT I INSTAL·LACIÓ DE 2 TUBS DE PE D110 mm DE DOBLE CAPA, LLIS A L'INTERIOR I CORRUGAT A L'EXTERIOR, INCLÒS EXCAVACIÓ EN RASA DE 40 x 76 cm DE PROFUNDITAT, BASE I PROTECCIÓ DE FORMIGÓ HM20, EN VORERES DE PANOT INCLÒS LA SEVA REPOSICIÓ. TOTALMENT EXECUTADA SEGONS PLEC I D'ACORD AMB LES ORDENANCES MUNICIPALS I INDICACIONS PARTICULARS D'ACEFAT. | E8: 81.21
B9: OC03 | C9: ML | D9: CANALITZACIÓ EN CALÇADA INCLÒS SUBMINISTRAMENT I INSTAL·LACIÓ DE 4 TUBS DE PE D110 mm DE DOBLE CAPA, LLIS A L'INTERIOR I CORRUGAT A L'EXTERIOR, INCLÒS EXCAVACIÓ EN RASA DE 60 x 80 cm. DE PROFUNDITAT, BASE I PROTECCIÓ DE FORMIGÓ HM30, EN CALÇADES. TOTALMENT EXECUTADA SEGONS PLEC I D'ACORD AMB LES ORDENANCES MUNICIPALS I INDICACIONS PARTICULARS D'ACEFAT. | E9: =258.41 -> 258.41
B10: OC04 | C10: ML | D10: CANALITZACIÓ EN VORERA INCLOENT SUBMINISTRAMENT I INSTAL·LACIÓ DE 2 TUBS DE PE D125 mm DE DOBLE CAPA, LLIS A L'INTERIOR I CORRUGAT A L'EXTERIOR, INCLÒS EXCAVACIÓ EN RASA DE 40 x 76 cm DE PROFUNDITAT, BASE I PROTECCIÓ DE FORMIGÓ HM20, EN VORERES DE PANOT INCLÒS LA SEVA REPOSICIÓ. TOTALMENT EXECUTADA SEGONS PLEC I D'ACORD AMB LES ORDENANCES MUNICIPALS I INDICACIONS PARTICULARS D'ACEFAT. | E10: 83.14
B11: OC05 | C11: ML | D11: SUPLEMENT PER REALITZACIÓ DE CANALITZACIÓ EN CALÇADA EN FESTIU. | E11: 104.59
B12: OC06 | C12: UT | D12: FONAMENT DE FORMIGÓ PER A ARMARI AMB DOSIFICACIÓ DE 250 KG/m3 I ENCOFRAT CARA VISTA DE DIMENSIONS FINS A 70 x 60 x 50 cm. AMB UN ENCASTAMENT DE 15 cm. I DOS FORATS DE 110 mm. DE DIÀMETRE. TOTALMENT EXECUTAT SEGONS PLEC, INCLOSA OBRA CIVIL NECESSÀRIA I PERNS ANCORATGE. | E12: 410
B13: OC07 | C13: UT | D13: FONAMENT DE FORMIGÓ PER A BÀCUL , AMB DOSIFICACIÓ DE 250 KG/m3, MITJANÇANT UN DAU DE 80 cm. DE COSTAT I 100 cm. DE PROFUNDITAT, INCLÒS PERNS ANCORATGE, COLZE DE CONNEXIÓ AMB TUBULAR. INCLOU DEMOLICIÓ PAVIMENT, EXCAVACIÓ I POSTERIOR REPOSICIÓ. TOTALMENT EXECUTAT. | E13: =252.25 -> 252.25
B14: OC08 | C14: UT | D14: FONAMENT DE FORMIGÓ PER A COLUMNA FINS A 2400 mm, AMB DOSIFICACIÓ DE 250 KG/m3, MITJANÇANT UN DAU DE 40 cm. DE COSTAT I 60 cm. DE PROFUNDITAT, REBENT PEÇA ESPECIAL D'ANCORATGE, SENSE INCLOURE AQUESTA, INCLÒS COLZE DE CONNEXIÓ AMB TUBULAR. TOTALMENT EXECUTAT SEGONS PLEC. | E14: =142.98 -> 142.98
B15: OC09 | C15: UT | D15: PERICÓ DE 40 x 40 cm. PREFABRICAT DE FORMIGÓ O CONSTRUÏT AMB MAONS GERO I FONS DEL MATEIX MATERIAL REBENT EL MARC I LA TAPA CORRESPONENT, INCLOSOS SUBMINISTRAMENT D'AQUESTS. DEMOLICIÓ DE PAVIMENT, EXCAVACIÓ I POSTERIOR REPOSICIÓ. TOTALMENT ACABAT I EXECUTAT SEGONS PLEC. | E15: 147.17
B16: OC10 | C16: UT | D16: PERICÓ DE 60 x 60 cm. PREFABRICAT DE FORMIGÓ O CONSTRUÏT AMB MAONS GERO I FONS DEL MATEIX MATERIAL REBENT EL MARC I LA TAPA CORRESPONENT, INCLOSOS SUBMINISTRAMENT D'AQUESTS. DEMOLICIÓ DE PAVIMENT, EXCAVACIÓ I POSTERIOR REPOSICIÓ. TOTALMENT ACABAT I EXECUTAT SEGONS PLEC. | E16: 184.45
B17: OC11 | C17: UT | D17: PERICÓ DE 70 x 70 cm PER TELECOMUNICACIONS, PREFABRICADA DE FORMIGÓ O CONSTRUÏDA AMB MAONS GERO I FONS DEL MATEIX MATERIAL, REBENT EL MARC I LA DOBLE TAPA TRIANGULAR CORRESPONENT, INCLOSOS SUBMINISTRAMENT D'AQUESTS. DEMOLICIÓ PAVIMENT, EXCAVACIÓ I POSTERIOR REPOSICIÓ.TOTALMENT ACABAT I EXECUTAT SEGONS PLEC. | E17: 298.62
B18: OC12 | C18: UT | D18: RECONVERSIÓ PERICÓ DE 40X40 A PERICÓ DE 60X60. INCLOU TREBALLS DE CONSTRUCCIÓ DE L'ESTRUCTURA AMB MAONS, FORMIGÓ I LA TAPA I MARC DE FERRO, AIXÍ COM ELS TREBALLS DE MÀ D'OBRA. | E18: 101.65
B19: OC13 | C19: UT | D19: SUBMINISTRAMENT, INSTAL·LACIÓ I CONNEXIÓ DE PLACA DE PRESA DE TERRA DE 500 x 500 x 3 mm EN PERICÓ DE REGISTRE. INCLOSA OBRA CIVIL NECESSÀRIA. TOTALMENT EXECUTAT | E19: 55.37
B20: OC14 | C20: UT | D20: CONSTRUCCIÓ DE GUAL PER A PAS DE VIANANTS DE 6 m AMPLADA, MODEL BARCELONA B-120 A, BASE DE PEDRES DE GRANIT GRIS DE 40x40x23 (INCLOU FORAT PER COLUMNA I/O BÀCUL) I DE 40x121,8x6 DE CARES VISTES FLAMEJADES. TOTALMENT EXECUTAT. | E20: 1483.98
B21: OC15 | C21: M2 | D21: CONSTRUCCIÓ DE PLATAFORMA DE VORERA, PER A NOU PAS DE VIANANTS. INCLOU DEMOLICIÓ DE PAVIMENTS EXISTENTS, EXCAVACIÓ, I QUALSEVOL ALTRA FEINA NECESSÀRIA PER A LA CORRECTA CONSTRUCCIÓ DE PLATAFORMA A BASE DE FORMIGÓ HM20 FINS A NIVELL DE LA VORERA EXISTENT I REPOSICIÓ FINAL AMB PANOT, INCLÚS PANOT ESPECIAL DE FRANGES PER INVIDENTS. | E21: 115.31
B22: OC16 | C22: UT | D22: OBTURACIÓ DE TUBULAR AMB O SENSE CABLES EXISTENTS. | E22: 0.62
B23: OC17 | C23: UT | D23: EMBOCADURA DE TUBULARS A PERICÓ REGISTRE EXISTENT, INCLÚS PROTECCIÓ CABLES EXISTENTS, PASSAMURS, SEGELLAT TUBS AMB PARET PERICÓ I ENLLUÏMENT INTERIOR PARET PERICÓ. TOTALMENT EXECUTADA. | E23: 59.06
B24: OC18 | C24: M2 | D24: ARRENCADA I REPOSICIÓ DE LLOSETES DE PANOT DE MORTER COMPRIMIT EN VORERA. RETIRADA I TRANSPORT DE RUNA A ABOCADOR AUTORITZAT. TOTALMENT EXECUTADA. | E24: 107.402
B25: OC19 | C25: M3 | D25: DEMOLICIÓ DE FORMIGÓ AMB MARTELL TRENCADOR, INCLÒS TALL D'ARMADURES AMB SOPLET, RETIRADA I TRANSPORT DE RESIDUS A DEIXALLERIA. TOTALMENT EXECUTADA. | E25: 116.58
B26: OC20 | C26: UT | D26: REPARACIÓ CANALITZACIÓ VORERA, MITJANÇANT EXCAVACIÓ, SUBMINISTRAMENT I COL·LOCACIÓ TUB DE PE DE DOBLE CAPA, LLIS A L'INTERIOR I COARRUGAT A L'EXTERIOR DEL MATEIX DIÀMETRE QUE L'EXISTENT, MANEGUET D'ACOBLAMENT, PAS DEL CABLE, COL·LOCACIÓ DE MITJA CANYA, LLIGAT AMB FILFERROS I FORMIGONAT DEL CONJUNT I REPOSICIÓ DE PAVIMENT DE PANOT DE LES MATEIXES CARACTERÍSTIQUES A L'EXISTENT, PER A LLARGADES FINS A 2m, INCLÚS RETIRADA I TRANSPORT DE RESIDUS A DEIXALLERIA. TOTALMENT EXECUTADA. | E26: 120.59
... B33: OC27 | C33: UT | D33: FONAMENT DE FORMIGÓ PER A COLUMNA DE FINS A 8 METRES, MITJANÇANT UN DAU DE 80 CM. DE COSTAT I 100 CM DE PROFUNDITAT, INCLÒS COLZE DE CONNEXIÓ AMB TUBULAR. INCLOU DEMOLICIÓ PAVIMENT, EXCAVACIÓ I POSTERIOR REPOSICIÓ. TOTALMENT EXECUTAT. | E33: 233.61
B34: OC28 | C34: UT | D34: SUBMINISTRAMENT I INSTAL·LACIÓ DE PILONA DE PLÀSTIC AMB BANDA REFLECTANT DE COLOR VERD O BLAU AMB ALÇADA LLIURE DE 750 MM I 200 MM DE DIÀMETRE. TOTALMENT EXECUTAT. | E34: =SUM(38.75+11) -> 49.75
B35: OC29 | C35: UT | D35: FONAMENT DE FORMIGÓ PER A COLUMNA DE 4 METRES, AMB DOSIFICACIÓ DE 250 KG/m3, MITJANÇANT UN DAU DE 50 cm. DE COSTAT I 60 cm. DE PROFUNDITAT, INCLÒS COLZE DE CONNEXIÓ AMB TUBULAR. INCLOU DEMOLICIÓ PAVIMENT, EXCAVACIÓ I POSTERIOR REPOSICIÓ. TOTALMENT EXECUTAT. | E35: 95.21
B36: OC30 | C36: UT | D36: ARRENCADA I REPOSICIÓ (SENSE SUBMINISTRAMENT) DE CONJUNT DE COIXÍ REDUCTOR DE VELOCITAT. TOTALMENT EXECUTADA. | E36: 296
B37: OC31 | C37: UT | D37: FONAMENT DE FORMIGÓ PER A ARMARI DE CONTROL O ESCOMESA ELÈCTRICA, AMB DOSIFICACIÓ DE 250 KG/m3 I ENCOFRAT CARA VISTA, DE DIMENSIONS APROX. 800 x 800 x 500 mm AMB UN ENCASTAMENT DE 20 cm I 4 FORATS DE 110 mm. DE DIÀMETRE. INCLOU DEMOLICIÓ PAVIMENT, EXCAVACIÓ I POSTERIOR REPOSICIÓ. TOTALMENT EXECUTAT. | E37: 235
B38: OC32 | C38: ML | D38: SUPLEMENT PER REALITZACIÓ DE CANALITZACIÓ EN VORERA DE PAVIMENT ESPECIAL, TIPUS GRANIT, LLAMBORDES O SIMILARS | E38: 25.97
B39: OC33 | C39: UT | D39: PERICÓ DE 60 x 60 cm. PREFABRICAT DE FORMIGÓ O CONSTRUÏT AMB MAONS GERO I FONS DEL MATEIX MATERIAL REBENT EL MARC I LA TAPA CLASSE C-250 PER 25 TONELADES DE CARGA DE ROTURA, CUMPLEIX NORMA EN 124, INCLOSOS SUBMINISTRAMENT D'AQUESTS. DEMOLICIÓ DE PAVIMENT, EXCAVACIÓ I POSTERIOR REPOSICIÓ. TOTALMENT ACABAT I EXECUTAT SEGONS PLEC. | E39: =SUM(184.45,120.42) -> 304.87
B40: OC34 | C40: PAJ | D40: PARTIDA ALÇADA A JUSTIFICAR EXCECESSOS D'AMIDAMENT, AJUSTS DE PALETA, IMPREVISTOS DURANT L'EXECUCIÓ DELS TREBALLS D'OBRA CIVIL AMB SERVEIS AFECTATS, ACCESSOS I ELEMENTS DE VENTILACIÓ. CRUÏLLA C/CARDENAL REIG-C/POBLET. | E40: 843.38
B41: OC35 | C41: PAJ | D41: PARTIDA ALÇADA A JUSTIFICAR EXCECESSOS D'AMIDAMENT, AJUSTS DE PALETA, IMPREVISTOS DURANT L'EXECUCIÓ DELS TREBALLS D'OBRA CIVIL AMB SERVEIS AFECTATS, ACCESSOS I ELEMENTS DE VENTILACIÓ. CRUÏLLA C/CARDENAL REIG-C/PINTOR TAPIRÓ. | E41: 926.63
B42: OC36 | C42: PAJ | D42: PARTIDA ALÇADA A JUSTIFICAR EXCECESSOS D'AMIDAMENT, AJUSTS DE PALETA, IMPREVISTOS DURANT L'EXECUCIÓ DELS TREBALLS D'OBRA CIVIL AMB SERVEIS AFECTATS, ACCESSOS I ELEMENTS DE VENTILACIÓ. CRUÏLLA C/CARDENAL REIG-C/AURORA BERTRANA. | E42: 690.44
B44: Instal·lacions Semafòriques
B45: IS01 | C45: UT | D45: SUBMINISTRAMENT I INSTAL·LACIÓ DE SEMÀFOR 11/200 AMB ÒPTIQUES DE TECNOLOGIA LED DE QUALSEVOL COLOR I TIPUS NORMAL, BICI, BUS, MIXTE, ETC. MODEL CLÀSSIC O BARCELONA AMB ÀNIMA D'ALUMINI. | E45: 307.63
B46: IS02 | C46: UT | D46: SUBMINISTRAMENT I INSTAL·LACIÓ DE SEMÀFOR PER A VIANANTS Vlnv 12/200 AMB DISPOSITIU PER INVIDENTS I ÒPTIQUES DE TECNOLOGIA LED DE QUALSEVOL COLOR I TIPUS NORMAL, PPC, BICI, BUS, MIXTE, ETC. MODEL CLÀSSIC O BARCELONA AMB ÀNIMA D'ALUMINI. | E46: 553.73
B47: IS03 | C47: UT | D47: SUBMINISTRAMENT I INSTAL·LACIÓ DE SEMÀFOR 13/200 AMB ÒPTIQUES DE TECNOLOGIA LED DE QUALSEVOL COLOR I TIPUS NORMAL, BICI, BUS, MIXTE, ETC. MODEL CLÀSSIC O BARCELONA AMB ÀNIMA D'ALUMINI. | E47: 861.35
B48: IS04 | C48: UT | D48: SUBMINISTRAMENT I INSTAL·LACIÓ DE SISTEMA PER A INVIDENTS COMPLET AMB ACTUACIÓ PER COMANDAMENT A DISTÀNICA MODEL BARCELONA (CIBERPAS). | E48: 153.81
B49: IS05 | C49: UT | D49: SUBMINISTRAMENT I INSTAL·LACIÓ DE SEMÀFOR 13/100 AMB ÒPTIQUES DE TECNOLOGIA LED DE QUALSEVOL COLOR I TIPUS BICI. MODEL CLÀSSIC O BARCELONA AMB ÀNIMA D'ALUMINI. | E49: 339.21
B50: IS06 | C50: UT | D50: SUBMINISTRAMENT I INSTAL·LACIÓ DE SEMÀFOR 12/100 AMB ÒPTIQUES DE TECNOLOGIA LED DE QUALSEVOL COLOR I TIPUS BICI. MODEL CLÀSSIC O BARCELONA AMB ÀNIMA D'ALUMINI. | E50: 229.07
...

Sheet RESUM
B2: RESUM PRESSUPOST
B3: REDACCIÓ DEL PROJECTE DE SEMAFORITZACIÓ DE 3 CRUÏLLES DEL CARRER DEL CARDENAL REIG, DEL DISTRICTE DE LES CORTS
B5: CONCEPTE / DENOMINACIÓ | F5: PREU | G5: BI+DG | H5: PREU UNITARI PEC | I5: IMPORT TOTAL
B6: TOTAL PRESSUPOST EXECUCIÓ INSTAL·LACIONS 3 CRUÏLLES
B8: CRUÏLLA C/CARDENAL REIG - C/ POBLET | G8: =ROUND(I8*SUM(#REF!),2) -> #REF! | H8: =ROUND(SUM(F8:G8),2) -> #REF!
B9: OBRA CIVIL CRUÏLLA SEMÀFORS | F9: ='Pressupost C.Reig-Poblet'!G36 -> 29113.88
B10: INSTAL·LACIONS SEMAFÒRIQUES | F10: ='Pressupost C.Reig-Poblet'!G54 -> 17882.07
B11: CABLEJATS ELÈCTRICS | F11: ='Pressupost C.Reig-Poblet'!G63 -> 2870.62
B12: ESCOMESA ELÈCTRICA | F12: ='Pressupost C.Reig-Poblet'!G68 -> 6318.68
B13: INSTAL·LACIONS COMUNICACIONS | F13: ='Pressupost C.Reig-Poblet'!G80 -> 25752.99
B14: SENYALITZACIÓ HORITZONTAL I VERTICAL | F14: ='Pressupost C.Reig-Poblet'!G92 -> 3799.32
B15: Subtotal (PEC) | F15: =SUM(F9:F14) -> 85737.56
B17: CRUÏLLA C/CARDENAL REIG - C/ PINTOR TAPIRÓ | G17: =ROUND(I17*SUM(#REF!),2) -> #REF! | H17: =ROUND(SUM(F17:G17),2) -> #REF!
B18: OBRA CIVIL CRUÏLLA SEMÀFORS | F18: ='Pressupost C.Reig-Tapiró'!G31 -> 31972.2
B19: INSTAL·LACIONS SEMAFÒRIQUES | F19: ='Pressupost C.Reig-Tapiró'!G49 -> 22173.49
B20: CABLEJATS ELÈCTRICS | F20: ='Pressupost C.Reig-Tapiró'!G58 -> 4810.79
B21: ESCOMESA ELÈCTRICA | F21: ='Pressupost C.Reig-Tapiró'!G63 -> 6318.68
B22: INSTAL·LACIONS COMUNICACIONS | F22: ='Pressupost C.Reig-Tapiró'!G75 -> 11603.66
B23: SENYALITZACIÓ HORITZONTAL I VERTICAL | F23: ='Pressupost C.Reig-Tapiró'!G88 -> 3281.45
B24: Subtotal (PEC) | F24: =SUM(F18:F23) -> 80160.27
B26: CRUÏLLA C/CARDENAL REIG - C/ AURORA BERTRANA | G26: =ROUND(I26*SUM(#REF!),2) -> #REF! | H26: =ROUND(SUM(F26:G26),2) -> #REF!
B27: OBRA CIVIL CRUÏLLA SEMÀFORS | F27: ='Pressupost C.Reig-Aurora Bertra'!G27 -> 23705.18
B28: INSTAL·LACIONS SEMAFÒRIQUES | F28: ='Pressupost C.Reig-Aurora Bertra'!G39 -> 10537.19
B29: CABLEJATS ELÈCTRICS | F29: ='Pressupost C.Reig-Aurora Bertra'!G48 -> 3091.48
B30: ESCOMESA ELÈCTRICA | F30: ='Pressupost C.Reig-Aurora Bertra'!G89 -> 0
B31: INSTAL·LACIONS COMUNICACIONS | F31: ='Pressupost C.Reig-Aurora Bertra'!G90 -> 0
B32: SENYALITZACIÓ HORITZONTAL I VERTICAL | F32: ='Pressupost C.Reig-Aurora Bertra'!G77 -> 3169.85
B33: Subtotal (PEC) | F33: =SUM(F27:F32) -> 40503.7 | G33: =ROUND(F33*SUM(#REF!),2) -> #REF! | H33: =ROUND(SUM(F33:G33),2) -> #REF!
B35: TOTAL PRESSUPOST EXECUCIÓ CONTRATA (PEC) | I35: =SUM(F15,F24,F33) -> 206401.53
B37: RESUM PRESSUPOST 3 CRUÏLLES
B38: OBRA CIVIL CRUÏLLA SEMÀFORS | F38: =SUM(F9,F18,F27) -> 84791.26 | G38: =ROUND(F38*SUM(#REF!),2) -> #REF! | H38: =SUM(F38:G38) -> #REF!
B39: INSTAL·LACIONS SEMAFÒRIQUES | F39: =SUM(F10,F19,F28) -> 50592.75
B40: CABLEJATS ELÈCTRICS | F40: =SUM(F11,F20,F29) -> 10772.89
B41: ESCOMESA ELÈCTRICA | F41: =SUM(F12,F21,F30) -> 12637.36
B42: INSTAL·LACIONS COMUNICACIONS | F42: =SUM(F13,F22,F31) -> 37356.65
B43: SENYALITZACIÓ HORITZONTAL I VERTICAL | F43: =SUM(F14,F23,F32) -> 10250.62 | G43: =ROUND(F43*SUM(#REF!),2) -> #REF! | H43: =SUM(F43:G43) -> #REF! | J43: =IF(I45=I35,"OK","ERROR") -> OK
G44: SUBTOTAL | H44: =SUM(H38:H43) -> #REF!
B45: TOTAL PRESSUPOST EXECUCIÓ CONTRATA (PEC) | I45: =SUM(F38:F44) -> 206401.53
B46: IVA (21% sobre PEC) | F46: 0.21 | G46: =ROUND(#REF!*SUM(#REF!),2) -> #REF! | H46: =SUM(F46:G46) -> #REF! | I46: =ROUND(I45*F46,2) -> 43344.32
G47: TOTAL | H47: =#REF!+#REF!+H44+H46 -> #REF!
...

Sheet Pressupost C.Reig-Poblet
B2: PRESSUPOST SEMAFORITZACIÓ CARDENAL REIG - POBLET | G2: DISTRICTE LES CORTS - AJT. BCN
B4: Ítem | C4: Unitat Mesura | D4: Descripció | E4: Amidament | F4: Preu Unit. € | G4: Preu Total €
B6: Obra Civil Cruïlla Semàfors
B7: ='Preus Unitaris'!B7 -> OC01 | C7: =VLOOKUP(B7,'Preus Unitaris'!$B$6:$F$105,2,FALSE) -> ML | D7: =VLOOKUP(B7,'Preus Unitaris'!$B$6:$F$105,3,FALSE) -> CANALITZACIÓ EN VORERA INCLOENT SUBMINISTRAMENT I INSTAL·LACIÓ DE 1 TUB DE PE D110 mm DE DOBLE CAPA, LLIS A L'INTERIOR I CORRUGAT A L'EXTERIOR, INCLÒS EXCAVACIÓ EN RASA DE 40 x 76 cm DE PROFUNDITAT, BASE I PROTECCIÓ DE FORMIGÓ HM20, EN VORERES DE PANOT INCLÒS LA SEVA REPOSICIÓ. TOTALMENT EXECUTADA SEGONS PLEC I D'ACORD AMB LES ORDENANCES MUNICIPALS I INDICACIONS PARTICULARS D'ACEFAT. | E7: 16 | F7: =VLOOKUP(B7,'Preus Unitaris'!$B$6:$F$105,4,FALSE) -> 79.98 | G7: =ROUND(F7*E7,2) -> 1279.68
B8: ='Preus Unitaris'!B8 -> OC02 | C8: =VLOOKUP(B8,'Preus Unitaris'!$B$6:$F$105,2,FALSE) -> ML | D8: =VLOOKUP(B8,'Preus Unitaris'!$B$6:$F$105,3,FALSE) -> CANALITZACIÓ EN VORERA INCLOENT SUBMINISTRAMENT I INSTAL·LACIÓ DE 2 TUBS DE PE D110 mm DE DOBLE CAPA, LLIS A L'INTERIOR I CORRUGAT A L'EXTERIOR, INCLÒS EXCAVACIÓ EN RASA DE 40 x 76 cm DE PROFUNDITAT, BASE I PROTECCIÓ DE FORMIGÓ HM20, EN VORERES DE PANOT INCLÒS LA SEVA REPOSICIÓ. TOTALMENT EXECUTADA SEGONS PLEC I D'ACORD AMB LES ORDENANCES MUNICIPALS I INDICACIONS PARTICULARS D'ACEFAT. | E8: 30 | F8: =VLOOKUP(B8,'Preus Unitaris'!$B$6:$F$105,4,FALSE) -> 81.21 | G8: =ROUND(F8*E8,2) -> 2436.3
B9: ='Preus Unitaris'!B9 -> OC03 | C9: =VLOOKUP(B9,'Preus Unitaris'!$B$6:$F$105,2,FALSE) -> ML | D9: =VLOOKUP(B9,'Preus Unitaris'!$B$6:$F$105,3,FALSE) -> CANALITZACIÓ EN CALÇADA INCLÒS SUBMINISTRAMENT I INSTAL·LACIÓ DE 4 TUBS DE PE D110 mm DE DOBLE CAPA, LLIS A L'INTERIOR I CORRUGAT A L'EXTERIOR, INCLÒS EXCAVACIÓ EN RASA DE 60 x 80 cm. DE PROFUNDITAT, BASE I PROTECCIÓ DE FORMIGÓ HM30, EN CALÇADES. TOTALMENT EXECUTADA SEGONS PLEC I D'ACORD AMB LES ORDENANCES MUNICIPALS I INDICACIONS PARTICULARS D'ACEFAT. | E9: 37 | F9: =VLOOKUP(B9,'Preus Unitaris'!$B$6:$F$105,4,FALSE) -> 258.41 | G9: =ROUND(F9*E9,2) -> 9561.17
B10: ='Preus Unitaris'!B10 -> OC04 | C10: =VLOOKUP(B10,'Preus Unitaris'!$B$6:$F$105,2,FALSE) -> ML | D10: =VLOOKUP(B10,'Preus Unitaris'!$B$6:$F$105,3,FALSE) -> CANALITZACIÓ EN VORERA INCLOENT SUBMINISTRAMENT I INSTAL·LACIÓ DE 2 TUBS DE PE D125 mm DE DOBLE CAPA, LLIS A L'INTERIOR I CORRUGAT A L'EXTERIOR, INCLÒS EXCAVACIÓ EN RASA DE 40 x 76 cm DE PROFUNDITAT, BASE I PROTECCIÓ DE FORMIGÓ HM20, EN VORERES DE PANOT INCLÒS LA SEVA REPOSICIÓ. TOTALMENT EXECUTADA SEGONS PLEC I D'ACORD AMB LES ORDENANCES MUNICIPALS I INDICACIONS PARTICULARS D'ACEFAT. | E10: 20 | F10: =VLOOKUP(B10,'Preus Unitaris'!$B$6:$F$105,4,FALSE) -> 83.14 | G10: =ROUND(F10*E10,2) -> 1662.8
B11: ='Preus Unitaris'!B11 -> OC05 | C11: =VLOOKUP(B11,'Preus Unitaris'!$B$6:$F$105,2,FALSE) -> ML | D11: =VLOOKUP(B11,'Preus Unitaris'!$B$6:$F$105,3,FALSE) -> SUPLEMENT PER REALITZACIÓ DE CANALITZACIÓ EN CALÇADA EN FESTIU. | E11: =E9 -> 37 | F11: =VLOOKUP(B11,'Preus Unitaris'!$B$6:$F$105,4,FALSE) -> 104.59 | G11: =ROUND(F11*E11,2) -> 3869.83
B12: ='Preus Unitaris'!B12 -> OC06 | C12: =VLOOKUP(B12,'Preus Unitaris'!$B$6:$F$105,2,FALSE) -> UT | D12: =VLOOKUP(B12,'Preus Unitaris'!$B$6:$F$105,3,FALSE) -> FONAMENT DE FORMIGÓ PER A ARMARI AMB DOSIFICACIÓ DE 250 KG/m3 I ENCOFRAT CARA VISTA DE DIMENSIONS FINS A 70 x 60 x 50 cm. AMB UN ENCASTAMENT DE 15 cm. I DOS FORATS DE 110 mm. DE DIÀMETRE. TOTALMENT EXECUTAT SEGONS PLEC, INCLOSA OBRA CIVIL NECESSÀRIA I PERNS ANCORATGE. | E12: 2 | F12: =VLOOKUP(B12,'Preus Unitaris'!$B$6:$F$105,4,FALSE) -> 410 | G12: =ROUND(F12*E12,2) -> 820
B13: ='Preus Unitaris'!B13 -> OC07 | C13: =VLOOKUP(B13,'Preus Unitaris'!$B$6:$F$105,2,FALSE) -> UT | D13: =VLOOKUP(B13,'Preus Unitaris'!$B$6:$F$105,3,FALSE) -> FONAMENT DE FORMIGÓ PER A BÀCUL , AMB DOSIFICACIÓ DE 250 KG/m3, MITJANÇANT UN DAU DE 80 cm. DE COSTAT I 100 cm. DE PROFUNDITAT, INCLÒS PERNS ANCORATGE, COLZE DE CONNEXIÓ AMB TUBULAR. INCLOU DEMOLICIÓ PAVIMENT, EXCAVACIÓ I POSTERIOR REPOSICIÓ. TOTALMENT EXECUTAT. | E13: 1 | F13: =VLOOKUP(B13,'Preus Unitaris'!$B$6:$F$105,4,FALSE) -> 252.25 | G13: =ROUND(F13*E13,2) -> 252.25
B14: ='Preus Unitaris'!B14 -> OC08 | C14: =VLOOKUP(B14,'Preus Unitaris'!$B$6:$F$105,2,FALSE) -> UT | D14: =VLOOKUP(B14,'Preus Unitaris'!$B$6:$F$105,3,FALSE) -> FONAMENT DE FORMIGÓ PER A COLUMNA FINS A 2400 mm, AMB DOSIFICACIÓ DE 250 KG/m3, MITJANÇANT UN DAU DE 40 cm. DE COSTAT I 60 cm. DE PROFUNDITAT, REBENT PEÇA ESPECIAL D'ANCORATGE, SENSE INCLOURE AQUESTA, INCLÒS COLZE DE CONNEXIÓ AMB TUBULAR. TOTALMENT EXECUTAT SEGONS PLEC. | E14: 4 | F14: =VLOOKUP(B14,'Preus Unitaris'!$B$6:$F$105,4,FALSE) -> 142.98 | G14: =ROUND(F14*E14,2) -> 571.92
B15: ='Preus Unitaris'!B16 -> OC10 | C15: =VLOOKUP(B15,'Preus Unitaris'!$B$6:$F$105,2,FALSE) -> UT | D15: =VLOOKUP(B15,'Preus Unitaris'!$B$6:$F$105,3,FALSE) -> PERICÓ DE 60 x 60 cm. PREFABRICAT DE FORMIGÓ O CONSTRUÏT AMB MAONS GERO I FONS DEL MATEIX MATERIAL REBENT EL MARC I LA TAPA CORRESPONENT, INCLOSOS SUBMINISTRAMENT D'AQUESTS. DEMOLICIÓ DE PAVIMENT, EXCAVACIÓ I POSTERIOR REPOSICIÓ. TOTALMENT ACABAT I EXECUTAT SEGONS PLEC. | E15: 5 | F15: =VLOOKUP(B15,'Preus Unitaris'!$B$6:$F$105,4,FALSE) -> 184.45 | G15: =ROUND(F15*E15,2) -> 922.25
B16: ='Preus Unitaris'!B17 -> OC11 | C16: =VLOOKUP(B16,'Preus Unitaris'!$B$6:$F$105,2,FALSE) -> UT | D16: =VLOOKUP(B16,'Preus Unitaris'!$B$6:$F$105,3,FALSE) -> PERICÓ DE 70 x 70 cm PER TELECOMUNICACIONS, PREFABRICADA DE FORMIGÓ O CONSTRUÏDA AMB MAONS GERO I FONS DEL MATEIX MATERIAL, REBENT EL MARC I LA DOBLE TAPA TRIANGULAR CORRESPONENT, INCLOSOS SUBMINISTRAMENT D'AQUESTS. DEMOLICIÓ PAVIMENT, EXCAVACIÓ I POSTERIOR REPOSICIÓ.TOTALMENT ACABAT I EXECUTAT SEGONS PLEC. | E16: 1 | F16: =VLOOKUP(B16,'Preus Unitaris'!$B$6:$F$105,4,FALSE) -> 298.62 | G16: =ROUND(F16*E16,2) -> 298.62
B17: ='Preus Unitaris'!B18 -> OC12 | C17: =VLOOKUP(B17,'Preus Unitaris'!$B$6:$F$105,2,FALSE) -> UT | D17: =VLOOKUP(B17,'Preus Unitaris'!$B$6:$F$105,3,FALSE) -> RECONVERSIÓ PERICÓ DE 40X40 A PERICÓ DE 60X60. INCLOU TREBALLS DE CONSTRUCCIÓ DE L'ESTRUCTURA AMB MAONS, FORMIGÓ I LA TAPA I MARC DE FERRO, AIXÍ COM ELS TREBALLS DE MÀ D'OBRA. | E17: 0 | F17: =VLOOKUP(B17,'Preus Unitaris'!$B$6:$F$105,4,FALSE) -> 101.65 | G17: =ROUND(F17*E17,2) -> 0
B18: ='Preus Unitaris'!B19 -> OC13 | C18: =VLOOKUP(B18,'Preus Unitaris'!$B$6:$F$105,2,FALSE) -> UT | D18: =VLOOKUP(B18,'Preus Unitaris'!$B$6:$F$105,3,FALSE) -> SUBMINISTRAMENT, INSTAL·LACIÓ I CONNEXIÓ DE PLACA DE PRESA DE TERRA DE 500 x 500 x 3 mm EN PERICÓ DE REGISTRE. INCLOSA OBRA CIVIL NECESSÀRIA. TOTALMENT EXECUTAT | E18: 1 | F18: =VLOOKUP(B18,'Preus Unitaris'!$B$6:$F$105,4,FALSE) -> 55.37 | G18: =ROUND(F18*E18,2) -> 55.37
B19: ='Preus Unitaris'!B22 -> OC16 | C19: =VLOOKUP(B19,'Preus Unitaris'!$B$6:$F$105,2,FALSE) -> UT | D19: =VLOOKUP(B19,'Preus Unitaris'!$B$6:$F$105,3,FALSE) -> OBTURACIÓ DE TUBULAR AMB O SENSE CABLES EXISTENTS. | E19: 62 | F19: =VLOOKUP(B19,'Preus Unitaris'!$B$6:$F$105,4,FALSE) -> 0.62 | G19: =ROUND(F19*E19,2) -> 38.44
B20: ='Preus Unitaris'!B23 -> OC17 | C20: =VLOOKUP(B20,'Preus Unitaris'!$B$6:$F$105,2,FALSE) -> UT | D20: =VLOOKUP(B20,'Preus Unitaris'!$B$6:$F$105,3,FALSE) -> EMBOCADURA DE TUBULARS A PERICÓ REGISTRE EXISTENT, INCLÚS PROTECCIÓ CABLES EXISTENTS, PASSAMURS, SEGELLAT TUBS AMB PARET PERICÓ I ENLLUÏMENT INTERIOR PARET PERICÓ. TOTALMENT EXECUTADA. | E20: 3 | F20: =VLOOKUP(B20,'Preus Unitaris'!$B$6:$F$105,4,FALSE) -> 59.06 | G20: =ROUND(F20*E20,2) -> 177.18
B21: ='Preus Unitaris'!B24 -> OC18 | C21: =VLOOKUP(B21,'Preus Unitaris'!$B$6:$F$105,2,FALSE) -> M2 | D21: =VLOOKUP(B21,'Preus Unitaris'!$B$6:$F$105,3,FALSE) -> ARRENCADA I REPOSICIÓ DE LLOSETES DE PANOT DE MORTER COMPRIMIT EN VORERA. RETIRADA I TRANSPORT DE RUNA A ABOCADOR AUTORITZAT. TOTALMENT EXECUTADA. | E21: 20 | F21: =VLOOKUP(B21,'Preus Unitaris'!$B$6:$F$105,4,FALSE) -> 107.402 | G21: =ROUND(F21*E21,2) -> 2148.04
B22: ='Preus Unitaris'!B25 -> OC19 | C22: =VLOOKUP(B22,'Preus Unitaris'!$B$6:$F$105,2,FALSE) -> M3 | D22: =VLOOKUP(B22,'Preus Unitaris'!$B$6:$F$105,3,FALSE) -> DEMOLICIÓ DE FORMIGÓ AMB MARTELL TRENCADOR, INCLÒS TALL D'ARMADURES AMB SOPLET, RETIRADA I TRANSPORT DE RESIDUS A DEIXALLERIA. TOTALMENT EXECUTADA. | E22: 2 | F22: =VLOOKUP(B22,'Preus Unitaris'!$B$6:$F$105,4,FALSE) -> 116.58 | G22: =ROUND(F22*E22,2) -> 233.16
B23: ='Preus Unitaris'!B26 -> OC20 | C23: =VLOOKUP(B23,'Preus Unitaris'!$B$6:$F$105,2,FALSE) -> UT | D23: =VLOOKUP(B23,'Preus Unitaris'!$B$6:$F$105,3,FALSE) -> REPARACIÓ CANALITZACIÓ VORERA, MITJANÇANT EXCAVACIÓ, SUBMINISTRAMENT I COL·LOCACIÓ TUB DE PE DE DOBLE CAPA, LLIS A L'INTERIOR I COARRUGAT A L'EXTERIOR DEL MATEIX DIÀMETRE QUE L'EXISTENT, MANEGUET D'ACOBLAMENT, PAS DEL CABLE, COL·LOCACIÓ DE MITJA CANYA, LLIGAT AMB FILFERROS I FORMIGONAT DEL CONJUNT I REPOSICIÓ DE PAVIMENT DE PANOT DE LES MATEIXES CARACTERÍSTIQUES A L'EXISTENT, PER A LLARGADES FINS A 2m, INCLÚS RETIRADA I TRANSPORT DE RESIDUS A DEIXALLERIA. TOTALMENT EXECUTADA. | E23: 5 | F23: =VLOOKUP(B23,'Preus Unitaris'!$B$6:$F$105,4,FALSE) -> 120.59 | G23: =ROUND(F23*E23,2) -> 602.95
B24: ='Preus Unitaris'!B27 -> OC21 | C24: =VLOOKUP(B24,'Preus Unitaris'!$B$6:$F$105,2,FALSE) -> UT | D24: =VLOOKUP(B24,'Preus Unitaris'!$B$6:$F$105,3,FALSE) -> CALA LOCALITZACIÓ SERVEIS, MITJANÇANT DEMOLICIÓ PAVIMENTS, EXCAVACIÓ MANUAL I POSTERIOR REBLIMENT I REPOSICIÓ DE PAVIMENT DE LES MATEIXES CARACTERÍSTIQUES A L'EXISTENT, PER A LLARGADES FINS A 2m I FINS A 60cm AMPLADA, INCLÚS RETIRADA I TRANSPORT DE RUNA A ABOCADOR AUTORITZAT. TOTALMENT EXECUTADA. | E24: 5 | F24: =VLOOKUP(B24,'Preus Unitaris'!$B$6:$F$105,4,FALSE) -> 92.29 | G24: =ROUND(F24*E24,2) -> 461.45
B25: ='Preus Unitaris'!B28 -> OC22 | C25: =VLOOKUP(B25,'Preus Unitaris'!$B$6:$F$105,2,FALSE) -> ML | D25: =VLOOKUP(B25,'Preus Unitaris'!$B$6:$F$105,3,FALSE) -> COMPROVACIÓ DE CANALITZACIÓ EXISTENT I PAS DE FIL GUIA | E25: 230 | F25: =VLOOKUP(B25,'Preus Unitaris'!$B$6:$F$105,4,FALSE) -> 1.2 | G25: =ROUND(F25*E25,2) -> 276
B26: ='Preus Unitaris'!B29 -> OC23 | C26: =VLOOKUP(B26,'Preus Unitaris'!$B$6:$F$105,2,FALSE) -> UT | D26: =VLOOKUP(B26,'Preus Unitaris'!$B$6:$F$105,3,FALSE) -> SUBMINISTRAMENT DE PEDRA DE GRANIT GRIS DE 40x40x23 cm CARES VISTES FLAMEJADES, PER GUAL BARCELONA B-120, INCLOU FORAT PER COLUMNA O BÀCUL SI FOS NECESSARI. | E26: 2 | F26: =VLOOKUP(B26,'Preus Unitaris'!$B$6:$F$105,4,FALSE) -> 133.2 | G26: =ROUND(F26*E26,2) -> 266.4
B27: ='Preus Unitaris'!B30 -> OC24 | C27: =VLOOKUP(B27,'Preus Unitaris'!$B$6:$F$105,2,FALSE) -> UT | D27: =VLOOKUP(B27,'Preus Unitaris'!$B$6:$F$105,3,FALSE) -> ARRENCADA I REPOSICIÓ (SENSE SUBMINISTRAMENT) DE PEDRA DE GRANIT GRIS DE 40x40x23 cm CARES VISTES FLAMEJADES, PER GUAL BARCELONA B-120, INCLOU FORAT PER COLUMNA O BÀCUL SI FOS NECESSARI. | E27: 2 | F27: =VLOOKUP(B27,'Preus Unitaris'!$B$6:$F$105,4,FALSE) -> 25.84 | G27: =ROUND(F27*E27,2) -> 51.68
B28: ='Preus Unitaris'!B31 -> OC25 | C28: =VLOOKUP(B28,'Preus Unitaris'!$B$6:$F$105,2,FALSE) -> UT | D28: =VLOOKUP(B28,'Preus Unitaris'!$B$6:$F$105,3,FALSE) -> SUBMINISTRAMENT DE PEDRA DE GRANIT GRIS DE 40x121,8x6 cm CARES VISTES FLAMEJADES, PER GUAL BARCELONA B-120, INCLOU TALLAT PER PERICÓ SI FOS NECESSARI. | E28: 2 | F28: =VLOOKUP(B28,'Preus Unitaris'!$B$6:$F$105,4,FALSE) -> 286.1 | G28: =ROUND(F28*E28,2) -> 572.2
B29: ='Preus Unitaris'!B32 -> OC26 | C29: =VLOOKUP(B29,'Preus Unitaris'!$B$6:$F$105,2,FALSE) -> UT | D29: =VLOOKUP(B29,'Preus Unitaris'!$B$6:$F$105,3,FALSE) -> ARRENCADA I REPOSICIÓ (SENSE SUBMINISTRAMENT) DE PEDRA DE GRANIT GRIS DE 40x121,8x6 cm CARES VISTES FLAMEJADES, PER GUAL BARCELONA B-120, INCLOU TALLAT PER PERICÓ SI FOS NECESSARI. | E29: 8 | F29: =VLOOKUP(B29,'Preus Unitaris'!$B$6:$F$105,4,FALSE) -> 25.84 | G29: =ROUND(F29*E29,2) -> 206.72
B30: ='Preus Unitaris'!B34 -> OC28 | C30: =VLOOKUP(B30,'Preus Unitaris'!$B$6:$F$105,2,FALSE) -> UT | D30: =VLOOKUP(B30,'Preus Unitaris'!$B$6:$F$105,3,FALSE) -> SUBMINISTRAMENT I INSTAL·LACIÓ DE PILONA DE PLÀSTIC AMB BANDA REFLECTANT DE COLOR VERD O BLAU AMB ALÇADA LLIURE DE 750 MM I 200 MM DE DIÀMETRE. TOTALMENT EXECUTAT. | E30: 7 | F30: =VLOOKUP(B30,'Preus Unitaris'!$B$6:$F$105,4,FALSE) -> 49.75 | G30: =ROUND(F30*E30,2) -> 348.25
B31: ='Preus Unitaris'!B36 -> OC30 | C31: =VLOOKUP(B31,'Preus Unitaris'!$B$6:$F$105,2,FALSE) -> UT | D31: =VLOOKUP(B31,'Preus Unitaris'!$B$6:$F$105,3,FALSE) -> ARRENCADA I REPOSICIÓ (SENSE SUBMINISTRAMENT) DE CONJUNT DE COIXÍ REDUCTOR DE VELOCITAT. TOTALMENT EXECUTADA. | E31: 2 | F31: =VLOOKUP(B31,'Preus Unitaris'!$B$6:$F$105,4,FALSE) -> 296 | G31: =ROUND(F31*E31,2) -> 592
B32: ='Preus Unitaris'!B37 -> OC31 | C32: =VLOOKUP(B32,'Preus Unitaris'!$B$6:$F$105,2,FALSE) -> UT | D32: =VLOOKUP(B32,'Preus Unitaris'!$B$6:$F$105,3,FALSE) -> FONAMENT DE FORMIGÓ PER A ARMARI DE CONTROL O ESCOMESA ELÈCTRICA, AMB DOSIFICACIÓ DE 250 KG/m3 I ENCOFRAT CARA VISTA, DE DIMENSIONS APROX. 800 x 800 x 500 mm AMB UN ENCASTAMENT DE 20 cm I 4 FORATS DE 110 mm. DE DIÀMETRE. INCLOU DEMOLICIÓ PAVIMENT, EXCAVACIÓ I POSTERIOR REPOSICIÓ. TOTALMENT EXECUTAT. | E32: 1 | F32: =VLOOKUP(B32,'Preus Unitaris'!$B$6:$F$105,4,FALSE) -> 235 | G32: =ROUND(F32*E32,2) -> 235
B33: ='Preus Unitaris'!B38 -> OC32 | C33: =VLOOKUP(B33,'Preus Unitaris'!$B$6:$F$105,2,FALSE) -> ML | D33: =VLOOKUP(B33,'Preus Unitaris'!$B$6:$F$105,3,FALSE) -> SUPLEMENT PER REALITZACIÓ DE CANALITZACIÓ EN VORERA DE PAVIMENT ESPECIAL, TIPUS GRANIT, LLAMBORDES O SIMILARS | E33: 1 | F33: =VLOOKUP(B33,'Preus Unitaris'!$B$6:$F$105,4,FALSE) -> 25.97 | G33: =ROUND(F33*E33,2) -> 25.97
B34: ='Preus Unitaris'!B39 -> OC33 | C34: =VLOOKUP(B34,'Preus Unitaris'!$B$6:$F$105,2,FALSE) -> UT | D34: =VLOOKUP(B34,'Preus Unitaris'!$B$6:$F$105,3,FALSE) -> PERICÓ DE 60 x 60 cm. PREFABRICAT DE FORMIGÓ O CONSTRUÏT AMB MAONS GERO I FONS DEL MATEIX MATERIAL REBENT EL MARC I LA TAPA CLASSE C-250 PER 25 TONELADES DE CARGA DE ROTURA, CUMPLEIX NORMA EN 124, INCLOSOS SUBMINISTRAMENT D'AQUESTS. DEMOLICIÓ DE PAVIMENT, EXCAVACIÓ I POSTERIOR REPOSICIÓ. TOTALMENT ACABAT I EXECUTAT SEGONS PLEC. | E34: 1 | F34: =VLOOKUP(B34,'Preus Unitaris'!$B$6:$F$105,4,FALSE) -> 304.87 | G34: =ROUND(F34*E34,2) -> 304.87
B35: ='Preus Unitaris'!B40 -> OC34 | C35: =VLOOKUP(B35,'Preus Unitaris'!$B$6:$F$106,2,FALSE) -> PAJ | D35: =VLOOKUP(B35,'Preus Unitaris'!$B$6:$F$106,3,FALSE) -> PARTIDA ALÇADA A JUSTIFICAR EXCECESSOS D'AMIDAMENT, AJUSTS DE PALETA, IMPREVISTOS DURANT L'EXECUCIÓ DELS TREBALLS D'OBRA CIVIL AMB SERVEIS AFECTATS, ACCESSOS I ELEMENTS DE VENTILACIÓ. CRUÏLLA C/CARDENAL REIG-C/POBLET. | E35: 1 | F35: =VLOOKUP(B35,'Preus Unitaris'!$B$6:$F$105,4,FALSE) -> 843.38 | G35: 843.38
D36: Subtotal Obra Civil Cruïlla Semàfors | G36: =SUM(G7:G35) -> 29113.88
B39: Instal·lacions Semafòriques
B40: ='Preus Unitaris'!B46 -> IS02 | C40: =VLOOKUP(B40,'Preus Unitaris'!$B$6:$F$105,2,FALSE) -> UT | D40: =VLOOKUP(B40,'Preus Unitaris'!$B$6:$F$105,3,FALSE) -> SUBMINISTRAMENT I INSTAL·LACIÓ DE SEMÀFOR PER A VIANANTS Vlnv 12/200 AMB DISPOSITIU PER INVIDENTS I ÒPTIQUES DE TECNOLOGIA LED DE QUALSEVOL COLOR I TIPUS NORMAL, PPC, BICI, BUS, MIXTE, ETC. MODEL CLÀSSIC O BARCELONA AMB ÀNIMA D'ALUMINI. | E40: 6 | F40: =VLOOKUP(B40,'Preus Unitaris'!$B$6:$F$105,4,FALSE) -> 553.73 | G40: =ROUND(F40*E40,2) -> 3322.38
B41: ='Preus Unitaris'!B47 -> IS03 | C41: =VLOOKUP(B41,'Preus Unitaris'!$B$6:$F$105,2,FALSE) -> UT | D41: =VLOOKUP(B41,'Preus Unitaris'!$B$6:$F$105,3,FALSE) -> SUBMINISTRAMENT I INSTAL·LACIÓ DE SEMÀFOR 13/200 AMB ÒPTIQUES DE TECNOLOGIA LED DE QUALSEVOL COLOR I TIPUS NORMAL, BICI, BUS, MIXTE, ETC. MODEL CLÀSSIC O BARCELONA AMB ÀNIMA D'ALUMINI. | E41: 5 | F41: =VLOOKUP(B41,'Preus Unitaris'!$B$6:$F$105,4,FALSE) -> 861.35 | G41: =ROUND(F41*E41,2) -> 4306.75
B42: ='Preus Unitaris'!B48 -> IS04 | C42: =VLOOKUP(B42,'Preus Unitaris'!$B$6:$F$105,2,FALSE) -> UT | D42: =VLOOKUP(B42,'Preus Unitaris'!$B$6:$F$105,3,FALSE) -> SUBMINISTRAMENT I INSTAL·LACIÓ DE SISTEMA PER A INVIDENTS COMPLET AMB ACTUACIÓ PER COMANDAMENT A DISTÀNICA MODEL BARCELONA (CIBERPAS). | E42: 6 | F42: =VLOOKUP(B42,'Preus Unitaris'!$B$6:$F$105,4,FALSE) -> 153.81 | G42: =ROUND(F42*E42,2) -> 922.86
B43: ='Preus Unitaris'!B52 -> IS08 | C43: =VLOOKUP(B43,'Preus Unitaris'!$B$6:$F$105,2,FALSE) -> UT | D43: =VLOOKUP(B43,'Preus Unitaris'!$B$6:$F$105,3,FALSE) -> SUPLEMENT PER INSTAL·LACIÓ DE SEMÀFOR A ALÇADA SUPERIOR A 4 m. | E43: 1 | F43: =VLOOKUP(B43,'Preus Unitaris'!$B$6:$F$105,4,FALSE) -> 61.53 | G43: =ROUND(F43*E43,2) -> 61.53
B44: ='Preus Unitaris'!B54 -> IS10 | C44: =VLOOKUP(B44,'Preus Unitaris'!$B$6:$F$105,2,FALSE) -> UT | D44: =VLOOKUP(B44,'Preus Unitaris'!$B$6:$F$105,3,FALSE) -> SUBMINISTRAMENT I INSTAL·LACIÓ COLUMNA POLIÈSTER-FIBRA DE VIDRE DE 2,40 m D'ALTURA ÚTIL, 100 mm DE DIÀMETRE AMB UN ESPESSOR NORMAL i 35 cm D'EMPOTRAMENT SENSE INCLOURE PEÇA TAPAJUNTES. | E44: 4 | F44: =VLOOKUP(B44,'Preus Unitaris'!$B$6:$F$105,4,FALSE) -> 135.36 | G44: =ROUND(F44*E44,2) -> 541.44
B45: ='Preus Unitaris'!B55 -> IS11 | C45: =VLOOKUP(B45,'Preus Unitaris'!$B$6:$F$105,2,FALSE) -> UT | D45: =VLOOKUP(B45,'Preus Unitaris'!$B$6:$F$105,3,FALSE) -> SUBMINISTRAMENT I INSTAL·LACIÓ BÀCUL D'ACER GALVANITZAT DE 6 m D' ALTURA ÚTIL, AMB UN BRAÇ DE 4,50 m I 190 mm DE DIÀMETRE INICIAL, AMB UN ESPESSOR DE 3 mm REFORÇAT A LA BASE AMB 4 mm FINS A SOBRE DE LA PORTA. INCLÚS PUNTA DE BÀCUL FINS A 3 m. (MODEL HOMOLOGAT). TOTALMENT MUNTAT. | E45: 1 | F45: =VLOOKUP(B45,'Preus Unitaris'!$B$6:$F$105,4,FALSE) -> 618.25 | G45: =ROUND(F45*E45,2) -> 618.25
...

Sheet Pressupost C.Reig-Tapiró
B2: PRESSUPOST SEMAFORITZACIÓ CARDENAL REIG - PINTOR TAPIRÓ | G2: DISTRICTE LES CORTS - AJT. BCN
B4: Ítem | C4: Unitat Mesura | D4: Descripció | E4: Amidament | F4: Preu Unit. € | G4: Preu Total €
B6: Obra Civil Cruïlla Semàfors
B7: ='Pressupost C.Reig-Poblet'!B7 -> OC01 | C7: =VLOOKUP(B7,'Preus Unitaris'!$B$6:$F$105,2,FALSE) -> ML | D7: =VLOOKUP(B7,'Preus Unitaris'!$B$6:$F$105,3,FALSE) -> CANALITZACIÓ EN VORERA INCLOENT SUBMINISTRAMENT I INSTAL·LACIÓ DE 1 TUB DE PE D110 mm DE DOBLE CAPA, LLIS A L'INTERIOR I CORRUGAT A L'EXTERIOR, INCLÒS EXCAVACIÓ EN RASA DE 40 x 76 cm DE PROFUNDITAT, BASE I PROTECCIÓ DE FORMIGÓ HM20, EN VORERES DE PANOT INCLÒS LA SEVA REPOSICIÓ. TOTALMENT EXECUTADA SEGONS PLEC I D'ACORD AMB LES ORDENANCES MUNICIPALS I INDICACIONS PARTICULARS D'ACEFAT. | E7: 22 | F7: =VLOOKUP(B7,'Preus Unitaris'!$B$6:$F$105,4,FALSE) -> 79.98 | G7: =ROUND(F7*E7,2) -> 1759.56
B8: ='Pressupost C.Reig-Poblet'!B8 -> OC02 | C8: =VLOOKUP(B8,'Preus Unitaris'!$B$6:$F$105,2,FALSE) -> ML | D8: =VLOOKUP(B8,'Preus Unitaris'!$B$6:$F$105,3,FALSE) -> CANALITZACIÓ EN VORERA INCLOENT SUBMINISTRAMENT I INSTAL·LACIÓ DE 2 TUBS DE PE D110 mm DE DOBLE CAPA, LLIS A L'INTERIOR I CORRUGAT A L'EXTERIOR, INCLÒS EXCAVACIÓ EN RASA DE 40 x 76 cm DE PROFUNDITAT, BASE I PROTECCIÓ DE FORMIGÓ HM20, EN VORERES DE PANOT INCLÒS LA SEVA REPOSICIÓ. TOTALMENT EXECUTADA SEGONS PLEC I D'ACORD AMB LES ORDENANCES MUNICIPALS I INDICACIONS PARTICULARS D'ACEFAT. | E8: 65 | F8: =VLOOKUP(B8,'Preus Unitaris'!$B$6:$F$105,4,FALSE) -> 81.21 | G8: =ROUND(F8*E8,2) -> 5278.65
B9: ='Preus Unitaris'!B9 -> OC03 | C9: =VLOOKUP(B9,'Preus Unitaris'!$B$6:$F$105,2,FALSE) -> ML | D9: =VLOOKUP(B9,'Preus Unitaris'!$B$6:$F$105,3,FALSE) -> CANALITZACIÓ EN CALÇADA INCLÒS SUBMINISTRAMENT I INSTAL·LACIÓ DE 4 TUBS DE PE D110 mm DE DOBLE CAPA, LLIS A L'INTERIOR I CORRUGAT A L'EXTERIOR, INCLÒS EXCAVACIÓ EN RASA DE 60 x 80 cm. DE PROFUNDITAT, BASE I PROTECCIÓ DE FORMIGÓ HM30, EN CALÇADES. TOTALMENT EXECUTADA SEGONS PLEC I D'ACORD AMB LES ORDENANCES MUNICIPALS I INDICACIONS PARTICULARS D'ACEFAT. | E9: 40 | F9: =VLOOKUP(B9,'Preus Unitaris'!$B$6:$F$105,4,FALSE) -> 258.41 | G9: =ROUND(F9*E9,2) -> 10336.4
B10: ='Preus Unitaris'!B11 -> OC05 | C10: =VLOOKUP(B10,'Preus Unitaris'!$B$6:$F$105,2,FALSE) -> ML | D10: =VLOOKUP(B10,'Preus Unitaris'!$B$6:$F$105,3,FALSE) -> SUPLEMENT PER REALITZACIÓ DE CANALITZACIÓ EN CALÇADA EN FESTIU. | E10: =E9 -> 40 | F10: =VLOOKUP(B10,'Preus Unitaris'!$B$6:$F$105,4,FALSE) -> 104.59 | G10: =ROUND(F10*E10,2) -> 4183.6
B11: ='Preus Unitaris'!B12 -> OC06 | C11: =VLOOKUP(B11,'Preus Unitaris'!$B$6:$F$105,2,FALSE) -> UT | D11: =VLOOKUP(B11,'Preus Unitaris'!$B$6:$F$105,3,FALSE) -> FONAMENT DE FORMIGÓ PER A ARMARI AMB DOSIFICACIÓ DE 250 KG/m3 I ENCOFRAT CARA VISTA DE DIMENSIONS FINS A 70 x 60 x 50 cm. AMB UN ENCASTAMENT DE 15 cm. I DOS FORATS DE 110 mm. DE DIÀMETRE. TOTALMENT EXECUTAT SEGONS PLEC, INCLOSA OBRA CIVIL NECESSÀRIA I PERNS ANCORATGE. | E11: 2 | F11: =VLOOKUP(B11,'Preus Unitaris'!$B$6:$F$105,4,FALSE) -> 410 | G11: =ROUND(F11*E11,2) -> 820
B12: ='Preus Unitaris'!B13 -> OC07 | C12: =VLOOKUP(B12,'Preus Unitaris'!$B$6:$F$105,2,FALSE) -> UT | D12: =VLOOKUP(B12,'Preus Unitaris'!$B$6:$F$105,3,FALSE) -> FONAMENT DE FORMIGÓ PER A BÀCUL , AMB DOSIFICACIÓ DE 250 KG/m3, MITJANÇANT UN DAU DE 80 cm. DE COSTAT I 100 cm. DE PROFUNDITAT, INCLÒS PERNS ANCORATGE, COLZE DE CONNEXIÓ AMB TUBULAR. INCLOU DEMOLICIÓ PAVIMENT, EXCAVACIÓ I POSTERIOR REPOSICIÓ. TOTALMENT EXECUTAT. | E12: 2 | F12: =VLOOKUP(B12,'Preus Unitaris'!$B$6:$F$105,4,FALSE) -> 252.25 | G12: =ROUND(F12*E12,2) -> 504.5
B13: ='Preus Unitaris'!B14 -> OC08 | C13: =VLOOKUP(B13,'Preus Unitaris'!$B$6:$F$105,2,FALSE) -> UT | D13: =VLOOKUP(B13,'Preus Unitaris'!$B$6:$F$105,3,FALSE) -> FONAMENT DE FORMIGÓ PER A COLUMNA FINS A 2400 mm, AMB DOSIFICACIÓ DE 250 KG/m3, MITJANÇANT UN DAU DE 40 cm. DE COSTAT I 60 cm. DE PROFUNDITAT, REBENT PEÇA ESPECIAL D'ANCORATGE, SENSE INCLOURE AQUESTA, INCLÒS COLZE DE CONNEXIÓ AMB TUBULAR. TOTALMENT EXECUTAT SEGONS PLEC. | E13: 5 | F13: =VLOOKUP(B13,'Preus Unitaris'!$B$6:$F$105,4,FALSE) -> 142.98 | G13: =ROUND(F13*E13,2) -> 714.9
B14: ='Preus Unitaris'!B16 -> OC10 | C14: =VLOOKUP(B14,'Preus Unitaris'!$B$6:$F$105,2,FALSE) -> UT | D14: =VLOOKUP(B14,'Preus Unitaris'!$B$6:$F$105,3,FALSE) -> PERICÓ DE 60 x 60 cm. PREFABRICAT DE FORMIGÓ O CONSTRUÏT AMB MAONS GERO I FONS DEL MATEIX MATERIAL REBENT EL MARC I LA TAPA CORRESPONENT, INCLOSOS SUBMINISTRAMENT D'AQUESTS. DEMOLICIÓ DE PAVIMENT, EXCAVACIÓ I POSTERIOR REPOSICIÓ. TOTALMENT ACABAT I EXECUTAT SEGONS PLEC. | E14: 8 | F14: =VLOOKUP(B14,'Preus Unitaris'!$B$6:$F$105,4,FALSE) -> 184.45 | G14: =ROUND(F14*E14,2) -> 1475.6
B15: ='Preus Unitaris'!B18 -> OC12 | C15: =VLOOKUP(B15,'Preus Unitaris'!$B$6:$F$105,2,FALSE) -> UT | D15: =VLOOKUP(B15,'Preus Unitaris'!$B$6:$F$105,3,FALSE) -> RECONVERSIÓ PERICÓ DE 40X40 A PERICÓ DE 60X60. INCLOU TREBALLS DE CONSTRUCCIÓ DE L'ESTRUCTURA AMB MAONS, FORMIGÓ I LA TAPA I MARC DE FERRO, AIXÍ COM ELS TREBALLS DE MÀ D'OBRA. | E15: 1 | F15: =VLOOKUP(B15,'Preus Unitaris'!$B$6:$F$105,4,FALSE) -> 101.65 | G15: =ROUND(F15*E15,2) -> 101.65
B16: ='Preus Unitaris'!B19 -> OC13 | C16: =VLOOKUP(B16,'Preus Unitaris'!$B$6:$F$105,2,FALSE) -> UT | D16: =VLOOKUP(B16,'Preus Unitaris'!$B$6:$F$105,3,FALSE) -> SUBMINISTRAMENT, INSTAL·LACIÓ I CONNEXIÓ DE PLACA DE PRESA DE TERRA DE 500 x 500 x 3 mm EN PERICÓ DE REGISTRE. INCLOSA OBRA CIVIL NECESSÀRIA. TOTALMENT EXECUTAT | E16: 1 | F16: =VLOOKUP(B16,'Preus Unitaris'!$B$6:$F$105,4,FALSE) -> 55.37 | G16: =ROUND(F16*E16,2) -> 55.37
B17: ='Preus Unitaris'!B22 -> OC16 | C17: =VLOOKUP(B17,'Preus Unitaris'!$B$6:$F$105,2,FALSE) -> UT | D17: =VLOOKUP(B17,'Preus Unitaris'!$B$6:$F$105,3,FALSE) -> OBTURACIÓ DE TUBULAR AMB O SENSE CABLES EXISTENTS. | E17: 62 | F17: =VLOOKUP(B17,'Preus Unitaris'!$B$6:$F$105,4,FALSE) -> 0.62 | G17: =ROUND(F17*E17,2) -> 38.44
B18: ='Preus Unitaris'!B23 -> OC17 | C18: =VLOOKUP(B18,'Preus Unitaris'!$B$6:$F$105,2,FALSE) -> UT | D18: =VLOOKUP(B18,'Preus Unitaris'!$B$6:$F$105,3,FALSE) -> EMBOCADURA DE TUBULARS A PERICÓ REGISTRE EXISTENT, INCLÚS PROTECCIÓ CABLES EXISTENTS, PASSAMURS, SEGELLAT TUBS AMB PARET PERICÓ I ENLLUÏMENT INTERIOR PARET PERICÓ. TOTALMENT EXECUTADA. | E18: 2 | F18: =VLOOKUP(B18,'Preus Unitaris'!$B$6:$F$105,4,FALSE) -> 59.06 | G18: =ROUND(F18*E18,2) -> 118.12
B19: ='Preus Unitaris'!B24 -> OC18 | C19: =VLOOKUP(B19,'Preus Unitaris'!$B$6:$F$105,2,FALSE) -> M2 | D19: =VLOOKUP(B19,'Preus Unitaris'!$B$6:$F$105,3,FALSE) -> ARRENCADA I REPOSICIÓ DE LLOSETES DE PANOT DE MORTER COMPRIMIT EN VORERA. RETIRADA I TRANSPORT DE RUNA A ABOCADOR AUTORITZAT. TOTALMENT EXECUTADA. | E19: 20 | F19: =VLOOKUP(B19,'Preus Unitaris'!$B$6:$F$105,4,FALSE) -> 107.402 | G19: =ROUND(F19*E19,2) -> 2148.04
B20: ='Preus Unitaris'!B25 -> OC19 | C20: =VLOOKUP(B20,'Preus Unitaris'!$B$6:$F$105,2,FALSE) -> M3 | D20: =VLOOKUP(B20,'Preus Unitaris'!$B$6:$F$105,3,FALSE) -> DEMOLICIÓ DE FORMIGÓ AMB MARTELL TRENCADOR, INCLÒS TALL D'ARMADURES AMB SOPLET, RETIRADA I TRANSPORT DE RESIDUS A DEIXALLERIA. TOTALMENT EXECUTADA. | E20: 2 | F20: =VLOOKUP(B20,'Preus Unitaris'!$B$6:$F$105,4,FALSE) -> 116.58 | G20: =ROUND(F20*E20,2) -> 233.16
B21: ='Preus Unitaris'!B26 -> OC20 | C21: =VLOOKUP(B21,'Preus Unitaris'!$B$6:$F$105,2,FALSE) -> UT | D21: =VLOOKUP(B21,'Preus Unitaris'!$B$6:$F$105,3,FALSE) -> REPARACIÓ CANALITZACIÓ VORERA, MITJANÇANT EXCAVACIÓ, SUBMINISTRAMENT I COL·LOCACIÓ TUB DE PE DE DOBLE CAPA, LLIS A L'INTERIOR I COARRUGAT A L'EXTERIOR DEL MATEIX DIÀMETRE QUE L'EXISTENT, MANEGUET D'ACOBLAMENT, PAS DEL CABLE, COL·LOCACIÓ DE MITJA CANYA, LLIGAT AMB FILFERROS I FORMIGONAT DEL CONJUNT I REPOSICIÓ DE PAVIMENT DE PANOT DE LES MATEIXES CARACTERÍSTIQUES A L'EXISTENT, PER A LLARGADES FINS A 2m, INCLÚS RETIRADA I TRANSPORT DE RESIDUS A DEIXALLERIA. TOTALMENT EXECUTADA. | E21: 4 | F21: =VLOOKUP(B21,'Preus Unitaris'!$B$6:$F$105,4,FALSE) -> 120.59 | G21: =ROUND(F21*E21,2) -> 482.36
B22: ='Preus Unitaris'!B27 -> OC21 | C22: =VLOOKUP(B22,'Preus Unitaris'!$B$6:$F$105,2,FALSE) -> UT | D22: =VLOOKUP(B22,'Preus Unitaris'!$B$6:$F$105,3,FALSE) -> CALA LOCALITZACIÓ SERVEIS, MITJANÇANT DEMOLICIÓ PAVIMENTS, EXCAVACIÓ MANUAL I POSTERIOR REBLIMENT I REPOSICIÓ DE PAVIMENT DE LES MATEIXES CARACTERÍSTIQUES A L'EXISTENT, PER A LLARGADES FINS A 2m I FINS A 60cm AMPLADA, INCLÚS RETIRADA I TRANSPORT DE RUNA A ABOCADOR AUTORITZAT. TOTALMENT EXECUTADA. | E22: 4 | F22: =VLOOKUP(B22,'Preus Unitaris'!$B$6:$F$105,4,FALSE) -> 92.29 | G22: =ROUND(F22*E22,2) -> 369.16
B23: ='Preus Unitaris'!B29 -> OC23 | C23: =VLOOKUP(B23,'Preus Unitaris'!$B$6:$F$105,2,FALSE) -> UT | D23: =VLOOKUP(B23,'Preus Unitaris'!$B$6:$F$105,3,FALSE) -> SUBMINISTRAMENT DE PEDRA DE GRANIT GRIS DE 40x40x23 cm CARES VISTES FLAMEJADES, PER GUAL BARCELONA B-120, INCLOU FORAT PER COLUMNA O BÀCUL SI FOS NECESSARI. | E23: 5 | F23: =VLOOKUP(B23,'Preus Unitaris'!$B$6:$F$105,4,FALSE) -> 133.2 | G23: =ROUND(F23*E23,2) -> 666
B24: ='Preus Unitaris'!B30 -> OC24 | C24: =VLOOKUP(B24,'Preus Unitaris'!$B$6:$F$105,2,FALSE) -> UT | D24: =VLOOKUP(B24,'Preus Unitaris'!$B$6:$F$105,3,FALSE) -> ARRENCADA I REPOSICIÓ (SENSE SUBMINISTRAMENT) DE PEDRA DE GRANIT GRIS DE 40x40x23 cm CARES VISTES FLAMEJADES, PER GUAL BARCELONA B-120, INCLOU FORAT PER COLUMNA O BÀCUL SI FOS NECESSARI. | E24: 5 | F24: =VLOOKUP(B24,'Preus Unitaris'!$B$6:$F$105,4,FALSE) -> 25.84 | G24: =ROUND(F24*E24,2) -> 129.2
B25: ='Preus Unitaris'!B31 -> OC25 | C25: =VLOOKUP(B25,'Preus Unitaris'!$B$6:$F$105,2,FALSE) -> UT | D25: =VLOOKUP(B25,'Preus Unitaris'!$B$6:$F$105,3,FALSE) -> SUBMINISTRAMENT DE PEDRA DE GRANIT GRIS DE 40x121,8x6 cm CARES VISTES FLAMEJADES, PER GUAL BARCELONA B-120, INCLOU TALLAT PER PERICÓ SI FOS NECESSARI. | E25: 3 | F25: =VLOOKUP(B25,'Preus Unitaris'!$B$6:$F$105,4,FALSE) -> 286.1 | G25: =ROUND(F25*E25,2) -> 858.3
B26: ='Preus Unitaris'!B32 -> OC26 | C26: =VLOOKUP(B26,'Preus Unitaris'!$B$6:$F$105,2,FALSE) -> UT | D26: =VLOOKUP(B26,'Preus Unitaris'!$B$6:$F$105,3,FALSE) -> ARRENCADA I REPOSICIÓ (SENSE SUBMINISTRAMENT) DE PEDRA DE GRANIT GRIS DE 40x121,8x6 cm CARES VISTES FLAMEJADES, PER GUAL BARCELONA B-120, INCLOU TALLAT PER PERICÓ SI FOS NECESSARI. | E26: 8 | F26: =VLOOKUP(B26,'Preus Unitaris'!$B$6:$F$105,4,FALSE) -> 25.84 | G26: =ROUND(F26*E26,2) -> 206.72
B27: OC31 | C27: =VLOOKUP(B27,'Preus Unitaris'!$B$6:$F$105,2,FALSE) -> UT | D27: =VLOOKUP(B27,'Preus Unitaris'!$B$6:$F$105,3,FALSE) -> FONAMENT DE FORMIGÓ PER A ARMARI DE CONTROL O ESCOMESA ELÈCTRICA, AMB DOSIFICACIÓ DE 250 KG/m3 I ENCOFRAT CARA VISTA, DE DIMENSIONS APROX. 800 x 800 x 500 mm AMB UN ENCASTAMENT DE 20 cm I 4 FORATS DE 110 mm. DE DIÀMETRE. INCLOU DEMOLICIÓ PAVIMENT, EXCAVACIÓ I POSTERIOR REPOSICIÓ. TOTALMENT EXECUTAT. | E27: 1 | F27: =VLOOKUP(B27,'Preus Unitaris'!$B$6:$F$105,4,FALSE) -> 235 | G27: =ROUND(F27*E27,2) -> 235
B28: OC32 | C28: =VLOOKUP(B28,'Preus Unitaris'!$B$6:$F$105,2,FALSE) -> ML | D28: =VLOOKUP(B28,'Preus Unitaris'!$B$6:$F$105,3,FALSE) -> SUPLEMENT PER REALITZACIÓ DE CANALITZACIÓ EN VORERA DE PAVIMENT ESPECIAL, TIPUS GRANIT, LLAMBORDES O SIMILARS | E28: 1 | F28: =VLOOKUP(B28,'Preus Unitaris'!$B$6:$F$105,4,FALSE) -> 25.97 | G28: =ROUND(F28*E28,2) -> 25.97
B29: OC33 | C29: =VLOOKUP(B29,'Preus Unitaris'!$B$6:$F$105,2,FALSE) -> UT | D29: =VLOOKUP(B29,'Preus Unitaris'!$B$6:$F$105,3,FALSE) -> PERICÓ DE 60 x 60 cm. PREFABRICAT DE FORMIGÓ O CONSTRUÏT AMB MAONS GERO I FONS DEL MATEIX MATERIAL REBENT EL MARC I LA TAPA CLASSE C-250 PER 25 TONELADES DE CARGA DE ROTURA, CUMPLEIX NORMA EN 124, INCLOSOS SUBMINISTRAMENT D'AQUESTS. DEMOLICIÓ DE PAVIMENT, EXCAVACIÓ I POSTERIOR REPOSICIÓ. TOTALMENT ACABAT I EXECUTAT SEGONS PLEC. | E29: 1 | F29: =VLOOKUP(B29,'Preus Unitaris'!$B$6:$F$105,4,FALSE) -> 304.87 | G29: =ROUND(F29*E29,2) -> 304.87
B30: OC35 | C30: =VLOOKUP(B30,'Preus Unitaris'!$B$6:$F$105,2,FALSE) -> PAJ | D30: =VLOOKUP(B30,'Preus Unitaris'!$B$6:$F$105,3,FALSE) -> PARTIDA ALÇADA A JUSTIFICAR EXCECESSOS D'AMIDAMENT, AJUSTS DE PALETA, IMPREVISTOS DURANT L'EXECUCIÓ DELS TREBALLS D'OBRA CIVIL AMB SERVEIS AFECTATS, ACCESSOS I ELEMENTS DE VENTILACIÓ. CRUÏLLA C/CARDENAL REIG-C/PINTOR TAPIRÓ. | E30: 1 | F30: =VLOOKUP(B30,'Preus Unitaris'!$B$6:$F$105,4,FALSE) -> 926.63 | G30: =ROUND(F30*E30,2) -> 926.63
D31: Subtotal Obra Civil Cruïlla Semàfors | G31: =SUM(G7:G30) -> 31972.2
B33: Instal·lacions Semafòriques
B34: ='Preus Unitaris'!B45 -> IS01 | C34: =VLOOKUP(B34,'Preus Unitaris'!$B$6:$F$105,2,FALSE) -> UT | D34: =VLOOKUP(B34,'Preus Unitaris'!$B$6:$F$105,3,FALSE) -> SUBMINISTRAMENT I INSTAL·LACIÓ DE SEMÀFOR 11/200 AMB ÒPTIQUES DE TECNOLOGIA LED DE QUALSEVOL COLOR I TIPUS NORMAL, BICI, BUS, MIXTE, ETC. MODEL CLÀSSIC O BARCELONA AMB ÀNIMA D'ALUMINI. | E34: 2 | F34: =VLOOKUP(B34,'Preus Unitaris'!$B$6:$F$105,4,FALSE) -> 307.63 | G34: =ROUND(F34*E34,2) -> 615.26
B35: ='Preus Unitaris'!B46 -> IS02 | C35: =VLOOKUP(B35,'Preus Unitaris'!$B$6:$F$105,2,FALSE) -> UT | D35: =VLOOKUP(B35,'Preus Unitaris'!$B$6:$F$105,3,FALSE) -> SUBMINISTRAMENT I INSTAL·LACIÓ DE SEMÀFOR PER A VIANANTS Vlnv 12/200 AMB DISPOSITIU PER INVIDENTS I ÒPTIQUES DE TECNOLOGIA LED DE QUALSEVOL COLOR I TIPUS NORMAL, PPC, BICI, BUS, MIXTE, ETC. MODEL CLÀSSIC O BARCELONA AMB ÀNIMA D'ALUMINI. | E35: 6 | F35: =VLOOKUP(B35,'Preus Unitaris'!$B$6:$F$105,4,FALSE) -> 553.73 | G35: =ROUND(F35*E35,2) -> 3322.38
B36: ='Preus Unitaris'!B47 -> IS03 | C36: =VLOOKUP(B36,'Preus Unitaris'!$B$6:$F$105,2,FALSE) -> UT | D36: =VLOOKUP(B36,'Preus Unitaris'!$B$6:$F$105,3,FALSE) -> SUBMINISTRAMENT I INSTAL·LACIÓ DE SEMÀFOR 13/200 AMB ÒPTIQUES DE TECNOLOGIA LED DE QUALSEVOL COLOR I TIPUS NORMAL, BICI, BUS, MIXTE, ETC. MODEL CLÀSSIC O BARCELONA AMB ÀNIMA D'ALUMINI. | E36: 8 | F36: =VLOOKUP(B36,'Preus Unitaris'!$B$6:$F$105,4,FALSE) -> 861.35 | G36: =ROUND(F36*E36,2) -> 6890.8
B37: ='Preus Unitaris'!B48 -> IS04 | C37: =VLOOKUP(B37,'Preus Unitaris'!$B$6:$F$105,2,FALSE) -> UT | D37: =VLOOKUP(B37,'Preus Unitaris'!$B$6:$F$105,3,FALSE) -> SUBMINISTRAMENT I INSTAL·LACIÓ DE SISTEMA PER A INVIDENTS COMPLET AMB ACTUACIÓ PER COMANDAMENT A DISTÀNICA MODEL BARCELONA (CIBERPAS). | E37: 6 | F37: =VLOOKUP(B37,'Preus Unitaris'!$B$6:$F$105,4,FALSE) -> 153.81 | G37: =ROUND(F37*E37,2) -> 922.86
B38: ='Preus Unitaris'!B52 -> IS08 | C38: =VLOOKUP(B38,'Preus Unitaris'!$B$6:$F$105,2,FALSE) -> UT | D38: =VLOOKUP(B38,'Preus Unitaris'!$B$6:$F$105,3,FALSE) -> SUPLEMENT PER INSTAL·LACIÓ DE SEMÀFOR A ALÇADA SUPERIOR A 4 m. | E38: 3 | F38: =VLOOKUP(B38,'Preus Unitaris'!$B$6:$F$105,4,FALSE) -> 61.53 | G38: =ROUND(F38*E38,2) -> 184.59
B39: ='Preus Unitaris'!B54 -> IS10 | C39: =VLOOKUP(B39,'Preus Unitaris'!$B$6:$F$105,2,FALSE) -> UT | D39: =VLOOKUP(B39,'Preus Unitaris'!$B$6:$F$105,3,FALSE) -> SUBMINISTRAMENT I INSTAL·LACIÓ COLUMNA POLIÈSTER-FIBRA DE VIDRE DE 2,40 m D'ALTURA ÚTIL, 100 mm DE DIÀMETRE AMB UN ESPESSOR NORMAL i 35 cm D'EMPOTRAMENT SENSE INCLOURE PEÇA TAPAJUNTES. | E39: 5 | F39: =VLOOKUP(B39,'Preus Unitaris'!$B$6:$F$105,4,FALSE) -> 135.36 | G39: =ROUND(F39*E39,2) -> 676.8
B40: ='Preus Unitaris'!B55 -> IS11 | C40: =VLOOKUP(B40,'Preus Unitaris'!$B$6:$F$105,2,FALSE) -> UT | D40: =VLOOKUP(B40,'Preus Unitaris'!$B$6:$F$105,3,FALSE) -> SUBMINISTRAMENT I INSTAL·LACIÓ BÀCUL D'ACER GALVANITZAT DE 6 m D' ALTURA ÚTIL, AMB UN BRAÇ DE 4,50 m I 190 mm DE DIÀMETRE INICIAL, AMB UN ESPESSOR DE 3 mm REFORÇAT A LA BASE AMB 4 mm FINS A SOBRE DE LA PORTA. INCLÚS PUNTA DE BÀCUL FINS A 3 m. (MODEL HOMOLOGAT). TOTALMENT MUNTAT. | E40: 2 | F40: =VLOOKUP(B40,'Preus Unitaris'!$B$6:$F$105,4,FALSE) -> 618.25 | G40: =ROUND(F40*E40,2) -> 1236.5
B41: ='Preus Unitaris'!B56 -> IS12 | C41: =VLOOKUP(B41,'Preus Unitaris'!$B$6:$F$105,2,FALSE) -> UT | D41: =VLOOKUP(B41,'Preus Unitaris'!$B$6:$F$105,3,FALSE) -> SUBMINISTRAMENT I INSTAL·LACIÓ DE SUPORT DE 150 mm DE SORTINT PER A SUSTENTACIÓ D'UN SEMÀFOR MODEL CLÀSSIC O BARCELONA | E41: 8 | F41: =VLOOKUP(B41,'Preus Unitaris'!$B$6:$F$105,4,FALSE) -> 43.34 | G41: =ROUND(F41*E41,2) -> 346.72
B42: ='Preus Unitaris'!B57 -> IS13 | C42: =VLOOKUP(B42,'Preus Unitaris'!$B$6:$F$105,2,FALSE) -> UT | D42: =VLOOKUP(B42,'Preus Unitaris'!$B$6:$F$105,3,FALSE) -> SUBMINISTRAMENT I INSTAL·LACIÓ DE SUPORT DOBLE PER A SUSTENTACIÓ DE DOS SEMÀFORS MODEL CLÀSSIC O BARCELONA | E42: 1 | F42: =VLOOKUP(B42,'Preus Unitaris'!$B$6:$F$105,4,FALSE) -> 60.67 | G42: =ROUND(F42*E42,2) -> 60.67
B43: ='Preus Unitaris'!B58 -> IS14 | C43: =VLOOKUP(B43,'Preus Unitaris'!$B$6:$F$105,2,FALSE) -> UT | D43: =VLOOKUP(B43,'Preus Unitaris'!$B$6:$F$105,3,FALSE) -> SUBMINISTRAMENT I INSTAL·LACIÓ DE BAIXANT DE BÀCUL PER SEMÀFOR MODEL CLÀSSIC O BARCELONA. | E43: 3 | F43: =VLOOKUP(B43,'Preus Unitaris'!$B$6:$F$105,4,FALSE) -> 22.88 | G43: =ROUND(F43*E43,2) -> 68.64
B44: ='Preus Unitaris'!B59 -> IS15 | C44: =VLOOKUP(B44,'Preus Unitaris'!$B$6:$F$105,2,FALSE) -> UT | D44: =VLOOKUP(B44,'Preus Unitaris'!$B$6:$F$105,3,FALSE) -> SUBMINISTRAMENT I INSTAL·LACIÓ DE CASQUET METÀL·LIC DE SEMÀFOR S9 PER ACOPLAMENT DE SENYALITZACIÓ VERTICAL. | E44: 4 | F44: =VLOOKUP(B44,'Preus Unitaris'!$B$6:$F$105,4,FALSE) -> 19.83 | G44: =ROUND(F44*E44,2) -> 79.32
...

Sheet Pressupost C.Reig-Aurora Bertra
B2: PRESSUPOST SEMAFORITZACIÓ CARDENAL REIG - AURORA BERTRANA | G2: DISTRICTE LES CORTS - AJT. BCN
B4: Ítem | C4: Unitat Mesura | D4: Descripció | E4: Amidament | F4: Preu Unit. € | G4: Preu Total €
B6: Obra Civil Cruïlla Semàfors
B7: ='Preus Unitaris'!B7 -> OC01 | C7: =VLOOKUP(B7,'Preus Unitaris'!$B$6:$F$105,2,FALSE) -> ML | D7: =VLOOKUP(B7,'Preus Unitaris'!$B$6:$F$105,3,FALSE) -> CANALITZACIÓ EN VORERA INCLOENT SUBMINISTRAMENT I INSTAL·LACIÓ DE 1 TUB DE PE D110 mm DE DOBLE CAPA, LLIS A L'INTERIOR I CORRUGAT A L'EXTERIOR, INCLÒS EXCAVACIÓ EN RASA DE 40 x 76 cm DE PROFUNDITAT, BASE I PROTECCIÓ DE FORMIGÓ HM20, EN VORERES DE PANOT INCLÒS LA SEVA REPOSICIÓ. TOTALMENT EXECUTADA SEGONS PLEC I D'ACORD AMB LES ORDENANCES MUNICIPALS I INDICACIONS PARTICULARS D'ACEFAT. | E7: 16 | F7: =VLOOKUP(B7,'Preus Unitaris'!$B$6:$F$105,4,FALSE) -> 79.98 | G7: =ROUND(F7*E7,2) -> 1279.68
B8: ='Preus Unitaris'!B8 -> OC02 | C8: =VLOOKUP(B8,'Preus Unitaris'!$B$6:$F$105,2,FALSE) -> ML | D8: =VLOOKUP(B8,'Preus Unitaris'!$B$6:$F$105,3,FALSE) -> CANALITZACIÓ EN VORERA INCLOENT SUBMINISTRAMENT I INSTAL·LACIÓ DE 2 TUBS DE PE D110 mm DE DOBLE CAPA, LLIS A L'INTERIOR I CORRUGAT A L'EXTERIOR, INCLÒS EXCAVACIÓ EN RASA DE 40 x 76 cm DE PROFUNDITAT, BASE I PROTECCIÓ DE FORMIGÓ HM20, EN VORERES DE PANOT INCLÒS LA SEVA REPOSICIÓ. TOTALMENT EXECUTADA SEGONS PLEC I D'ACORD AMB LES ORDENANCES MUNICIPALS I INDICACIONS PARTICULARS D'ACEFAT. | E8: 50 | F8: =VLOOKUP(B8,'Preus Unitaris'!$B$6:$F$105,4,FALSE) -> 81.21 | G8: =ROUND(F8*E8,2) -> 4060.5
B9: ='Preus Unitaris'!B9 -> OC03 | C9: =VLOOKUP(B9,'Preus Unitaris'!$B$6:$F$105,2,FALSE) -> ML | D9: =VLOOKUP(B9,'Preus Unitaris'!$B$6:$F$105,3,FALSE) -> CANALITZACIÓ EN CALÇADA INCLÒS SUBMINISTRAMENT I INSTAL·LACIÓ DE 4 TUBS DE PE D110 mm DE DOBLE CAPA, LLIS A L'INTERIOR I CORRUGAT A L'EXTERIOR, INCLÒS EXCAVACIÓ EN RASA DE 60 x 80 cm. DE PROFUNDITAT, BASE I PROTECCIÓ DE FORMIGÓ HM30, EN CALÇADES. TOTALMENT EXECUTADA SEGONS PLEC I D'ACORD AMB LES ORDENANCES MUNICIPALS I INDICACIONS PARTICULARS D'ACEFAT. | E9: 25 | F9: =VLOOKUP(B9,'Preus Unitaris'!$B$6:$F$105,4,FALSE) -> 258.41 | G9: =ROUND(F9*E9,2) -> 6460.25
B10: ='Preus Unitaris'!B11 -> OC05 | C10: =VLOOKUP(B10,'Preus Unitaris'!$B$6:$F$105,2,FALSE) -> ML | D10: =VLOOKUP(B10,'Preus Unitaris'!$B$6:$F$105,3,FALSE) -> SUPLEMENT PER REALITZACIÓ DE CANALITZACIÓ EN CALÇADA EN FESTIU. | E10: =E9 -> 25 | F10: =VLOOKUP(B10,'Preus Unitaris'!$B$6:$F$105,4,FALSE) -> 104.59 | G10: =ROUND(F10*E10,2) -> 2614.75
B11: ='Preus Unitaris'!B14 -> OC08 | C11: =VLOOKUP(B11,'Preus Unitaris'!$B$6:$F$105,2,FALSE) -> UT | D11: =VLOOKUP(B11,'Preus Unitaris'!$B$6:$F$105,3,FALSE) -> FONAMENT DE FORMIGÓ PER A COLUMNA FINS A 2400 mm, AMB DOSIFICACIÓ DE 250 KG/m3, MITJANÇANT UN DAU DE 40 cm. DE COSTAT I 60 cm. DE PROFUNDITAT, REBENT PEÇA ESPECIAL D'ANCORATGE, SENSE INCLOURE AQUESTA, INCLÒS COLZE DE CONNEXIÓ AMB TUBULAR. TOTALMENT EXECUTAT SEGONS PLEC. | E11: 5 | F11: =VLOOKUP(B11,'Preus Unitaris'!$B$6:$F$105,4,FALSE) -> 142.98 | G11: =ROUND(F11*E11,2) -> 714.9
B12: ='Preus Unitaris'!B16 -> OC10 | C12: =VLOOKUP(B12,'Preus Unitaris'!$B$6:$F$105,2,FALSE) -> UT | D12: =VLOOKUP(B12,'Preus Unitaris'!$B$6:$F$105,3,FALSE) -> PERICÓ DE 60 x 60 cm. PREFABRICAT DE FORMIGÓ O CONSTRUÏT AMB MAONS GERO I FONS DEL MATEIX MATERIAL REBENT EL MARC I LA TAPA CORRESPONENT, INCLOSOS SUBMINISTRAMENT D'AQUESTS. DEMOLICIÓ DE PAVIMENT, EXCAVACIÓ I POSTERIOR REPOSICIÓ. TOTALMENT ACABAT I EXECUTAT SEGONS PLEC. | E12: 5 | F12: =VLOOKUP(B12,'Preus Unitaris'!$B$6:$F$105,4,FALSE) -> 184.45 | G12: =ROUND(F12*E12,2) -> 922.25
B13: ='Preus Unitaris'!B22 -> OC16 | C13: =VLOOKUP(B13,'Preus Unitaris'!$B$6:$F$105,2,FALSE) -> UT | D13: =VLOOKUP(B13,'Preus Unitaris'!$B$6:$F$105,3,FALSE) -> OBTURACIÓ DE TUBULAR AMB O SENSE CABLES EXISTENTS. | E13: 46 | F13: =VLOOKUP(B13,'Preus Unitaris'!$B$6:$F$105,4,FALSE) -> 0.62 | G13: =ROUND(F13*E13,2) -> 28.52
B14: ='Preus Unitaris'!B23 -> OC17 | C14: =VLOOKUP(B14,'Preus Unitaris'!$B$6:$F$105,2,FALSE) -> UT | D14: =VLOOKUP(B14,'Preus Unitaris'!$B$6:$F$105,3,FALSE) -> EMBOCADURA DE TUBULARS A PERICÓ REGISTRE EXISTENT, INCLÚS PROTECCIÓ CABLES EXISTENTS, PASSAMURS, SEGELLAT TUBS AMB PARET PERICÓ I ENLLUÏMENT INTERIOR PARET PERICÓ. TOTALMENT EXECUTADA. | E14: 2 | F14: =VLOOKUP(B14,'Preus Unitaris'!$B$6:$F$105,4,FALSE) -> 59.06 | G14: =ROUND(F14*E14,2) -> 118.12
B15: ='Preus Unitaris'!B24 -> OC18 | C15: =VLOOKUP(B15,'Preus Unitaris'!$B$6:$F$105,2,FALSE) -> M2 | D15: =VLOOKUP(B15,'Preus Unitaris'!$B$6:$F$105,3,FALSE) -> ARRENCADA I REPOSICIÓ DE LLOSETES DE PANOT DE MORTER COMPRIMIT EN VORERA. RETIRADA I TRANSPORT DE RUNA A ABOCADOR AUTORITZAT. TOTALMENT EXECUTADA. | E15: 20 | F15: =VLOOKUP(B15,'Preus Unitaris'!$B$6:$F$105,4,FALSE) -> 107.402 | G15: =ROUND(F15*E15,2) -> 2148.04
B16: ='Preus Unitaris'!B25 -> OC19 | C16: =VLOOKUP(B16,'Preus Unitaris'!$B$6:$F$105,2,FALSE) -> M3 | D16: =VLOOKUP(B16,'Preus Unitaris'!$B$6:$F$105,3,FALSE) -> DEMOLICIÓ DE FORMIGÓ AMB MARTELL TRENCADOR, INCLÒS TALL D'ARMADURES AMB SOPLET, RETIRADA I TRANSPORT DE RESIDUS A DEIXALLERIA. TOTALMENT EXECUTADA. | E16: 2 | F16: =VLOOKUP(B16,'Preus Unitaris'!$B$6:$F$105,4,FALSE) -> 116.58 | G16: =ROUND(F16*E16,2) -> 233.16
B17: ='Preus Unitaris'!B26 -> OC20 | C17: =VLOOKUP(B17,'Preus Unitaris'!$B$6:$F$105,2,FALSE) -> UT | D17: =VLOOKUP(B17,'Preus Unitaris'!$B$6:$F$105,3,FALSE) -> REPARACIÓ CANALITZACIÓ VORERA, MITJANÇANT EXCAVACIÓ, SUBMINISTRAMENT I COL·LOCACIÓ TUB DE PE DE DOBLE CAPA, LLIS A L'INTERIOR I COARRUGAT A L'EXTERIOR DEL MATEIX DIÀMETRE QUE L'EXISTENT, MANEGUET D'ACOBLAMENT, PAS DEL CABLE, COL·LOCACIÓ DE MITJA CANYA, LLIGAT AMB FILFERROS I FORMIGONAT DEL CONJUNT I REPOSICIÓ DE PAVIMENT DE PANOT DE LES MATEIXES CARACTERÍSTIQUES A L'EXISTENT, PER A LLARGADES FINS A 2m, INCLÚS RETIRADA I TRANSPORT DE RESIDUS A DEIXALLERIA. TOTALMENT EXECUTADA. | E17: 8 | F17: =VLOOKUP(B17,'Preus Unitaris'!$B$6:$F$105,4,FALSE) -> 120.59 | G17: =ROUND(F17*E17,2) -> 964.72
B18: ='Preus Unitaris'!B27 -> OC21 | C18: =VLOOKUP(B18,'Preus Unitaris'!$B$6:$F$105,2,FALSE) -> UT | D18: =VLOOKUP(B18,'Preus Unitaris'!$B$6:$F$105,3,FALSE) -> CALA LOCALITZACIÓ SERVEIS, MITJANÇANT DEMOLICIÓ PAVIMENTS, EXCAVACIÓ MANUAL I POSTERIOR REBLIMENT I REPOSICIÓ DE PAVIMENT DE LES MATEIXES CARACTERÍSTIQUES A L'EXISTENT, PER A LLARGADES FINS A 2m I FINS A 60cm AMPLADA, INCLÚS RETIRADA I TRANSPORT DE RUNA A ABOCADOR AUTORITZAT. TOTALMENT EXECUTADA. | E18: 4 | F18: =VLOOKUP(B18,'Preus Unitaris'!$B$6:$F$105,4,FALSE) -> 92.29 | G18: =ROUND(F18*E18,2) -> 369.16
B19: ='Preus Unitaris'!B28 -> OC22 | C19: =VLOOKUP(B19,'Preus Unitaris'!$B$6:$F$105,2,FALSE) -> ML | D19: =VLOOKUP(B19,'Preus Unitaris'!$B$6:$F$105,3,FALSE) -> COMPROVACIÓ DE CANALITZACIÓ EXISTENT I PAS DE FIL GUIA | E19: 15 | F19: =VLOOKUP(B19,'Preus Unitaris'!$B$6:$F$105,4,FALSE) -> 1.2 | G19: =ROUND(F19*E19,2) -> 18
B20: ='Preus Unitaris'!B29 -> OC23 | C20: =VLOOKUP(B20,'Preus Unitaris'!$B$6:$F$105,2,FALSE) -> UT | D20: =VLOOKUP(B20,'Preus Unitaris'!$B$6:$F$105,3,FALSE) -> SUBMINISTRAMENT DE PEDRA DE GRANIT GRIS DE 40x40x23 cm CARES VISTES FLAMEJADES, PER GUAL BARCELONA B-120, INCLOU FORAT PER COLUMNA O BÀCUL SI FOS NECESSARI. | E20: 3 | F20: =VLOOKUP(B20,'Preus Unitaris'!$B$6:$F$105,4,FALSE) -> 133.2 | G20: =ROUND(F20*E20,2) -> 399.6
B21: ='Preus Unitaris'!B30 -> OC24 | C21: =VLOOKUP(B21,'Preus Unitaris'!$B$6:$F$105,2,FALSE) -> UT | D21: =VLOOKUP(B21,'Preus Unitaris'!$B$6:$F$105,3,FALSE) -> ARRENCADA I REPOSICIÓ (SENSE SUBMINISTRAMENT) DE PEDRA DE GRANIT GRIS DE 40x40x23 cm CARES VISTES FLAMEJADES, PER GUAL BARCELONA B-120, INCLOU FORAT PER COLUMNA O BÀCUL SI FOS NECESSARI. | E21: 5 | F21: =VLOOKUP(B21,'Preus Unitaris'!$B$6:$F$105,4,FALSE) -> 25.84 | G21: =ROUND(F21*E21,2) -> 129.2
B22: ='Preus Unitaris'!B31 -> OC25 | C22: =VLOOKUP(B22,'Preus Unitaris'!$B$6:$F$105,2,FALSE) -> UT | D22: =VLOOKUP(B22,'Preus Unitaris'!$B$6:$F$105,3,FALSE) -> SUBMINISTRAMENT DE PEDRA DE GRANIT GRIS DE 40x121,8x6 cm CARES VISTES FLAMEJADES, PER GUAL BARCELONA B-120, INCLOU TALLAT PER PERICÓ SI FOS NECESSARI. | E22: 3 | F22: =VLOOKUP(B22,'Preus Unitaris'!$B$6:$F$105,4,FALSE) -> 286.1 | G22: =ROUND(F22*E22,2) -> 858.3
B23: ='Preus Unitaris'!B32 -> OC26 | C23: =VLOOKUP(B23,'Preus Unitaris'!$B$6:$F$105,2,FALSE) -> UT | D23: =VLOOKUP(B23,'Preus Unitaris'!$B$6:$F$105,3,FALSE) -> ARRENCADA I REPOSICIÓ (SENSE SUBMINISTRAMENT) DE PEDRA DE GRANIT GRIS DE 40x121,8x6 cm CARES VISTES FLAMEJADES, PER GUAL BARCELONA B-120, INCLOU TALLAT PER PERICÓ SI FOS NECESSARI. | E23: 8 | F23: =VLOOKUP(B23,'Preus Unitaris'!$B$6:$F$105,4,FALSE) -> 25.84 | G23: =ROUND(F23*E23,2) -> 206.72
B24: OC30 | C24: =VLOOKUP(B24,'Preus Unitaris'!$B$6:$F$105,2,FALSE) -> UT | D24: =VLOOKUP(B24,'Preus Unitaris'!$B$6:$F$105,3,FALSE) -> ARRENCADA I REPOSICIÓ (SENSE SUBMINISTRAMENT) DE CONJUNT DE COIXÍ REDUCTOR DE VELOCITAT. TOTALMENT EXECUTADA. | E24: 4 | F24: =VLOOKUP(B24,'Preus Unitaris'!$B$6:$F$105,4,FALSE) -> 296 | G24: =ROUND(F24*E24,2) -> 1184
B25: OC33 | C25: =VLOOKUP(B25,'Preus Unitaris'!$B$6:$F$105,2,FALSE) -> UT | D25: =VLOOKUP(B25,'Preus Unitaris'!$B$6:$F$105,3,FALSE) -> PERICÓ DE 60 x 60 cm. PREFABRICAT DE FORMIGÓ O CONSTRUÏT AMB MAONS GERO I FONS DEL MATEIX MATERIAL REBENT EL MARC I LA TAPA CLASSE C-250 PER 25 TONELADES DE CARGA DE ROTURA, CUMPLEIX NORMA EN 124, INCLOSOS SUBMINISTRAMENT D'AQUESTS. DEMOLICIÓ DE PAVIMENT, EXCAVACIÓ I POSTERIOR REPOSICIÓ. TOTALMENT ACABAT I EXECUTAT SEGONS PLEC. | E25: 1 | F25: =VLOOKUP(B25,'Preus Unitaris'!$B$6:$F$105,4,FALSE) -> 304.87 | G25: =ROUND(F25*E25,2) -> 304.87
B26: ='Preus Unitaris'!B42 -> OC36 | C26: =VLOOKUP(B26,'Preus Unitaris'!$B$6:$F$105,2,FALSE) -> PAJ | D26: =VLOOKUP(B26,'Preus Unitaris'!$B$6:$F$105,3,FALSE) -> PARTIDA ALÇADA A JUSTIFICAR EXCECESSOS D'AMIDAMENT, AJUSTS DE PALETA, IMPREVISTOS DURANT L'EXECUCIÓ DELS TREBALLS D'OBRA CIVIL AMB SERVEIS AFECTATS, ACCESSOS I ELEMENTS DE VENTILACIÓ. CRUÏLLA C/CARDENAL REIG-C/AURORA BERTRANA. | E26: 1 | F26: =VLOOKUP(B26,'Preus Unitaris'!$B$6:$F$105,4,FALSE) -> 690.44 | G26: =ROUND(F26*E26,2) -> 690.44
D27: Subtotal Obra Civil Cruïlla Semàfors | G27: =SUM(G7:G26) -> 23705.18
B29: Instal·lacions Semafòriques
B30: ='Preus Unitaris'!B46 -> IS02 | C30: =VLOOKUP(B30,'Preus Unitaris'!$B$6:$F$105,2,FALSE) -> UT | D30: =VLOOKUP(B30,'Preus Unitaris'!$B$6:$F$105,3,FALSE) -> SUBMINISTRAMENT I INSTAL·LACIÓ DE SEMÀFOR PER A VIANANTS Vlnv 12/200 AMB DISPOSITIU PER INVIDENTS I ÒPTIQUES DE TECNOLOGIA LED DE QUALSEVOL COLOR I TIPUS NORMAL, PPC, BICI, BUS, MIXTE, ETC. MODEL CLÀSSIC O BARCELONA AMB ÀNIMA D'ALUMINI. | E30: 6 | F30: =VLOOKUP(B30,'Preus Unitaris'!$B$6:$F$105,4,FALSE) -> 553.73 | G30: =ROUND(F30*E30,2) -> 3322.38
B31: ='Preus Unitaris'!B47 -> IS03 | C31: =VLOOKUP(B31,'Preus Unitaris'!$B$6:$F$105,2,FALSE) -> UT | D31: =VLOOKUP(B31,'Preus Unitaris'!$B$6:$F$105,3,FALSE) -> SUBMINISTRAMENT I INSTAL·LACIÓ DE SEMÀFOR 13/200 AMB ÒPTIQUES DE TECNOLOGIA LED DE QUALSEVOL COLOR I TIPUS NORMAL, BICI, BUS, MIXTE, ETC. MODEL CLÀSSIC O BARCELONA AMB ÀNIMA D'ALUMINI. | E31: 6 | F31: =VLOOKUP(B31,'Preus Unitaris'!$B$6:$F$105,4,FALSE) -> 861.35 | G31: =ROUND(F31*E31,2) -> 5168.1
B32: ='Preus Unitaris'!B48 -> IS04 | C32: =VLOOKUP(B32,'Preus Unitaris'!$B$6:$F$105,2,FALSE) -> UT | D32: =VLOOKUP(B32,'Preus Unitaris'!$B$6:$F$105,3,FALSE) -> SUBMINISTRAMENT I INSTAL·LACIÓ DE SISTEMA PER A INVIDENTS COMPLET AMB ACTUACIÓ PER COMANDAMENT A DISTÀNICA MODEL BARCELONA (CIBERPAS). | E32: 6 | F32: =VLOOKUP(B32,'Preus Unitaris'!$B$6:$F$105,4,FALSE) -> 153.81 | G32: =ROUND(F32*E32,2) -> 922.86
B33: ='Preus Unitaris'!B52 -> IS08 | C33: =VLOOKUP(B33,'Preus Unitaris'!$B$6:$F$105,2,FALSE) -> UT | D33: =VLOOKUP(B33,'Preus Unitaris'!$B$6:$F$105,3,FALSE) -> SUPLEMENT PER INSTAL·LACIÓ DE SEMÀFOR A ALÇADA SUPERIOR A 4 m. | E33: 0 | F33: =VLOOKUP(B33,'Preus Unitaris'!$B$6:$F$105,4,FALSE) -> 61.53 | G33: =ROUND(F33*E33,2) -> 0
