Workbook
Name OLE_LINK1: 'Manteniment TRES CRUÏLLES'!$B$2
Name Print_Area: RESUM!$A$2:$I$48

Sheet Preus Unitaris
B2: PREUS UNITARIS | E2: DISTRICTE LES CORTS - AJT. BCN
B4: Ítem | C4: Unitat Mesura | D4: Descripció | E4: Preu Unit. €
B6: Obra Civil
B7: OC01 | C7: ML | D7: CANALITZACIÓ EN VORERA INCLOENT SUBMINISTRAMENT I INSTAL·LACIÓ DE 1 TUB DE PE D110 mm DE DOBLE CAPA, LLIS A L'INTERIOR I CORRUGAT A L'EXTERIOR, INCLÒS EXCAVACIÓ EN RASA DE 40 x 76 cm DE PROFUNDITAT, BASE I PROTECCIÓ DE FORMIGÓ HM20, EN VORERES DE PANOT INCLÒS LA SEVA REPOSICIÓ. TOTALMENT EXECUTADA SEGONS PLEC I D'ACORD AMB LES ORDENANCES MUNICIPALS I INDICACIONS PARTICULARS D'ACEFAT. | E7: 79.98
B8: OC02 | C8: ML | D8: CANALITZACIÓ EN VORERA INCLOENT SUBMINISTRAMENT I INSTAL·LACIÓ DE 2 TUBS DE PE D110 mm DE DOBLE CAPA, LLIS A L'INTERIOR I CORRUGAT A L'EXTERIOR, INCLÒS EXCAVACIÓ EN RASA DE 40 x 76 cm DE PROFUNDITAT, BASE I PROTECCIÓ DE FORMIGÓ HM20, EN VORERES DE PANOT INCLÒS LA SEVA REPOSICIÓ. TOTALMENT EXECUTADA SEGONS PLEC I D'ACORD AMB LES ORDENANCES MUNICIPALS I INDICACIONS PARTICULARS D'ACEFAT. | E8: 81.21
B9: OC03 | C9: ML | D9: CANALITZACIÓ EN CALÇADA INCLÒS SUBMINISTRAMENT I INSTAL·LACIÓ DE 4 TUBS DE PE D110 mm DE DOBLE CAPA, LLIS A L'INTERIOR I CORRUGAT A L'EXTERIOR, INCLÒS EXCAVACIÓ EN RASA DE 60 x 80 cm. DE PROFUNDITAT, BASE I PROTECCIÓ DE FORMIGÓ HM30, EN CALÇADES. TOTALMENT EXECUTADA SEGONS PLEC I D'ACORD AMB LES ORDENANCES MUNICIPALS I INDICACIONS PARTICULARS D'ACEFAT. | E9: =258.41 -> 258.41
B10: OC04 | C10: ML | D10: CANALITZACIÓ EN VORERA INCLOENT SUBMINISTRAMENT I INSTAL·LACIÓ DE 2 TUBS DE PE D125 mm DE DOBLE CAPA, LLIS A L'INTERIOR I CORRUGAT A L'EXTERIOR, INCLÒS EXCAVACIÓ EN RASA DE 40 x 76 cm DE PROFUNDITAT, BASE I PROTECCIÓ DE FORMIGÓ HM20, EN VORERES DE PANOT INCLÒS LA SEVA REPOSICIÓ. TOTALMENT EXECUTADA SEGONS PLEC I D'ACORD AMB LES ORDENANCES MUNICIPALS I INDICACIONS PARTICULARS D'ACEFAT. | E10: 83.14
B11: OC05 | C11: ML | D11: SUPLEMENT PER REALITZACIÓ DE CANALITZACIÓ EN CALÇADA EN FESTIU. | E11: 104.59
B12: OC06 | C12: UT | D12: FONAMENT DE FORMIGÓ PER A ARMARI AMB DOSIFICACIÓ DE 250 KG/m3 I ENCOFRAT CARA VISTA DE DIMENSIONS FINS A 70 x 60 x 50 cm. AMB UN ENCASTAMENT DE 15 cm. I DOS FORATS DE 110 mm. DE DIÀMETRE. TOTALMENT EXECUTAT SEGONS PLEC, INCLOSA OBRA CIVIL NECESSÀRIA I PERNS ANCORATGE. | E12: 410
B13: OC07 | C13: UT | D13: FONAMENT DE FORMIGÓ PER A BÀCUL , AMB DOSIFICACIÓ DE 250 KG/m3, MITJANÇANT UN DAU DE 80 cm. DE COSTAT I 100 cm. DE PROFUNDITAT, INCLÒS PERNS ANCORATGE, COLZE DE CONNEXIÓ AMB TUBULAR. INCLOU DEMOLICIÓ PAVIMENT, EXCAVACIÓ I POSTERIOR REPOSICIÓ. TOTALMENT EXECUTAT. | E13: =252.25 -> 252.25
B14: OC08 | C14: UT | D14: FONAMENT DE FORMIGÓ PER A COLUMNA FINS A 2400 mm, AMB DOSIFICACIÓ DE 250 KG/m3, MITJANÇANT UN DAU DE 40 cm. DE COSTAT I 60 cm. DE PROFUNDITAT, REBENT PEÇA ESPECIAL D'ANCORATGE, SENSE INCLOURE AQUESTA, INCLÒS COLZE DE CONNEXIÓ AMB TUBULAR. TOTALMENT EXECUTAT SEGONS PLEC. | E14: =142.98 -> 142.98
B15: OC09 | C15: UT | D15: PERICÓ DE 40 x 40 cm. PREFABRICAT DE FORMIGÓ O CONSTRUÏT AMB MAONS GERO I FONS DEL MATEIX MATERIAL REBENT EL MARC I LA TAPA CORRESPONENT, INCLOSOS SUBMINISTRAMENT D'AQUESTS. DEMOLICIÓ DE PAVIMENT, EXCAVACIÓ I POSTERIOR REPOSICIÓ. TOTALMENT ACABAT I EXECUTAT SEGONS PLEC. | E15: 147.17
B16: OC10 | C16: UT | D16: PERICÓ DE 60 x 60 cm. PREFABRICAT DE FORMIGÓ O CONSTRUÏT AMB MAONS GERO I FONS DEL MATEIX MATERIAL REBENT EL MARC I LA TAPA CORRESPONENT, INCLOSOS SUBMINISTRAMENT D'AQUESTS. DEMOLICIÓ DE PAVIMENT, EXCAVACIÓ I POSTERIOR REPOSICIÓ. TOTALMENT ACABAT I EXECUTAT SEGONS PLEC. | E16: 184.45
B17: OC11 | C17: UT | D17: PERICÓ DE 70 x 70 cm PER TELECOMUNICACIONS, PREFABRICADA DE FORMIGÓ O CONSTRUÏDA AMB MAONS GERO I FONS DEL MATEIX MATERIAL, REBENT EL MARC I LA DOBLE TAPA TRIANGULAR CORRESPONENT, INCLOSOS SUBMINISTRAMENT D'AQUESTS. DEMOLICIÓ PAVIMENT, EXCAVACIÓ I POSTERIOR REPOSICIÓ.TOTALMENT ACABAT I EXECUTAT SEGONS PLEC. | E17: 298.62
B18: OC12 | C18: UT | D18: RECONVERSIÓ PERICÓ DE 40X40 A PERICÓ DE 60X60. INCLOU TREBALLS DE CONSTRUCCIÓ DE L'ESTRUCTURA AMB MAONS, FORMIGÓ I LA TAPA I MARC DE FERRO, AIXÍ COM ELS TREBALLS DE MÀ D'OBRA. | E18: 101.65
B19: OC13 | C19: UT | D19: SUBMINISTRAMENT, INSTAL·LACIÓ I CONNEXIÓ DE PLACA DE PRESA DE TERRA DE 500 x 500 x 3 mm EN PERICÓ DE REGISTRE. INCLOSA OBRA CIVIL NECESSÀRIA. TOTALMENT EXECUTAT | E19: 55.37
B20: OC14 | C20: UT | D20: CONSTRUCCIÓ DE GUAL PER A PAS DE VIANANTS DE 6 m AMPLADA, MODEL BARCELONA B-120 A, BASE DE PEDRES DE GRANIT GRIS DE 40x40x23 (INCLOU FORAT PER COLUMNA I/O BÀCUL) I DE 40x121,8x6 DE CARES VISTES FLAMEJADES. TOTALMENT EXECUTAT. | E20: 1483.98
B21: OC15 | C21: M2 | D21: CONSTRUCCIÓ DE PLATAFORMA DE VORERA, PER A NOU PAS DE VIANANTS. INCLOU DEMOLICIÓ DE PAVIMENTS EXISTENTS, EXCAVACIÓ, I QUALSEVOL ALTRA FEINA NECESSÀRIA PER A LA CORRECTA CONSTRUCCIÓ DE PLATAFORMA A BASE DE FORMIGÓ HM20 FINS A NIVELL DE LA VORERA EXISTENT I REPOSICIÓ FINAL AMB PANOT, INCLÚS PANOT ESPECIAL DE FRANGES PER INVIDENTS. | E21: 115.31
B22: OC16 | C22: UT | D22: OBTURACIÓ DE TUBULAR AMB O SENSE CABLES EXISTENTS. | E22: 0.62
B23: OC17 | C23: UT | D23: EMBOCADURA DE TUBULARS A PERICÓ REGISTRE EXISTENT, INCLÚS PROTECCIÓ CABLES EXISTENTS, PASSAMURS, SEGELLAT TUBS AMB PARET PERICÓ I ENLLUÏMENT INTERIOR PARET PERICÓ. TOTALMENT EXECUTADA. | E23: 59.06
B24: OC18 | C24: M2 | D24: ARRENCADA I REPOSICIÓ DE LLOSETES DE PANOT DE MORTER COMPRIMIT EN VORERA. RETIRADA I TRANSPORT DE RUNA A ABOCADOR AUTORITZAT. TOTALMENT EXECUTADA. | E24: 107.402
B25: OC19 | C25: M3 | D25: DEMOLICIÓ DE FORMIGÓ AMB MARTELL TRENCADOR, INCLÒS TALL D'ARMADURES AMB SOPLET, RETIRADA I TRANSPORT DE RESIDUS A DEIXALLERIA. TOTALMENT EXECUTADA. | E25: 116.58
B26: OC20 | C26: UT | D26: REPARACIÓ CANALITZACIÓ VORERA, MITJANÇANT EXCAVACIÓ, SUBMINISTRAMENT I COL·LOCACIÓ TUB DE PE DE DOBLE CAPA, LLIS A L'INTERIOR I COARRUGAT A L'EXTERIOR DEL MATEIX DIÀMETRE QUE L'EXISTENT, MANEGUET D'ACOBLAMENT, PAS DEL CABLE, COL·LOCACIÓ DE MITJA CANYA, LLIGAT AMB FILFERROS I FORMIGONAT DEL CONJUNT I REPOSICIÓ DE PAVIMENT DE PANOT DE LES MATEIXES CARACTERÍSTIQUES A L'EXISTENT, PER A LLARGADES FINS A 2m, INCLÚS RETIRADA I TRANSPORT DE RESIDUS A DEIXALLERIA. TOTALMENT EXECUTADA. | E26: 120.59
... B33: OC27 | C33: UT | D33: FONAMENT DE FORMIGÓ PER A COLUMNA DE FINS A 8 METRES, MITJANÇANT UN DAU DE 80 CM. DE COSTAT I 100 CM DE PROFUNDITAT, INCLÒS COLZE DE CONNEXIÓ AMB TUBULAR. INCLOU DEMOLICIÓ PAVIMENT, EXCAVACIÓ I POSTERIOR REPOSICIÓ. TOTALMENT EXECUTAT. | E33: 233.61
B34: OC28 | C34: UT | D34: SUBMINISTRAMENT I INSTAL·LACIÓ DE PILONA DE PLÀSTIC AMB BANDA REFLECTANT DE COLOR VERD O BLAU AMB ALÇADA LLIURE DE 750 MM I 200 MM DE DIÀMETRE. TOTALMENT EXECUTAT. | E34: =SUM(38.75+11) -> 49.75
B35: OC29 | C35: UT | D35: FONAMENT DE FORMIGÓ PER A COLUMNA DE 4 METRES, AMB DOSIFICACIÓ DE 250 KG/m3, MITJANÇANT UN DAU DE 50 cm. DE COSTAT I 60 cm. DE PROFUNDITAT, INCLÒS COLZE DE CONNEXIÓ AMB TUBULAR. INCLOU DEMOLICIÓ PAVIMENT, EXCAVACIÓ I POSTERIOR REPOSICIÓ. TOTALMENT EXECUTAT. | E35: 95.21
B36: OC30 | C36: UT | D36: ARRENCADA I REPOSICIÓ (SENSE SUBMINISTRAMENT) DE CONJUNT DE COIXÍ REDUCTOR DE VELOCITAT. TOTALMENT EXECUTADA. | E36: 296
B37: OC31 | C37: UT | D37: FONAMENT DE FORMIGÓ PER A ARMARI DE CONTROL O ESCOMESA ELÈCTRICA, AMB DOSIFICACIÓ DE 250 KG/m3 I ENCOFRAT CARA VISTA, DE DIMENSIONS APROX. 800 x 800 x 500 mm AMB UN ENCASTAMENT DE 20 cm I 4 FORATS DE 110 mm. DE DIÀMETRE. INCLOU DEMOLICIÓ PAVIMENT, EXCAVACIÓ I POSTERIOR REPOSICIÓ. TOTALMENT EXECUTAT. | E37: 235
B38: OC32 | C38: ML | D38: SUPLEMENT PER REALITZACIÓ DE CANALITZACIÓ EN VORERA DE PAVIMENT ESPECIAL, TIPUS GRANIT, LLAMBORDES O SIMILARS | E38: 25.97
B39: OC33 | C39: UT | D39: PERICÓ DE 60 x 60 cm. PREFABRICAT DE FORMIGÓ O CONSTRUÏT AMB MAONS GERO I FONS DEL MATEIX MATERIAL REBENT EL MARC I LA TAPA CLASSE C-250 PER 25 TONELADES DE CARGA DE ROTURA, CUMPLEIX NORMA EN 124, INCLOSOS SUBMINISTRAMENT D'AQUESTS. DEMOLICIÓ DE PAVIMENT, EXCAVACIÓ I POSTERIOR REPOSICIÓ. TOTALMENT ACABAT I EXECUTAT SEGONS PLEC. | E39: =SUM(184.45,120.42) -> 304.87
B40: OC34 | C40: PAJ | D40: PARTIDA ALÇADA A JUSTIFICAR EXCECESSOS D'AMIDAMENT, AJUSTS DE PALETA, IMPREVISTOS DURANT L'EXECUCIÓ DELS TREBALLS D'OBRA CIVIL AMB SERVEIS AFECTATS, ACCESSOS I ELEMENTS DE VENTILACIÓ. CRUÏLLA C/CARDENAL REIG-C/POBLET. | E40: 843.38
B41: OC35 | C41: PAJ | D41: PARTIDA ALÇADA A JUSTIFICAR EXCECESSOS D'AMIDAMENT, AJUSTS DE PALETA, IMPREVISTOS DURANT L'EXECUCIÓ DELS TREBALLS D'OBRA CIVIL AMB SERVEIS AFECTATS, ACCESSOS I ELEMENTS DE VENTILACIÓ. CRUÏLLA C/CARDENAL REIG-C/PINTOR TAPIRÓ. | E41: 926.63
B42: OC36 | C42: PAJ | D42: PARTIDA ALÇADA A JUSTIFICAR EXCECESSOS D'AMIDAMENT, AJUSTS DE PALETA, IMPREVISTOS DURANT L'EXECUCIÓ DELS TREBALLS D'OBRA CIVIL AMB SERVEIS AFECTATS, ACCESSOS I ELEMENTS DE VENTILACIÓ. CRUÏLLA C/CARDENAL REIG-C/AURORA BERTRANA. | E42: 690.44
B44: Instal·lacions Semafòriques
B45: IS01 | C45: UT | D45: SUBMINISTRAMENT I INSTAL·LACIÓ DE SEMÀFOR 11/200 AMB ÒPTIQUES DE TECNOLOGIA LED DE QUALSEVOL COLOR I TIPUS NORMAL, BICI, BUS, MIXTE, ETC. MODEL CLÀSSIC O BARCELONA AMB ÀNIMA D'ALUMINI. | E45: 307.63
B46: IS02 | C46: UT | D46: SUBMINISTRAMENT I INSTAL·LACIÓ DE SEMÀFOR PER A VIANANTS Vlnv 12/200 AMB DISPOSITIU PER INVIDENTS I ÒPTIQUES DE TECNOLOGIA LED DE QUALSEVOL COLOR I TIPUS NORMAL, PPC, BICI, BUS, MIXTE, ETC. MODEL CLÀSSIC O BARCELONA AMB ÀNIMA D'ALUMINI. | E46: 553.73
B47: IS03 | C47: UT | D47: SUBMINISTRAMENT I INSTAL·LACIÓ DE SEMÀFOR 13/200 AMB ÒPTIQUES DE TECNOLOGIA LED DE QUALSEVOL COLOR I TIPUS NORMAL, BICI, BUS, MIXTE, ETC. MODEL CLÀSSIC O BARCELONA AMB ÀNIMA D'ALUMINI. | E47: 861.35
B48: IS04 | C48: UT | D48: SUBMINISTRAMENT I INSTAL·LACIÓ DE SISTEMA PER A INVIDENTS COMPLET AMB ACTUACIÓ PER COMANDAMENT A DISTÀNICA MODEL BARCELONA (CIBERPAS). | E48: 153.81
B49: IS05 | C49: UT | D49: SUBMINISTRAMENT I INSTAL·LACIÓ DE SEMÀFOR 13/100 AMB ÒPTIQUES DE TECNOLOGIA LED DE QUALSEVOL COLOR I TIPUS BICI. MODEL CLÀSSIC O BARCELONA AMB ÀNIMA D'ALUMINI. | E49: 339.21
B50: IS06 | C50: UT | D50: SUBMINISTRAMENT I INSTAL·LACIÓ DE SEMÀFOR 12/100 AMB ÒPTIQUES DE TECNOLOGIA LED DE QUALSEVOL COLOR I TIPUS BICI. MODEL CLÀSSIC O BARCELONA AMB ÀNIMA D'ALUMINI. | E50: 229.07
B51: IS07 | C51: UT | D51: SUBMINISTRAMENT I INSTAL·LACIÓ DE SEMÀFOR 11/100 AMB ÒPTIQUES DE TECNOLOGIA LED DE QUALSEVOL COLOR I TIPUS BICI. MODEL CLÀSSIC O BARCELONA AMB ÀNIMA D'ALUMINI. | E51: 113.53
B52: IS08 | C52: UT | D52: SUPLEMENT PER INSTAL·LACIÓ DE SEMÀFOR A ALÇADA SUPERIOR A 4 m. | E52: 61.53
B53: IS09 | C53: UT | D53: SUBMINISTRAMENT I INSTAL·LACIÓ DE POLSADOR DE VIANANTS | E53: 153.81
B54: IS10 | C54: UT | D54: SUBMINISTRAMENT I INSTAL·LACIÓ COLUMNA POLIÈSTER-FIBRA DE VIDRE DE 2,40 m D'ALTURA ÚTIL, 100 mm DE DIÀMETRE AMB UN ESPESSOR NORMAL i 35 cm D'EMPOTRAMENT SENSE INCLOURE PEÇA TAPAJUNTES. | E54: 135.36
B55: IS11 | C55: UT | D55: SUBMINISTRAMENT I INSTAL·LACIÓ BÀCUL D'ACER GALVANITZAT DE 6 m D' ALTURA ÚTIL, AMB UN BRAÇ DE 4,50 m I 190 mm DE DIÀMETRE INICIAL, AMB UN ESPESSOR DE 3 mm REFORÇAT A LA BASE AMB 4 mm FINS A SOBRE DE LA PORTA. INCLÚS PUNTA DE BÀCUL FINS A 3 m. (MODEL HOMOLOGAT). TOTALMENT MUNTAT. | E55: 618.25
B56: IS12 | C56: UT | D56: SUBMINISTRAMENT I INSTAL·LACIÓ DE SUPORT DE 150 mm DE SORTINT PER A SUSTENTACIÓ D'UN SEMÀFOR MODEL CLÀSSIC O BARCELONA | E56: 43.34
B57: IS13 | C57: UT | D57: SUBMINISTRAMENT I INSTAL·LACIÓ DE SUPORT DOBLE PER A SUSTENTACIÓ DE DOS SEMÀFORS MODEL CLÀSSIC O BARCELONA | E57: 60.67
B58: IS14 | C58: UT | D58: SUBMINISTRAMENT I INSTAL·LACIÓ DE BAIXANT DE BÀCUL PER SEMÀFOR MODEL CLÀSSIC O BARCELONA. | E58: =SUM(19.56+3.32) -> 22.88
B59: IS15 | C59: UT | D59: SUBMINISTRAMENT I INSTAL·LACIÓ DE CASQUET METÀL·LIC DE SEMÀFOR S9 PER ACOPLAMENT DE SENYALITZACIÓ VERTICAL. | E59: =SUM(16.52+3.31) -> 19.83
B60: IS16 | C60: UT | D60: SUBMINISTRAMENT I INSTAL·LACIÓ DE REGULADOR SEMAFÒRIC AMB CAPACITAT DE FINS A 32 GRUPS, SEGONS ESPECIFICACIONS I PROTOCOL AJUNTAMENT BARCELONA. INCLÚS ARMARI AMB COLOR ESTÀNDARD RAL 9007 TOTALMENT EQUIPAT I POSAT EN MARXA. | E60: 5948.25
B61: IS17 | C61: UT | D61: SUBMINISTRAMENT I INSTAL·LACIÓ DE CARTA DE SORTIDES PER 2 GRUPS, SEGONS ESPECIFICACIONS I PROTOCOL AJUNTAMENT BARCELONA. | E61: 236.9
B62: IS22 | C62: UT | D62: SUBMINISTRAMENT i INSTAL·LACIÓ DE SAI ON LINE FINS A 1500 VA PER REGULADOR SEMAFÒRIC, AMB CAPACITAT D'INCORPORAR BATERIES EXTERNES ADDICIONALS PER GARATIR UNA AUTONOMIA DE FUNCIONAMENT DE LA CRUÏLLA DE COM A MÍNIM DUES HORES, SEGONS ESPECIFICACIONS AJUNTAMENT. INCLOSES LES BATERIES. INCLÚS ARMARI TOTALMENT EQUIPAT I POSAT EN MARXA. | E62: 3190.43
B63: IS23 | C63: UT | D63: SUBMINISTRAMENT I INSTAL·LACIÓ DE COLUMNA D'ACER GALVANITZAT DE 4 m D'ALÇÀRIA ÚTIL I 100 mm DE DIÀMETRE AMB UN GRUIX NORMAL I 60 cm D'EMPOTRAMENT. | E63: =SUM(169.16+17.2)*1.2 -> 223.632
B64: IS24 | C64: UT | D64: CONFECCIÓ DE LA PROGRAMACIÓ DEL REGULACIÓ DE LA CRUÏLLA, DOCUMENTACIÓ, CÀRREGA, PROVES I POSADA EN MARXA, I INTEGRACIÓ EN EL SISTEMA DE GESTIÓ SEMAFÒRICA DE L CIUTAT EN EL CGMU, D'ACORD A LES DIRECTRIUS I INSTRUCCIONS DONADES PEL DEPARTAMENT DE REGULACIÓ - MOBILITAT. | E64: =(1*8*60)+(2*35*4)+350 -> 1110
B66: Cablejats elèctrics
B67: CE01 | C67: ML | D67: SUBMINISTRAMENT I INSTAL·LACIÓ DE CABLE DE CONDUCTOR DE COURE DE 0,6/1 KV, DESIGNACIÓ RV-K, DE SECCIÓ 4x2,5 mm2. INCLÚS MARCAT I ETIQUETAT I QUALSEVOL FEINA PER A LA CORRECTE INSTAL·LACIÓ. | E67: 2.44
B68: CE02 | C68: ML | D68: SUBMINISTRAMENT I INSTAL·LACIÓ DE CABLE DE CONDUCTOR DE COURE AMB AÏLLAMENT DE PLÀSTIC, DE SECCIÓ 1x6 mm2 PER PRESES DE TERRA. INCLÚS MARCAT I ETIQUETAT I QUALSEVOL FEINA PER A LA CORRECTE INSTAL·LACIÓ. | E68: 4.4
B69: CE03 | C69: ML | D69: SUBMINISTRAMENT I INSTAL·LACIÓ DE CABLE DE CONDUCTOR DE COURE EPTAFILAR NU, DE SECCIÓ 1x35 mm2 PER PRESES DE TERRA. INCLÚS MARCAT I ETIQUETAT I QUALSEVOL FEINA PER A LA CORRECTE INSTAL·LACIÓ. | E69: 5.51
B70: CE04 | C70: ML | D70: SUBMINISTRAMENT I INSTAL·LACIÓ DE CABLE DE CONDUCTOR DE COURE DE 0,6/1 KV, DESIGNACIÓ RV-K, DE SECCIÓ 3x6 mm2. INCLÚS MARCAT I ETIQUETAT I QUALSEVOL FEINA PER A LA CORRECTE INSTAL·LACIÓ. | E70: 4.62
B71: CE05 | C71: ML | D71: SUBMINISTRAMENT I INSTAL·LACIÓ DE CABLE DE CONDUCTOR DE COURE DE 0,6/1 KV, DESIGNACIÓ RV-K, CONSTRUCCIÓ SEGONS NORMA UNE 21123-2, BIPOLAR, DE SECCIÓ 2x10 mm2 AMB COBERTA DEL CABLE DE PVC, CLASSE DE REACCIÓ AL FOC ECA SEGONS LA NORMA UNE-EN 50575 INCLÚS MARCAT I ETIQUETAT I QUALSEVOL FEINA PER A LA CORRECTE INSTAL·LACIÓ EN TUB (P-235). | E71: 4.87
B72: CE06 | C72: ML | D72: SUBMINISTRAMENT I INSTAL·LACIÓ DE CABLE DE CONDUCTOR DE COURE DE TENSIÓ ASSIGNADA INFERIOR O IGUAL A 450/700 V, DESIGNACIÓ H07V-K, CONSTRUCCIÓ SEGONS NORMA UNE-EN 50525-2-31, UNIPOLAR, DE SECCIÓ 1x16 mm2 AMB AILLAMENT DE PVC, CLASSE DE REACCIÓ AL FOC ECA SEGONS LA NORMA UNE-EN 50575 INCLÚS MARCAT I ETIQUETAT I QUALSEVOL FEINA PER A LA CORRECTE INSTAL·LACIÓ EN TUB (P-51). | E72: 4.75
B74: Escomesa elèctrica
B75: EC01 | C75: UT | D75: GESTIÓ PER A LA CONTRACTACIÓ D'ESCOMESA ELÈCTRICA PER A CRUÏLLA DE SEMÀFORS I LLUR LEGALITZACIÓ. INCLOU LA CONFECCIÓ DE TOTA LA DOCUMENTACIÓ TÈCNICA NECESSÀRIA, REALITZACIÓ DE TOTES LES GESTIONS I TRÀMITS NECESSARIS FINS A LA CORRECTE LEGALITZACIÓ ELÈCTRICA. | E75: 1368.68
B76: EC02 | C76: UT | D76: ESCOMESA ELÈCTRICA. REALITZACIÓ DE NOVA ESCOMESA EN ENTORN URBÀ. INCLOU: ARMARI PER ESCOMESA COMPANYIA, PREFABRICAT DSPD-CDU/PEANA I PINTAT, AMB CAIXA DE DISTRIBUCIÓ CDU 400, CANALERA DE 630A I FUSIBLE CUCHILLA BT F CU2/400 A ETU-6303B Gg, AMB CAIXA MÒDUL COMPTADOR PNZ-C2727. ARMARI PER SORTIDES A CONSUMS, PER INTEMPÈRIE, EN PLANXA D'ACER GALVANITZAT EN CALENT I PINTAT, DE DIMENSIONS APROX. 17300x690x600 mm I DE 1,2 mm DE GRUIX, AMB PLACA DE MUNTATGE, PANY AMB CLAU I ACCESSORIS NECESSARIS (CANALETES, CARRIL DIN, PREMSAESTOPES, FIXACIONS, ...) I PETIT MATERIAL NECESSARI PER A LA CORRECTE EXECUCIÓ. INCLOU TOTS ELS TREBALLS (COM FORAT ARMARI CDU, ...) EXCEPTE OBRA CIVIL, RECURSOS (TRANSPORTS CAMIÓ GRUA I MA D'OBRA, ...) I FEINES NECESSÀRIES PER A LA CORRECTE EXECUCIÓ. | E76: 4950
B78: Instal·lacions Comunicacions
B79: IC01 | C79: UT | D79: SUBMINISTRAMENT I INSTAL·LACIÓ D'ARMARI EXTERIOR EN PLANXA D'ACER GALVANITZAT EN CALENT I PINTAT, TIPUS SUPLEMENT PER INSTAL·LAR DAMUNT DE L'ARMARI DEL REGULADOR, INCLOENT APARAMENTA I ACCESORIS NECESSÀRIS PEL SEU CORRECTE FUNCIONAMENT I SISTEMA DE TANCAMENT. SEGONS ESPECIFICACIONS AJUNTAMENT. TOTALMENT EXECUTAT. | E79: 704.6
B80: IC02 | C80: UT | D80: SUBMINISTRAMENT I INSTAL·LACIÓ D'UN PORT SFP BIFIBRA MONOMODE 1G-LH, COMPATIBLE AMB LA XARXA DE COMUNICACIONS MUNICIPAL | E80: 457.31
B81: IC03 | C81: UT | D81: SUBMINISTRAMENT I INSTAL·LACIÓ DE SWITCH DE COMUNICACIONS PER INSTAL·LACIÓ EN ARMARI DE CARRER, HOMOLOGAT PER L'AJUNTAMENT DE BARCELONA - IMI. SWITCH GESTIONABLE AMB 8 PORTS 10/100/1000Base-T + 2 PORTS 100/1000 SFP/RJ45 Combo. INCLOSOS SFP’s DE FIBRA TN-SFP-LX1-SM GIB I SISTEMA DE MUNTATGE EN RACK. | E81: =SUM(999.71+64.92) -> 1064.63
B82: IC04 | C82: UT | D82: SUBMINISTRAMENT I INSTAL·LACIÓ DE CANVIADOR DE MEDI TIPUS SFP (FIBRA ÒPTICA MONOMODE). CONVERTIDOR DE MEDI NECESSARI PER TRANSFORMAR LA SENYAL ÒPTICA A ELÈCTRICA FO/ ETHERNET/ 422/ 485/ 422, PER CARRIL DIN-RAIL, COMPATIBLE AMB LA XARXA DE COMUNICACIONS MUNICIPAL, INCLÒS FONT ALIMENTACIÓ I EL SFP BIFIBRA LC/PC, AMB 1 PORT 100/1000M BASE-X SFP + 2 PORTS 10/100/1000M BX. | E82: 481.5
B83: IC05 | C83: ML | D83: SUBMINISTRAMENT I INSTAL·LACIÓ CABLE DE 24 FO MONOMODE B1.1, SEGONS EN 186000. ARMAT. AMB PROTECCIÓ D'ARAMIDA, ARMADURA METÀL·LICA I COBERTA EXTERIOR DE POLIETILÈ EN COLOR VERMELL I AMB EL LOGOTIP DE L'EXCM. AJUNTAMENT DE BARCELONA. | E83: 3.37
B84: IC06 | C84: ML | D84: SUBMINISTRAMENT I INSTAL·LACIÓ CABLE DE 8 FO MONOMODE B1.1, SEGONS EN 186000. ARMAT. AMB PROTECCIÓ D'ARAMIDA, ARMADURA METÀL·LICA I COBERTA EXTERIOR DE POLIETILÈ EN COLOR VERMELL I AMB EL LOGOTIP DE L'EXCM. AJUNTAMENT DE BARCELONA. | E84: 2.94
B85: IC07 | C85: UT | D85: FUSIÓ EN RECTE DE FINS A 16 FO MONOMODE. INCLOU PIG-TAIL, CONNECTORS I ADAPTADORS, AIXÍ COM LES MESURES DE RETROESPARCIMENT DEL MATEIX. | E85: 1433.8
B86: IC08 | C86: UT | D86: FUSIÓ EN RECTE DE FINS A 8 FO MONOMODE. INCLOU PIG-TAIL, CONNECTORS I ADAPTADORS, AIXÍ COM LES MESURES DE RETROESPARCIMENT DEL MATEIX. | E86: 818.53
B87: IC09 | C87: UT | D87: SUBMINISTRAMENT I INSTAL·LACIÓ DE CAIXA REPARTIDORA ÒPTICA OTB-24 | E87: 374.5
B88: IC10 | C88: UT | D88: SUBMINISTRAMENT I INSTAL·LACIÓ DE CONVERSOR FO/ETHERNET | E88: 107
B89: IC11 | C89: UT | D89: SUBMINISTRAMENT I INSTAL·LACIÓ DE JUMPER DE FO TIPUS DUPLEX MONOMODE FINS A 4 m | E89: 100.54
B90: IC12 | C90: UT | D90: SUBMINISTRAMENT I INSTAL·LACIÓ DE JUMPER DE COURE RJ45 FINS A 4 m | E90: 51.06
B91: IC13 | C91: ML | D91: SUBMINISTRAMENT I INSTAL·LACIÓ DE FUETO UTP CAT6 ARMAT PER EXTERIOR, ACABAT A ROSETA DINS DE L'ARMARI REGULADOR AMB CONNECTOR RJ45 FEMELLA. | E91: 5.288
B92: IC14 | C92: PAJ | D92: PARTIDA ALÇADA A JUSTIFICAR PELS TREBALLS A REALITZAR PER L'EMPRESA OPERADORA DE LES COMUNICACIONS DE L'IMI, A LA CRUÏLLA CARDENAL REIG-POBLET | E92: 18512.84
B93: IC15 | C93: PAJ | D93: PARTIDA ALÇADA A JUSTIFICAR PELS TREBALLS A REALITZAR PER L'EMPRESA OPERADORA DE LES COMUNICACIONS DE L'IMI, A LA CRUÏLLA CARDENAL REIG-PINTOR TAPIRÓ. | E93: 4447.76
B95: Senyalització Horitzontal i Vertical
B96: SE01 | C96: M | D96: PINTAT DE FAIXA DE 10 cm D'AMPLADA SOBRE PAVIMENT, AMB PINTURA TERMOPLÀSTICA EN CALENT I REFLECTANT AMB MICROESFERES DE VIDRE. INCLOU PREMARCATGE I QUALSEVOL FEINA I ELEMENTS AUXILIARS PER A LA CORRECTA REALITZACIÓ DE LA FEINA. | E96: 1.19
B97: SE02 | C97: M | D97: PINTAT DE FAIXA DE 15 cm D'AMPLADA SOBRE PAVIMENT, AMB PINTURA TERMOPLÀSTICA EN CALENT I REFLECTANT AMB MICROESFERES DE VIDRE. INCLOU PREMARCATGE I QUALSEVOL FEINA I ELEMENTS AUXILIARS PER A LA CORRECTA REALITZACIÓ DE LA FEINA. | E97: 1.33
B98: SE03 | C98: M | D98: PINTAT DE FAIXA DE 30 cm D'AMPLADA SOBRE PAVIMENT, AMB PINTURA TERMOPLÀSTICA EN CALENT I REFLECTANT AMB MICROESFERES DE VIDRE. INCLOU PREMARCATGE I QUALSEVOL FEINA I ELEMENTS AUXILIARS PER A LA CORRECTA REALITZACIÓ DE LA FEINA. | E98: 3.09
B99: SE04 | C99: M | D99: PINTAT DE FAIXA DE 40 cm D'AMPLADA SOBRE PAVIMENT, AMB PINTURA TERMOPLÀSTICA EN CALENT I REFLECTANT AMB MICROESFERES DE VIDRE. INCLOU PREMARCATGE I QUALSEVOL FEINA I ELEMENTS AUXILIARS PER A LA CORRECTA REALITZACIÓ DE LA FEINA. | E99: 4.58
B100: SE05 | C100: M2 | D100: PINTAT O REPINTAT/ESBORRAT MANUAL DE 50 cm DE SENYAL DE STOP O CEDIU EL PAS O ZEBRATS, A MÉS DE FLETXES, LLETRES, SÍMBOLS, FRANGES DE VÈRTEXS D'ILLETES, ... SOBRE EL PAVIMENT, AMB PINTURA DE DOS COMPONENTS EN FRED DE LLARGA DURADA I REFLECTANT AMB MICROESFERES DE VIDRE. INCLOU PREMARCATGE I QUALSEVOL FEINA I ELEMENTS AUXILIARS PER A LA CORRECTE REALITZACIÓ DE LA FEINA. | E100: 23.86
B101: SE06 | C101: M2 | D101: PINTAT O REPINTAT/ESBORRAT MANUAL DE MANTA VERMELLA ZONA 30, ... SOBRE EL PAVIMENT, AMB PINTURA DE DOS COMPONENTS EN FRED DE LLARGA DURADA I REFLECTANT AMB MICROESFERES DE VIDRE. INCLOU PREMARCATGE I QUALSEVOL FEINA I ELEMENTS AUXILIARS PER A LA CORRECTE REALITZACIÓ DE LA FEINA. | E101: 40.76
B102: SE07 | C102: UT | D102: SUBMINISTRAMENT I INSTAL·LACIÓ DE SENYAL INFORMATIVA INDICACIÓ CARRER, MODEL AJUNTAMENT BARCELONA | E102: 93.63
B103: SE08 | C103: UT | D103: SUBMINISTRAMENT I INSTAL·LACIÓ DE SENYAL VERTICAL, DIÀMETRE 60, TIPUS R-304 PROHIBICIÓ CANVI SENTIT O SIMILAR, MODEL AJUNTAMENT BARCELONA, INCLOSA MÈNSULA I ACCESSORIS | E103: 103.52
B104: SE09 | C104: UT | D104: RETIRADA I RECOL·LOCACIÓ DE SENYAL VERTICAL, TIPUS INFORMATIVA PAS VIANANTS, PROHIBICIÓ O SIMILAR | E104: 48.15
B105: SE10 | C105: PA | D105: PARTIDA ALÇADA PER LA DISPONIBILITAT D'EQUIP DE PINTURA VIAL. INCLOU MAQUINÀRIA, TRASLLAT, MÀ D'OBRA I ELEMENTS AUXILIARS PER A LA CORRECTA REALITZACIÓ DE LA FEINA. | E105: 1200
B106: INV01 | C106: PA | D106: PARTIDA PER A L'ACTUACIÓ I GESTIÓ D'INVENTARIS DEL DEPARTAMENT D'ESPAI URBÀ (INCLOENT SENYALITZACIÓ HORITZONTAL I VERTICAL, SEMAFORITZACIÓ, PAVIMENTS, MOBILIARI URBÀ I CARTOGRAFIA D'ACORD AMB EL CRITERIS DELS PLECS TÈCNICS CORRESPONENTS I LA BASE CARTOGRÀFICA DE L'AJUNTAMENT DE BARCELONA (P-53) PER OBRES INFERIORS A 1.000m². | E106: 550
B107: INV02 | C107: PA | D107: PARTIDA PER A L'ACTUACIÓ I GESTIÓ D'INVENTARIS DEL DEPARTAMENT D'ESPAI URBÀ (INCLOENT SEENYALITZACIÓ HORITZONTAL I VERTICAL, SEMAFORITZACIÓ, PAVIMENTS, MOBILIARI URBÀ I CARTOGRAFIA D'ACORD AMB EL CRITERIS DELS PLECS TÈCNICS CORRESPONENTS I LA BASE CARTOGRÀFICA DE L'AJUNTAMENT DE BARCELONA (P-53) PER OBRES ENTRE 1.000 I 10.000m². | E107: 1094.5
B108: INV03 | C108: PA | D108: PARTIDA PER A L'ACTUACIÓ I GESTIÓ D'INVENTARIS DEL DEPARTAMENT D'ESPAI URBÀ (INCLOENT SEENYALITZACIÓ HORITZONTAL I VERTICAL, SEMAFORITZACIÓ, PAVIMENTS, MOBILIARI URBÀ I CARTOGRAFIA D'ACORD AMB EL CRITERIS DELS PLECS TÈCNICS CORRESPONENTS I LA BASE CARTOGRÀFICA DE L'AJUNTAMENT DE BARCELONA (P-53) PER OBRES SUPERIORS A 10.000m². | E108: 2194.5
B110: NOTA: | C110: Els preus unitaris duen incorporats les part proporcionals de Despeses Generals, Benefici Industrial
C111: i qualsevol altre que sigui necessari per a la correcte execució de les unitats d'obra, inclús la part
C112: corresponent a Seguretat i Salut.

Sheet RESUM
B2: RESUM PRESSUPOST
B3: REDACCIÓ DEL PROJECTE DE SEMAFORITZACIÓ DE 3 CRUÏLLES DEL CARRER DEL CARDENAL REIG, DEL DISTRICTE DE LES CORTS
B5: CONCEPTE / DENOMINACIÓ | F5: PREU | G5: BI+DG | H5: PREU UNITARI PEC | I5: IMPORT TOTAL
B6: TOTAL PRESSUPOST EXECUCIÓ INSTAL·LACIONS 3 CRUÏLLES
B8: CRUÏLLA C/CARDENAL REIG - C/ POBLET | G8: =ROUND(I8*SUM(#REF!),2) -> #REF! | H8: =ROUND(SUM(F8:G8),2) -> #REF!
B9: OBRA CIVIL CRUÏLLA SEMÀFORS | F9: ='Pressupost C.Reig-Poblet'!G36 -> 29113.88
B10: INSTAL·LACIONS SEMAFÒRIQUES | F10: ='Pressupost C.Reig-Poblet'!G54 -> 17882.07
B11: CABLEJATS ELÈCTRICS | F11: ='Pressupost C.Reig-Poblet'!G63 -> 2870.62
B12: ESCOMESA ELÈCTRICA | F12: ='Pressupost C.Reig-Poblet'!G68 -> 6318.68
B13: INSTAL·LACIONS COMUNICACIONS | F13: ='Pressupost C.Reig-Poblet'!G80 -> 25752.99
B14: SENYALITZACIÓ HORITZONTAL I VERTICAL | F14: ='Pressupost C.Reig-Poblet'!G92 -> 3799.32
B15: Subtotal (PEC) | F15: =SUM(F9:F14) -> 85737.56
B17: CRUÏLLA C/CARDENAL REIG - C/ PINTOR TAPIRÓ | G17: =ROUND(I17*SUM(#REF!),2) -> #REF! | H17: =ROUND(SUM(F17:G17),2) -> #REF!
B18: OBRA CIVIL CRUÏLLA SEMÀFORS | F18: ='Pressupost C.Reig-Tapiró'!G31 -> 31972.2
B19: INSTAL·LACIONS SEMAFÒRIQUES | F19: ='Pressupost C.Reig-Tapiró'!G49 -> 22173.49
B20: CABLEJATS ELÈCTRICS | F20: ='Pressupost C.Reig-Tapiró'!G58 -> 4810.79
B21: ESCOMESA ELÈCTRICA | F21: ='Pressupost C.Reig-Tapiró'!G63 -> 6318.68
B22: INSTAL·LACIONS COMUNICACIONS | F22: ='Pressupost C.Reig-Tapiró'!G75 -> 11603.66
B23: SENYALITZACIÓ HORITZONTAL I VERTICAL | F23: ='Pressupost C.Reig-Tapiró'!G88 -> 3281.45
B24: Subtotal (PEC) | F24: =SUM(F18:F23) -> 80160.27
B26: CRUÏLLA C/CARDENAL REIG - C/ AURORA BERTRANA | G26: =ROUND(I26*SUM(#REF!),2) -> #REF! | H26: =ROUND(SUM(F26:G26),2) -> #REF!
B27: OBRA CIVIL CRUÏLLA SEMÀFORS | F27: ='Pressupost C.Reig-Aurora Bertra'!G27 -> 23705.18
B28: INSTAL·LACIONS SEMAFÒRIQUES | F28: ='Pressupost C.Reig-Aurora Bertra'!G39 -> 10537.19
B29: CABLEJATS ELÈCTRICS | F29: ='Pressupost C.Reig-Aurora Bertra'!G48 -> 3091.48
B30: ESCOMESA ELÈCTRICA | F30: ='Pressupost C.Reig-Aurora Bertra'!G89 -> 0
B31: INSTAL·LACIONS COMUNICACIONS | F31: ='Pressupost C.Reig-Aurora Bertra'!G90 -> 0
B32: SENYALITZACIÓ HORITZONTAL I VERTICAL | F32: ='Pressupost C.Reig-Aurora Bertra'!G77 -> 3169.85
B33: Subtotal (PEC) | F33: =SUM(F27:F32) -> 40503.7 | G33: =ROUND(F33*SUM(#REF!),2) -> #REF! | H33: =ROUND(SUM(F33:G33),2) -> #REF!
B35: TOTAL PRESSUPOST EXECUCIÓ CONTRATA (PEC) | I35: =SUM(F15,F24,F33) -> 206401.53
B37: RESUM PRESSUPOST 3 CRUÏLLES
B38: OBRA CIVIL CRUÏLLA SEMÀFORS | F38: =SUM(F9,F18,F27) -> 84791.26 | G38: =ROUND(F38*SUM(#REF!),2) -> #REF! | H38: =SUM(F38:G38) -> #REF!
B39: INSTAL·LACIONS SEMAFÒRIQUES | F39: =SUM(F10,F19,F28) -> 50592.75
B40: CABLEJATS ELÈCTRICS | F40: =SUM(F11,F20,F29) -> 10772.89
B41: ESCOMESA ELÈCTRICA | F41: =SUM(F12,F21,F30) -> 12637.36
B42: INSTAL·LACIONS COMUNICACIONS | F42: =SUM(F13,F22,F31) -> 37356.65
B43: SENYALITZACIÓ HORITZONTAL I VERTICAL | F43: =SUM(F14,F23,F32) -> 10250.62 | G43: =ROUND(F43*SUM(#REF!),2) -> #REF! | H43: =SUM(F43:G43) -> #REF! | J43: =IF(I45=I35,"OK","ERROR") -> OK
G44: SUBTOTAL | H44: =SUM(H38:H43) -> #REF!
B45: TOTAL PRESSUPOST EXECUCIÓ CONTRATA (PEC) | I45: =SUM(F38:F44) -> 206401.53
B46: IVA (21% sobre PEC) | F46: 0.21 | G46: =ROUND(#REF!*SUM(#REF!),2) -> #REF! | H46: =SUM(F46:G46) -> #REF! | I46: =ROUND(I45*F46,2) -> 43344.32
G47: TOTAL | H47: =#REF!+#REF!+H44+H46 -> #REF!
B48: TOTAL PRESSUPOST BASE LICITACIÓ | I48: =SUM(I45:I46) -> 249745.85

Sheet Pressupost C.Reig-Poblet
B2: PRESSUPOST SEMAFORITZACIÓ CARDENAL REIG - POBLET | G2: DISTRICTE LES CORTS - AJT. BCN
B4: Ítem | C4: Unitat Mesura | D4: Descripció | E4: Amidament | F4: Preu Unit. € | G4: Preu Total €
B6: Obra Civil Cruïlla Semàfors
B7: ='Preus Unitaris'!B7 -> OC01 | C7: =VLOOKUP(B7,'Preus Unitaris'!$B$6:$F$105,2,FALSE) -> ML | D7: =VLOOKUP(B7,'Preus Unitaris'!$B$6:$F$105,3,FALSE) -> CANALITZACIÓ EN VORERA INCLOENT SUBMINISTRAMENT I INSTAL·LACIÓ DE 1 TUB DE PE D110 mm DE DOBLE CAPA, LLIS A L'INTERIOR I CORRUGAT A L'EXTERIOR, INCLÒS EXCAVACIÓ EN RASA DE 40 x 76 cm DE PROFUNDITAT, BASE I PROTECCIÓ DE FORMIGÓ HM20, EN VORERES DE PANOT INCLÒS LA SEVA REPOSICIÓ. TOTALMENT EXECUTADA SEGONS PLEC I D'ACORD AMB LES ORDENANCES MUNICIPALS I INDICACIONS PARTICULARS D'ACEFAT. | E7: 16 | F7: =VLOOKUP(B7,'Preus Unitaris'!$B$6:$F$105,4,FALSE) -> 79.98 | G7: =ROUND(F7*E7,2) -> 1279.68
B8: ='Preus Unitaris'!B8 -> OC02 | C8: =VLOOKUP(B8,'Preus Unitaris'!$B$6:$F$105,2,FALSE) -> ML | D8: =VLOOKUP(B8,'Preus Unitaris'!$B$6:$F$105,3,FALSE) -> CANALITZACIÓ EN VORERA INCLOENT SUBMINISTRAMENT I INSTAL·LACIÓ DE 2 TUBS DE PE D110 mm DE DOBLE CAPA, LLIS A L'INTERIOR I CORRUGAT A L'EXTERIOR, INCLÒS EXCAVACIÓ EN RASA DE 40 x 76 cm DE PROFUNDITAT, BASE I PROTECCIÓ DE FORMIGÓ HM20, EN VORERES DE PANOT INCLÒS LA SEVA REPOSICIÓ. TOTALMENT EXECUTADA SEGONS PLEC I D'ACORD AMB LES ORDENANCES MUNICIPALS I INDICACIONS PARTICULARS D'ACEFAT. | E8: 30 | F8: =VLOOKUP(B8,'Preus Unitaris'!$B$6:$F$105,4,FALSE) -> 81.21 | G8: =ROUND(F8*E8,2) -> 2436.3
B9: ='Preus Unitaris'!B9 -> OC03 | C9: =VLOOKUP(B9,'Preus Unitaris'!$B$6:$F$105,2,FALSE) -> ML | D9: =VLOOKUP(B9,'Preus Unitaris'!$B$6:$F$105,3,FALSE) -> CANALITZACIÓ EN CALÇADA INCLÒS SUBMINISTRAMENT I INSTAL·LACIÓ DE 4 TUBS DE PE D110 mm DE DOBLE CAPA, LLIS A L'INTERIOR I CORRUGAT A L'EXTERIOR, INCLÒS EXCAVACIÓ EN RASA DE 60 x 80 cm. DE PROFUNDITAT, BASE I PROTECCIÓ DE FORMIGÓ HM30, EN CALÇADES. TOTALMENT EXECUTADA SEGONS PLEC I D'ACORD AMB LES ORDENANCES MUNICIPALS I INDICACIONS PARTICULARS D'ACEFAT. | E9: 37 | F9: =VLOOKUP(B9,'Preus Unitaris'!$B$6:$F$105,4,FALSE) -> 258.41 | G9: =ROUND(F9*E9,2) -> 9561.17
B10: ='Preus Unitaris'!B10 -> OC04 | C10: =VLOOKUP(B10,'Preus Unitaris'!$B$6:$F$105,2,FALSE) -> ML | D10: =VLOOKUP(B10,'Preus Unitaris'!$B$6:$F$105,3,FALSE) -> CANALITZACIÓ EN VORERA INCLOENT SUBMINISTRAMENT I INSTAL·LACIÓ DE 2 TUBS DE PE D125 mm DE DOBLE CAPA, LLIS A L'INTERIOR I CORRUGAT A L'EXTERIOR, INCLÒS EXCAVACIÓ EN RASA DE 40 x 76 cm DE PROFUNDITAT, BASE I PROTECCIÓ DE FORMIGÓ HM20, EN VORERES DE PANOT INCLÒS LA SEVA REPOSICIÓ. TOTALMENT EXECUTADA SEGONS PLEC I D'ACORD AMB LES ORDENANCES MUNICIPALS I INDICACIONS PARTICULARS D'ACEFAT. | E10: 20 | F10: =VLOOKUP(B10,'Preus Unitaris'!$B$6:$F$105,4,FALSE) -> 83.14 | G10: =ROUND(F10*E10,2) -> 1662.8
B11: ='Preus Unitaris'!B11 -> OC05 | C11: =VLOOKUP(B11,'Preus Unitaris'!$B$6:$F$105,2,FALSE) -> ML | D11: =VLOOKUP(B11,'Preus Unitaris'!$B$6:$F$105,3,FALSE) -> SUPLEMENT PER REALITZACIÓ DE CANALITZACIÓ EN CALÇADA EN FESTIU. | E11: =E9 -> 37 | F11: =VLOOKUP(B11,'Preus Unitaris'!$B$6:$F$105,4,FALSE) -> 104.59 | G11: =ROUND(F11*E11,2) -> 3869.83
B12: ='Preus Unitaris'!B12 -> OC06 | C12: =VLOOKUP(B12,'Preus Unitaris'!$B$6:$F$105,2,FALSE) -> UT | D12: =VLOOKUP(B12,'Preus Unitaris'!$B$6:$F$105,3,FALSE) -> FONAMENT DE FORMIGÓ PER A ARMARI AMB DOSIFICACIÓ DE 250 KG/m3 I ENCOFRAT CARA VISTA DE DIMENSIONS FINS A 70 x 60 x 50 cm. AMB UN ENCASTAMENT DE 15 cm. I DOS FORATS DE 110 mm. DE DIÀMETRE. TOTALMENT EXECUTAT SEGONS PLEC, INCLOSA OBRA CIVIL NECESSÀRIA I PERNS ANCORATGE. | E12: 2 | F12: =VLOOKUP(B12,'Preus Unitaris'!$B$6:$F$105,4,FALSE) -> 410 | G12: =ROUND(F12*E12,2) -> 820
B13: ='Preus Unitaris'!B13 -> OC07 | C13: =VLOOKUP(B13,'Preus Unitaris'!$B$6:$F$105,2,FALSE) -> UT | D13: =VLOOKUP(B13,'Preus Unitaris'!$B$6:$F$105,3,FALSE) -> FONAMENT DE FORMIGÓ PER A BÀCUL , AMB DOSIFICACIÓ DE 250 KG/m3, MITJANÇANT UN DAU DE 80 cm. DE COSTAT I 100 cm. DE PROFUNDITAT, INCLÒS PERNS ANCORATGE, COLZE DE CONNEXIÓ AMB TUBULAR. INCLOU DEMOLICIÓ PAVIMENT, EXCAVACIÓ I POSTERIOR REPOSICIÓ. TOTALMENT EXECUTAT. | E13: 1 | F13: =VLOOKUP(B13,'Preus Unitaris'!$B$6:$F$105,4,FALSE) -> 252.25 | G13: =ROUND(F13*E13,2) -> 252.25
B14: ='Preus Unitaris'!B14 -> OC08 | C14: =VLOOKUP(B14,'Preus Unitaris'!$B$6:$F$105,2,FALSE) -> UT | D14: =VLOOKUP(B14,'Preus Unitaris'!$B$6:$F$105,3,FALSE) -> FONAMENT DE FORMIGÓ PER A COLUMNA FINS A 2400 mm, AMB DOSIFICACIÓ DE 250 KG/m3, MITJANÇANT UN DAU DE 40 cm. DE COSTAT I 60 cm. DE PROFUNDITAT, REBENT PEÇA ESPECIAL D'ANCORATGE, SENSE INCLOURE AQUESTA, INCLÒS COLZE DE CONNEXIÓ AMB TUBULAR. TOTALMENT EXECUTAT SEGONS PLEC. | E14: 4 | F14: =VLOOKUP(B14,'Preus Unitaris'!$B$6:$F$105,4,FALSE) -> 142.98 | G14: =ROUND(F14*E14,2) -> 571.92
B15: ='Preus Unitaris'!B16 -> OC10 | C15: =VLOOKUP(B15,'Preus Unitaris'!$B$6:$F$105,2,FALSE) -> UT | D15: =VLOOKUP(B15,'Preus Unitaris'!$B$6:$F$105,3,FALSE) -> PERICÓ DE 60 x 60 cm. PREFABRICAT DE FORMIGÓ O CONSTRUÏT AMB MAONS GERO I FONS DEL MATEIX MATERIAL REBENT EL MARC I LA TAPA CORRESPONENT, INCLOSOS SUBMINISTRAMENT D'AQUESTS. DEMOLICIÓ DE PAVIMENT, EXCAVACIÓ I POSTERIOR REPOSICIÓ. TOTALMENT ACABAT I EXECUTAT SEGONS PLEC. | E15: 5 | F15: =VLOOKUP(B15,'Preus Unitaris'!$B$6:$F$105,4,FALSE) -> 184.45 | G15: =ROUND(F15*E15,2) -> 922.25
B16: ='Preus Unitaris'!B17 -> OC11 | C16: =VLOOKUP(B16,'Preus Unitaris'!$B$6:$F$105,2,FALSE) -> UT | D16: =VLOOKUP(B16,'Preus Unitaris'!$B$6:$F$105,3,FALSE) -> PERICÓ DE 70 x 70 cm PER TELECOMUNICACIONS, PREFABRICADA DE FORMIGÓ O CONSTRUÏDA AMB MAONS GERO I FONS DEL MATEIX MATERIAL, REBENT EL MARC I LA DOBLE TAPA TRIANGULAR CORRESPONENT, INCLOSOS SUBMINISTRAMENT D'AQUESTS. DEMOLICIÓ PAVIMENT, EXCAVACIÓ I POSTERIOR REPOSICIÓ.TOTALMENT ACABAT I EXECUTAT SEGONS PLEC. | E16: 1 | F16: =VLOOKUP(B16,'Preus Unitaris'!$B$6:$F$105,4,FALSE) -> 298.62 | G16: =ROUND(F16*E16,2) -> 298.62
B17: ='Preus Unitaris'!B18 -> OC12 | C17: =VLOOKUP(B17,'Preus Unitaris'!$B$6:$F$105,2,FALSE) -> UT | D17: =VLOOKUP(B17,'Preus Unitaris'!$B$6:$F$105,3,FALSE) -> RECONVERSIÓ PERICÓ DE 40X40 A PERICÓ DE 60X60. INCLOU TREBALLS DE CONSTRUCCIÓ DE L'ESTRUCTURA AMB MAONS, FORMIGÓ I LA TAPA I MARC DE FERRO, AIXÍ COM ELS TREBALLS DE MÀ D'OBRA. | E17: 0 | F17: =VLOOKUP(B17,'Preus Unitaris'!$B$6:$F$105,4,FALSE) -> 101.65 | G17: =ROUND(F17*E17,2) -> 0
B18: ='Preus Unitaris'!B19 -> OC13 | C18: =VLOOKUP(B18,'Preus Unitaris'!$B$6:$F$105,2,FALSE) -> UT | D18: =VLOOKUP(B18,'Preus Unitaris'!$B$6:$F$105,3,FALSE) -> SUBMINISTRAMENT, INSTAL·LACIÓ I CONNEXIÓ DE PLACA DE PRESA DE TERRA DE 500 x 500 x 3 mm EN PERICÓ DE REGISTRE. INCLOSA OBRA CIVIL NECESSÀRIA. TOTALMENT EXECUTAT | E18: 1 | F18: =VLOOKUP(B18,'Preus Unitaris'!$B$6:$F$105,4,FALSE) -> 55.37 | G18: =ROUND(F18*E18,2) -> 55.37
B19: ='Preus Unitaris'!B22 -> OC16 | C19: =VLOOKUP(B19,'Preus Unitaris'!$B$6:$F$105,2,FALSE) -> UT | D19: =VLOOKUP(B19,'Preus Unitaris'!$B$6:$F$105,3,FALSE) -> OBTURACIÓ DE TUBULAR AMB O SENSE CABLES EXISTENTS. | E19: 62 | F19: =VLOOKUP(B19,'Preus Unitaris'!$B$6:$F$105,4,FALSE) -> 0.62 | G19: =ROUND(F19*E19,2) -> 38.44
B20: ='Preus Unitaris'!B23 -> OC17 | C20: =VLOOKUP(B20,'Preus Unitaris'!$B$6:$F$105,2,FALSE) -> UT | D20: =VLOOKUP(B20,'Preus Unitaris'!$B$6:$F$105,3,FALSE) -> EMBOCADURA DE TUBULARS A PERICÓ REGISTRE EXISTENT, INCLÚS PROTECCIÓ CABLES EXISTENTS, PASSAMURS, SEGELLAT TUBS AMB PARET PERICÓ I ENLLUÏMENT INTERIOR PARET PERICÓ. TOTALMENT EXECUTADA. | E20: 3 | F20: =VLOOKUP(B20,'Preus Unitaris'!$B$6:$F$105,4,FALSE) -> 59.06 | G20: =ROUND(F20*E20,2) -> 177.18
B21: ='Preus Unitaris'!B24 -> OC18 | C21: =VLOOKUP(B21,'Preus Unitaris'!$B$6:$F$105,2,FALSE) -> M2 | D21: =VLOOKUP(B21,'Preus Unitaris'!$B$6:$F$105,3,FALSE) -> ARRENCADA I REPOSICIÓ DE LLOSETES DE PANOT DE MORTER COMPRIMIT EN VORERA. RETIRADA I TRANSPORT DE RUNA A ABOCADOR AUTORITZAT. TOTALMENT EXECUTADA. | E21: 20 | F21: =VLOOKUP(B21,'Preus Unitaris'!$B$6:$F$105,4,FALSE) -> 107.402 | G21: =ROUND(F21*E21,2) -> 2148.04
B22: ='Preus Unitaris'!B25 -> OC19 | C22: =VLOOKUP(B22,'Preus Unitaris'!$B$6:$F$105,2,FALSE) -> M3 | D22: =VLOOKUP(B22,'Preus Unitaris'!$B$6:$F$105,3,FALSE) -> DEMOLICIÓ DE FORMIGÓ AMB MARTELL TRENCADOR, INCLÒS TALL D'ARMADURES AMB SOPLET, RETIRADA I TRANSPORT DE RESIDUS A DEIXALLERIA. TOTALMENT EXECUTADA. | E22: 2 | F22: =VLOOKUP(B22,'Preus Unitaris'!$B$6:$F$105,4,FALSE) -> 116.58 | G22: =ROUND(F22*E22,2) -> 233.16
B23: ='Preus Unitaris'!B26 -> OC20 | C23: =VLOOKUP(B23,'Preus Unitaris'!$B$6:$F$105,2,FALSE) -> UT | D23: =VLOOKUP(B23,'Preus Unitaris'!$B$6:$F$105,3,FALSE) -> REPARACIÓ CANALITZACIÓ VORERA, MITJANÇANT EXCAVACIÓ, SUBMINISTRAMENT I COL·LOCACIÓ TUB DE PE DE DOBLE CAPA, LLIS A L'INTERIOR I COARRUGAT A L'EXTERIOR DEL MATEIX DIÀMETRE QUE L'EXISTENT, MANEGUET D'ACOBLAMENT, PAS DEL CABLE, COL·LOCACIÓ DE MITJA CANYA, LLIGAT AMB FILFERROS I FORMIGONAT DEL CONJUNT I REPOSICIÓ DE PAVIMENT DE PANOT DE LES MATEIXES CARACTERÍSTIQUES A L'EXISTENT, PER A LLARGADES FINS A 2m, INCLÚS RETIRADA I TRANSPORT DE RESIDUS A DEIXALLERIA. TOTALMENT EXECUTADA. | E23: 5 | F23: =VLOOKUP(B23,'Preus Unitaris'!$B$6:$F$105,4,FALSE) -> 120.59 | G23: =ROUND(F23*E23,2) -> 602.95
B24: ='Preus Unitaris'!B27 -> OC21 | C24: =VLOOKUP(B24,'Preus Unitaris'!$B$6:$F$105,2,FALSE) -> UT | D24: =VLOOKUP(B24,'Preus Unitaris'!$B$6:$F$105,3,FALSE) -> CALA LOCALITZACIÓ SERVEIS, MITJANÇANT DEMOLICIÓ PAVIMENTS, EXCAVACIÓ MANUAL I POSTERIOR REBLIMENT I REPOSICIÓ DE PAVIMENT DE LES MATEIXES CARACTERÍSTIQUES A L'EXISTENT, PER A LLARGADES FINS A 2m I FINS A 60cm AMPLADA, INCLÚS RETIRADA I TRANSPORT DE RUNA A ABOCADOR AUTORITZAT. TOTALMENT EXECUTADA. | E24: 5 | F24: =VLOOKUP(B24,'Preus Unitaris'!$B$6:$F$105,4,FALSE) -> 92.29 | G24: =ROUND(F24*E24,2) -> 461.45
B25: ='Preus Unitaris'!B28 -> OC22 | C25: =VLOOKUP(B25,'Preus Unitaris'!$B$6:$F$105,2,FALSE) -> ML | D25: =VLOOKUP(B25,'Preus Unitaris'!$B$6:$F$105,3,FALSE) -> COMPROVACIÓ DE CANALITZACIÓ EXISTENT I PAS DE FIL GUIA | E25: 230 | F25: =VLOOKUP(B25,'Preus Unitaris'!$B$6:$F$105,4,FALSE) -> 1.2 | G25: =ROUND(F25*E25,2) -> 276
B26: ='Preus Unitaris'!B29 -> OC23 | C26: =VLOOKUP(B26,'Preus Unitaris'!$B$6:$F$105,2,FALSE) -> UT | D26: =VLOOKUP(B26,'Preus Unitaris'!$B$6:$F$105,3,FALSE) -> SUBMINISTRAMENT DE PEDRA DE GRANIT GRIS DE 40x40x23 cm CARES VISTES FLAMEJADES, PER GUAL BARCELONA B-120, INCLOU FORAT PER COLUMNA O BÀCUL SI FOS NECESSARI. | E26: 2 | F26: =VLOOKUP(B26,'Preus Unitaris'!$B$6:$F$105,4,FALSE) -> 133.2 | G26: =ROUND(F26*E26,2) -> 266.4
B27: ='Preus Unitaris'!B30 -> OC24 | C27: =VLOOKUP(B27,'Preus Unitaris'!$B$6:$F$105,2,FALSE) -> UT | D27: =VLOOKUP(B27,'Preus Unitaris'!$B$6:$F$105,3,FALSE) -> ARRENCADA I REPOSICIÓ (SENSE SUBMINISTRAMENT) DE PEDRA DE GRANIT GRIS DE 40x40x23 cm CARES VISTES FLAMEJADES, PER GUAL BARCELONA B-120, INCLOU FORAT PER COLUMNA O BÀCUL SI FOS NECESSARI. | E27: 2 | F27: =VLOOKUP(B27,'Preus Unitaris'!$B$6:$F$105,4,FALSE) -> 25.84 | G27: =ROUND(F27*E27,2) -> 51.68
B28: ='Preus Unitaris'!B31 -> OC25 | C28: =VLOOKUP(B28,'Preus Unitaris'!$B$6:$F$105,2,FALSE) -> UT | D28: =VLOOKUP(B28,'Preus Unitaris'!$B$6:$F$105,3,FALSE) -> SUBMINISTRAMENT DE PEDRA DE GRANIT GRIS DE 40x121,8x6 cm CARES VISTES FLAMEJADES, PER GUAL BARCELONA B-120, INCLOU TALLAT PER PERICÓ SI FOS NECESSARI. | E28: 2 | F28: =VLOOKUP(B28,'Preus Unitaris'!$B$6:$F$105,4,FALSE) -> 286.1 | G28: =ROUND(F28*E28,2) -> 572.2
B29: ='Preus Unitaris'!B32 -> OC26 | C29: =VLOOKUP(B29,'Preus Unitaris'!$B$6:$F$105,2,FALSE) -> UT | D29: =VLOOKUP(B29,'Preus Unitaris'!$B$6:$F$105,3,FALSE) -> ARRENCADA I REPOSICIÓ (SENSE SUBMINISTRAMENT) DE PEDRA DE GRANIT GRIS DE 40x121,8x6 cm CARES VISTES FLAMEJADES, PER GUAL BARCELONA B-120, INCLOU TALLAT PER PERICÓ SI FOS NECESSARI. | E29: 8 | F29: =VLOOKUP(B29,'Preus Unitaris'!$B$6:$F$105,4,FALSE) -> 25.84 | G29: =ROUND(F29*E29,2) -> 206.72
B30: ='Preus Unitaris'!B34 -> OC28 | C30: =VLOOKUP(B30,'Preus Unitaris'!$B$6:$F$105,2,FALSE) -> UT | D30: =VLOOKUP(B30,'Preus Unitaris'!$B$6:$F$105,3,FALSE) -> SUBMINISTRAMENT I INSTAL·LACIÓ DE PILONA DE PLÀSTIC AMB BANDA REFLECTANT DE COLOR VERD O BLAU AMB ALÇADA LLIURE DE 750 MM I 200 MM DE DIÀMETRE. TOTALMENT EXECUTAT. | E30: 7 | F30: =VLOOKUP(B30,'Preus Unitaris'!$B$6:$F$105,4,FALSE) -> 49.75 | G30: =ROUND(F30*E30,2) -> 348.25
B31: ='Preus Unitaris'!B36 -> OC30 | C31: =VLOOKUP(B31,'Preus Unitaris'!$B$6:$F$105,2,FALSE) -> UT | D31: =VLOOKUP(B31,'Preus Unitaris'!$B$6:$F$105,3,FALSE) -> ARRENCADA I REPOSICIÓ (SENSE SUBMINISTRAMENT) DE CONJUNT DE COIXÍ REDUCTOR DE VELOCITAT. TOTALMENT EXECUTADA. | E31: 2 | F31: =VLOOKUP(B31,'Preus Unitaris'!$B$6:$F$105,4,FALSE) -> 296 | G31: =ROUND(F31*E31,2) -> 592
B32: ='Preus Unitaris'!B37 -> OC31 | C32: =VLOOKUP(B32,'Preus Unitaris'!$B$6:$F$105,2,FALSE) -> UT | D32: =VLOOKUP(B32,'Preus Unitaris'!$B$6:$F$105,3,FALSE) -> FONAMENT DE FORMIGÓ PER A ARMARI DE CONTROL O ESCOMESA ELÈCTRICA, AMB DOSIFICACIÓ DE 250 KG/m3 I ENCOFRAT CARA VISTA, DE DIMENSIONS APROX. 800 x 800 x 500 mm AMB UN ENCASTAMENT DE 20 cm I 4 FORATS DE 110 mm. DE DIÀMETRE. INCLOU DEMOLICIÓ PAVIMENT, EXCAVACIÓ I POSTERIOR REPOSICIÓ. TOTALMENT EXECUTAT. | E32: 1 | F32: =VLOOKUP(B32,'Preus Unitaris'!$B$6:$F$105,4,FALSE) -> 235 | G32: =ROUND(F32*E32,2) -> 235
B33: ='Preus Unitaris'!B38 -> OC32 | C33: =VLOOKUP(B33,'Preus Unitaris'!$B$6:$F$105,2,FALSE) -> ML | D33: =VLOOKUP(B33,'Preus Unitaris'!$B$6:$F$105,3,FALSE) -> SUPLEMENT PER REALITZACIÓ DE CANALITZACIÓ EN VORERA DE PAVIMENT ESPECIAL, TIPUS GRANIT, LLAMBORDES O SIMILARS | E33: 1 | F33: =VLOOKUP(B33,'Preus Unitaris'!$B$6:$F$105,4,FALSE) -> 25.97 | G33: =ROUND(F33*E33,2) -> 25.97
B34: ='Preus Unitaris'!B39 -> OC33 | C34: =VLOOKUP(B34,'Preus Unitaris'!$B$6:$F$105,2,FALSE) -> UT | D34: =VLOOKUP(B34,'Preus Unitaris'!$B$6:$F$105,3,FALSE) -> PERICÓ DE 60 x 60 cm. PREFABRICAT DE FORMIGÓ O CONSTRUÏT AMB MAONS GERO I FONS DEL MATEIX MATERIAL REBENT EL MARC I LA TAPA CLASSE C-250 PER 25 TONELADES DE CARGA DE ROTURA, CUMPLEIX NORMA EN 124, INCLOSOS SUBMINISTRAMENT D'AQUESTS. DEMOLICIÓ DE PAVIMENT, EXCAVACIÓ I POSTERIOR REPOSICIÓ. TOTALMENT ACABAT I EXECUTAT SEGONS PLEC. | E34: 1 | F34: =VLOOKUP(B34,'Preus Unitaris'!$B$6:$F$105,4,FALSE) -> 304.87 | G34: =ROUND(F34*E34,2) -> 304.87
B35: ='Preus Unitaris'!B40 -> OC34 | C35: =VLOOKUP(B35,'Preus Unitaris'!$B$6:$F$106,2,FALSE) -> PAJ | D35: =VLOOKUP(B35,'Preus Unitaris'!$B$6:$F$106,3,FALSE) -> PARTIDA ALÇADA A JUSTIFICAR EXCECESSOS D'AMIDAMENT, AJUSTS DE PALETA, IMPREVISTOS DURANT L'EXECUCIÓ DELS TREBALLS D'OBRA CIVIL AMB SERVEIS AFECTATS, ACCESSOS I ELEMENTS DE VENTILACIÓ. CRUÏLLA C/CARDENAL REIG-C/POBLET. | E35: 1 | F35: =VLOOKUP(B35,'Preus Unitaris'!$B$6:$F$105,4,FALSE) -> 843.38 | G35: 843.38
D36: Subtotal Obra Civil Cruïlla Semàfors | G36: =SUM(G7:G35) -> 29113.88
B39: Instal·lacions Semafòriques
B40: ='Preus Unitaris'!B46 -> IS02 | C40: =VLOOKUP(B40,'Preus Unitaris'!$B$6:$F$105,2,FALSE) -> UT | D40: =VLOOKUP(B40,'Preus Unitaris'!$B$6:$F$105,3,FALSE) -> SUBMINISTRAMENT I INSTAL·LACIÓ DE SEMÀFOR PER A VIANANTS Vlnv 12/200 AMB DISPOSITIU PER INVIDENTS I ÒPTIQUES DE TECNOLOGIA LED DE QUALSEVOL COLOR I TIPUS NORMAL, PPC, BICI, BUS, MIXTE, ETC. MODEL CLÀSSIC O BARCELONA AMB ÀNIMA D'ALUMINI. | E40: 6 | F40: =VLOOKUP(B40,'Preus Unitaris'!$B$6:$F$105,4,FALSE) -> 553.73 | G40: =ROUND(F40*E40,2) -> 3322.38
B41: ='Preus Unitaris'!B47 -> IS03 | C41: =VLOOKUP(B41,'Preus Unitaris'!$B$6:$F$105,2,FALSE) -> UT | D41: =VLOOKUP(B41,'Preus Unitaris'!$B$6:$F$105,3,FALSE) -> SUBMINISTRAMENT I INSTAL·LACIÓ DE SEMÀFOR 13/200 AMB ÒPTIQUES DE TECNOLOGIA LED DE QUALSEVOL COLOR I TIPUS NORMAL, BICI, BUS, MIXTE, ETC. MODEL CLÀSSIC O BARCELONA AMB ÀNIMA D'ALUMINI. | E41: 5 | F41: =VLOOKUP(B41,'Preus Unitaris'!$B$6:$F$105,4,FALSE) -> 861.35 | G41: =ROUND(F41*E41,2) -> 4306.75
B42: ='Preus Unitaris'!B48 -> IS04 | C42: =VLOOKUP(B42,'Preus Unitaris'!$B$6:$F$105,2,FALSE) -> UT | D42: =VLOOKUP(B42,'Preus Unitaris'!$B$6:$F$105,3,FALSE) -> SUBMINISTRAMENT I INSTAL·LACIÓ DE SISTEMA PER A INVIDENTS COMPLET AMB ACTUACIÓ PER COMANDAMENT A DISTÀNICA MODEL BARCELONA (CIBERPAS). | E42: 6 | F42: =VLOOKUP(B42,'Preus Unitaris'!$B$6:$F$105,4,FALSE) -> 153.81 | G42: =ROUND(F42*E42,2) -> 922.86
B43: ='Preus Unitaris'!B52 -> IS08 | C43: =VLOOKUP(B43,'Preus Unitaris'!$B$6:$F$105,2,FALSE) -> UT | D43: =VLOOKUP(B43,'Preus Unitaris'!$B$6:$F$105,3,FALSE) -> SUPLEMENT PER INSTAL·LACIÓ DE SEMÀFOR A ALÇADA SUPERIOR A 4 m. | E43: 1 | F43: =VLOOKUP(B43,'Preus Unitaris'!$B$6:$F$105,4,FALSE) -> 61.53 | G43: =ROUND(F43*E43,2) -> 61.53
B44: ='Preus Unitaris'!B54 -> IS10 | C44: =VLOOKUP(B44,'Preus Unitaris'!$B$6:$F$105,2,FALSE) -> UT | D44: =VLOOKUP(B44,'Preus Unitaris'!$B$6:$F$105,3,FALSE) -> SUBMINISTRAMENT I INSTAL·LACIÓ COLUMNA POLIÈSTER-FIBRA DE VIDRE DE 2,40 m D'ALTURA ÚTIL, 100 mm DE DIÀMETRE AMB UN ESPESSOR NORMAL i 35 cm D'EMPOTRAMENT SENSE INCLOURE PEÇA TAPAJUNTES. | E44: 4 | F44: =VLOOKUP(B44,'Preus Unitaris'!$B$6:$F$105,4,FALSE) -> 135.36 | G44: =ROUND(F44*E44,2) -> 541.44
B45: ='Preus Unitaris'!B55 -> IS11 | C45: =VLOOKUP(B45,'Preus Unitaris'!$B$6:$F$105,2,FALSE) -> UT | D45: =VLOOKUP(B45,'Preus Unitaris'!$B$6:$F$105,3,FALSE) -> SUBMINISTRAMENT I INSTAL·LACIÓ BÀCUL D'ACER GALVANITZAT DE 6 m D' ALTURA ÚTIL, AMB UN BRAÇ DE 4,50 m I 190 mm DE DIÀMETRE INICIAL, AMB UN ESPESSOR DE 3 mm REFORÇAT A LA BASE AMB 4 mm FINS A SOBRE DE LA PORTA. INCLÚS PUNTA DE BÀCUL FINS A 3 m. (MODEL HOMOLOGAT). TOTALMENT MUNTAT. | E45: 1 | F45: =VLOOKUP(B45,'Preus Unitaris'!$B$6:$F$105,4,FALSE) -> 618.25 | G45: =ROUND(F45*E45,2) -> 618.25
B46: ='Preus Unitaris'!B56 -> IS12 | C46: =VLOOKUP(B46,'Preus Unitaris'!$B$6:$F$105,2,FALSE) -> UT | D46: =VLOOKUP(B46,'Preus Unitaris'!$B$6:$F$105,3,FALSE) -> SUBMINISTRAMENT I INSTAL·LACIÓ DE SUPORT DE 150 mm DE SORTINT PER A SUSTENTACIÓ D'UN SEMÀFOR MODEL CLÀSSIC O BARCELONA | E46: 5 | F46: =VLOOKUP(B46,'Preus Unitaris'!$B$6:$F$105,4,FALSE) -> 43.34 | G46: =ROUND(F46*E46,2) -> 216.7
B47: ='Preus Unitaris'!B57 -> IS13 | C47: =VLOOKUP(B47,'Preus Unitaris'!$B$6:$F$105,2,FALSE) -> UT | D47: =VLOOKUP(B47,'Preus Unitaris'!$B$6:$F$105,3,FALSE) -> SUBMINISTRAMENT I INSTAL·LACIÓ DE SUPORT DOBLE PER A SUSTENTACIÓ DE DOS SEMÀFORS MODEL CLÀSSIC O BARCELONA | E47: 1 | F47: =VLOOKUP(B47,'Preus Unitaris'!$B$6:$F$105,4,FALSE) -> 60.67 | G47: =ROUND(F47*E47,2) -> 60.67
B48: ='Preus Unitaris'!B58 -> IS14 | C48: =VLOOKUP(B48,'Preus Unitaris'!$B$6:$F$105,2,FALSE) -> UT | D48: =VLOOKUP(B48,'Preus Unitaris'!$B$6:$F$105,3,FALSE) -> SUBMINISTRAMENT I INSTAL·LACIÓ DE BAIXANT DE BÀCUL PER SEMÀFOR MODEL CLÀSSIC O BARCELONA. | E48: 1 | F48: =VLOOKUP(B48,'Preus Unitaris'!$B$6:$F$105,4,FALSE) -> 22.88 | G48: =ROUND(F48*E48,2) -> 22.88
B49: ='Preus Unitaris'!B59 -> IS15 | C49: =VLOOKUP(B49,'Preus Unitaris'!$B$6:$F$105,2,FALSE) -> UT | D49: =VLOOKUP(B49,'Preus Unitaris'!$B$6:$F$105,3,FALSE) -> SUBMINISTRAMENT I INSTAL·LACIÓ DE CASQUET METÀL·LIC DE SEMÀFOR S9 PER ACOPLAMENT DE SENYALITZACIÓ VERTICAL. | E49: 2 | F49: =VLOOKUP(B49,'Preus Unitaris'!$B$6:$F$105,4,FALSE) -> 19.83 | G49: =ROUND(F49*E49,2) -> 39.66
B50: ='Preus Unitaris'!B60 -> IS16 | C50: =VLOOKUP(B50,'Preus Unitaris'!$B$6:$F$105,2,FALSE) -> UT | D50: =VLOOKUP(B50,'Preus Unitaris'!$B$6:$F$105,3,FALSE) -> SUBMINISTRAMENT I INSTAL·LACIÓ DE REGULADOR SEMAFÒRIC AMB CAPACITAT DE FINS A 32 GRUPS, SEGONS ESPECIFICACIONS I PROTOCOL AJUNTAMENT BARCELONA. INCLÚS ARMARI AMB COLOR ESTÀNDARD RAL 9007 TOTALMENT EQUIPAT I POSAT EN MARXA. | E50: 1 | F50: =VLOOKUP(B50,'Preus Unitaris'!$B$6:$F$105,4,FALSE) -> 5948.25 | G50: =ROUND(F50*E50,2) -> 5948.25
B51: ='Preus Unitaris'!B61 -> IS17 | C51: =VLOOKUP(B51,'Preus Unitaris'!$B$6:$F$105,2,FALSE) -> UT | D51: =VLOOKUP(B51,'Preus Unitaris'!$B$6:$F$105,3,FALSE) -> SUBMINISTRAMENT I INSTAL·LACIÓ DE CARTA DE SORTIDES PER 2 GRUPS, SEGONS ESPECIFICACIONS I PROTOCOL AJUNTAMENT BARCELONA. | E51: 3 | F51: =VLOOKUP(B51,'Preus Unitaris'!$B$6:$F$105,4,FALSE) -> 236.9 | G51: =ROUND(F51*E51,2) -> 710.7
B52: ='Preus Unitaris'!B62 -> IS22 | C52: =VLOOKUP(B52,'Preus Unitaris'!$B$6:$F$105,2,FALSE) -> UT | D52: =VLOOKUP(B52,'Preus Unitaris'!$B$6:$F$105,3,FALSE) -> SUBMINISTRAMENT i INSTAL·LACIÓ DE SAI ON LINE FINS A 1500 VA PER REGULADOR SEMAFÒRIC, AMB CAPACITAT D'INCORPORAR BATERIES EXTERNES ADDICIONALS PER GARATIR UNA AUTONOMIA DE FUNCIONAMENT DE LA CRUÏLLA DE COM A MÍNIM DUES HORES, SEGONS ESPECIFICACIONS AJUNTAMENT. INCLOSES LES BATERIES. INCLÚS ARMARI TOTALMENT EQUIPAT I POSAT EN MARXA. | E52: 0 | F52: =VLOOKUP(B52,'Preus Unitaris'!$B$6:$F$105,4,FALSE) -> 3190.43 | G52: =ROUND(F52*E52,2) -> 0
B53: ='Preus Unitaris'!B64 -> IS24 | C53: =VLOOKUP(B53,'Preus Unitaris'!$B$6:$F$107,2,FALSE) -> UT | D53: =VLOOKUP(B53,'Preus Unitaris'!$B$6:$F$105,3,FALSE) -> CONFECCIÓ DE LA PROGRAMACIÓ DEL REGULACIÓ DE LA CRUÏLLA, DOCUMENTACIÓ, CÀRREGA, PROVES I POSADA EN MARXA, I INTEGRACIÓ EN EL SISTEMA DE GESTIÓ SEMAFÒRICA DE L CIUTAT EN EL CGMU, D'ACORD A LES DIRECTRIUS I INSTRUCCIONS DONADES PEL DEPARTAMENT DE REGULACIÓ - MOBILITAT. | E53: 1 | F53: =VLOOKUP(B53,'Preus Unitaris'!$B$6:$F$105,4,FALSE) -> 1110 | G53: =ROUND(F53*E53,2) -> 1110
D54: Subtotal Instal·lacions Semàfors | G54: =SUM(G40:G53) -> 17882.07
B56: Cablejats Elèctrics
B57: ='Preus Unitaris'!B67 -> CE01 | C57: =VLOOKUP(B57,'Preus Unitaris'!$B$6:$F$105,2,FALSE) -> ML | D57: =VLOOKUP(B57,'Preus Unitaris'!$B$6:$F$105,3,FALSE) -> SUBMINISTRAMENT I INSTAL·LACIÓ DE CABLE DE CONDUCTOR DE COURE DE 0,6/1 KV, DESIGNACIÓ RV-K, DE SECCIÓ 4x2,5 mm2. INCLÚS MARCAT I ETIQUETAT I QUALSEVOL FEINA PER A LA CORRECTE INSTAL·LACIÓ. | E57: 393 | F57: =VLOOKUP(B57,'Preus Unitaris'!$B$6:$F$105,4,FALSE) -> 2.44 | G57: =ROUND(F57*E57,2) -> 958.92
B58: ='Preus Unitaris'!B68 -> CE02 | C58: =VLOOKUP(B58,'Preus Unitaris'!$B$6:$F$105,2,FALSE) -> ML | D58: =VLOOKUP(B58,'Preus Unitaris'!$B$6:$F$105,3,FALSE) -> SUBMINISTRAMENT I INSTAL·LACIÓ DE CABLE DE CONDUCTOR DE COURE AMB AÏLLAMENT DE PLÀSTIC, DE SECCIÓ 1x6 mm2 PER PRESES DE TERRA. INCLÚS MARCAT I ETIQUETAT I QUALSEVOL FEINA PER A LA CORRECTE INSTAL·LACIÓ. | E58: 122 | F58: =VLOOKUP(B58,'Preus Unitaris'!$B$6:$F$105,4,FALSE) -> 4.4 | G58: =ROUND(F58*E58,2) -> 536.8
B59: ='Preus Unitaris'!B69 -> CE03 | C59: =VLOOKUP(B59,'Preus Unitaris'!$B$6:$F$105,2,FALSE) -> ML | D59: =VLOOKUP(B59,'Preus Unitaris'!$B$6:$F$105,3,FALSE) -> SUBMINISTRAMENT I INSTAL·LACIÓ DE CABLE DE CONDUCTOR DE COURE EPTAFILAR NU, DE SECCIÓ 1x35 mm2 PER PRESES DE TERRA. INCLÚS MARCAT I ETIQUETAT I QUALSEVOL FEINA PER A LA CORRECTE INSTAL·LACIÓ. | E59: 10 | F59: =VLOOKUP(B59,'Preus Unitaris'!$B$6:$F$105,4,FALSE) -> 5.51 | G59: =ROUND(F59*E59,2) -> 55.1
B60: ='Preus Unitaris'!B70 -> CE04 | C60: =VLOOKUP(B60,'Preus Unitaris'!$B$6:$F$105,2,FALSE) -> ML | D60: =VLOOKUP(B60,'Preus Unitaris'!$B$6:$F$105,3,FALSE) -> SUBMINISTRAMENT I INSTAL·LACIÓ DE CABLE DE CONDUCTOR DE COURE DE 0,6/1 KV, DESIGNACIÓ RV-K, DE SECCIÓ 3x6 mm2. INCLÚS MARCAT I ETIQUETAT I QUALSEVOL FEINA PER A LA CORRECTE INSTAL·LACIÓ. | E60: 170 | F60: =VLOOKUP(B60,'Preus Unitaris'!$B$6:$F$105,4,FALSE) -> 4.62 | G60: =ROUND(F60*E60,2) -> 785.4
B61: ='Preus Unitaris'!B71 -> CE05 | C61: =VLOOKUP(B61,'Preus Unitaris'!$B$6:$F$105,2,FALSE) -> ML | D61: =VLOOKUP(B61,'Preus Unitaris'!$B$6:$F$105,3,FALSE) -> SUBMINISTRAMENT I INSTAL·LACIÓ DE CABLE DE CONDUCTOR DE COURE DE 0,6/1 KV, DESIGNACIÓ RV-K, CONSTRUCCIÓ SEGONS NORMA UNE 21123-2, BIPOLAR, DE SECCIÓ 2x10 mm2 AMB COBERTA DEL CABLE DE PVC, CLASSE DE REACCIÓ AL FOC ECA SEGONS LA NORMA UNE-EN 50575 INCLÚS MARCAT I ETIQUETAT I QUALSEVOL FEINA PER A LA CORRECTE INSTAL·LACIÓ EN TUB (P-235). | E61: 20 | F61: =VLOOKUP(B61,'Preus Unitaris'!$B$6:$F$105,4,FALSE) -> 4.87 | G61: =ROUND(F61*E61,2) -> 97.4
B62: ='Preus Unitaris'!B72 -> CE06 | C62: =VLOOKUP(B62,'Preus Unitaris'!$B$6:$F$105,2,FALSE) -> ML | D62: =VLOOKUP(B62,'Preus Unitaris'!$B$6:$F$105,3,FALSE) -> SUBMINISTRAMENT I INSTAL·LACIÓ DE CABLE DE CONDUCTOR DE COURE DE TENSIÓ ASSIGNADA INFERIOR O IGUAL A 450/700 V, DESIGNACIÓ H07V-K, CONSTRUCCIÓ SEGONS NORMA UNE-EN 50525-2-31, UNIPOLAR, DE SECCIÓ 1x16 mm2 AMB AILLAMENT DE PVC, CLASSE DE REACCIÓ AL FOC ECA SEGONS LA NORMA UNE-EN 50575 INCLÚS MARCAT I ETIQUETAT I QUALSEVOL FEINA PER A LA CORRECTE INSTAL·LACIÓ EN TUB (P-51). | E62: 92 | F62: =VLOOKUP(B62,'Preus Unitaris'!$B$6:$F$105,4,FALSE) -> 4.75 | G62: =ROUND(F62*E62,2) -> 437
D63: Subtotal Cablejats Elèctrics | G63: =SUM(G57:G62) -> 2870.62
B65: Escomesa Elèctrica
B66: ='Preus Unitaris'!B75 -> EC01 | C66: =VLOOKUP(B66,'Preus Unitaris'!$B$6:$F$105,2,FALSE) -> UT | D66: =VLOOKUP(B66,'Preus Unitaris'!$B$6:$F$105,3,FALSE) -> GESTIÓ PER A LA CONTRACTACIÓ D'ESCOMESA ELÈCTRICA PER A CRUÏLLA DE SEMÀFORS I LLUR LEGALITZACIÓ. INCLOU LA CONFECCIÓ DE TOTA LA DOCUMENTACIÓ TÈCNICA NECESSÀRIA, REALITZACIÓ DE TOTES LES GESTIONS I TRÀMITS NECESSARIS FINS A LA CORRECTE LEGALITZACIÓ ELÈCTRICA. | E66: 1 | F66: =VLOOKUP(B66,'Preus Unitaris'!$B$6:$F$105,4,FALSE) -> 1368.68 | G66: =ROUND(F66*E66,2) -> 1368.68
B67: ='Preus Unitaris'!B76 -> EC02 | C67: =VLOOKUP(B67,'Preus Unitaris'!$B$6:$F$105,2,FALSE) -> UT | D67: =VLOOKUP(B67,'Preus Unitaris'!$B$6:$F$105,3,FALSE) -> ESCOMESA ELÈCTRICA. REALITZACIÓ DE NOVA ESCOMESA EN ENTORN URBÀ. INCLOU: ARMARI PER ESCOMESA COMPANYIA, PREFABRICAT DSPD-CDU/PEANA I PINTAT, AMB CAIXA DE DISTRIBUCIÓ CDU 400, CANALERA DE 630A I FUSIBLE CUCHILLA BT F CU2/400 A ETU-6303B Gg, AMB CAIXA MÒDUL COMPTADOR PNZ-C2727. ARMARI PER SORTIDES A CONSUMS, PER INTEMPÈRIE, EN PLANXA D'ACER GALVANITZAT EN CALENT I PINTAT, DE DIMENSIONS APROX. 17300x690x600 mm I DE 1,2 mm DE GRUIX, AMB PLACA DE MUNTATGE, PANY AMB CLAU I ACCESSORIS NECESSARIS (CANALETES, CARRIL DIN, PREMSAESTOPES, FIXACIONS, ...) I PETIT MATERIAL NECESSARI PER A LA CORRECTE EXECUCIÓ. INCLOU TOTS ELS TREBALLS (COM FORAT ARMARI CDU, ...) EXCEPTE OBRA CIVIL, RECURSOS (TRANSPORTS CAMIÓ GRUA I MA D'OBRA, ...) I FEINES NECESSÀRIES PER A LA CORRECTE EXECUCIÓ. | E67: 1 | F67: =VLOOKUP(B67,'Preus Unitaris'!$B$6:$F$105,4,FALSE) -> 4950 | G67: =ROUND(F67*E67,2) -> 4950
D68: Subtotal Escomesa Elèctrica | G68: =SUM(G66:G67) -> 6318.68
B70: Instal·lacions Comunicacions
B71: ='Preus Unitaris'!B79 -> IC01 | C71: =VLOOKUP(B71,'Preus Unitaris'!$B$6:$F$105,2,FALSE) -> UT | D71: =VLOOKUP(B71,'Preus Unitaris'!$B$6:$F$105,3,FALSE) -> SUBMINISTRAMENT I INSTAL·LACIÓ D'ARMARI EXTERIOR EN PLANXA D'ACER GALVANITZAT EN CALENT I PINTAT, TIPUS SUPLEMENT PER INSTAL·LAR DAMUNT DE L'ARMARI DEL REGULADOR, INCLOENT APARAMENTA I ACCESORIS NECESSÀRIS PEL SEU CORRECTE FUNCIONAMENT I SISTEMA DE TANCAMENT. SEGONS ESPECIFICACIONS AJUNTAMENT. TOTALMENT EXECUTAT. | E71: 1 | F71: =VLOOKUP(B71,'Preus Unitaris'!$B$6:$F$105,4,FALSE) -> 704.6 | G71: =ROUND(F71*E71,2) -> 704.6
B72: ='Preus Unitaris'!B80 -> IC02 | C72: =VLOOKUP(B72,'Preus Unitaris'!$B$6:$F$105,2,FALSE) -> UT | D72: =VLOOKUP(B72,'Preus Unitaris'!$B$6:$F$105,3,FALSE) -> SUBMINISTRAMENT I INSTAL·LACIÓ D'UN PORT SFP BIFIBRA MONOMODE 1G-LH, COMPATIBLE AMB LA XARXA DE COMUNICACIONS MUNICIPAL | E72: 2 | F72: =VLOOKUP(B72,'Preus Unitaris'!$B$6:$F$105,4,FALSE) -> 457.31 | G72: =ROUND(F72*E72,2) -> 914.62
B73: ='Preus Unitaris'!B81 -> IC03 | C73: =VLOOKUP(B73,'Preus Unitaris'!$B$6:$F$105,2,FALSE) -> UT | D73: =VLOOKUP(B73,'Preus Unitaris'!$B$6:$F$105,3,FALSE) -> SUBMINISTRAMENT I INSTAL·LACIÓ DE SWITCH DE COMUNICACIONS PER INSTAL·LACIÓ EN ARMARI DE CARRER, HOMOLOGAT PER L'AJUNTAMENT DE BARCELONA - IMI. SWITCH GESTIONABLE AMB 8 PORTS 10/100/1000Base-T + 2 PORTS 100/1000 SFP/RJ45 Combo. INCLOSOS SFP’s DE FIBRA TN-SFP-LX1-SM GIB I SISTEMA DE MUNTATGE EN RACK. | E73: 1 | F73: =VLOOKUP(B73,'Preus Unitaris'!$B$6:$F$105,4,FALSE) -> 1064.63 | G73: =ROUND(F73*E73,2) -> 1064.63
B74: ='Preus Unitaris'!B83 -> IC05 | C74: =VLOOKUP(B74,'Preus Unitaris'!$B$6:$F$105,2,FALSE) -> ML | D74: =VLOOKUP(B74,'Preus Unitaris'!$B$6:$F$105,3,FALSE) -> SUBMINISTRAMENT I INSTAL·LACIÓ CABLE DE 24 FO MONOMODE B1.1, SEGONS EN 186000. ARMAT. AMB PROTECCIÓ D'ARAMIDA, ARMADURA METÀL·LICA I COBERTA EXTERIOR DE POLIETILÈ EN COLOR VERMELL I AMB EL LOGOTIP DE L'EXCM. AJUNTAMENT DE BARCELONA. | E74: =230*1.1+47 -> 300 | F74: =VLOOKUP(B74,'Preus Unitaris'!$B$6:$F$105,4,FALSE) -> 3.37 | G74: =ROUND(F74*E74,2) -> 1011
B75: ='Preus Unitaris'!B85 -> IC07 | C75: =VLOOKUP(B75,'Preus Unitaris'!$B$6:$F$105,2,FALSE) -> UT | D75: =VLOOKUP(B75,'Preus Unitaris'!$B$6:$F$105,3,FALSE) -> FUSIÓ EN RECTE DE FINS A 16 FO MONOMODE. INCLOU PIG-TAIL, CONNECTORS I ADAPTADORS, AIXÍ COM LES MESURES DE RETROESPARCIMENT DEL MATEIX. | E75: 2 | F75: =VLOOKUP(B75,'Preus Unitaris'!$B$6:$F$105,4,FALSE) -> 1433.8 | G75: =ROUND(F75*E75,2) -> 2867.6
B76: ='Preus Unitaris'!B87 -> IC09 | C76: =VLOOKUP(B76,'Preus Unitaris'!$B$6:$F$105,2,FALSE) -> UT | D76: =VLOOKUP(B76,'Preus Unitaris'!$B$6:$F$105,3,FALSE) -> SUBMINISTRAMENT I INSTAL·LACIÓ DE CAIXA REPARTIDORA ÒPTICA OTB-24 | E76: 1 | F76: =VLOOKUP(B76,'Preus Unitaris'!$B$6:$F$105,4,FALSE) -> 374.5 | G76: =ROUND(F76*E76,2) -> 374.5
B77: ='Preus Unitaris'!B89 -> IC11 | C77: =VLOOKUP(B77,'Preus Unitaris'!$B$6:$F$105,2,FALSE) -> UT | D77: =VLOOKUP(B77,'Preus Unitaris'!$B$6:$F$105,3,FALSE) -> SUBMINISTRAMENT I INSTAL·LACIÓ DE JUMPER DE FO TIPUS DUPLEX MONOMODE FINS A 4 m | E77: 2 | F77: =VLOOKUP(B77,'Preus Unitaris'!$B$6:$F$105,4,FALSE) -> 100.54 | G77: =ROUND(F77*E77,2) -> 201.08
B78: ='Preus Unitaris'!B90 -> IC12 | C78: =VLOOKUP(B78,'Preus Unitaris'!$B$6:$F$105,2,FALSE) -> UT | D78: =VLOOKUP(B78,'Preus Unitaris'!$B$6:$F$105,3,FALSE) -> SUBMINISTRAMENT I INSTAL·LACIÓ DE JUMPER DE COURE RJ45 FINS A 4 m | E78: 2 | F78: =VLOOKUP(B78,'Preus Unitaris'!$B$6:$F$105,4,FALSE) -> 51.06 | G78: =ROUND(F78*E78,2) -> 102.12
B79: ='Preus Unitaris'!B92 -> IC14 | C79: =VLOOKUP(B79,'Preus Unitaris'!$B$6:$F$105,2,FALSE) -> PAJ | D79: =VLOOKUP(B79,'Preus Unitaris'!$B$6:$F$105,3,FALSE) -> PARTIDA ALÇADA A JUSTIFICAR PELS TREBALLS A REALITZAR PER L'EMPRESA OPERADORA DE LES COMUNICACIONS DE L'IMI, A LA CRUÏLLA CARDENAL REIG-POBLET | E79: 1 | F79: =VLOOKUP(B79,'Preus Unitaris'!$B$6:$F$105,4,FALSE) -> 18512.84 | G79: =ROUND(F79*E79,2) -> 18512.84
D80: Subtotal Instal·lacions Comunicacions | G80: =SUM(G71:G79) -> 25752.99
B82: Senyalització Horitzontal i Vertical
B83: ='Preus Unitaris'!B96 -> SE01 | C83: =VLOOKUP(B83,'Preus Unitaris'!$B$6:$F$105,2,FALSE) -> M | D83: =VLOOKUP(B83,'Preus Unitaris'!$B$6:$F$105,3,FALSE) -> PINTAT DE FAIXA DE 10 cm D'AMPLADA SOBRE PAVIMENT, AMB PINTURA TERMOPLÀSTICA EN CALENT I REFLECTANT AMB MICROESFERES DE VIDRE. INCLOU PREMARCATGE I QUALSEVOL FEINA I ELEMENTS AUXILIARS PER A LA CORRECTA REALITZACIÓ DE LA FEINA. | E83: 60 | F83: =VLOOKUP(B83,'Preus Unitaris'!$B$6:$F$105,4,FALSE) -> 1.19 | G83: =ROUND(F83*E83,2) -> 71.4
B84: ='Preus Unitaris'!B97 -> SE02 | C84: =VLOOKUP(B84,'Preus Unitaris'!$B$6:$F$105,2,FALSE) -> M | D84: =VLOOKUP(B84,'Preus Unitaris'!$B$6:$F$105,3,FALSE) -> PINTAT DE FAIXA DE 15 cm D'AMPLADA SOBRE PAVIMENT, AMB PINTURA TERMOPLÀSTICA EN CALENT I REFLECTANT AMB MICROESFERES DE VIDRE. INCLOU PREMARCATGE I QUALSEVOL FEINA I ELEMENTS AUXILIARS PER A LA CORRECTA REALITZACIÓ DE LA FEINA. | E84: 20 | F84: =VLOOKUP(B84,'Preus Unitaris'!$B$6:$F$105,4,FALSE) -> 1.33 | G84: =ROUND(F84*E84,2) -> 26.6
B85: ='Preus Unitaris'!B98 -> SE03 | C85: =VLOOKUP(B85,'Preus Unitaris'!$B$6:$F$105,2,FALSE) -> M | D85: =VLOOKUP(B85,'Preus Unitaris'!$B$6:$F$105,3,FALSE) -> PINTAT DE FAIXA DE 30 cm D'AMPLADA SOBRE PAVIMENT, AMB PINTURA TERMOPLÀSTICA EN CALENT I REFLECTANT AMB MICROESFERES DE VIDRE. INCLOU PREMARCATGE I QUALSEVOL FEINA I ELEMENTS AUXILIARS PER A LA CORRECTA REALITZACIÓ DE LA FEINA. | E85: 20 | F85: =VLOOKUP(B85,'Preus Unitaris'!$B$6:$F$105,4,FALSE) -> 3.09 | G85: =ROUND(F85*E85,2) -> 61.8
B86: ='Preus Unitaris'!B99 -> SE04 | C86: =VLOOKUP(B86,'Preus Unitaris'!$B$6:$F$105,2,FALSE) -> M | D86: =VLOOKUP(B86,'Preus Unitaris'!$B$6:$F$105,3,FALSE) -> PINTAT DE FAIXA DE 40 cm D'AMPLADA SOBRE PAVIMENT, AMB PINTURA TERMOPLÀSTICA EN CALENT I REFLECTANT AMB MICROESFERES DE VIDRE. INCLOU PREMARCATGE I QUALSEVOL FEINA I ELEMENTS AUXILIARS PER A LA CORRECTA REALITZACIÓ DE LA FEINA. | E86: 48 | F86: =VLOOKUP(B86,'Preus Unitaris'!$B$6:$F$105,4,FALSE) -> 4.58 | G86: =ROUND(F86*E86,2) -> 219.84
B87: ='Preus Unitaris'!B100 -> SE05 | C87: =VLOOKUP(B87,'Preus Unitaris'!$B$6:$F$105,2,FALSE) -> M2 | D87: =VLOOKUP(B87,'Preus Unitaris'!$B$6:$F$105,3,FALSE) -> PINTAT O REPINTAT/ESBORRAT MANUAL DE 50 cm DE SENYAL DE STOP O CEDIU EL PAS O ZEBRATS, A MÉS DE FLETXES, LLETRES, SÍMBOLS, FRANGES DE VÈRTEXS D'ILLETES, ... SOBRE EL PAVIMENT, AMB PINTURA DE DOS COMPONENTS EN FRED DE LLARGA DURADA I REFLECTANT AMB MICROESFERES DE VIDRE. INCLOU PREMARCATGE I QUALSEVOL FEINA I ELEMENTS AUXILIARS PER A LA CORRECTE REALITZACIÓ DE LA FEINA. | E87: 60 | F87: =VLOOKUP(B87,'Preus Unitaris'!$B$6:$F$105,4,FALSE) -> 23.86 | G87: =ROUND(F87*E87,2) -> 1431.6
B88: ='Preus Unitaris'!B102 -> SE07 | C88: =VLOOKUP(B88,'Preus Unitaris'!$B$6:$F$105,2,FALSE) -> UT | D88: =VLOOKUP(B88,'Preus Unitaris'!$B$6:$F$105,3,FALSE) -> SUBMINISTRAMENT I INSTAL·LACIÓ DE SENYAL INFORMATIVA INDICACIÓ CARRER, MODEL AJUNTAMENT BARCELONA | E88: 1 | F88: =VLOOKUP(B88,'Preus Unitaris'!$B$6:$F$105,4,FALSE) -> 93.63 | G88: =ROUND(F88*E88,2) -> 93.63
B89: ='Preus Unitaris'!B104 -> SE09 | C89: =VLOOKUP(B89,'Preus Unitaris'!$B$6:$F$105,2,FALSE) -> UT | D89: =VLOOKUP(B89,'Preus Unitaris'!$B$6:$F$105,3,FALSE) -> RETIRADA I RECOL·LOCACIÓ DE SENYAL VERTICAL, TIPUS INFORMATIVA PAS VIANANTS, PROHIBICIÓ O SIMILAR | E89: 3 | F89: =VLOOKUP(B89,'Preus Unitaris'!$B$6:$F$105,4,FALSE) -> 48.15 | G89: =ROUND(F89*E89,2) -> 144.45
B90: ='Preus Unitaris'!B105 -> SE10 | C90: =VLOOKUP(B90,'Preus Unitaris'!$B$6:$F$105,2,FALSE) -> PA | D90: =VLOOKUP(B90,'Preus Unitaris'!$B$6:$F$105,3,FALSE) -> PARTIDA ALÇADA PER LA DISPONIBILITAT D'EQUIP DE PINTURA VIAL. INCLOU MAQUINÀRIA, TRASLLAT, MÀ D'OBRA I ELEMENTS AUXILIARS PER A LA CORRECTA REALITZACIÓ DE LA FEINA. | E90: 1 | F90: =VLOOKUP(B90,'Preus Unitaris'!$B$6:$F$105,4,FALSE) -> 1200 | G90: =ROUND(F90*E90,2) -> 1200
B91: ='Preus Unitaris'!B106 -> INV01 | C91: =VLOOKUP(B91,'Preus Unitaris'!$B$6:$F$106,2,FALSE) -> PA | D91: =VLOOKUP(B91,'Preus Unitaris'!$B$6:$F$106,3,FALSE) -> PARTIDA PER A L'ACTUACIÓ I GESTIÓ D'INVENTARIS DEL DEPARTAMENT D'ESPAI URBÀ (INCLOENT SENYALITZACIÓ HORITZONTAL I VERTICAL, SEMAFORITZACIÓ, PAVIMENTS, MOBILIARI URBÀ I CARTOGRAFIA D'ACORD AMB EL CRITERIS DELS PLECS TÈCNICS CORRESPONENTS I LA BASE CARTOGRÀFICA DE L'AJUNTAMENT DE BARCELONA (P-53) PER OBRES INFERIORS A 1.000m². | E91: 1 | F91: =VLOOKUP(B91,'Preus Unitaris'!$B$6:$F$106,4,FALSE) -> 550 | G91: =ROUND(F91*E91,2) -> 550
D92: Subtotal Senyalització Horitzontal | G92: =SUM(G83:G91) -> 3799.32
D95: TOTAL PRESSUPOST EXECUCIÓ CONTRACTE (PEC) | G95: =SUM(G6:G94)/2 -> 85737.56
D96: IVA (21% sobre el PEC) | F96: 0.21 | G96: =ROUND(G95*F96,2) -> 18004.89
D97: TOTAL PRESSUPOST BASE LICITACIÓ | G97: =SUM(G95:G96) -> 103742.45
D100: RESUM PRESSUPOST
D101: =B6 -> Obra Civil Cruïlla Semàfors | G101: =G36 -> 29113.88
D102: =B39 -> Instal·lacions Semafòriques | G102: =G54 -> 17882.07
D103: =B56 -> Cablejats Elèctrics | G103: =G63 -> 2870.62
D104: =B65 -> Escomesa Elèctrica | G104: =G68 -> 6318.68
D105: =B70 -> Instal·lacions Comunicacions | G105: =G80 -> 25752.99
D106: =B82 -> Senyalització Horitzontal i Vertical | G106: =G92 -> 3799.32
D107: TOTAL PRESSUPOST EXECUCIÓ CONTRATA (PEC) | G107: =SUM(G101:G106) -> 85737.56
D108: IVA (21% sobre el PEC) | F108: 0.21 | G108: =ROUND(G107*F108,2) -> 18004.89
D109: TOTAL PRESSUPOST BASE LICITACIÓ | G109: =SUM(G107:G108) -> 103742.45
B114: NOTA: | D114: Els preus unitaris duen incorporats les parts proporcionals Despeses Generals, Benefici Industrial
D115: i qualsevol altre que sigui necessari per a la correcte execució de les unitats d'obra, inclús la part
D116: corresponent a Seguretat i Salut.

Sheet Pressupost C.Reig-Tapiró
B2: PRESSUPOST SEMAFORITZACIÓ CARDENAL REIG - PINTOR TAPIRÓ | G2: DISTRICTE LES CORTS - AJT. BCN
B4: Ítem | C4: Unitat Mesura | D4: Descripció | E4: Amidament | F4: Preu Unit. € | G4: Preu Total €
B6: Obra Civil Cruïlla Semàfors
B7: ='Pressupost C.Reig-Poblet'!B7 -> OC01 | C7: =VLOOKUP(B7,'Preus Unitaris'!$B$6:$F$105,2,FALSE) -> ML | D7: =VLOOKUP(B7,'Preus Unitaris'!$B$6:$F$105,3,FALSE) -> CANALITZACIÓ EN VORERA INCLOENT SUBMINISTRAMENT I INSTAL·LACIÓ DE 1 TUB DE PE D110 mm DE DOBLE CAPA, LLIS A L'INTERIOR I CORRUGAT A L'EXTERIOR, INCLÒS EXCAVACIÓ EN RASA DE 40 x 76 cm DE PROFUNDITAT, BASE I PROTECCIÓ DE FORMIGÓ HM20, EN VORERES DE PANOT INCLÒS LA SEVA REPOSICIÓ. TOTALMENT EXECUTADA SEGONS PLEC I D'ACORD AMB LES ORDENANCES MUNICIPALS I INDICACIONS PARTICULARS D'ACEFAT. | E7: 22 | F7: =VLOOKUP(B7,'Preus Unitaris'!$B$6:$F$105,4,FALSE) -> 79.98 | G7: =ROUND(F7*E7,2) -> 1759.56
B8: ='Pressupost C.Reig-Poblet'!B8 -> OC02 | C8: =VLOOKUP(B8,'Preus Unitaris'!$B$6:$F$105,2,FALSE) -> ML | D8: =VLOOKUP(B8,'Preus Unitaris'!$B$6:$F$105,3,FALSE) -> CANALITZACIÓ EN VORERA INCLOENT SUBMINISTRAMENT I INSTAL·LACIÓ DE 2 TUBS DE PE D110 mm DE DOBLE CAPA, LLIS A L'INTERIOR I CORRUGAT A L'EXTERIOR, INCLÒS EXCAVACIÓ EN RASA DE 40 x 76 cm DE PROFUNDITAT, BASE I PROTECCIÓ DE FORMIGÓ HM20, EN VORERES DE PANOT INCLÒS LA SEVA REPOSICIÓ. TOTALMENT EXECUTADA SEGONS PLEC I D'ACORD AMB LES ORDENANCES MUNICIPALS I INDICACIONS PARTICULARS D'ACEFAT. | E8: 65 | F8: =VLOOKUP(B8,'Preus Unitaris'!$B$6:$F$105,4,FALSE) -> 81.21 | G8: =ROUND(F8*E8,2) -> 5278.65
B9: ='Preus Unitaris'!B9 -> OC03 | C9: =VLOOKUP(B9,'Preus Unitaris'!$B$6:$F$105,2,FALSE) -> ML | D9: =VLOOKUP(B9,'Preus Unitaris'!$B$6:$F$105,3,FALSE) -> CANALITZACIÓ EN CALÇADA INCLÒS SUBMINISTRAMENT I INSTAL·LACIÓ DE 4 TUBS DE PE D110 mm DE DOBLE CAPA, LLIS A L'INTERIOR I CORRUGAT A L'EXTERIOR, INCLÒS EXCAVACIÓ EN RASA DE 60 x 80 cm. DE PROFUNDITAT, BASE I PROTECCIÓ DE FORMIGÓ HM30, EN CALÇADES. TOTALMENT EXECUTADA SEGONS PLEC I D'ACORD AMB LES ORDENANCES MUNICIPALS I INDICACIONS PARTICULARS D'ACEFAT. | E9: 40 | F9: =VLOOKUP(B9,'Preus Unitaris'!$B$6:$F$105,4,FALSE) -> 258.41 | G9: =ROUND(F9*E9,2) -> 10336.4
B10: ='Preus Unitaris'!B11 -> OC05 | C10: =VLOOKUP(B10,'Preus Unitaris'!$B$6:$F$105,2,FALSE) -> ML | D10: =VLOOKUP(B10,'Preus Unitaris'!$B$6:$F$105,3,FALSE) -> SUPLEMENT PER REALITZACIÓ DE CANALITZACIÓ EN CALÇADA EN FESTIU. | E10: =E9 -> 40 | F10: =VLOOKUP(B10,'Preus Unitaris'!$B$6:$F$105,4,FALSE) -> 104.59 | G10: =ROUND(F10*E10,2) -> 4183.6
B11: ='Preus Unitaris'!B12 -> OC06 | C11: =VLOOKUP(B11,'Preus Unitaris'!$B$6:$F$105,2,FALSE) -> UT | D11: =VLOOKUP(B11,'Preus Unitaris'!$B$6:$F$105,3,FALSE) -> FONAMENT DE FORMIGÓ PER A ARMARI AMB DOSIFICACIÓ DE 250 KG/m3 I ENCOFRAT CARA VISTA DE DIMENSIONS FINS A 70 x 60 x 50 cm. AMB UN ENCASTAMENT DE 15 cm. I DOS FORATS DE 110 mm. DE DIÀMETRE. TOTALMENT EXECUTAT SEGONS PLEC, INCLOSA OBRA CIVIL NECESSÀRIA I PERNS ANCORATGE. | E11: 2 | F11: =VLOOKUP(B11,'Preus Unitaris'!$B$6:$F$105,4,FALSE) -> 410 | G11: =ROUND(F11*E11,2) -> 820
B12: ='Preus Unitaris'!B13 -> OC07 | C12: =VLOOKUP(B12,'Preus Unitaris'!$B$6:$F$105,2,FALSE) -> UT | D12: =VLOOKUP(B12,'Preus Unitaris'!$B$6:$F$105,3,FALSE) -> FONAMENT DE FORMIGÓ PER A BÀCUL , AMB DOSIFICACIÓ DE 250 KG/m3, MITJANÇANT UN DAU DE 80 cm. DE COSTAT I 100 cm. DE PROFUNDITAT, INCLÒS PERNS ANCORATGE, COLZE DE CONNEXIÓ AMB TUBULAR. INCLOU DEMOLICIÓ PAVIMENT, EXCAVACIÓ I POSTERIOR REPOSICIÓ. TOTALMENT EXECUTAT. | E12: 2 | F12: =VLOOKUP(B12,'Preus Unitaris'!$B$6:$F$105,4,FALSE) -> 252.25 | G12: =ROUND(F12*E12,2) -> 504.5
B13: ='Preus Unitaris'!B14 -> OC08 | C13: =VLOOKUP(B13,'Preus Unitaris'!$B$6:$F$105,2,FALSE) -> UT | D13: =VLOOKUP(B13,'Preus Unitaris'!$B$6:$F$105,3,FALSE) -> FONAMENT DE FORMIGÓ PER A COLUMNA FINS A 2400 mm, AMB DOSIFICACIÓ DE 250 KG/m3, MITJANÇANT UN DAU DE 40 cm. DE COSTAT I 60 cm. DE PROFUNDITAT, REBENT PEÇA ESPECIAL D'ANCORATGE, SENSE INCLOURE AQUESTA, INCLÒS COLZE DE CONNEXIÓ AMB TUBULAR. TOTALMENT EXECUTAT SEGONS PLEC. | E13: 5 | F13: =VLOOKUP(B13,'Preus Unitaris'!$B$6:$F$105,4,FALSE) -> 142.98 | G13: =ROUND(F13*E13,2) -> 714.9
B14: ='Preus Unitaris'!B16 -> OC10 | C14: =VLOOKUP(B14,'Preus Unitaris'!$B$6:$F$105,2,FALSE) -> UT | D14: =VLOOKUP(B14,'Preus Unitaris'!$B$6:$F$105,3,FALSE) -> PERICÓ DE 60 x 60 cm. PREFABRICAT DE FORMIGÓ O CONSTRUÏT AMB MAONS GERO I FONS DEL MATEIX MATERIAL REBENT EL MARC I LA TAPA CORRESPONENT, INCLOSOS SUBMINISTRAMENT D'AQUESTS. DEMOLICIÓ DE PAVIMENT, EXCAVACIÓ I POSTERIOR REPOSICIÓ. TOTALMENT ACABAT I EXECUTAT SEGONS PLEC. | E14: 8 | F14: =VLOOKUP(B14,'Preus Unitaris'!$B$6:$F$105,4,FALSE) -> 184.45 | G14: =ROUND(F14*E14,2) -> 1475.6
B15: ='Preus Unitaris'!B18 -> OC12 | C15: =VLOOKUP(B15,'Preus Unitaris'!$B$6:$F$105,2,FALSE) -> UT | D15: =VLOOKUP(B15,'Preus Unitaris'!$B$6:$F$105,3,FALSE) -> RECONVERSIÓ PERICÓ DE 40X40 A PERICÓ DE 60X60. INCLOU TREBALLS DE CONSTRUCCIÓ DE L'ESTRUCTURA AMB MAONS, FORMIGÓ I LA TAPA I MARC DE FERRO, AIXÍ COM ELS TREBALLS DE MÀ D'OBRA. | E15: 1 | F15: =VLOOKUP(B15,'Preus Unitaris'!$B$6:$F$105,4,FALSE) -> 101.65 | G15: =ROUND(F15*E15,2) -> 101.65
B16: ='Preus Unitaris'!B19 -> OC13 | C16: =VLOOKUP(B16,'Preus Unitaris'!$B$6:$F$105,2,FALSE) -> UT | D16: =VLOOKUP(B16,'Preus Unitaris'!$B$6:$F$105,3,FALSE) -> SUBMINISTRAMENT, INSTAL·LACIÓ I CONNEXIÓ DE PLACA DE PRESA DE TERRA DE 500 x 500 x 3 mm EN PERICÓ DE REGISTRE. INCLOSA OBRA CIVIL NECESSÀRIA. TOTALMENT EXECUTAT | E16: 1 | F16: =VLOOKUP(B16,'Preus Unitaris'!$B$6:$F$105,4,FALSE) -> 55.37 | G16: =ROUND(F16*E16,2) -> 55.37
B17: ='Preus Unitaris'!B22 -> OC16 | C17: =VLOOKUP(B17,'Preus Unitaris'!$B$6:$F$105,2,FALSE) -> UT | D17: =VLOOKUP(B17,'Preus Unitaris'!$B$6:$F$105,3,FALSE) -> OBTURACIÓ DE TUBULAR AMB O SENSE CABLES EXISTENTS. | E17: 62 | F17: =VLOOKUP(B17,'Preus Unitaris'!$B$6:$F$105,4,FALSE) -> 0.62 | G17: =ROUND(F17*E17,2) -> 38.44
B18: ='Preus Unitaris'!B23 -> OC17 | C18: =VLOOKUP(B18,'Preus Unitaris'!$B$6:$F$105,2,FALSE) -> UT | D18: =VLOOKUP(B18,'Preus Unitaris'!$B$6:$F$105,3,FALSE) -> EMBOCADURA DE TUBULARS A PERICÓ REGISTRE EXISTENT, INCLÚS PROTECCIÓ CABLES EXISTENTS, PASSAMURS, SEGELLAT TUBS AMB PARET PERICÓ I ENLLUÏMENT INTERIOR PARET PERICÓ. TOTALMENT EXECUTADA. | E18: 2 | F18: =VLOOKUP(B18,'Preus Unitaris'!$B$6:$F$105,4,FALSE) -> 59.06 | G18: =ROUND(F18*E18,2) -> 118.12
B19: ='Preus Unitaris'!B24 -> OC18 | C19: =VLOOKUP(B19,'Preus Unitaris'!$B$6:$F$105,2,FALSE) -> M2 | D19: =VLOOKUP(B19,'Preus Unitaris'!$B$6:$F$105,3,FALSE) -> ARRENCADA I REPOSICIÓ DE LLOSETES DE PANOT DE MORTER COMPRIMIT EN VORERA. RETIRADA I TRANSPORT DE RUNA A ABOCADOR AUTORITZAT. TOTALMENT EXECUTADA. | E19: 20 | F19: =VLOOKUP(B19,'Preus Unitaris'!$B$6:$F$105,4,FALSE) -> 107.402 | G19: =ROUND(F19*E19,2) -> 2148.04
B20: ='Preus Unitaris'!B25 -> OC19 | C20: =VLOOKUP(B20,'Preus Unitaris'!$B$6:$F$105,2,FALSE) -> M3 | D20: =VLOOKUP(B20,'Preus Unitaris'!$B$6:$F$105,3,FALSE) -> DEMOLICIÓ DE FORMIGÓ AMB MARTELL TRENCADOR, INCLÒS TALL D'ARMADURES AMB SOPLET, RETIRADA I TRANSPORT DE RESIDUS A DEIXALLERIA. TOTALMENT EXECUTADA. | E20: 2 | F20: =VLOOKUP(B20,'Preus Unitaris'!$B$6:$F$105,4,FALSE) -> 116.58 | G20: =ROUND(F20*E20,2) -> 233.16
B21: ='Preus Unitaris'!B26 -> OC20 | C21: =VLOOKUP(B21,'Preus Unitaris'!$B$6:$F$105,2,FALSE) -> UT | D21: =VLOOKUP(B21,'Preus Unitaris'!$B$6:$F$105,3,FALSE) -> REPARACIÓ CANALITZACIÓ VORERA, MITJANÇANT EXCAVACIÓ, SUBMINISTRAMENT I COL·LOCACIÓ TUB DE PE DE DOBLE CAPA, LLIS A L'INTERIOR I COARRUGAT A L'EXTERIOR DEL MATEIX DIÀMETRE QUE L'EXISTENT, MANEGUET D'ACOBLAMENT, PAS DEL CABLE, COL·LOCACIÓ DE MITJA CANYA, LLIGAT AMB FILFERROS I FORMIGONAT DEL CONJUNT I REPOSICIÓ DE PAVIMENT DE PANOT DE LES MATEIXES CARACTERÍSTIQUES A L'EXISTENT, PER A LLARGADES FINS A 2m, INCLÚS RETIRADA I TRANSPORT DE RESIDUS A DEIXALLERIA. TOTALMENT EXECUTADA. | E21: 4 | F21: =VLOOKUP(B21,'Preus Unitaris'!$B$6:$F$105,4,FALSE) -> 120.59 | G21: =ROUND(F21*E21,2) -> 482.36
B22: ='Preus Unitaris'!B27 -> OC21 | C22: =VLOOKUP(B22,'Preus Unitaris'!$B$6:$F$105,2,FALSE) -> UT | D22: =VLOOKUP(B22,'Preus Unitaris'!$B$6:$F$105,3,FALSE) -> CALA LOCALITZACIÓ SERVEIS, MITJANÇANT DEMOLICIÓ PAVIMENTS, EXCAVACIÓ MANUAL I POSTERIOR REBLIMENT I REPOSICIÓ DE PAVIMENT DE LES MATEIXES CARACTERÍSTIQUES A L'EXISTENT, PER A LLARGADES FINS A 2m I FINS A 60cm AMPLADA, INCLÚS RETIRADA I TRANSPORT DE RUNA A ABOCADOR AUTORITZAT. TOTALMENT EXECUTADA. | E22: 4 | F22: =VLOOKUP(B22,'Preus Unitaris'!$B$6:$F$105,4,FALSE) -> 92.29 | G22: =ROUND(F22*E22,2) -> 369.16
B23: ='Preus Unitaris'!B29 -> OC23 | C23: =VLOOKUP(B23,'Preus Unitaris'!$B$6:$F$105,2,FALSE) -> UT | D23: =VLOOKUP(B23,'Preus Unitaris'!$B$6:$F$105,3,FALSE) -> SUBMINISTRAMENT DE PEDRA DE GRANIT GRIS DE 40x40x23 cm CARES VISTES FLAMEJADES, PER GUAL BARCELONA B-120, INCLOU FORAT PER COLUMNA O BÀCUL SI FOS NECESSARI. | E23: 5 | F23: =VLOOKUP(B23,'Preus Unitaris'!$B$6:$F$105,4,FALSE) -> 133.2 | G23: =ROUND(F23*E23,2) -> 666
B24: ='Preus Unitaris'!B30 -> OC24 | C24: =VLOOKUP(B24,'Preus Unitaris'!$B$6:$F$105,2,FALSE) -> UT | D24: =VLOOKUP(B24,'Preus Unitaris'!$B$6:$F$105,3,FALSE) -> ARRENCADA I REPOSICIÓ (SENSE SUBMINISTRAMENT) DE PEDRA DE GRANIT GRIS DE 40x40x23 cm CARES VISTES FLAMEJADES, PER GUAL BARCELONA B-120, INCLOU FORAT PER COLUMNA O BÀCUL SI FOS NECESSARI. | E24: 5 | F24: =VLOOKUP(B24,'Preus Unitaris'!$B$6:$F$105,4,FALSE) -> 25.84 | G24: =ROUND(F24*E24,2) -> 129.2
B25: ='Preus Unitaris'!B31 -> OC25 | C25: =VLOOKUP(B25,'Preus Unitaris'!$B$6:$F$105,2,FALSE) -> UT | D25: =VLOOKUP(B25,'Preus Unitaris'!$B$6:$F$105,3,FALSE) -> SUBMINISTRAMENT DE PEDRA DE GRANIT GRIS DE 40x121,8x6 cm CARES VISTES FLAMEJADES, PER GUAL BARCELONA B-120, INCLOU TALLAT PER PERICÓ SI FOS NECESSARI. | E25: 3 | F25: =VLOOKUP(B25,'Preus Unitaris'!$B$6:$F$105,4,FALSE) -> 286.1 | G25: =ROUND(F25*E25,2) -> 858.3
B26: ='Preus Unitaris'!B32 -> OC26 | C26: =VLOOKUP(B26,'Preus Unitaris'!$B$6:$F$105,2,FALSE) -> UT | D26: =VLOOKUP(B26,'Preus Unitaris'!$B$6:$F$105,3,FALSE) -> ARRENCADA I REPOSICIÓ (SENSE SUBMINISTRAMENT) DE PEDRA DE GRANIT GRIS DE 40x121,8x6 cm CARES VISTES FLAMEJADES, PER GUAL BARCELONA B-120, INCLOU TALLAT PER PERICÓ SI FOS NECESSARI. | E26: 8 | F26: =VLOOKUP(B26,'Preus Unitaris'!$B$6:$F$105,4,FALSE) -> 25.84 | G26: =ROUND(F26*E26,2) -> 206.72
B27: OC31 | C27: =VLOOKUP(B27,'Preus Unitaris'!$B$6:$F$105,2,FALSE) -> UT | D27: =VLOOKUP(B27,'Preus Unitaris'!$B$6:$F$105,3,FALSE) -> FONAMENT DE FORMIGÓ PER A ARMARI DE CONTROL O ESCOMESA ELÈCTRICA, AMB DOSIFICACIÓ DE 250 KG/m3 I ENCOFRAT CARA VISTA, DE DIMENSIONS APROX. 800 x 800 x 500 mm AMB UN ENCASTAMENT DE 20 cm I 4 FORATS DE 110 mm. DE DIÀMETRE. INCLOU DEMOLICIÓ PAVIMENT, EXCAVACIÓ I POSTERIOR REPOSICIÓ. TOTALMENT EXECUTAT. | E27: 1 | F27: =VLOOKUP(B27,'Preus Unitaris'!$B$6:$F$105,4,FALSE) -> 235 | G27: =ROUND(F27*E27,2) -> 235
B28: OC32 | C28: =VLOOKUP(B28,'Preus Unitaris'!$B$6:$F$105,2,FALSE) -> ML | D28: =VLOOKUP(B28,'Preus Unitaris'!$B$6:$F$105,3,FALSE) -> SUPLEMENT PER REALITZACIÓ DE CANALITZACIÓ EN VORERA DE PAVIMENT ESPECIAL, TIPUS GRANIT, LLAMBORDES O SIMILARS | E28: 1 | F28: =VLOOKUP(B28,'Preus Unitaris'!$B$6:$F$105,4,FALSE) -> 25.97 | G28: =ROUND(F28*E28,2) -> 25.97
B29: OC33 | C29: =VLOOKUP(B29,'Preus Unitaris'!$B$6:$F$105,2,FALSE) -> UT | D29: =VLOOKUP(B29,'Preus Unitaris'!$B$6:$F$105,3,FALSE) -> PERICÓ DE 60 x 60 cm. PREFABRICAT DE FORMIGÓ O CONSTRUÏT AMB MAONS GERO I FONS DEL MATEIX MATERIAL REBENT EL MARC I LA TAPA CLASSE C-250 PER 25 TONELADES DE CARGA DE ROTURA, CUMPLEIX NORMA EN 124, INCLOSOS SUBMINISTRAMENT D'AQUESTS. DEMOLICIÓ DE PAVIMENT, EXCAVACIÓ I POSTERIOR REPOSICIÓ. TOTALMENT ACABAT I EXECUTAT SEGONS PLEC. | E29: 1 | F29: =VLOOKUP(B29,'Preus Unitaris'!$B$6:$F$105,4,FALSE) -> 304.87 | G29: =ROUND(F29*E29,2) -> 304.87
B30: OC35 | C30: =VLOOKUP(B30,'Preus Unitaris'!$B$6:$F$105,2,FALSE) -> PAJ | D30: =VLOOKUP(B30,'Preus Unitaris'!$B$6:$F$105,3,FALSE) -> PARTIDA ALÇADA A JUSTIFICAR EXCECESSOS D'AMIDAMENT, AJUSTS DE PALETA, IMPREVISTOS DURANT L'EXECUCIÓ DELS TREBALLS D'OBRA CIVIL AMB SERVEIS AFECTATS, ACCESSOS I ELEMENTS DE VENTILACIÓ. CRUÏLLA C/CARDENAL REIG-C/PINTOR TAPIRÓ. | E30: 1 | F30: =VLOOKUP(B30,'Preus Unitaris'!$B$6:$F$105,4,FALSE) -> 926.63 | G30: =ROUND(F30*E30,2) -> 926.63
D31: Subtotal Obra Civil Cruïlla Semàfors | G31: =SUM(G7:G30) -> 31972.2
B33: Instal·lacions Semafòriques
B34: ='Preus Unitaris'!B45 -> IS01 | C34: =VLOOKUP(B34,'Preus Unitaris'!$B$6:$F$105,2,FALSE) -> UT | D34: =VLOOKUP(B34,'Preus Unitaris'!$B$6:$F$105,3,FALSE) -> SUBMINISTRAMENT I INSTAL·LACIÓ DE SEMÀFOR 11/200 AMB ÒPTIQUES DE TECNOLOGIA LED DE QUALSEVOL COLOR I TIPUS NORMAL, BICI, BUS, MIXTE, ETC. MODEL CLÀSSIC O BARCELONA AMB ÀNIMA D'ALUMINI. | E34: 2 | F34: =VLOOKUP(B34,'Preus Unitaris'!$B$6:$F$105,4,FALSE) -> 307.63 | G34: =ROUND(F34*E34,2) -> 615.26
B35: ='Preus Unitaris'!B46 -> IS02 | C35: =VLOOKUP(B35,'Preus Unitaris'!$B$6:$F$105,2,FALSE) -> UT | D35: =VLOOKUP(B35,'Preus Unitaris'!$B$6:$F$105,3,FALSE) -> SUBMINISTRAMENT I INSTAL·LACIÓ DE SEMÀFOR PER A VIANANTS Vlnv 12/200 AMB DISPOSITIU PER INVIDENTS I ÒPTIQUES DE TECNOLOGIA LED DE QUALSEVOL COLOR I TIPUS NORMAL, PPC, BICI, BUS, MIXTE, ETC. MODEL CLÀSSIC O BARCELONA AMB ÀNIMA D'ALUMINI. | E35: 6 | F35: =VLOOKUP(B35,'Preus Unitaris'!$B$6:$F$105,4,FALSE) -> 553.73 | G35: =ROUND(F35*E35,2) -> 3322.38
B36: ='Preus Unitaris'!B47 -> IS03 | C36: =VLOOKUP(B36,'Preus Unitaris'!$B$6:$F$105,2,FALSE) -> UT | D36: =VLOOKUP(B36,'Preus Unitaris'!$B$6:$F$105,3,FALSE) -> SUBMINISTRAMENT I INSTAL·LACIÓ DE SEMÀFOR 13/200 AMB ÒPTIQUES DE TECNOLOGIA LED DE QUALSEVOL COLOR I TIPUS NORMAL, BICI, BUS, MIXTE, ETC. MODEL CLÀSSIC O BARCELONA AMB ÀNIMA D'ALUMINI. | E36: 8 | F36: =VLOOKUP(B36,'Preus Unitaris'!$B$6:$F$105,4,FALSE) -> 861.35 | G36: =ROUND(F36*E36,2) -> 6890.8
B37: ='Preus Unitaris'!B48 -> IS04 | C37: =VLOOKUP(B37,'Preus Unitaris'!$B$6:$F$105,2,FALSE) -> UT | D37: =VLOOKUP(B37,'Preus Unitaris'!$B$6:$F$105,3,FALSE) -> SUBMINISTRAMENT I INSTAL·LACIÓ DE SISTEMA PER A INVIDENTS COMPLET AMB ACTUACIÓ PER COMANDAMENT A DISTÀNICA MODEL BARCELONA (CIBERPAS). | E37: 6 | F37: =VLOOKUP(B37,'Preus Unitaris'!$B$6:$F$105,4,FALSE) -> 153.81 | G37: =ROUND(F37*E37,2) -> 922.86
B38: ='Preus Unitaris'!B52 -> IS08 | C38: =VLOOKUP(B38,'Preus Unitaris'!$B$6:$F$105,2,FALSE) -> UT | D38: =VLOOKUP(B38,'Preus Unitaris'!$B$6:$F$105,3,FALSE) -> SUPLEMENT PER INSTAL·LACIÓ DE SEMÀFOR A ALÇADA SUPERIOR A 4 m. | E38: 3 | F38: =VLOOKUP(B38,'Preus Unitaris'!$B$6:$F$105,4,FALSE) -> 61.53 | G38: =ROUND(F38*E38,2) -> 184.59
B39: ='Preus Unitaris'!B54 -> IS10 | C39: =VLOOKUP(B39,'Preus Unitaris'!$B$6:$F$105,2,FALSE) -> UT | D39: =VLOOKUP(B39,'Preus Unitaris'!$B$6:$F$105,3,FALSE) -> SUBMINISTRAMENT I INSTAL·LACIÓ COLUMNA POLIÈSTER-FIBRA DE VIDRE DE 2,40 m D'ALTURA ÚTIL, 100 mm DE DIÀMETRE AMB UN ESPESSOR NORMAL i 35 cm D'EMPOTRAMENT SENSE INCLOURE PEÇA TAPAJUNTES. | E39: 5 | F39: =VLOOKUP(B39,'Preus Unitaris'!$B$6:$F$105,4,FALSE) -> 135.36 | G39: =ROUND(F39*E39,2) -> 676.8
B40: ='Preus Unitaris'!B55 -> IS11 | C40: =VLOOKUP(B40,'Preus Unitaris'!$B$6:$F$105,2,FALSE) -> UT | D40: =VLOOKUP(B40,'Preus Unitaris'!$B$6:$F$105,3,FALSE) -> SUBMINISTRAMENT I INSTAL·LACIÓ BÀCUL D'ACER GALVANITZAT DE 6 m D' ALTURA ÚTIL, AMB UN BRAÇ DE 4,50 m I 190 mm DE DIÀMETRE INICIAL, AMB UN ESPESSOR DE 3 mm REFORÇAT A LA BASE AMB 4 mm FINS A SOBRE DE LA PORTA. INCLÚS PUNTA DE BÀCUL FINS A 3 m. (MODEL HOMOLOGAT). TOTALMENT MUNTAT. | E40: 2 | F40: =VLOOKUP(B40,'Preus Unitaris'!$B$6:$F$105,4,FALSE) -> 618.25 | G40: =ROUND(F40*E40,2) -> 1236.5
B41: ='Preus Unitaris'!B56 -> IS12 | C41: =VLOOKUP(B41,'Preus Unitaris'!$B$6:$F$105,2,FALSE) -> UT | D41: =VLOOKUP(B41,'Preus Unitaris'!$B$6:$F$105,3,FALSE) -> SUBMINISTRAMENT I INSTAL·LACIÓ DE SUPORT DE 150 mm DE SORTINT PER A SUSTENTACIÓ D'UN SEMÀFOR MODEL CLÀSSIC O BARCELONA | E41: 8 | F41: =VLOOKUP(B41,'Preus Unitaris'!$B$6:$F$105,4,FALSE) -> 43.34 | G41: =ROUND(F41*E41,2) -> 346.72
B42: ='Preus Unitaris'!B57 -> IS13 | C42: =VLOOKUP(B42,'Preus Unitaris'!$B$6:$F$105,2,FALSE) -> UT | D42: =VLOOKUP(B42,'Preus Unitaris'!$B$6:$F$105,3,FALSE) -> SUBMINISTRAMENT I INSTAL·LACIÓ DE SUPORT DOBLE PER A SUSTENTACIÓ DE DOS SEMÀFORS MODEL CLÀSSIC O BARCELONA | E42: 1 | F42: =VLOOKUP(B42,'Preus Unitaris'!$B$6:$F$105,4,FALSE) -> 60.67 | G42: =ROUND(F42*E42,2) -> 60.67
B43: ='Preus Unitaris'!B58 -> IS14 | C43: =VLOOKUP(B43,'Preus Unitaris'!$B$6:$F$105,2,FALSE) -> UT | D43: =VLOOKUP(B43,'Preus Unitaris'!$B$6:$F$105,3,FALSE) -> SUBMINISTRAMENT I INSTAL·LACIÓ DE BAIXANT DE BÀCUL PER SEMÀFOR MODEL CLÀSSIC O BARCELONA. | E43: 3 | F43: =VLOOKUP(B43,'Preus Unitaris'!$B$6:$F$105,4,FALSE) -> 22.88 | G43: =ROUND(F43*E43,2) -> 68.64
B44: ='Preus Unitaris'!B59 -> IS15 | C44: =VLOOKUP(B44,'Preus Unitaris'!$B$6:$F$105,2,FALSE) -> UT | D44: =VLOOKUP(B44,'Preus Unitaris'!$B$6:$F$105,3,FALSE) -> SUBMINISTRAMENT I INSTAL·LACIÓ DE CASQUET METÀL·LIC DE SEMÀFOR S9 PER ACOPLAMENT DE SENYALITZACIÓ VERTICAL. | E44: 4 | F44: =VLOOKUP(B44,'Preus Unitaris'!$B$6:$F$105,4,FALSE) -> 19.83 | G44: =ROUND(F44*E44,2) -> 79.32
B45: ='Preus Unitaris'!B60 -> IS16 | C45: =VLOOKUP(B45,'Preus Unitaris'!$B$6:$F$105,2,FALSE) -> UT | D45: =VLOOKUP(B45,'Preus Unitaris'!$B$6:$F$105,3,FALSE) -> SUBMINISTRAMENT I INSTAL·LACIÓ DE REGULADOR SEMAFÒRIC AMB CAPACITAT DE FINS A 32 GRUPS, SEGONS ESPECIFICACIONS I PROTOCOL AJUNTAMENT BARCELONA. INCLÚS ARMARI AMB COLOR ESTÀNDARD RAL 9007 TOTALMENT EQUIPAT I POSAT EN MARXA. | E45: 1 | F45: =VLOOKUP(B45,'Preus Unitaris'!$B$6:$F$105,4,FALSE) -> 5948.25 | G45: =ROUND(F45*E45,2) -> 5948.25
B46: ='Preus Unitaris'!B61 -> IS17 | C46: =VLOOKUP(B46,'Preus Unitaris'!$B$6:$F$105,2,FALSE) -> UT | D46: =VLOOKUP(B46,'Preus Unitaris'!$B$6:$F$105,3,FALSE) -> SUBMINISTRAMENT I INSTAL·LACIÓ DE CARTA DE SORTIDES PER 2 GRUPS, SEGONS ESPECIFICACIONS I PROTOCOL AJUNTAMENT BARCELONA. | E46: 3 | F46: =VLOOKUP(B46,'Preus Unitaris'!$B$6:$F$105,4,FALSE) -> 236.9 | G46: =ROUND(F46*E46,2) -> 710.7
B47: ='Preus Unitaris'!B62 -> IS22 | C47: =VLOOKUP(B47,'Preus Unitaris'!$B$6:$F$105,2,FALSE) -> UT | D47: =VLOOKUP(B47,'Preus Unitaris'!$B$6:$F$105,3,FALSE) -> SUBMINISTRAMENT i INSTAL·LACIÓ DE SAI ON LINE FINS A 1500 VA PER REGULADOR SEMAFÒRIC, AMB CAPACITAT D'INCORPORAR BATERIES EXTERNES ADDICIONALS PER GARATIR UNA AUTONOMIA DE FUNCIONAMENT DE LA CRUÏLLA DE COM A MÍNIM DUES HORES, SEGONS ESPECIFICACIONS AJUNTAMENT. INCLOSES LES BATERIES. INCLÚS ARMARI TOTALMENT EQUIPAT I POSAT EN MARXA. | E47: 0 | F47: =VLOOKUP(B47,'Preus Unitaris'!$B$6:$F$105,4,FALSE) -> 3190.43 | G47: =ROUND(F47*E47,2) -> 0
B48: ='Preus Unitaris'!B64 -> IS24 | C48: =VLOOKUP(B48,'Preus Unitaris'!$B$6:$F$105,2,FALSE) -> UT | D48: =VLOOKUP(B48,'Preus Unitaris'!$B$6:$F$105,3,FALSE) -> CONFECCIÓ DE LA PROGRAMACIÓ DEL REGULACIÓ DE LA CRUÏLLA, DOCUMENTACIÓ, CÀRREGA, PROVES I POSADA EN MARXA, I INTEGRACIÓ EN EL SISTEMA DE GESTIÓ SEMAFÒRICA DE L CIUTAT EN EL CGMU, D'ACORD A LES DIRECTRIUS I INSTRUCCIONS DONADES PEL DEPARTAMENT DE REGULACIÓ - MOBILITAT. | E48: 1 | F48: =VLOOKUP(B48,'Preus Unitaris'!$B$6:$F$105,4,FALSE) -> 1110 | G48: =ROUND(F48*E48,2) -> 1110
D49: Subtotal Instal·lacions Semàfors | G49: =SUM(G34:G48) -> 22173.49
B51: Cablejats Elèctrics
B52: ='Preus Unitaris'!B67 -> CE01 | C52: =VLOOKUP(B52,'Preus Unitaris'!$B$6:$F$105,2,FALSE) -> ML | D52: =VLOOKUP(B52,'Preus Unitaris'!$B$6:$F$105,3,FALSE) -> SUBMINISTRAMENT I INSTAL·LACIÓ DE CABLE DE CONDUCTOR DE COURE DE 0,6/1 KV, DESIGNACIÓ RV-K, DE SECCIÓ 4x2,5 mm2. INCLÚS MARCAT I ETIQUETAT I QUALSEVOL FEINA PER A LA CORRECTE INSTAL·LACIÓ. | E52: 726 | F52: =VLOOKUP(B52,'Preus Unitaris'!$B$6:$F$105,4,FALSE) -> 2.44 | G52: =ROUND(F52*E52,2) -> 1771.44
B53: ='Preus Unitaris'!B68 -> CE02 | C53: =VLOOKUP(B53,'Preus Unitaris'!$B$6:$F$105,2,FALSE) -> ML | D53: =VLOOKUP(B53,'Preus Unitaris'!$B$6:$F$105,3,FALSE) -> SUBMINISTRAMENT I INSTAL·LACIÓ DE CABLE DE CONDUCTOR DE COURE AMB AÏLLAMENT DE PLÀSTIC, DE SECCIÓ 1x6 mm2 PER PRESES DE TERRA. INCLÚS MARCAT I ETIQUETAT I QUALSEVOL FEINA PER A LA CORRECTE INSTAL·LACIÓ. | E53: 202 | F53: =VLOOKUP(B53,'Preus Unitaris'!$B$6:$F$105,4,FALSE) -> 4.4 | G53: =ROUND(F53*E53,2) -> 888.8
B54: ='Preus Unitaris'!B69 -> CE03 | C54: =VLOOKUP(B54,'Preus Unitaris'!$B$6:$F$105,2,FALSE) -> ML | D54: =VLOOKUP(B54,'Preus Unitaris'!$B$6:$F$105,3,FALSE) -> SUBMINISTRAMENT I INSTAL·LACIÓ DE CABLE DE CONDUCTOR DE COURE EPTAFILAR NU, DE SECCIÓ 1x35 mm2 PER PRESES DE TERRA. INCLÚS MARCAT I ETIQUETAT I QUALSEVOL FEINA PER A LA CORRECTE INSTAL·LACIÓ. | E54: 10 | F54: =VLOOKUP(B54,'Preus Unitaris'!$B$6:$F$105,4,FALSE) -> 5.51 | G54: =ROUND(F54*E54,2) -> 55.1
B55: ='Preus Unitaris'!B70 -> CE04 | C55: =VLOOKUP(B55,'Preus Unitaris'!$B$6:$F$105,2,FALSE) -> ML | D55: =VLOOKUP(B55,'Preus Unitaris'!$B$6:$F$105,3,FALSE) -> SUBMINISTRAMENT I INSTAL·LACIÓ DE CABLE DE CONDUCTOR DE COURE DE 0,6/1 KV, DESIGNACIÓ RV-K, DE SECCIÓ 3x6 mm2. INCLÚS MARCAT I ETIQUETAT I QUALSEVOL FEINA PER A LA CORRECTE INSTAL·LACIÓ. | E55: 260 | F55: =VLOOKUP(B55,'Preus Unitaris'!$B$6:$F$105,4,FALSE) -> 4.62 | G55: =ROUND(F55*E55,2) -> 1201.2
B56: ='Preus Unitaris'!B71 -> CE05 | C56: =VLOOKUP(B56,'Preus Unitaris'!$B$6:$F$105,2,FALSE) -> ML | D56: =VLOOKUP(B56,'Preus Unitaris'!$B$6:$F$105,3,FALSE) -> SUBMINISTRAMENT I INSTAL·LACIÓ DE CABLE DE CONDUCTOR DE COURE DE 0,6/1 KV, DESIGNACIÓ RV-K, CONSTRUCCIÓ SEGONS NORMA UNE 21123-2, BIPOLAR, DE SECCIÓ 2x10 mm2 AMB COBERTA DEL CABLE DE PVC, CLASSE DE REACCIÓ AL FOC ECA SEGONS LA NORMA UNE-EN 50575 INCLÚS MARCAT I ETIQUETAT I QUALSEVOL FEINA PER A LA CORRECTE INSTAL·LACIÓ EN TUB (P-235). | E56: 50 | F56: =VLOOKUP(B56,'Preus Unitaris'!$B$6:$F$105,4,FALSE) -> 4.87 | G56: =ROUND(F56*E56,2) -> 243.5
B57: ='Preus Unitaris'!B72 -> CE06 | C57: =VLOOKUP(B57,'Preus Unitaris'!$B$6:$F$105,2,FALSE) -> ML | D57: =VLOOKUP(B57,'Preus Unitaris'!$B$6:$F$105,3,FALSE) -> SUBMINISTRAMENT I INSTAL·LACIÓ DE CABLE DE CONDUCTOR DE COURE DE TENSIÓ ASSIGNADA INFERIOR O IGUAL A 450/700 V, DESIGNACIÓ H07V-K, CONSTRUCCIÓ SEGONS NORMA UNE-EN 50525-2-31, UNIPOLAR, DE SECCIÓ 1x16 mm2 AMB AILLAMENT DE PVC, CLASSE DE REACCIÓ AL FOC ECA SEGONS LA NORMA UNE-EN 50575 INCLÚS MARCAT I ETIQUETAT I QUALSEVOL FEINA PER A LA CORRECTE INSTAL·LACIÓ EN TUB (P-51). | E57: 137 | F57: =VLOOKUP(B57,'Preus Unitaris'!$B$6:$F$105,4,FALSE) -> 4.75 | G57: =ROUND(F57*E57,2) -> 650.75
D58: Subtotal Cablejats Elèctrics | G58: =SUM(G52:G57) -> 4810.79
B60: Escomesa Elèctrica
B61: ='Preus Unitaris'!B75 -> EC01 | C61: =VLOOKUP(B61,'Preus Unitaris'!$B$6:$F$105,2,FALSE) -> UT | D61: =VLOOKUP(B61,'Preus Unitaris'!$B$6:$F$105,3,FALSE) -> GESTIÓ PER A LA CONTRACTACIÓ D'ESCOMESA ELÈCTRICA PER A CRUÏLLA DE SEMÀFORS I LLUR LEGALITZACIÓ. INCLOU LA CONFECCIÓ DE TOTA LA DOCUMENTACIÓ TÈCNICA NECESSÀRIA, REALITZACIÓ DE TOTES LES GESTIONS I TRÀMITS NECESSARIS FINS A LA CORRECTE LEGALITZACIÓ ELÈCTRICA. | E61: 1 | F61: =VLOOKUP(B61,'Preus Unitaris'!$B$6:$F$105,4,FALSE) -> 1368.68 | G61: =ROUND(F61*E61,2) -> 1368.68
B62: ='Preus Unitaris'!B76 -> EC02 | C62: =VLOOKUP(B62,'Preus Unitaris'!$B$6:$F$105,2,FALSE) -> UT | D62: =VLOOKUP(B62,'Preus Unitaris'!$B$6:$F$105,3,FALSE) -> ESCOMESA ELÈCTRICA. REALITZACIÓ DE NOVA ESCOMESA EN ENTORN URBÀ. INCLOU: ARMARI PER ESCOMESA COMPANYIA, PREFABRICAT DSPD-CDU/PEANA I PINTAT, AMB CAIXA DE DISTRIBUCIÓ CDU 400, CANALERA DE 630A I FUSIBLE CUCHILLA BT F CU2/400 A ETU-6303B Gg, AMB CAIXA MÒDUL COMPTADOR PNZ-C2727. ARMARI PER SORTIDES A CONSUMS, PER INTEMPÈRIE, EN PLANXA D'ACER GALVANITZAT EN CALENT I PINTAT, DE DIMENSIONS APROX. 17300x690x600 mm I DE 1,2 mm DE GRUIX, AMB PLACA DE MUNTATGE, PANY AMB CLAU I ACCESSORIS NECESSARIS (CANALETES, CARRIL DIN, PREMSAESTOPES, FIXACIONS, ...) I PETIT MATERIAL NECESSARI PER A LA CORRECTE EXECUCIÓ. INCLOU TOTS ELS TREBALLS (COM FORAT ARMARI CDU, ...) EXCEPTE OBRA CIVIL, RECURSOS (TRANSPORTS CAMIÓ GRUA I MA D'OBRA, ...) I FEINES NECESSÀRIES PER A LA CORRECTE EXECUCIÓ. | E62: 1 | F62: =VLOOKUP(B62,'Preus Unitaris'!$B$6:$F$105,4,FALSE) -> 4950 | G62: =ROUND(F62*E62,2) -> 4950
D63: Subtotal Escomesa Elèctrica | G63: =SUM(G61:G62) -> 6318.68
B65: Instal·lacions Comunicacions
B66: ='Preus Unitaris'!B79 -> IC01 | C66: =VLOOKUP(B66,'Preus Unitaris'!$B$6:$F$105,2,FALSE) -> UT | D66: =VLOOKUP(B66,'Preus Unitaris'!$B$6:$F$105,3,FALSE) -> SUBMINISTRAMENT I INSTAL·LACIÓ D'ARMARI EXTERIOR EN PLANXA D'ACER GALVANITZAT EN CALENT I PINTAT, TIPUS SUPLEMENT PER INSTAL·LAR DAMUNT DE L'ARMARI DEL REGULADOR, INCLOENT APARAMENTA I ACCESORIS NECESSÀRIS PEL SEU CORRECTE FUNCIONAMENT I SISTEMA DE TANCAMENT. SEGONS ESPECIFICACIONS AJUNTAMENT. TOTALMENT EXECUTAT. | E66: 1 | F66: =VLOOKUP(B66,'Preus Unitaris'!$B$6:$F$105,4,FALSE) -> 704.6 | G66: =ROUND(F66*E66,2) -> 704.6
B67: ='Preus Unitaris'!B80 -> IC02 | C67: =VLOOKUP(B67,'Preus Unitaris'!$B$6:$F$105,2,FALSE) -> UT | D67: =VLOOKUP(B67,'Preus Unitaris'!$B$6:$F$105,3,FALSE) -> SUBMINISTRAMENT I INSTAL·LACIÓ D'UN PORT SFP BIFIBRA MONOMODE 1G-LH, COMPATIBLE AMB LA XARXA DE COMUNICACIONS MUNICIPAL | E67: 2 | F67: =VLOOKUP(B67,'Preus Unitaris'!$B$6:$F$105,4,FALSE) -> 457.31 | G67: =ROUND(F67*E67,2) -> 914.62
B68: ='Preus Unitaris'!B81 -> IC03 | C68: =VLOOKUP(B68,'Preus Unitaris'!$B$6:$F$105,2,FALSE) -> UT | D68: =VLOOKUP(B68,'Preus Unitaris'!$B$6:$F$105,3,FALSE) -> SUBMINISTRAMENT I INSTAL·LACIÓ DE SWITCH DE COMUNICACIONS PER INSTAL·LACIÓ EN ARMARI DE CARRER, HOMOLOGAT PER L'AJUNTAMENT DE BARCELONA - IMI. SWITCH GESTIONABLE AMB 8 PORTS 10/100/1000Base-T + 2 PORTS 100/1000 SFP/RJ45 Combo. INCLOSOS SFP’s DE FIBRA TN-SFP-LX1-SM GIB I SISTEMA DE MUNTATGE EN RACK. | E68: 1 | F68: =VLOOKUP(B68,'Preus Unitaris'!$B$6:$F$105,4,FALSE) -> 1064.63 | G68: =ROUND(F68*E68,2) -> 1064.63
B69: ='Preus Unitaris'!B83 -> IC05 | C69: =VLOOKUP(B69,'Preus Unitaris'!$B$6:$F$105,2,FALSE) -> ML | D69: =VLOOKUP(B69,'Preus Unitaris'!$B$6:$F$105,3,FALSE) -> SUBMINISTRAMENT I INSTAL·LACIÓ CABLE DE 24 FO MONOMODE B1.1, SEGONS EN 186000. ARMAT. AMB PROTECCIÓ D'ARAMIDA, ARMADURA METÀL·LICA I COBERTA EXTERIOR DE POLIETILÈ EN COLOR VERMELL I AMB EL LOGOTIP DE L'EXCM. AJUNTAMENT DE BARCELONA. | E69: =250*1.1 -> 275 | F69: =VLOOKUP(B69,'Preus Unitaris'!$B$6:$F$105,4,FALSE) -> 3.37 | G69: =ROUND(F69*E69,2) -> 926.75
B70: ='Preus Unitaris'!B85 -> IC07 | C70: =VLOOKUP(B70,'Preus Unitaris'!$B$6:$F$105,2,FALSE) -> UT | D70: =VLOOKUP(B70,'Preus Unitaris'!$B$6:$F$105,3,FALSE) -> FUSIÓ EN RECTE DE FINS A 16 FO MONOMODE. INCLOU PIG-TAIL, CONNECTORS I ADAPTADORS, AIXÍ COM LES MESURES DE RETROESPARCIMENT DEL MATEIX. | E70: 2 | F70: =VLOOKUP(B70,'Preus Unitaris'!$B$6:$F$105,4,FALSE) -> 1433.8 | G70: =ROUND(F70*E70,2) -> 2867.6
B71: ='Preus Unitaris'!B87 -> IC09 | C71: =VLOOKUP(B71,'Preus Unitaris'!$B$6:$F$105,2,FALSE) -> UT | D71: =VLOOKUP(B71,'Preus Unitaris'!$B$6:$F$105,3,FALSE) -> SUBMINISTRAMENT I INSTAL·LACIÓ DE CAIXA REPARTIDORA ÒPTICA OTB-24 | E71: 1 | F71: =VLOOKUP(B71,'Preus Unitaris'!$B$6:$F$105,4,FALSE) -> 374.5 | G71: =ROUND(F71*E71,2) -> 374.5
B72: ='Preus Unitaris'!B89 -> IC11 | C72: =VLOOKUP(B72,'Preus Unitaris'!$B$6:$F$105,2,FALSE) -> UT | D72: =VLOOKUP(B72,'Preus Unitaris'!$B$6:$F$105,3,FALSE) -> SUBMINISTRAMENT I INSTAL·LACIÓ DE JUMPER DE FO TIPUS DUPLEX MONOMODE FINS A 4 m | E72: 2 | F72: =VLOOKUP(B72,'Preus Unitaris'!$B$6:$F$105,4,FALSE) -> 100.54 | G72: =ROUND(F72*E72,2) -> 201.08
B73: ='Preus Unitaris'!B90 -> IC12 | C73: =VLOOKUP(B73,'Preus Unitaris'!$B$6:$F$105,2,FALSE) -> UT | D73: =VLOOKUP(B73,'Preus Unitaris'!$B$6:$F$105,3,FALSE) -> SUBMINISTRAMENT I INSTAL·LACIÓ DE JUMPER DE COURE RJ45 FINS A 4 m | E73: 2 | F73: =VLOOKUP(B73,'Preus Unitaris'!$B$6:$F$105,4,FALSE) -> 51.06 | G73: =ROUND(F73*E73,2) -> 102.12
B74: ='Preus Unitaris'!B93 -> IC15 | C74: =VLOOKUP(B74,'Preus Unitaris'!$B$6:$F$105,2,FALSE) -> PAJ | D74: =VLOOKUP(B74,'Preus Unitaris'!$B$6:$F$105,3,FALSE) -> PARTIDA ALÇADA A JUSTIFICAR PELS TREBALLS A REALITZAR PER L'EMPRESA OPERADORA DE LES COMUNICACIONS DE L'IMI, A LA CRUÏLLA CARDENAL REIG-PINTOR TAPIRÓ. | E74: 1 | F74: =VLOOKUP(B74,'Preus Unitaris'!$B$6:$F$105,4,FALSE) -> 4447.76 | G74: =ROUND(F74*E74,2) -> 4447.76
D75: Subtotal Instal·lacions Comunicacions | G75: =SUM(G66:G74) -> 11603.66
B77: Senyalització Horitzontal i Vertical
B78: ='Preus Unitaris'!B96 -> SE01 | C78: =VLOOKUP(B78,'Preus Unitaris'!$B$6:$F$105,2,FALSE) -> M | D78: =VLOOKUP(B78,'Preus Unitaris'!$B$6:$F$105,3,FALSE) -> PINTAT DE FAIXA DE 10 cm D'AMPLADA SOBRE PAVIMENT, AMB PINTURA TERMOPLÀSTICA EN CALENT I REFLECTANT AMB MICROESFERES DE VIDRE. INCLOU PREMARCATGE I QUALSEVOL FEINA I ELEMENTS AUXILIARS PER A LA CORRECTA REALITZACIÓ DE LA FEINA. | E78: =8+12+10 -> 30 | F78: =VLOOKUP(B78,'Preus Unitaris'!$B$6:$F$105,4,FALSE) -> 1.19 | G78: =ROUND(F78*E78,2) -> 35.7
B79: ='Preus Unitaris'!B97 -> SE02 | C79: =VLOOKUP(B79,'Preus Unitaris'!$B$6:$F$105,2,FALSE) -> M | D79: =VLOOKUP(B79,'Preus Unitaris'!$B$6:$F$105,3,FALSE) -> PINTAT DE FAIXA DE 15 cm D'AMPLADA SOBRE PAVIMENT, AMB PINTURA TERMOPLÀSTICA EN CALENT I REFLECTANT AMB MICROESFERES DE VIDRE. INCLOU PREMARCATGE I QUALSEVOL FEINA I ELEMENTS AUXILIARS PER A LA CORRECTA REALITZACIÓ DE LA FEINA. | E79: =5+10 -> 15 | F79: =VLOOKUP(B79,'Preus Unitaris'!$B$6:$F$105,4,FALSE) -> 1.33 | G79: =ROUND(F79*E79,2) -> 19.95
B80: ='Preus Unitaris'!B98 -> SE03 | C80: =VLOOKUP(B80,'Preus Unitaris'!$B$6:$F$105,2,FALSE) -> M | D80: =VLOOKUP(B80,'Preus Unitaris'!$B$6:$F$105,3,FALSE) -> PINTAT DE FAIXA DE 30 cm D'AMPLADA SOBRE PAVIMENT, AMB PINTURA TERMOPLÀSTICA EN CALENT I REFLECTANT AMB MICROESFERES DE VIDRE. INCLOU PREMARCATGE I QUALSEVOL FEINA I ELEMENTS AUXILIARS PER A LA CORRECTA REALITZACIÓ DE LA FEINA. | E80: =5+15 -> 20 | F80: =VLOOKUP(B80,'Preus Unitaris'!$B$6:$F$105,4,FALSE) -> 3.09 | G80: =ROUND(F80*E80,2) -> 61.8
B81: ='Preus Unitaris'!B99 -> SE04 | C81: =VLOOKUP(B81,'Preus Unitaris'!$B$6:$F$105,2,FALSE) -> M | D81: =VLOOKUP(B81,'Preus Unitaris'!$B$6:$F$105,3,FALSE) -> PINTAT DE FAIXA DE 40 cm D'AMPLADA SOBRE PAVIMENT, AMB PINTURA TERMOPLÀSTICA EN CALENT I REFLECTANT AMB MICROESFERES DE VIDRE. INCLOU PREMARCATGE I QUALSEVOL FEINA I ELEMENTS AUXILIARS PER A LA CORRECTA REALITZACIÓ DE LA FEINA. | E81: =6*4 -> 24 | F81: =VLOOKUP(B81,'Preus Unitaris'!$B$6:$F$105,4,FALSE) -> 4.58 | G81: =ROUND(F81*E81,2) -> 109.92
B82: ='Preus Unitaris'!B100 -> SE05 | C82: =VLOOKUP(B82,'Preus Unitaris'!$B$6:$F$105,2,FALSE) -> M2 | D82: =VLOOKUP(B82,'Preus Unitaris'!$B$6:$F$105,3,FALSE) -> PINTAT O REPINTAT/ESBORRAT MANUAL DE 50 cm DE SENYAL DE STOP O CEDIU EL PAS O ZEBRATS, A MÉS DE FLETXES, LLETRES, SÍMBOLS, FRANGES DE VÈRTEXS D'ILLETES, ... SOBRE EL PAVIMENT, AMB PINTURA DE DOS COMPONENTS EN FRED DE LLARGA DURADA I REFLECTANT AMB MICROESFERES DE VIDRE. INCLOU PREMARCATGE I QUALSEVOL FEINA I ELEMENTS AUXILIARS PER A LA CORRECTE REALITZACIÓ DE LA FEINA. | E82: =20+5+3+2+6 -> 36 | F82: =VLOOKUP(B82,'Preus Unitaris'!$B$6:$F$105,4,FALSE) -> 23.86 | G82: =ROUND(F82*E82,2) -> 858.96
B83: ='Preus Unitaris'!B102 -> SE07 | C83: =VLOOKUP(B83,'Preus Unitaris'!$B$6:$F$105,2,FALSE) -> UT | D83: =VLOOKUP(B83,'Preus Unitaris'!$B$6:$F$105,3,FALSE) -> SUBMINISTRAMENT I INSTAL·LACIÓ DE SENYAL INFORMATIVA INDICACIÓ CARRER, MODEL AJUNTAMENT BARCELONA | E83: 1 | F83: =VLOOKUP(B83,'Preus Unitaris'!$B$6:$F$105,4,FALSE) -> 93.63 | G83: =ROUND(F83*E83,2) -> 93.63
B84: ='Preus Unitaris'!B103 -> SE08 | C84: =VLOOKUP(B84,'Preus Unitaris'!$B$6:$F$105,2,FALSE) -> UT | D84: =VLOOKUP(B84,'Preus Unitaris'!$B$6:$F$105,3,FALSE) -> SUBMINISTRAMENT I INSTAL·LACIÓ DE SENYAL VERTICAL, DIÀMETRE 60, TIPUS R-304 PROHIBICIÓ CANVI SENTIT O SIMILAR, MODEL AJUNTAMENT BARCELONA, INCLOSA MÈNSULA I ACCESSORIS | E84: 2 | F84: =VLOOKUP(B84,'Preus Unitaris'!$B$6:$F$105,4,FALSE) -> 103.52 | G84: =ROUND(F84*E84,2) -> 207.04
B85: ='Preus Unitaris'!B104 -> SE09 | C85: =VLOOKUP(B85,'Preus Unitaris'!$B$6:$F$105,2,FALSE) -> UT | D85: =VLOOKUP(B85,'Preus Unitaris'!$B$6:$F$105,3,FALSE) -> RETIRADA I RECOL·LOCACIÓ DE SENYAL VERTICAL, TIPUS INFORMATIVA PAS VIANANTS, PROHIBICIÓ O SIMILAR | E85: 3 | F85: =VLOOKUP(B85,'Preus Unitaris'!$B$6:$F$105,4,FALSE) -> 48.15 | G85: =ROUND(F85*E85,2) -> 144.45
B86: ='Preus Unitaris'!B105 -> SE10 | C86: =VLOOKUP(B86,'Preus Unitaris'!$B$6:$F$105,2,FALSE) -> PA | D86: =VLOOKUP(B86,'Preus Unitaris'!$B$6:$F$105,3,FALSE) -> PARTIDA ALÇADA PER LA DISPONIBILITAT D'EQUIP DE PINTURA VIAL. INCLOU MAQUINÀRIA, TRASLLAT, MÀ D'OBRA I ELEMENTS AUXILIARS PER A LA CORRECTA REALITZACIÓ DE LA FEINA. | E86: 1 | F86: =VLOOKUP(B86,'Preus Unitaris'!$B$6:$F$105,4,FALSE) -> 1200 | G86: =ROUND(F86*E86,2) -> 1200
B87: ='Preus Unitaris'!B106 -> INV01 | C87: =VLOOKUP(B87,'Preus Unitaris'!$B$6:$F$106,2,FALSE) -> PA | D87: =VLOOKUP(B87,'Preus Unitaris'!$B$6:$F$106,3,FALSE) -> PARTIDA PER A L'ACTUACIÓ I GESTIÓ D'INVENTARIS DEL DEPARTAMENT D'ESPAI URBÀ (INCLOENT SENYALITZACIÓ HORITZONTAL I VERTICAL, SEMAFORITZACIÓ, PAVIMENTS, MOBILIARI URBÀ I CARTOGRAFIA D'ACORD AMB EL CRITERIS DELS PLECS TÈCNICS CORRESPONENTS I LA BASE CARTOGRÀFICA DE L'AJUNTAMENT DE BARCELONA (P-53) PER OBRES INFERIORS A 1.000m². | E87: 1 | F87: =VLOOKUP(B87,'Preus Unitaris'!$B$6:$F$106,4,FALSE) -> 550 | G87: =ROUND(F87*E87,2) -> 550
D88: Subtotal Senyalització Horitzontal | G88: =SUM(G78:G87) -> 3281.45
D91: TOTAL PRESSUPOST EXECUCIÓ CONTRACTE (PEC) | G91: =SUM(G6:G90)/2 -> 80160.27
D92: IVA (21% sobre el PEC) | F92: 0.21 | G92: =ROUND(G91*F92,2) -> 16833.66
D93: TOTAL PRESSUPOST BASE LICITACIÓ | G93: =SUM(G91:G92) -> 96993.93
D96: RESUM PRESSUPOST
D97: =B6 -> Obra Civil Cruïlla Semàfors | G97: =G31 -> 31972.2
D98: =B33 -> Instal·lacions Semafòriques | G98: =G49 -> 22173.49
D99: =B51 -> Cablejats Elèctrics | G99: =G58 -> 4810.79
D100: =B60 -> Escomesa Elèctrica | G100: =G63 -> 6318.68
D101: =B65 -> Instal·lacions Comunicacions | G101: =G75 -> 11603.66
D102: =B77 -> Senyalització Horitzontal i Vertical | G102: =G88 -> 3281.45
D103: TOTAL PRESSUPOST EXECUCIÓ CONTRATA (PEC) | G103: =SUM(G97:G102) -> 80160.27
D104: IVA (21% sobre el PEC) | F104: 0.21 | G104: =ROUND(G103*F104,2) -> 16833.66
D105: TOTAL PRESSUPOST BASE LICITACIÓ | G105: =SUM(G103:G104) -> 96993.93
B110: NOTA: | D110: Els preus unitaris duen incorporats les parts proporcionals Despeses Generals, Benefici Industrial
D111: i qualsevol altre que sigui necessari per a la correcte execució de les unitats d'obra, inclús la part
D112: corresponent a Seguretat i Salut.

Sheet Pressupost C.Reig-Aurora Bertra
B2: PRESSUPOST SEMAFORITZACIÓ CARDENAL REIG - AURORA BERTRANA | G2: DISTRICTE LES CORTS - AJT. BCN
B4: Ítem | C4: Unitat Mesura | D4: Descripció | E4: Amidament | F4: Preu Unit. € | G4: Preu Total €
B6: Obra Civil Cruïlla Semàfors
B7: ='Preus Unitaris'!B7 -> OC01 | C7: =VLOOKUP(B7,'Preus Unitaris'!$B$6:$F$105,2,FALSE) -> ML | D7: =VLOOKUP(B7,'Preus Unitaris'!$B$6:$F$105,3,FALSE) -> CANALITZACIÓ EN VORERA INCLOENT SUBMINISTRAMENT I INSTAL·LACIÓ DE 1 TUB DE PE D110 mm DE DOBLE CAPA, LLIS A L'INTERIOR I CORRUGAT A L'EXTERIOR, INCLÒS EXCAVACIÓ EN RASA DE 40 x 76 cm DE PROFUNDITAT, BASE I PROTECCIÓ DE FORMIGÓ HM20, EN VORERES DE PANOT INCLÒS LA SEVA REPOSICIÓ. TOTALMENT EXECUTADA SEGONS PLEC I D'ACORD AMB LES ORDENANCES MUNICIPALS I INDICACIONS PARTICULARS D'ACEFAT. | E7: 16 | F7: =VLOOKUP(B7,'Preus Unitaris'!$B$6:$F$105,4,FALSE) -> 79.98 | G7: =ROUND(F7*E7,2) -> 1279.68
B8: ='Preus Unitaris'!B8 -> OC02 | C8: =VLOOKUP(B8,'Preus Unitaris'!$B$6:$F$105,2,FALSE) -> ML | D8: =VLOOKUP(B8,'Preus Unitaris'!$B$6:$F$105,3,FALSE) -> CANALITZACIÓ EN VORERA INCLOENT SUBMINISTRAMENT I INSTAL·LACIÓ DE 2 TUBS DE PE D110 mm DE DOBLE CAPA, LLIS A L'INTERIOR I CORRUGAT A L'EXTERIOR, INCLÒS EXCAVACIÓ EN RASA DE 40 x 76 cm DE PROFUNDITAT, BASE I PROTECCIÓ DE FORMIGÓ HM20, EN VORERES DE PANOT INCLÒS LA SEVA REPOSICIÓ. TOTALMENT EXECUTADA SEGONS PLEC I D'ACORD AMB LES ORDENANCES MUNICIPALS I INDICACIONS PARTICULARS D'ACEFAT. | E8: 50 | F8: =VLOOKUP(B8,'Preus Unitaris'!$B$6:$F$105,4,FALSE) -> 81.21 | G8: =ROUND(F8*E8,2) -> 4060.5
B9: ='Preus Unitaris'!B9 -> OC03 | C9: =VLOOKUP(B9,'Preus Unitaris'!$B$6:$F$105,2,FALSE) -> ML | D9: =VLOOKUP(B9,'Preus Unitaris'!$B$6:$F$105,3,FALSE) -> CANALITZACIÓ EN CALÇADA INCLÒS SUBMINISTRAMENT I INSTAL·LACIÓ DE 4 TUBS DE PE D110 mm DE DOBLE CAPA, LLIS A L'INTERIOR I CORRUGAT A L'EXTERIOR, INCLÒS EXCAVACIÓ EN RASA DE 60 x 80 cm. DE PROFUNDITAT, BASE I PROTECCIÓ DE FORMIGÓ HM30, EN CALÇADES. TOTALMENT EXECUTADA SEGONS PLEC I D'ACORD AMB LES ORDENANCES MUNICIPALS I INDICACIONS PARTICULARS D'ACEFAT. | E9: 25 | F9: =VLOOKUP(B9,'Preus Unitaris'!$B$6:$F$105,4,FALSE) -> 258.41 | G9: =ROUND(F9*E9,2) -> 6460.25
B10: ='Preus Unitaris'!B11 -> OC05 | C10: =VLOOKUP(B10,'Preus Unitaris'!$B$6:$F$105,2,FALSE) -> ML | D10: =VLOOKUP(B10,'Preus Unitaris'!$B$6:$F$105,3,FALSE) -> SUPLEMENT PER REALITZACIÓ DE CANALITZACIÓ EN CALÇADA EN FESTIU. | E10: =E9 -> 25 | F10: =VLOOKUP(B10,'Preus Unitaris'!$B$6:$F$105,4,FALSE) -> 104.59 | G10: =ROUND(F10*E10,2) -> 2614.75
B11: ='Preus Unitaris'!B14 -> OC08 | C11: =VLOOKUP(B11,'Preus Unitaris'!$B$6:$F$105,2,FALSE) -> UT | D11: =VLOOKUP(B11,'Preus Unitaris'!$B$6:$F$105,3,FALSE) -> FONAMENT DE FORMIGÓ PER A COLUMNA FINS A 2400 mm, AMB DOSIFICACIÓ DE 250 KG/m3, MITJANÇANT UN DAU DE 40 cm. DE COSTAT I 60 cm. DE PROFUNDITAT, REBENT PEÇA ESPECIAL D'ANCORATGE, SENSE INCLOURE AQUESTA, INCLÒS COLZE DE CONNEXIÓ AMB TUBULAR. TOTALMENT EXECUTAT SEGONS PLEC. | E11: 5 | F11: =VLOOKUP(B11,'Preus Unitaris'!$B$6:$F$105,4,FALSE) -> 142.98 | G11: =ROUND(F11*E11,2) -> 714.9
B12: ='Preus Unitaris'!B16 -> OC10 | C12: =VLOOKUP(B12,'Preus Unitaris'!$B$6:$F$105,2,FALSE) -> UT | D12: =VLOOKUP(B12,'Preus Unitaris'!$B$6:$F$105,3,FALSE) -> PERICÓ DE 60 x 60 cm. PREFABRICAT DE FORMIGÓ O CONSTRUÏT AMB MAONS GERO I FONS DEL MATEIX MATERIAL REBENT EL MARC I LA TAPA CORRESPONENT, INCLOSOS SUBMINISTRAMENT D'AQUESTS. DEMOLICIÓ DE PAVIMENT, EXCAVACIÓ I POSTERIOR REPOSICIÓ. TOTALMENT ACABAT I EXECUTAT SEGONS PLEC. | E12: 5 | F12: =VLOOKUP(B12,'Preus Unitaris'!$B$6:$F$105,4,FALSE) -> 184.45 | G12: =ROUND(F12*E12,2) -> 922.25
B13: ='Preus Unitaris'!B22 -> OC16 | C13: =VLOOKUP(B13,'Preus Unitaris'!$B$6:$F$105,2,FALSE) -> UT | D13: =VLOOKUP(B13,'Preus Unitaris'!$B$6:$F$105,3,FALSE) -> OBTURACIÓ DE TUBULAR AMB O SENSE CABLES EXISTENTS. | E13: 46 | F13: =VLOOKUP(B13,'Preus Unitaris'!$B$6:$F$105,4,FALSE) -> 0.62 | G13: =ROUND(F13*E13,2) -> 28.52
B14: ='Preus Unitaris'!B23 -> OC17 | C14: =VLOOKUP(B14,'Preus Unitaris'!$B$6:$F$105,2,FALSE) -> UT | D14: =VLOOKUP(B14,'Preus Unitaris'!$B$6:$F$105,3,FALSE) -> EMBOCADURA DE TUBULARS A PERICÓ REGISTRE EXISTENT, INCLÚS PROTECCIÓ CABLES EXISTENTS, PASSAMURS, SEGELLAT TUBS AMB PARET PERICÓ I ENLLUÏMENT INTERIOR PARET PERICÓ. TOTALMENT EXECUTADA. | E14: 2 | F14: =VLOOKUP(B14,'Preus Unitaris'!$B$6:$F$105,4,FALSE) -> 59.06 | G14: =ROUND(F14*E14,2) -> 118.12
B15: ='Preus Unitaris'!B24 -> OC18 | C15: =VLOOKUP(B15,'Preus Unitaris'!$B$6:$F$105,2,FALSE) -> M2 | D15: =VLOOKUP(B15,'Preus Unitaris'!$B$6:$F$105,3,FALSE) -> ARRENCADA I REPOSICIÓ DE LLOSETES DE PANOT DE MORTER COMPRIMIT EN VORERA. RETIRADA I TRANSPORT DE RUNA A ABOCADOR AUTORITZAT. TOTALMENT EXECUTADA. | E15: 20 | F15: =VLOOKUP(B15,'Preus Unitaris'!$B$6:$F$105,4,FALSE) -> 107.402 | G15: =ROUND(F15*E15,2) -> 2148.04
B16: ='Preus Unitaris'!B25 -> OC19 | C16: =VLOOKUP(B16,'Preus Unitaris'!$B$6:$F$105,2,FALSE) -> M3 | D16: =VLOOKUP(B16,'Preus Unitaris'!$B$6:$F$105,3,FALSE) -> DEMOLICIÓ DE FORMIGÓ AMB MARTELL TRENCADOR, INCLÒS TALL D'ARMADURES AMB SOPLET, RETIRADA I TRANSPORT DE RESIDUS A DEIXALLERIA. TOTALMENT EXECUTADA. | E16: 2 | F16: =VLOOKUP(B16,'Preus Unitaris'!$B$6:$F$105,4,FALSE) -> 116.58 | G16: =ROUND(F16*E16,2) -> 233.16
B17: ='Preus Unitaris'!B26 -> OC20 | C17: =VLOOKUP(B17,'Preus Unitaris'!$B$6:$F$105,2,FALSE) -> UT | D17: =VLOOKUP(B17,'Preus Unitaris'!$B$6:$F$105,3,FALSE) -> REPARACIÓ CANALITZACIÓ VORERA, MITJANÇANT EXCAVACIÓ, SUBMINISTRAMENT I COL·LOCACIÓ TUB DE PE DE DOBLE CAPA, LLIS A L'INTERIOR I COARRUGAT A L'EXTERIOR DEL MATEIX DIÀMETRE QUE L'EXISTENT, MANEGUET D'ACOBLAMENT, PAS DEL CABLE, COL·LOCACIÓ DE MITJA CANYA, LLIGAT AMB FILFERROS I FORMIGONAT DEL CONJUNT I REPOSICIÓ DE PAVIMENT DE PANOT DE LES MATEIXES CARACTERÍSTIQUES A L'EXISTENT, PER A LLARGADES FINS A 2m, INCLÚS RETIRADA I TRANSPORT DE RESIDUS A DEIXALLERIA. TOTALMENT EXECUTADA. | E17: 8 | F17: =VLOOKUP(B17,'Preus Unitaris'!$B$6:$F$105,4,FALSE) -> 120.59 | G17: =ROUND(F17*E17,2) -> 964.72
B18: ='Preus Unitaris'!B27 -> OC21 | C18: =VLOOKUP(B18,'Preus Unitaris'!$B$6:$F$105,2,FALSE) -> UT | D18: =VLOOKUP(B18,'Preus Unitaris'!$B$6:$F$105,3,FALSE) -> CALA LOCALITZACIÓ SERVEIS, MITJANÇANT DEMOLICIÓ PAVIMENTS, EXCAVACIÓ MANUAL I POSTERIOR REBLIMENT I REPOSICIÓ DE PAVIMENT DE LES MATEIXES CARACTERÍSTIQUES A L'EXISTENT, PER A LLARGADES FINS A 2m I FINS A 60cm AMPLADA, INCLÚS RETIRADA I TRANSPORT DE RUNA A ABOCADOR AUTORITZAT. TOTALMENT EXECUTADA. | E18: 4 | F18: =VLOOKUP(B18,'Preus Unitaris'!$B$6:$F$105,4,FALSE) -> 92.29 | G18: =ROUND(F18*E18,2) -> 369.16
B19: ='Preus Unitaris'!B28 -> OC22 | C19: =VLOOKUP(B19,'Preus Unitaris'!$B$6:$F$105,2,FALSE) -> ML | D19: =VLOOKUP(B19,'Preus Unitaris'!$B$6:$F$105,3,FALSE) -> COMPROVACIÓ DE CANALITZACIÓ EXISTENT I PAS DE FIL GUIA | E19: 15 | F19: =VLOOKUP(B19,'Preus Unitaris'!$B$6:$F$105,4,FALSE) -> 1.2 | G19: =ROUND(F19*E19,2) -> 18
B20: ='Preus Unitaris'!B29 -> OC23 | C20: =VLOOKUP(B20,'Preus Unitaris'!$B$6:$F$105,2,FALSE) -> UT | D20: =VLOOKUP(B20,'Preus Unitaris'!$B$6:$F$105,3,FALSE) -> SUBMINISTRAMENT DE PEDRA DE GRANIT GRIS DE 40x40x23 cm CARES VISTES FLAMEJADES, PER GUAL BARCELONA B-120, INCLOU FORAT PER COLUMNA O BÀCUL SI FOS NECESSARI. | E20: 3 | F20: =VLOOKUP(B20,'Preus Unitaris'!$B$6:$F$105,4,FALSE) -> 133.2 | G20: =ROUND(F20*E20,2) -> 399.6
B21: ='Preus Unitaris'!B30 -> OC24 | C21: =VLOOKUP(B21,'Preus Unitaris'!$B$6:$F$105,2,FALSE) -> UT | D21: =VLOOKUP(B21,'Preus Unitaris'!$B$6:$F$105,3,FALSE) -> ARRENCADA I REPOSICIÓ (SENSE SUBMINISTRAMENT) DE PEDRA DE GRANIT GRIS DE 40x40x23 cm CARES VISTES FLAMEJADES, PER GUAL BARCELONA B-120, INCLOU FORAT PER COLUMNA O BÀCUL SI FOS NECESSARI. | E21: 5 | F21: =VLOOKUP(B21,'Preus Unitaris'!$B$6:$F$105,4,FALSE) -> 25.84 | G21: =ROUND(F21*E21,2) -> 129.2
B22: ='Preus Unitaris'!B31 -> OC25 | C22: =VLOOKUP(B22,'Preus Unitaris'!$B$6:$F$105,2,FALSE) -> UT | D22: =VLOOKUP(B22,'Preus Unitaris'!$B$6:$F$105,3,FALSE) -> SUBMINISTRAMENT DE PEDRA DE GRANIT GRIS DE 40x121,8x6 cm CARES VISTES FLAMEJADES, PER GUAL BARCELONA B-120, INCLOU TALLAT PER PERICÓ SI FOS NECESSARI. | E22: 3 | F22: =VLOOKUP(B22,'Preus Unitaris'!$B$6:$F$105,4,FALSE) -> 286.1 | G22: =ROUND(F22*E22,2) -> 858.3
B23: ='Preus Unitaris'!B32 -> OC26 | C23: =VLOOKUP(B23,'Preus Unitaris'!$B$6:$F$105,2,FALSE) -> UT | D23: =VLOOKUP(B23,'Preus Unitaris'!$B$6:$F$105,3,FALSE) -> ARRENCADA I REPOSICIÓ (SENSE SUBMINISTRAMENT) DE PEDRA DE GRANIT GRIS DE 40x121,8x6 cm CARES VISTES FLAMEJADES, PER GUAL BARCELONA B-120, INCLOU TALLAT PER PERICÓ SI FOS NECESSARI. | E23: 8 | F23: =VLOOKUP(B23,'Preus Unitaris'!$B$6:$F$105,4,FALSE) -> 25.84 | G23: =ROUND(F23*E23,2) -> 206.72
B24: OC30 | C24: =VLOOKUP(B24,'Preus Unitaris'!$B$6:$F$105,2,FALSE) -> UT | D24: =VLOOKUP(B24,'Preus Unitaris'!$B$6:$F$105,3,FALSE) -> ARRENCADA I REPOSICIÓ (SENSE SUBMINISTRAMENT) DE CONJUNT DE COIXÍ REDUCTOR DE VELOCITAT. TOTALMENT EXECUTADA. | E24: 4 | F24: =VLOOKUP(B24,'Preus Unitaris'!$B$6:$F$105,4,FALSE) -> 296 | G24: =ROUND(F24*E24,2) -> 1184
B25: OC33 | C25: =VLOOKUP(B25,'Preus Unitaris'!$B$6:$F$105,2,FALSE) -> UT | D25: =VLOOKUP(B25,'Preus Unitaris'!$B$6:$F$105,3,FALSE) -> PERICÓ DE 60 x 60 cm. PREFABRICAT DE FORMIGÓ O CONSTRUÏT AMB MAONS GERO I FONS DEL MATEIX MATERIAL REBENT EL MARC I LA TAPA CLASSE C-250 PER 25 TONELADES DE CARGA DE ROTURA, CUMPLEIX NORMA EN 124, INCLOSOS SUBMINISTRAMENT D'AQUESTS. DEMOLICIÓ DE PAVIMENT, EXCAVACIÓ I POSTERIOR REPOSICIÓ. TOTALMENT ACABAT I EXECUTAT SEGONS PLEC. | E25: 1 | F25: =VLOOKUP(B25,'Preus Unitaris'!$B$6:$F$105,4,FALSE) -> 304.87 | G25: =ROUND(F25*E25,2) -> 304.87
B26: ='Preus Unitaris'!B42 -> OC36 | C26: =VLOOKUP(B26,'Preus Unitaris'!$B$6:$F$105,2,FALSE) -> PAJ | D26: =VLOOKUP(B26,'Preus Unitaris'!$B$6:$F$105,3,FALSE) -> PARTIDA ALÇADA A JUSTIFICAR EXCECESSOS D'AMIDAMENT, AJUSTS DE PALETA, IMPREVISTOS DURANT L'EXECUCIÓ DELS TREBALLS D'OBRA CIVIL AMB SERVEIS AFECTATS, ACCESSOS I ELEMENTS DE VENTILACIÓ. CRUÏLLA C/CARDENAL REIG-C/AURORA BERTRANA. | E26: 1 | F26: =VLOOKUP(B26,'Preus Unitaris'!$B$6:$F$105,4,FALSE) -> 690.44 | G26: =ROUND(F26*E26,2) -> 690.44
D27: Subtotal Obra Civil Cruïlla Semàfors | G27: =SUM(G7:G26) -> 23705.18
B29: Instal·lacions Semafòriques
B30: ='Preus Unitaris'!B46 -> IS02 | C30: =VLOOKUP(B30,'Preus Unitaris'!$B$6:$F$105,2,FALSE) -> UT | D30: =VLOOKUP(B30,'Preus Unitaris'!$B$6:$F$105,3,FALSE) -> SUBMINISTRAMENT I INSTAL·LACIÓ DE SEMÀFOR PER A VIANANTS Vlnv 12/200 AMB DISPOSITIU PER INVIDENTS I ÒPTIQUES DE TECNOLOGIA LED DE QUALSEVOL COLOR I TIPUS NORMAL, PPC, BICI, BUS, MIXTE, ETC. MODEL CLÀSSIC O BARCELONA AMB ÀNIMA D'ALUMINI. | E30: 6 | F30: =VLOOKUP(B30,'Preus Unitaris'!$B$6:$F$105,4,FALSE) -> 553.73 | G30: =ROUND(F30*E30,2) -> 3322.38
B31: ='Preus Unitaris'!B47 -> IS03 | C31: =VLOOKUP(B31,'Preus Unitaris'!$B$6:$F$105,2,FALSE) -> UT | D31: =VLOOKUP(B31,'Preus Unitaris'!$B$6:$F$105,3,FALSE) -> SUBMINISTRAMENT I INSTAL·LACIÓ DE SEMÀFOR 13/200 AMB ÒPTIQUES DE TECNOLOGIA LED DE QUALSEVOL COLOR I TIPUS NORMAL, BICI, BUS, MIXTE, ETC. MODEL CLÀSSIC O BARCELONA AMB ÀNIMA D'ALUMINI. | E31: 6 | F31: =VLOOKUP(B31,'Preus Unitaris'!$B$6:$F$105,4,FALSE) -> 861.35 | G31: =ROUND(F31*E31,2) -> 5168.1
B32: ='Preus Unitaris'!B48 -> IS04 | C32: =VLOOKUP(B32,'Preus Unitaris'!$B$6:$F$105,2,FALSE) -> UT | D32: =VLOOKUP(B32,'Preus Unitaris'!$B$6:$F$105,3,FALSE) -> SUBMINISTRAMENT I INSTAL·LACIÓ DE SISTEMA PER A INVIDENTS COMPLET AMB ACTUACIÓ PER COMANDAMENT A DISTÀNICA MODEL BARCELONA (CIBERPAS). | E32: 6 | F32: =VLOOKUP(B32,'Preus Unitaris'!$B$6:$F$105,4,FALSE) -> 153.81 | G32: =ROUND(F32*E32,2) -> 922.86
B33: ='Preus Unitaris'!B52 -> IS08 | C33: =VLOOKUP(B33,'Preus Unitaris'!$B$6:$F$105,2,FALSE) -> UT | D33: =VLOOKUP(B33,'Preus Unitaris'!$B$6:$F$105,3,FALSE) -> SUPLEMENT PER INSTAL·LACIÓ DE SEMÀFOR A ALÇADA SUPERIOR A 4 m. | E33: 0 | F33: =VLOOKUP(B33,'Preus Unitaris'!$B$6:$F$105,4,FALSE) -> 61.53 | G33: =ROUND(F33*E33,2) -> 0
B34: ='Preus Unitaris'!B54 -> IS10 | C34: =VLOOKUP(B34,'Preus Unitaris'!$B$6:$F$105,2,FALSE) -> UT | D34: =VLOOKUP(B34,'Preus Unitaris'!$B$6:$F$105,3,FALSE) -> SUBMINISTRAMENT I INSTAL·LACIÓ COLUMNA POLIÈSTER-FIBRA DE VIDRE DE 2,40 m D'ALTURA ÚTIL, 100 mm DE DIÀMETRE AMB UN ESPESSOR NORMAL i 35 cm D'EMPOTRAMENT SENSE INCLOURE PEÇA TAPAJUNTES. | E34: 5 | F34: =VLOOKUP(B34,'Preus Unitaris'!$B$6:$F$105,4,FALSE) -> 135.36 | G34: =ROUND(F34*E34,2) -> 676.8
B35: ='Preus Unitaris'!B56 -> IS12 | C35: =VLOOKUP(B35,'Preus Unitaris'!$B$6:$F$105,2,FALSE) -> UT | D35: =VLOOKUP(B35,'Preus Unitaris'!$B$6:$F$105,3,FALSE) -> SUBMINISTRAMENT I INSTAL·LACIÓ DE SUPORT DE 150 mm DE SORTINT PER A SUSTENTACIÓ D'UN SEMÀFOR MODEL CLÀSSIC O BARCELONA | E35: 8 | F35: =VLOOKUP(B35,'Preus Unitaris'!$B$6:$F$105,4,FALSE) -> 43.34 | G35: =ROUND(F35*E35,2) -> 346.72
B36: ='Preus Unitaris'!B57 -> IS13 | C36: =VLOOKUP(B36,'Preus Unitaris'!$B$6:$F$105,2,FALSE) -> UT | D36: =VLOOKUP(B36,'Preus Unitaris'!$B$6:$F$105,3,FALSE) -> SUBMINISTRAMENT I INSTAL·LACIÓ DE SUPORT DOBLE PER A SUSTENTACIÓ DE DOS SEMÀFORS MODEL CLÀSSIC O BARCELONA | E36: 1 | F36: =VLOOKUP(B36,'Preus Unitaris'!$B$6:$F$105,4,FALSE) -> 60.67 | G36: =ROUND(F36*E36,2) -> 60.67
B37: ='Preus Unitaris'!B59 -> IS15 | C37: =VLOOKUP(B37,'Preus Unitaris'!$B$6:$F$105,2,FALSE) -> UT | D37: =VLOOKUP(B37,'Preus Unitaris'!$B$6:$F$105,3,FALSE) -> SUBMINISTRAMENT I INSTAL·LACIÓ DE CASQUET METÀL·LIC DE SEMÀFOR S9 PER ACOPLAMENT DE SENYALITZACIÓ VERTICAL. | E37: 2 | F37: =VLOOKUP(B37,'Preus Unitaris'!$B$6:$F$105,4,FALSE) -> 19.83 | G37: =ROUND(F37*E37,2) -> 39.66
B38: ='Preus Unitaris'!B63 -> IS23 | C38: =VLOOKUP(B38,'Preus Unitaris'!$B$6:$F$105,2,FALSE) -> UT | D38: =VLOOKUP(B38,'Preus Unitaris'!$B$6:$F$105,3,FALSE) -> SUBMINISTRAMENT I INSTAL·LACIÓ DE COLUMNA D'ACER GALVANITZAT DE 4 m D'ALÇÀRIA ÚTIL I 100 mm DE DIÀMETRE AMB UN GRUIX NORMAL I 60 cm D'EMPOTRAMENT. | E38: 0 | F38: =VLOOKUP(B38,'Preus Unitaris'!$B$6:$F$105,4,FALSE) -> 223.632 | G38: =ROUND(F38*E38,2) -> 0
D39: Subtotal Instal·lacions Semàfors | G39: =SUM(G30:G38) -> 10537.19
B41: Cablejats Elèctrics
B42: ='Preus Unitaris'!B67 -> CE01 | C42: =VLOOKUP(B42,'Preus Unitaris'!$B$6:$F$105,2,FALSE) -> ML | D42: =VLOOKUP(B42,'Preus Unitaris'!$B$6:$F$105,3,FALSE) -> SUBMINISTRAMENT I INSTAL·LACIÓ DE CABLE DE CONDUCTOR DE COURE DE 0,6/1 KV, DESIGNACIÓ RV-K, DE SECCIÓ 4x2,5 mm2. INCLÚS MARCAT I ETIQUETAT I QUALSEVOL FEINA PER A LA CORRECTE INSTAL·LACIÓ. | E42: 1267 | F42: =VLOOKUP(B42,'Preus Unitaris'!$B$6:$F$105,4,FALSE) -> 2.44 | G42: =ROUND(F42*E42,2) -> 3091.48
B43: ='Preus Unitaris'!B68 -> CE02 | C43: =VLOOKUP(B43,'Preus Unitaris'!$B$6:$F$105,2,FALSE) -> ML | D43: =VLOOKUP(B43,'Preus Unitaris'!$B$6:$F$105,3,FALSE) -> SUBMINISTRAMENT I INSTAL·LACIÓ DE CABLE DE CONDUCTOR DE COURE AMB AÏLLAMENT DE PLÀSTIC, DE SECCIÓ 1x6 mm2 PER PRESES DE TERRA. INCLÚS MARCAT I ETIQUETAT I QUALSEVOL FEINA PER A LA CORRECTE INSTAL·LACIÓ. | E43: 0 | F43: =VLOOKUP(B43,'Preus Unitaris'!$B$6:$F$105,4,FALSE) -> 4.4 | G43: =ROUND(F43*E43,2) -> 0
B44: ='Preus Unitaris'!B69 -> CE03 | C44: =VLOOKUP(B44,'Preus Unitaris'!$B$6:$F$105,2,FALSE) -> ML | D44: =VLOOKUP(B44,'Preus Unitaris'!$B$6:$F$105,3,FALSE) -> SUBMINISTRAMENT I INSTAL·LACIÓ DE CABLE DE CONDUCTOR DE COURE EPTAFILAR NU, DE SECCIÓ 1x35 mm2 PER PRESES DE TERRA. INCLÚS MARCAT I ETIQUETAT I QUALSEVOL FEINA PER A LA CORRECTE INSTAL·LACIÓ. | E44: 0 | F44: =VLOOKUP(B44,'Preus Unitaris'!$B$6:$F$105,4,FALSE) -> 5.51 | G44: =ROUND(F44*E44,2) -> 0
B45: ='Preus Unitaris'!B70 -> CE04 | C45: =VLOOKUP(B45,'Preus Unitaris'!$B$6:$F$105,2,FALSE) -> ML | D45: =VLOOKUP(B45,'Preus Unitaris'!$B$6:$F$105,3,FALSE) -> SUBMINISTRAMENT I INSTAL·LACIÓ DE CABLE DE CONDUCTOR DE COURE DE 0,6/1 KV, DESIGNACIÓ RV-K, DE SECCIÓ 3x6 mm2. INCLÚS MARCAT I ETIQUETAT I QUALSEVOL FEINA PER A LA CORRECTE INSTAL·LACIÓ. | E45: 0 | F45: =VLOOKUP(B45,'Preus Unitaris'!$B$6:$F$105,4,FALSE) -> 4.62 | G45: =ROUND(F45*E45,2) -> 0
B46: ='Preus Unitaris'!B71 -> CE05 | C46: =VLOOKUP(B46,'Preus Unitaris'!$B$6:$F$105,2,FALSE) -> ML | D46: =VLOOKUP(B46,'Preus Unitaris'!$B$6:$F$105,3,FALSE) -> SUBMINISTRAMENT I INSTAL·LACIÓ DE CABLE DE CONDUCTOR DE COURE DE 0,6/1 KV, DESIGNACIÓ RV-K, CONSTRUCCIÓ SEGONS NORMA UNE 21123-2, BIPOLAR, DE SECCIÓ 2x10 mm2 AMB COBERTA DEL CABLE DE PVC, CLASSE DE REACCIÓ AL FOC ECA SEGONS LA NORMA UNE-EN 50575 INCLÚS MARCAT I ETIQUETAT I QUALSEVOL FEINA PER A LA CORRECTE INSTAL·LACIÓ EN TUB (P-235). | E46: 0 | F46: =VLOOKUP(B46,'Preus Unitaris'!$B$6:$F$105,4,FALSE) -> 4.87 | G46: =ROUND(F46*E46,2) -> 0
B47: ='Preus Unitaris'!B72 -> CE06 | C47: =VLOOKUP(B47,'Preus Unitaris'!$B$6:$F$105,2,FALSE) -> ML | D47: =VLOOKUP(B47,'Preus Unitaris'!$B$6:$F$105,3,FALSE) -> SUBMINISTRAMENT I INSTAL·LACIÓ DE CABLE DE CONDUCTOR DE COURE DE TENSIÓ ASSIGNADA INFERIOR O IGUAL A 450/700 V, DESIGNACIÓ H07V-K, CONSTRUCCIÓ SEGONS NORMA UNE-EN 50525-2-31, UNIPOLAR, DE SECCIÓ 1x16 mm2 AMB AILLAMENT DE PVC, CLASSE DE REACCIÓ AL FOC ECA SEGONS LA NORMA UNE-EN 50575 INCLÚS MARCAT I ETIQUETAT I QUALSEVOL FEINA PER A LA CORRECTE INSTAL·LACIÓ EN TUB (P-51). | E47: 0 | F47: =VLOOKUP(B47,'Preus Unitaris'!$B$6:$F$105,4,FALSE) -> 4.75 | G47: =ROUND(F47*E47,2) -> 0
D48: Subtotal Cablejats Elèctrics | G48: =SUM(G42:G47) -> 3091.48
B50: Escomesa Elèctrica
B51: ='Preus Unitaris'!B75 -> EC01 | C51: =VLOOKUP(B51,'Preus Unitaris'!$B$6:$F$105,2,FALSE) -> UT | D51: =VLOOKUP(B51,'Preus Unitaris'!$B$6:$F$105,3,FALSE) -> GESTIÓ PER A LA CONTRACTACIÓ D'ESCOMESA ELÈCTRICA PER A CRUÏLLA DE SEMÀFORS I LLUR LEGALITZACIÓ. INCLOU LA CONFECCIÓ DE TOTA LA DOCUMENTACIÓ TÈCNICA NECESSÀRIA, REALITZACIÓ DE TOTES LES GESTIONS I TRÀMITS NECESSARIS FINS A LA CORRECTE LEGALITZACIÓ ELÈCTRICA. | E51: 0 | F51: =VLOOKUP(B51,'Preus Unitaris'!$B$6:$F$105,4,FALSE) -> 1368.68 | G51: =ROUND(F51*E51,2) -> 0
B52: ='Preus Unitaris'!B76 -> EC02 | C52: =VLOOKUP(B52,'Preus Unitaris'!$B$6:$F$105,2,FALSE) -> UT | D52: =VLOOKUP(B52,'Preus Unitaris'!$B$6:$F$105,3,FALSE) -> ESCOMESA ELÈCTRICA. REALITZACIÓ DE NOVA ESCOMESA EN ENTORN URBÀ. INCLOU: ARMARI PER ESCOMESA COMPANYIA, PREFABRICAT DSPD-CDU/PEANA I PINTAT, AMB CAIXA DE DISTRIBUCIÓ CDU 400, CANALERA DE 630A I FUSIBLE CUCHILLA BT F CU2/400 A ETU-6303B Gg, AMB CAIXA MÒDUL COMPTADOR PNZ-C2727. ARMARI PER SORTIDES A CONSUMS, PER INTEMPÈRIE, EN PLANXA D'ACER GALVANITZAT EN CALENT I PINTAT, DE DIMENSIONS APROX. 17300x690x600 mm I DE 1,2 mm DE GRUIX, AMB PLACA DE MUNTATGE, PANY AMB CLAU I ACCESSORIS NECESSARIS (CANALETES, CARRIL DIN, PREMSAESTOPES, FIXACIONS, ...) I PETIT MATERIAL NECESSARI PER A LA CORRECTE EXECUCIÓ. INCLOU TOTS ELS TREBALLS (COM FORAT ARMARI CDU, ...) EXCEPTE OBRA CIVIL, RECURSOS (TRANSPORTS CAMIÓ GRUA I MA D'OBRA, ...) I FEINES NECESSÀRIES PER A LA CORRECTE EXECUCIÓ. | E52: 0 | F52: =VLOOKUP(B52,'Preus Unitaris'!$B$6:$F$105,4,FALSE) -> 4950 | G52: =ROUND(F52*E52,2) -> 0
D53: Subtotal Escomesa Elèctrica | G53: =SUM(G51:G52) -> 0
B55: Instal·lacions Comunicacions
B56: ='Preus Unitaris'!B79 -> IC01 | C56: =VLOOKUP(B56,'Preus Unitaris'!$B$6:$F$105,2,FALSE) -> UT | D56: =VLOOKUP(B56,'Preus Unitaris'!$B$6:$F$105,3,FALSE) -> SUBMINISTRAMENT I INSTAL·LACIÓ D'ARMARI EXTERIOR EN PLANXA D'ACER GALVANITZAT EN CALENT I PINTAT, TIPUS SUPLEMENT PER INSTAL·LAR DAMUNT DE L'ARMARI DEL REGULADOR, INCLOENT APARAMENTA I ACCESORIS NECESSÀRIS PEL SEU CORRECTE FUNCIONAMENT I SISTEMA DE TANCAMENT. SEGONS ESPECIFICACIONS AJUNTAMENT. TOTALMENT EXECUTAT. | E56: 0 | F56: =VLOOKUP(B56,'Preus Unitaris'!$B$6:$F$105,4,FALSE) -> 704.6 | G56: =ROUND(F56*E56,2) -> 0
B57: ='Preus Unitaris'!B80 -> IC02 | C57: =VLOOKUP(B57,'Preus Unitaris'!$B$6:$F$105,2,FALSE) -> UT | D57: =VLOOKUP(B57,'Preus Unitaris'!$B$6:$F$105,3,FALSE) -> SUBMINISTRAMENT I INSTAL·LACIÓ D'UN PORT SFP BIFIBRA MONOMODE 1G-LH, COMPATIBLE AMB LA XARXA DE COMUNICACIONS MUNICIPAL | E57: 0 | F57: =VLOOKUP(B57,'Preus Unitaris'!$B$6:$F$105,4,FALSE) -> 457.31 | G57: =ROUND(F57*E57,2) -> 0
B58: ='Preus Unitaris'!B81 -> IC03 | C58: =VLOOKUP(B58,'Preus Unitaris'!$B$6:$F$105,2,FALSE) -> UT | D58: =VLOOKUP(B58,'Preus Unitaris'!$B$6:$F$105,3,FALSE) -> SUBMINISTRAMENT I INSTAL·LACIÓ DE SWITCH DE COMUNICACIONS PER INSTAL·LACIÓ EN ARMARI DE CARRER, HOMOLOGAT PER L'AJUNTAMENT DE BARCELONA - IMI. SWITCH GESTIONABLE AMB 8 PORTS 10/100/1000Base-T + 2 PORTS 100/1000 SFP/RJ45 Combo. INCLOSOS SFP’s DE FIBRA TN-SFP-LX1-SM GIB I SISTEMA DE MUNTATGE EN RACK. | E58: 0 | F58: =VLOOKUP(B58,'Preus Unitaris'!$B$6:$F$105,4,FALSE) -> 1064.63 | G58: =ROUND(F58*E58,2) -> 0
B59: ='Preus Unitaris'!B83 -> IC05 | C59: =VLOOKUP(B59,'Preus Unitaris'!$B$6:$F$105,2,FALSE) -> ML | D59: =VLOOKUP(B59,'Preus Unitaris'!$B$6:$F$105,3,FALSE) -> SUBMINISTRAMENT I INSTAL·LACIÓ CABLE DE 24 FO MONOMODE B1.1, SEGONS EN 186000. ARMAT. AMB PROTECCIÓ D'ARAMIDA, ARMADURA METÀL·LICA I COBERTA EXTERIOR DE POLIETILÈ EN COLOR VERMELL I AMB EL LOGOTIP DE L'EXCM. AJUNTAMENT DE BARCELONA. | E59: 0 | F59: =VLOOKUP(B59,'Preus Unitaris'!$B$6:$F$105,4,FALSE) -> 3.37 | G59: =ROUND(F59*E59,2) -> 0
B60: ='Preus Unitaris'!B85 -> IC07 | C60: =VLOOKUP(B60,'Preus Unitaris'!$B$6:$F$105,2,FALSE) -> UT | D60: =VLOOKUP(B60,'Preus Unitaris'!$B$6:$F$105,3,FALSE) -> FUSIÓ EN RECTE DE FINS A 16 FO MONOMODE. INCLOU PIG-TAIL, CONNECTORS I ADAPTADORS, AIXÍ COM LES MESURES DE RETROESPARCIMENT DEL MATEIX. | E60: 0 | F60: =VLOOKUP(B60,'Preus Unitaris'!$B$6:$F$105,4,FALSE) -> 1433.8 | G60: =ROUND(F60*E60,2) -> 0
B61: ='Preus Unitaris'!B87 -> IC09 | C61: =VLOOKUP(B61,'Preus Unitaris'!$B$6:$F$105,2,FALSE) -> UT | D61: =VLOOKUP(B61,'Preus Unitaris'!$B$6:$F$105,3,FALSE) -> SUBMINISTRAMENT I INSTAL·LACIÓ DE CAIXA REPARTIDORA ÒPTICA OTB-24 | E61: 0 | F61: =VLOOKUP(B61,'Preus Unitaris'!$B$6:$F$105,4,FALSE) -> 374.5 | G61: =ROUND(F61*E61,2) -> 0
B62: ='Preus Unitaris'!B89 -> IC11 | C62: =VLOOKUP(B62,'Preus Unitaris'!$B$6:$F$105,2,FALSE) -> UT | D62: =VLOOKUP(B62,'Preus Unitaris'!$B$6:$F$105,3,FALSE) -> SUBMINISTRAMENT I INSTAL·LACIÓ DE JUMPER DE FO TIPUS DUPLEX MONOMODE FINS A 4 m | E62: 0 | F62: =VLOOKUP(B62,'Preus Unitaris'!$B$6:$F$105,4,FALSE) -> 100.54 | G62: =ROUND(F62*E62,2) -> 0
B63: ='Preus Unitaris'!B90 -> IC12 | C63: =VLOOKUP(B63,'Preus Unitaris'!$B$6:$F$105,2,FALSE) -> UT | D63: =VLOOKUP(B63,'Preus Unitaris'!$B$6:$F$105,3,FALSE) -> SUBMINISTRAMENT I INSTAL·LACIÓ DE JUMPER DE COURE RJ45 FINS A 4 m | E63: 0 | F63: =VLOOKUP(B63,'Preus Unitaris'!$B$6:$F$105,4,FALSE) -> 51.06 | G63: =ROUND(F63*E63,2) -> 0
B64: ='Preus Unitaris'!B92 -> IC14 | C64: =VLOOKUP(B64,'Preus Unitaris'!$B$6:$F$105,2,FALSE) -> PAJ | D64: =VLOOKUP(B64,'Preus Unitaris'!$B$6:$F$105,3,FALSE) -> PARTIDA ALÇADA A JUSTIFICAR PELS TREBALLS A REALITZAR PER L'EMPRESA OPERADORA DE LES COMUNICACIONS DE L'IMI, A LA CRUÏLLA CARDENAL REIG-POBLET | E64: 0 | F64: =VLOOKUP(B64,'Preus Unitaris'!$B$6:$F$105,4,FALSE) -> 18512.84 | G64: =ROUND(F64*E64,2) -> 0
D65: Subtotal Instal·lacions Comunicacions | G65: =SUM(G56:G64) -> 0
B67: Senyalització Horitzontal i Vertical
B68: ='Preus Unitaris'!B96 -> SE01 | C68: =VLOOKUP(B68,'Preus Unitaris'!$B$6:$F$105,2,FALSE) -> M | D68: =VLOOKUP(B68,'Preus Unitaris'!$B$6:$F$105,3,FALSE) -> PINTAT DE FAIXA DE 10 cm D'AMPLADA SOBRE PAVIMENT, AMB PINTURA TERMOPLÀSTICA EN CALENT I REFLECTANT AMB MICROESFERES DE VIDRE. INCLOU PREMARCATGE I QUALSEVOL FEINA I ELEMENTS AUXILIARS PER A LA CORRECTA REALITZACIÓ DE LA FEINA. | E68: =8+12+10 -> 30 | F68: =VLOOKUP(B68,'Preus Unitaris'!$B$6:$F$105,4,FALSE) -> 1.19 | G68: =ROUND(F68*E68,2) -> 35.7
B69: ='Preus Unitaris'!B97 -> SE02 | C69: =VLOOKUP(B69,'Preus Unitaris'!$B$6:$F$105,2,FALSE) -> M | D69: =VLOOKUP(B69,'Preus Unitaris'!$B$6:$F$105,3,FALSE) -> PINTAT DE FAIXA DE 15 cm D'AMPLADA SOBRE PAVIMENT, AMB PINTURA TERMOPLÀSTICA EN CALENT I REFLECTANT AMB MICROESFERES DE VIDRE. INCLOU PREMARCATGE I QUALSEVOL FEINA I ELEMENTS AUXILIARS PER A LA CORRECTA REALITZACIÓ DE LA FEINA. | E69: =5+10 -> 15 | F69: =VLOOKUP(B69,'Preus Unitaris'!$B$6:$F$105,4,FALSE) -> 1.33 | G69: =ROUND(F69*E69,2) -> 19.95
B70: ='Preus Unitaris'!B98 -> SE03 | C70: =VLOOKUP(B70,'Preus Unitaris'!$B$6:$F$105,2,FALSE) -> M | D70: =VLOOKUP(B70,'Preus Unitaris'!$B$6:$F$105,3,FALSE) -> PINTAT DE FAIXA DE 30 cm D'AMPLADA SOBRE PAVIMENT, AMB PINTURA TERMOPLÀSTICA EN CALENT I REFLECTANT AMB MICROESFERES DE VIDRE. INCLOU PREMARCATGE I QUALSEVOL FEINA I ELEMENTS AUXILIARS PER A LA CORRECTA REALITZACIÓ DE LA FEINA. | E70: =5+15 -> 20 | F70: =VLOOKUP(B70,'Preus Unitaris'!$B$6:$F$105,4,FALSE) -> 3.09 | G70: =ROUND(F70*E70,2) -> 61.8
B71: ='Preus Unitaris'!B99 -> SE04 | C71: =VLOOKUP(B71,'Preus Unitaris'!$B$6:$F$105,2,FALSE) -> M | D71: =VLOOKUP(B71,'Preus Unitaris'!$B$6:$F$105,3,FALSE) -> PINTAT DE FAIXA DE 40 cm D'AMPLADA SOBRE PAVIMENT, AMB PINTURA TERMOPLÀSTICA EN CALENT I REFLECTANT AMB MICROESFERES DE VIDRE. INCLOU PREMARCATGE I QUALSEVOL FEINA I ELEMENTS AUXILIARS PER A LA CORRECTA REALITZACIÓ DE LA FEINA. | E71: 24 | F71: =VLOOKUP(B71,'Preus Unitaris'!$B$6:$F$105,4,FALSE) -> 4.58 | G71: =ROUND(F71*E71,2) -> 109.92
B72: ='Preus Unitaris'!B100 -> SE05 | C72: =VLOOKUP(B72,'Preus Unitaris'!$B$6:$F$105,2,FALSE) -> M2 | D72: =VLOOKUP(B72,'Preus Unitaris'!$B$6:$F$105,3,FALSE) -> PINTAT O REPINTAT/ESBORRAT MANUAL DE 50 cm DE SENYAL DE STOP O CEDIU EL PAS O ZEBRATS, A MÉS DE FLETXES, LLETRES, SÍMBOLS, FRANGES DE VÈRTEXS D'ILLETES, ... SOBRE EL PAVIMENT, AMB PINTURA DE DOS COMPONENTS EN FRED DE LLARGA DURADA I REFLECTANT AMB MICROESFERES DE VIDRE. INCLOU PREMARCATGE I QUALSEVOL FEINA I ELEMENTS AUXILIARS PER A LA CORRECTE REALITZACIÓ DE LA FEINA. | E72: 40 | F72: =VLOOKUP(B72,'Preus Unitaris'!$B$6:$F$105,4,FALSE) -> 23.86 | G72: =ROUND(F72*E72,2) -> 954.4
B73: ='Preus Unitaris'!B102 -> SE07 | C73: =VLOOKUP(B73,'Preus Unitaris'!$B$6:$F$105,2,FALSE) -> UT | D73: =VLOOKUP(B73,'Preus Unitaris'!$B$6:$F$105,3,FALSE) -> SUBMINISTRAMENT I INSTAL·LACIÓ DE SENYAL INFORMATIVA INDICACIÓ CARRER, MODEL AJUNTAMENT BARCELONA | E73: 1 | F73: =VLOOKUP(B73,'Preus Unitaris'!$B$6:$F$105,4,FALSE) -> 93.63 | G73: =ROUND(F73*E73,2) -> 93.63
B74: ='Preus Unitaris'!B104 -> SE09 | C74: =VLOOKUP(B74,'Preus Unitaris'!$B$6:$F$105,2,FALSE) -> UT | D74: =VLOOKUP(B74,'Preus Unitaris'!$B$6:$F$105,3,FALSE) -> RETIRADA I RECOL·LOCACIÓ DE SENYAL VERTICAL, TIPUS INFORMATIVA PAS VIANANTS, PROHIBICIÓ O SIMILAR | E74: 3 | F74: =VLOOKUP(B74,'Preus Unitaris'!$B$6:$F$105,4,FALSE) -> 48.15 | G74: =ROUND(F74*E74,2) -> 144.45
B75: ='Preus Unitaris'!B105 -> SE10 | C75: =VLOOKUP(B75,'Preus Unitaris'!$B$6:$F$105,2,FALSE) -> PA | D75: =VLOOKUP(B75,'Preus Unitaris'!$B$6:$F$105,3,FALSE) -> PARTIDA ALÇADA PER LA DISPONIBILITAT D'EQUIP DE PINTURA VIAL. INCLOU MAQUINÀRIA, TRASLLAT, MÀ D'OBRA I ELEMENTS AUXILIARS PER A LA CORRECTA REALITZACIÓ DE LA FEINA. | E75: 1 | F75: =VLOOKUP(B75,'Preus Unitaris'!$B$6:$F$106,4,FALSE) -> 1200 | G75: =ROUND(F75*E75,2) -> 1200
B76: ='Preus Unitaris'!B106 -> INV01 | C76: =VLOOKUP(B76,'Preus Unitaris'!$B$6:$F$108,2,FALSE) -> PA | D76: =VLOOKUP(B76,'Preus Unitaris'!$B$6:$F$108,3,FALSE) -> PARTIDA PER A L'ACTUACIÓ I GESTIÓ D'INVENTARIS DEL DEPARTAMENT D'ESPAI URBÀ (INCLOENT SENYALITZACIÓ HORITZONTAL I VERTICAL, SEMAFORITZACIÓ, PAVIMENTS, MOBILIARI URBÀ I CARTOGRAFIA D'ACORD AMB EL CRITERIS DELS PLECS TÈCNICS CORRESPONENTS I LA BASE CARTOGRÀFICA DE L'AJUNTAMENT DE BARCELONA (P-53) PER OBRES INFERIORS A 1.000m². | E76: 1 | F76: =VLOOKUP(B76,'Preus Unitaris'!$B$6:$F$108,4,FALSE) -> 550 | G76: =ROUND(F76*E76,2) -> 550
D77: Subtotal Senyalització Horitzontal | G77: =SUM(G68:G76) -> 3169.85
D80: TOTAL PRESSUPOST EXECUCIÓ CONTRACTE (PEC) | G80: =SUM(G6:G79)/2 -> 40503.7
D81: IVA (21% sobre el PEC) | F81: 0.21 | G81: =ROUND(G80*F81,2) -> 8505.78
D82: TOTAL PRESSUPOST BASE LICITACIÓ | G82: =SUM(G80:G81) -> 49009.48
D85: RESUM PRESSUPOST
D86: =B6 -> Obra Civil Cruïlla Semàfors | G86: =G27 -> 23705.18
D87: =B29 -> Instal·lacions Semafòriques | G87: =G39 -> 10537.19
D88: =B41 -> Cablejats Elèctrics | G88: =G48 -> 3091.48
D89: =B50 -> Escomesa Elèctrica | G89: =G53 -> 0
D90: =B55 -> Instal·lacions Comunicacions | G90: =G65 -> 0
D91: =B67 -> Senyalització Horitzontal i Vertical | G91: =G77 -> 3169.85
D92: TOTAL PRESSUPOST EXECUCIÓ CONTRATA (PEC) | G92: =SUM(G86:G91) -> 40503.7
D93: IVA (21% sobre el PEC) | F93: 0.21 | G93: =ROUND(G92*F93,2) -> 8505.78
D94: TOTAL PRESSUPOST BASE LICITACIÓ | G94: =SUM(G92:G93) -> 49009.48
B99: NOTA: | D99: Els preus unitaris duen incorporats les parts proporcionals Despeses Generals, Benefici Industrial
D100: i qualsevol altre que sigui necessari per a la correcte execució de les unitats d'obra, inclús la part
D101: corresponent a Seguretat i Salut.

Sheet Manteniment TRES CRUÏLLES
B2: CODI | C2: UM | D2: DESCRIPCIÓ | E2: PREU UNIT. (€) | F2: UT | G2: PERIOD. | H2: IMPORT (€) | J2: 0.07 | N2: PREU UNIT. (€)
B3: MBR1U010 | C3: UT | D3: Manteniment correctiu mensual de regulador semafòric, segons especificacions del plec de condicions tècniques | E3: =K3 -> 22.91 | F3: 2 | G3: 12 | H3: =ROUND(E3*F3*G3,2) -> 549.84 | J3: =ROUND(N3*$J$2,2) -> 1.5 | K3: =J3+N3 -> 22.91 | N3: 21.41
B4: MBR1U020 | C4: UT | D4: Manteniment correctiu mensual de carta de sortides de fins a 4 grups semafòrics, segons especificacions del plec de condicions tècniques | E4: =K4 -> 3 | F4: 6 | G4: 12 | H4: =ROUND(E4*F4*G4,2) -> 216 | J4: =ROUND(N4*$J$2,2) -> 0.2 | K4: =J4+N4 -> 3 | N4: 2.8
B5: MBR1U030 | C5: UT | D5: Manteniment correctiu mensual de SAI on line fins a 1500 va per regulador semafòric, segons especificacions del plec de condicions tècniques | E5: =K5 -> 8.35 | F5: 2 | G5: 12 | H5: =ROUND(E5*F5*G5,2) -> 200.4 | J5: =ROUND(N5*$J$2,2) -> 0.55 | K5: =J5+N5 -> 8.35 | N5: 7.8
B6: MBR1U050 | C6: UT | D6: Manteniment correctiu mensual de columna de polièster-fibra o d'acer fins a 2,40 m. i dels suports adossats, segons especificacions del plec de condicions tècniques | E6: =K6 -> 0.35 | F6: 14 | G6: 12 | H6: =ROUND(E6*F6*G6,2) -> 58.8 | J6: =ROUND(N6*$J$2,2) -> 0.02 | K6: =J6+N6 -> 0.35 | N6: 0.33
B7: MBR1U070 | C7: UT | D7: Manteniment correctiu mensual de bàcul d'acer galvanitzat i dels baixants i suports adossats, segons especificacions plec de condicions tècniques | E7: =K7 -> 0.7 | F7: 3 | G7: 12 | H7: =ROUND(E7*F7*G7,2) -> 25.2 | J7: =ROUND(N7*$J$2,2) -> 0.05 | K7: =J7+N7 -> 0.7 | N7: 0.65
B8: MBR1U100 | C8: UT | D8: Manteniment correctiu mensual de semàfor 11/200 amb òptiques de tecnologia led de qualsevol color i tipus normal, bici, etc. model clàssic o Barcelona, segons especificacions del plec de condicions tècniques | E8: =K8 -> 0.88 | F8: 2 | G8: 12 | H8: =ROUND(E8*F8*G8,2) -> 21.12 | J8: =ROUND(N8*$J$2,2) -> 0.06 | K8: =J8+N8 -> 0.88 | N8: 0.82
B9: MBR1U110 | C9: UT | D9: Manteniment correctiu mensual de semàfor 12/200 amb òptiques de tecnologia led de qualsevol color i tipus normal, bici, bus, mixta, etc. model clàssic o Barcelona, segons especificacions del plec de condicions tècniques | E9: =K9 -> 2.05 | F9: 18 | G9: 12 | H9: =ROUND(E9*F9*G9,2) -> 442.8 | J9: =ROUND(N9*$J$2,2) -> 0.13 | K9: =J9+N9 -> 2.05 | N9: 1.92
B10: MBR1U120 | C10: UT | D10: Manteniment correctiu mensual de semàfor 13/200 amb òptiques de tecnologia led de qualsevol color i tipus normal, bici, bus, mixta, etc. model clàssic o Barcelona, segons especificacions del plec de condicions tècniques | E10: =K10 -> 2.93 | F10: 19 | G10: 12 | H10: =ROUND(E10*F10*G10,2) -> 668.04 | J10: =ROUND(N10*$J$2,2) -> 0.19 | K10: =J10+N10 -> 2.93 | N10: 2.74
B11: MBR1U160 | C11: UT | D11: Manteniment correctiu mensual de sistema per a invidents complet amb actuació per comandament a distància mode clàssic o Barcelona, segons especificacions del plec de condicions tècniques | E11: =K11 -> 0.97 | F11: =F9 -> 18 | G11: 12 | H11: =ROUND(E11*F11*G11,2) -> 209.52 | J11: =ROUND(N11*$J$2,2) -> 0.06 | K11: =J11+N11 -> 0.97 | N11: 0.91
B12: MBR1U230 | C12: UT | D12: Suplement al manteniment correctiu mensual de semàfor per accés a alçades superiors a 4 m, segons especificacions del plec de condicions tècniques | E12: =K12 -> 2.92 | F12: 3 | G12: 12 | H12: =ROUND(E12*F12*G12,2) -> 105.12 | J12: =ROUND(N12*$J$2,2) -> 0.19 | K12: =J12+N12 -> 2.92 | N12: 2.73
B13: MBREU010 | C13: M | D13: Manteniment correctiu mensual de cable 3 x 6 mm². per cada 1000 ml. inclou part proporcional d'obra civil, segons especificacions del plec de condicions tècniques | E13: =K13 -> 2.92 | F13: 0.49 | G13: 12 | H13: =ROUND(E13*F13*G13,2) -> 17.17 | J13: =ROUND(N13*$J$2,2) -> 0.19 | K13: =J13+N13 -> 2.92 | N13: 2.73
B14: MBREU020 | C14: M | D14: Manteniment correctiu mensual de cable de 4x1,5 mm2 4x2,5 mm²., per a cada 1000 ml. inclou part proporcional d'obra civil, segons especificacions del plec de condicions tècniques | E14: =K14 -> 2.33 | F14: 2.36 | G14: 12 | H14: =ROUND(E14*F14*G14,2) -> 65.99 | J14: =ROUND(N14*$J$2,2) -> 0.15 | K14: =J14+N14 -> 2.33 | N14: 2.18
B15: TOTAL MANTENIMENT CORRECTIU ANUAL | H15: =SUM(H3:H14) -> 2580
B18: CODI | C18: UM | D18: DESCRIPCIÓ | E18: PREU UNIT. (€) | F18: UT | G18: PERIOD. | H18: IMPORT (€) | N18: PREU UNIT. (€)
B19: MBS1U010 | C19: UT | D19: Operació de manteniment preventiu ´´R1´´ per regulador semafòric, segons especificacions del plec de condicions tècniques | E19: =K19 -> 114.12 | F19: 2 | G19: 2 | H19: =ROUND(E19*F19*G19,2) -> 456.48 | J19: =ROUND(N19*$J$2,2) -> 7.47 | K19: =J19+N19 -> 114.12 | N19: 106.65
B20: MBS1U020 | C20: UT | D20: Operació de manteniment preventiu ´´SAI´´ per sistema d'alimentació ininterrompuda de regulador, segons especificacions del plec de condicions tècniques | E20: =K20 -> 73.5 | F20: 2 | G20: 2 | H20: =ROUND(E20*F20*G20,2) -> 294 | J20: =ROUND(N20*$J$2,2) -> 4.81 | K20: =J20+N20 -> 73.5 | N20: 68.69
B21: MBS1U050 | C21: UT | D21: Operació de manteniment preventiu ´´NB´´ de neteja d'òptica de LED a nivell baix per a focus de 200 mm, segons especificacions del plec de condicions tècniques | E21: =K21 -> 3.69 | F21: 83 | G21: 1 | H21: =ROUND(E21*F21*G21,2) -> 306.27 | J21: =ROUND(N21*$J$2,2) -> 0.24 | K21: =J21+N21 -> 3.69 | N21: 3.45
B22: MBS1U060 | C22: UT | D22: Operació de manteniment preventiu ´´NB´´ de neteja d'òptica de LED a nivell alt per a focus de 200 mm, segons especificacions del plec de condicions tècniques | E22: =K22 -> 12.74 | F22: 12 | G22: 1 | H22: =ROUND(E22*F22*G22,2) -> 152.88 | J22: =ROUND(N22*$J$2,2) -> 0.83 | K22: =J22+N22 -> 12.74 | N22: 11.91
B23: MBS1U120 | C23: UT | D23: Operació de manteniment preventiu ´´INV´´ de neteja i comprovació de funcionament de dispositiu sonor per a invidents a nivell baix per a mòdul de 200 mm, segons especificacions del plec de condicions tècniques | E23: =K23 -> 3.55 | F23: 18 | G23: 1 | H23: =ROUND(E23*F23*G23,2) -> 63.9 | J23: =ROUND(N23*$J$2,2) -> 0.23 | K23: =J23+N23 -> 3.55 | N23: 3.32
B24: MBS1U150 | C24: UT | D24: Operació de manteniment preventiu ´´OC-REG´´ de revisió per cruïlla de l'obra civil, canalitzacions (tubulars), registres i instal·lacions de superfície segons descripció del plec de condicions | E24: =K24 -> 239.48 | F24: 3 | G24: 0.25 | H24: =ROUND(E24*F24*G24,2) -> 179.61 | J24: =ROUND(N24*$J$2,2) -> 15.67 | K24: =J24+N24 -> 239.48 | N24: 223.81
B25: MBS1U200 | C25: UT | D25: Repintat d'armari metàl·lic complet amb una superfície superior a 1 m2 i inferior o igual a 1,5 m2 | E25: =K25 -> 210.37 | F25: 6 | G25: 0.25 | H25: =ROUND(E25*F25*G25,2) -> 315.56 | J25: =ROUND(N25*$J$2,2) -> 13.76 | K25: =J25+N25 -> 210.37 | N25: 196.61
B26: TOTAL MANTENIMENT PREVENTIU ANUAL | H26: =SUM(H19:H25) -> 1768.7
B29: TOTAL COST MANTENIMENT ANUAL | H29: =H15+H26 -> 4348.7

Sheet Ppost SiS
B2: PRESSUPOST SEGURETAT I SALUT
B3: Codi | C3: Unitat | D3: Concepte | E3: Preu Unit. | F3: k | G3: Quantitat | H3: Total €
F4: 2
B5: SS000001 | C5: UT | D5: CASC DE SEGURETAT ESTÁNDAR PER US NORMAL, DE POLIETILÉ AMB UN PES MÀXIM DE 400 GR., HOMOLOGAT SEGONS MT-1, CLASSE N I E-AT | E5: =ROUND(F5*$F$4,2) -> 16.12 | F5: 8.06 | G5: 5 | H5: =ROUND(E5*G5,2) -> 80.6
B6: SS000002 | C6: UT | D6: ULLERES DE SEGURETAT HERMÈTIQUES AMB MONTURA DE POLICARBONAT, AMB RESPIRADORS I RECOLÇAMENT NASAL, VISORS DE 50 MM. I ADAPTADORS AMB CINTA ELÀSTICA | E6: =ROUND(F6*$F$4,2) -> 23.06 | F6: 11.53 | G6: 5 | H6: =ROUND(E6*G6,2) -> 115.3
B7: SS000003 | C7: UT | D7: EQUIPAMENT DE TREBALL COMPLERT, COMPOSAT DE PANTALÓ, SAMARRETA I CAÇADORA, AMB ANAGRAMA D'EMPRESA. | E7: =ROUND(F7*$F$4,2) -> 140.56 | F7: 70.28 | G7: 5 | H7: =ROUND(E7*G7,2) -> 702.8
B8: SS000004 | C8: UT | D8: ARMILLA REFLECTANT, HOMOLOGADA I NORMALITZADA PER US NOCTURN I DIURN | E8: =ROUND(F8*$F$4,2) -> 11.6 | F8: 5.8 | G8: 5 | H8: =ROUND(E8*G8,2) -> 58
B9: SS000005 | C9: UT | D9: GUANTS DE SERRATGE PER ÚS GENERAL, AMB PALMELL I DORS DE LA MÀ DE PELL, FLEXIBLE I SUBJECCIÓ ELÀSTICA AL CANELL | E9: =ROUND(F9*$F$4,2) -> 16.62 | F9: 8.31 | G9: 5 | H9: =ROUND(E9*G9,2) -> 83.1
B10: SS000006 | C10: UT | D10: BOTES DE SEGURETAT, RESISTENTS A L'HUMITAT, DE PELL RECTIFICADA, ENVOLVENT DEL TORMELL, SOLA ANTILLISCANT, TASCO AMORTIDORA PER AL TALO I PUNTERA METAL·LICA CONTRA COPS | E10: =ROUND(F10*$F$4,2) -> 103.42 | F10: 51.71 | G10: 5 | H10: =ROUND(E10*G10,2) -> 517.1
B11: SS000007 | C11: UT | D11: ARMILLA AMB ARNÉS ANTICAIGUDA | E11: =ROUND(F11*$F$4,2) -> 647.76 | F11: 323.88 | G11: 1 | H11: =ROUND(E11*G11,2) -> 647.76
B12: SS000008 | C12: UT | D12: CORDA DE SEGURETAT FINS A 40 MTS. | E12: =ROUND(F12*$F$4,2) -> 309.5 | F12: 154.75 | G12: 1 | H12: =ROUND(E12*G12,2) -> 309.5
B13: SS000009 | C13: UT | D13: DISPOSITIU ANTICAIGUDES PER CORDA DESLLIÇANT | E13: =ROUND(F13*$F$4,2) -> 339.22 | F13: 169.61 | G13: 1 | H13: =ROUND(E13*G13,2) -> 339.22
B14: SS000010 | C14: UT | D14: MASCARETA DE RESPIRACIÓ ANTIPOLS D'UN SOL US. | E14: =ROUND(F14*$F$4,2) -> 4.14 | F14: 2.07 | G14: 100 | H14: =ROUND(E14*G14,2) -> 414
B15: SS000011 | C15: UT | D15: PROTECTOR AUDITIU COMPOST PER CASCOS INTEGRALS AMB MATERIAL AIL.LANT. | E15: =ROUND(F15*$F$4,2) -> 28.36 | F15: 14.18 | G15: 5 | H15: =ROUND(E15*G15,2) -> 141.8
B16: SS000014 | C16: UT | D16: PLACA REFLECTORA TRIANGULAR, DE 70 CM. DE COSTAT PER A SENYALS DE TRÀFIC, COL·LOCADA I AMB DESMUNTATGE INCLÒS. | E16: =ROUND(F16*$F$4,2) -> 88.84 | F16: 44.42 | G16: 5 | H16: =ROUND(E16*G16,2) -> 444.2
... B26: SS000024 | C26: UT | D26: RECONEIXEMENT MÈDIC OBLIGATORI | E26: =ROUND(F26*$F$4,2) -> 83.1 | F26: 41.55 | G26: 5 | H26: =ROUND(E26*G26,2) -> 415.5
B27: TOTAL SEGURETAT I SALUT | H27: =SUM(H5:H26) -> 6005.86
