Workbook

Sheet Resum Amid.Ppals
A2: RESUM AMIDAMENTS PRINCIPALS
A4: PROJECTE EXECUTIU D’IMPLEMENTACIÓ D’UN SISTEMA DE REGULACIÓ DE TRÀNSIT MITJANÇANT CÀMERES ALS BARRIS DEL GÒTIC I CASC ANTIC DEL DISTRICTE DE CIUTAT VELLA
A7: Punt de Control | B7: Adreça | C7: Conjunt càmera LPR+entorn (ut) | D7: Columna 4m (ut) | E7: Canalització vorera (m) | F7: Pericó registre 70x70 | G7: Pericó registre 60x60 (ut) | H7: Pericó registre 40x40 (ut) | I7: Fonament armari (ut) | J7: Armari PdC (ut) | K7: Estesa FO (m) | L7: Estesa UTP (m)
A9: PdC-01 | B9: Av. Portal de l'Àngel | C9: 1 | D9: - | E9: 10 | G9: 1 | I9: 1 | J9: 1 | K9: - | L9: 70
A10: PdC-02 | B10: Magdalenes | C10: 1 | D10: - | E10: 32 | G10: 1 | I10: 1 | J10: 1 | K10: 60 | L10: -
A11: PdC-03 | B11: Jaume I | C11: 1 | D11: 1 | E11: 15 | G11: 2 | I11: 1 | J11: 1 | K11: 100 | L11: -
A12: PdC-04 | B12: Fusteria | C12: 1 | D12: 1 | E12: 0 | G12: - | I12: 1 | J12: - | K12: - | L12: 15
A13: PdC-05 | B13: Lluís el Piadós | C13: 1 | D13: 1 | E13: 10 | G13: 1 | I13: 1 | J13: 1 | K13: 200 | L13: -
A14: PdC-06 | B14: Placeta Comerç | C14: 2 | D14: 2 | E14: 40 | G14: 1 | I14: 1 | J14: 1 | K14: 330 | L14: -
A15: PdC-07 | B15: Princesa | C15: 1 | D15: 1 | E15: 23 | G15: 1 | I15: 1 | J15: 1 | K15: 90 | L15: -
A16: PdC-08 | B16: Antic Sant Joan | C16: 1 | D16: 1 | E16: 8 | G16: 1 | I16: 1 | J16: 1 | K16: 180 | L16: -
A17: PdC-09 | B17: Pla de Palau | C17: 1 | D17: 1 | E17: 8 | G17: 1 | I17: 1 | J17: 1 | K17: 30 | L17: -
C19: =SUM(C9:C17) -> 10 | D19: =SUM(D9:D17) -> 8 | E19: =SUM(E9:E17) -> 146 | F19: =SUM(F9:F17) -> 0 | G19: =SUM(G9:G17) -> 9 | H19: =SUM(H9:H17) -> 0 | I19: =SUM(I9:I17) -> 9 | J19: =SUM(J9:J17) -> 8 | ... L19: =SUM(L9:L17) -> 85

Sheet PU
B1: PREUS UNITARIS
B3: CODI | C3: U | D3: CONCEPTE/DENOMINACIO | E3: P.U. PEM
B5: EQUIPAMENT PUNT DE CONTROL
B6: E‐001 | C6: UT | D6: SUBMINISTRAMENT D'EQUIP COMPACTE DE RECONEIXEMENT DE MATRÍCULES, FORMAT PER CONJUNT DE CÀMERA LPR 2 CARRILS HD, CÀMERA DE CONTEXT A COLOR, IL∙LUMINADOR IR PER A ZONA D’INFRACCIONS I SISTEMA PROCÉS I EMMAGATZEMATGE SSD 60 GB. INCLOU LLICÈNCIA OCR, CARCASSA, BRAÇ I ADAPTACIÓ A SUPORT. | E6: 6405.04
B7: E‐002 | C7: UT | D7: INSTAL∙LACIÓ D'EQUIP COMPACTE DE RECONEIXEMENT DE MATRÍCULES, FORMAT PER CONJUNT DE CÀMERA LPR 2 CARRILS HD, CÀMERA DE CONTEXT A COLOR, IL∙LUMINADOR IR PER A ZONA D’INFRACCIONS I SISTEMA PROCÉS I EMMAGATZEMATGE SSD 60 GB. INCLOU LICÈNCIA OCR, CARCASSA, BRAÇ I ADAPTACIÓ A SUPORT. | E7: 307.27
B8: E‐003 | C8: UT | D8: SUBMINISTRAMENT D'UNITAT DE PROCÉS PEL PUNT DE CONTROL, CONSISTENT EN UN PC DE TIPUS INDUSTRIAL, RUGORITZAT, AMB PROCESSADOR I7, CPU QUAD CORE, BIOS, SISTEMA OPERATIU, WATCHDOG, ALIMENTACIÓ 9‐48V, CAPACITAT EMMAGATZEMATGE 2 TB | E8: 930.46
B9: E‐004 | C9: UT | D9: INSTAL∙LACIÓ, CONFIGURACIÓ I POSADA EN FUNCIONAMENT, D'UNITAT DE PROCÉS PEL PUNT DE CONTROL EN ARMARI PDC. | E9: 160.12
B10: E‐005 | C10: UT | D10: SUBMINISTRAMENT DE FONT D'ALIMENTACIÓ TIPUS INDUSTRIAL, PER MUNTATGE EN CARRIL DIN, PER ALIMENTAR FINS A 4 CÀMERES PUNT DE CONTROL. | E10: 138.48
B11: E‐006 | C11: UT | D11: INSTAL∙LACIÓ DE FONT D'ALIMENTACIÓ TIPUS INDUSTRIAL, PER MUNTATGE EN CARRIL DIN, PER ALIMENTAR FINS A 4 CÀMERES PUNT DE CONTROL. | E11: 30.29
B12: E‐007 | C12: UT | D12: SUBMINISTRAMENT DE FONT D'ALIMENTACIÓ TIPUS INDUSTRIAL, PER MUNTATGE EN CARRIL DIN, PER ALIMENTAR UNITAT DE PROCÈS (PC) | E12: 46.74
B13: E‐008 | C13: UT | D13: INSTAL·LACIÓ DE FONT D'ALIMENTACIÓ TIPUS INDUSTRIAL, PER MUNTATGE EN CARRIL DIN, PER ALIMENTAR UNITAT DE PROCÈS (PC) | E13: 12.12
B14: E‐009 | C14: UT | D14: SUBMINISTRAMENT DE SWITCH DE COMUNICACIÓ PER SISTEMA DE VISIÓARTIFICIAL, NO GESTIONABLE, COMPATIBLE AMB EL SISTEMA DE COMUNICACIONS DE L'AJUNTAMENT. | E14: 294.28
B15: E‐010 | C15: UT | D15: INSTAL∙LACIÓ I CONFIGURACIÓ DE SWITCH DE COMUNICACIÓ PER SISTEMA DE VISIÓ ARTIFICIAL, NO GESTIONABLE, COMPATIBLE AMB EL SISTEMA DE COMUNICACIONS DE L'AJUNTAMENT. | E15: 43.28
B16: E‐011 | C16: UT | D16: SUBMINISTRAMENT DE ROUTER 4G PER COMUNICACIONS SENSE FILS, COMPATIBLE AMB EL SISTEMA DE COMUNICACIONS DE L'AJUNTAMENT. INCLOENT ANTENA ANTIVANDÀLICA. | E16: 389.49
B17: E‐012 | C17: UT | D17: INSTAL∙LACIÓ I CONFIGURACIÓ DE ROUTER 4G I ANTENA ANTIVANDÀLICA PER COMUNICACIONS SENSE FILS, COMPATIBLE AMB EL SISTEMA DE COMUNICACIONS DE L'AJUNTAMENT. | E17: 51.93
... B39: E‐034 | C39: UT | D39: PRECINTAT DE CÀMERES I DEL PC DE CONTROL DEL PUNT DE CONTROL. INCLOU TOTS ELS MATERIALS (PRECINTES), MITJANS I RECURSOS NECESSARIS. PREU PER PUNT DE CONTROL. | E39: 259.66
B41: OBRA CIVIL
B42: O-001 | C42: UT | D42: FONAMENT DE FORMIGÓ PREFABRICAT PER A ARMARI REGULADOR AMB DOSIFICACIÓ DE 250 KG/m3 I ENCOFRAT CARA VISTA DE DIMENSIONS APROXIMADES 53 x 32,5 x 35 cm. AMB UN ENCASTAMENT DE 15 cm. I DOS FORATS DE 110 mm. DE DIÀMETRE. TOTALMENT EXECUTAT. | E42: 203.4
B43: O-002 | C43: UT | D43: FONAMENT DE FORMIGÓ PER A COLUMNA DE 4 METRES, AMB DOSIFICACIÓ DE 250 KG/m3, MITJANÇANT UN DAU DE 50 cm. DE COSTAT I 60 cm. DE PROFUNDITAT, INCLÒS COLZE DE CONNEXIÓ AMB TUBULAR. INCLOU DEMOLICIÓ PAVIMENT, EXCAVACIÓ I POSTERIOR REPOSICIÓ. TOTALMENT EXECUTAT. | E43: 95.21
B44: O-003 | C44: UT | D44: PERICÓ DE 70 x 70 cm. PREFABRICAT DE FORMIGÓ O CONSTRUÏT AMB MAONS GERO I FONS DEL MATEIX MATERIAL REBENT EL MARC I LA TAPA TRIANGULAR DE DOBLE FULLA CORRESPONENT, SENSE INCLOURE AQUESTS. INCLOU DEMOLICIÓ PAVIMENT, EXCAVACIÓ I POSTERIOR REPOSICIÓ. TOTALMENT EXECUTAT. | E44: 160.12
B45: O-004 | C45: UT | D45: SUBMINISTRAMENT MARC DE FERRO FOS DE 70 x 70 cm PER INSTAL·LACIÓ EN VORERA, AMB INSCRIPCIÓ. | E45: 47.61
B46: O-005 | C46: UT | D46: SUBMINISTRAMENT TAPA DE FERRO FOS DE 70 x 70 cm PER INSTAL·LACIÓ EN VORERA, AMB INSCRIPCIÓ. | E46: 90.89
B47: O-006 | C47: UT | D47: REPARACIÓ D'ESTRUCTURA INTERIOR DE PERICÓ EXISTENT DE 70 x 70 cm, AMB ADEQUACIÓ DE PARETS I LLISCAT. TOTALMENT EXECUTAT. | E47: 81.36
B48: O-007 | C48: UT | D48: PERICÓ DE 60 x 60 cm. PREFABRICAT DE FORMIGÓ O CONSTRUÏT AMB MAONS GERO I FONS DEL MATEIX MATERIAL REBENT EL MARC I LA TAPA CORRESPONENT, SENSE INCLOURE AQUESTS. INCLOU DEMOLICIÓ PAVIMENT, EXCAVACIÓ I POSTERIOR REPOSICIÓ. TOTALMENT EXECUTAT. | E48: 129.83
B49: O-008 | C49: UT | D49: SUBMINISTRAMENT MARC DE FERRO FOS DE 60 x 60 cm PER INSTAL·LACIÓ EN VORERA, AMB INSCRIPCIÓ. | E49: 34.62
B50: O-009 | C50: UT | D50: SUBMINISTRAMENT TAPA DE FERRO FOS DE 60 x 60 cm PER INSTAL·LACIÓ EN VORERA, AMB INSCRIPCIÓ. | E50: 69.25
B51: O-010 | C51: UT | D51: REPARACIÓ D'ESTRUCTURA INTERIOR DE PERICÓ EXISTENT DE 60 x 60 cm, AMB ADEQUACIÓ DE PARETS I LLISCAT. TOTALMENT EXECUTAT. | E51: 70.98
B52: O-011 | C52: UT | D52: PERICÓ DE 40 x 40 cm. PREFABRICAT DE FORMIGÓ O CONSTRUÏT AMB MAONS GERO I FONS DEL MATEIX MATERIAL REBENT EL MARC I LA TAPA CORRESPONENTS, SENSE INCLOURE AQUESTS. INCLOU DEMOLICIÓ PAVIMENT, EXCAVACIÓ I POSTERIOR REPOSICIÓ. TOTALMENT EXECUTAT. | E52: 99.54
B53: O-012 | C53: UT | D53: SUBMINISTRAMENT MARC DE FERRO FOS DE 40 x 40 cm PER INSTAL·LACIÓ EN VORERA, AMB INSCRIPCIÓ. | E53: 21.64
... B71: O-030 | C71: UT | D71: SENYALITZACIÓ OBRES, ZONES D'ABASSEGAMENT DE MATERIALS, MAQUINÀRIA, TALLS DE CARRIL I SIMILARS, NECESSARIS PER A L'EXECUCIÓ DE L'OBRA CIVIL A FER EN EL PUNT DE CONTROL. INCLOU TRAMITACIÓ PERMISOS I GESTIONS DAVANT ORGANISMES I ADMINISTRACIONS. | E71: 389.49
B73: INSTAL·LACIÓ ELÈCTRICA
B74: I-001 | C74: UT | D74: TREBALLS PER A LA REALITZACIÓ DE L'ALIMENTACIÓ DEL PUNT DE CONTROL, D'ACORD AMB EL QUE INDICA EL PLEC. | E74: 164.45
B75: I-002 | C75: UT | D75: SUBMINISTRAMENT D'EQUIPAMENTS ESPECÍFICS PER LA DISTRIBUCIÓ D'ENERGIA DEL PUNT DE CONTROL, CONSISTENTS EN PROTECCIONS ELÈCTRIQUES CONTRA SOBRETENSIONS TRANSITÒRIES (1 UT) I PERMANENTS (1 UT), DIFERENCIALS (FINS A 2 UT), MAGNETOTÈRMICS (FINS A 3 UT) I PRESA DE CORRENT TIPUS SCHUKO (1 UT). | E75: 257.93
B76: I-003 | C76: UT | D76: INSTAL·LACIÓ D'EQUIPAMENTS ESPECÍFICS PER LA DISTRIBUCIÓ D'ENERGIA DEL PUNT DE CONTROL. | E76: 70.11
B77: I-004 | C77: ML | D77: SUBMINISTRAMENT DE CABLE DE CONDUCTOR DE COURE AMB AÏLLAMENT DE PLÀSTIC, DE SECCIÓ 1x6 mm2 PER PRESES DE TERRA. | E77: 0.95
B78: I-005 | C78: ML | D78: INSTAL·LACIÓ DE CABLE DE CONDUCTOR DE COURE AMB AÏLLAMENT DE PLÀSTIC, DE SECCIÓ 1x6 mm2 PER PRESES DE TERRA. | E78: 0.78
B79: I-006 | C79: ML | D79: SUBMINISTRAMENT DE CABLE DE CONDUCTOR DE COURE EPTAFILAR NU, DE SECCIÓ 1x35 mm2. | E79: 3.89
B80: I-007 | C80: ML | D80: INSTAL·LACIÓ DE CABLE DE CONDUCTOR DE COURE EPTAFILAR NU, DE SECCIÓ 1x35 mm2. | E80: 0.78
B81: I-008 | C81: ML | D81: SUBMINISTRAMENT DE CABLE CONDUCTOR DE COURE RV-K 0,6/1KV DE 3x6 mm2 | E81: 2.42
B82: I-009 | C82: ML | D82: INSTAL·LACIÓ DE CABLE CONDUCTOR DE COURE RV-K 0,6/1KV DE 3x6 mm2 | E82: 0.78
B83: I-010 | C83: ML | D83: SUBMINISTRAMENT DE CABLE CONDUCTOR DE COURE RV-K 0,6/1KV DE 3x10 mm2 | E83: 3.12
B84: I-011 | C84: ML | D84: INSTAL·LACIÓ DE CABLE CONDUCTOR DE COURE RV-K 0,6/1KV DE 3x10 mm2 | E84: 0.78
B85: I-012 | C85: UT | D85: REALITZACIÓ D'UNA SORTIDA ELÈCTRICA, EN QUADRE ELÈCTRIC EXISTENT, CONSISTENT EN PROTECCIÓ MAGNETOTÈRMICA 6A 2P I TREBALLS DE CONNEXIÓ NECESSARIS, PER L'ALIMENTACIÓ D'UN CONJUNT DE CÀMERA. | E85: 43.78
... B90: I-017 | C90: UT | D90: ESCOMESA ELÈCTRICA. REALITZACIÓ DE NOVA ESCOMESA EN ENTORN URBÀ. INCLOU: ARMARI NORMALITZAT PER ESCOMESA ELÉCTRICA DE COMPANYIA, AMB PEANA I PINTAT, AMB CAIXA DE DISTRIBUCIÓ CDU 400, CANALERA DE 630A I FUSIBLE CUCHILLA BT F CU2/400 A ETU-6303B Gg, AMB CAIXA MÒDUL COMPTADOR PNZ-C2727, O CARACTERÍSTIQUES VIGENTS EN EL MOMENT DE REALITZAR ELS TREBALLS. ARMARI PER SORTIDES A CONSUMS, PER INTEMPÈRIE, EN PLANXA D'ACER GALVANITZAT EN CALENT I PINTAT, DE DIMENSIONS APROX. 17300x690x600 mm I DE 1,2 mm DE GRUIX, AMB PLACA DE MUNTATGE, PANY AMB CLAU I ACCESSORIS NECESSARIS (CANALETES, CARRIL DIN, PREMSAESTOPES, FIXACIONS, ...) I PETIT MATERIAL NECESSARI PER A LA CORRECTE EXECUCIÓ. INCLOU TOTS ELS TREBALLS (COM FORAT ARMARI CDU, ...) EXCEPTE OBRA CIVIL, RECURSOS (TRANSPORTS CAMIÓ GRUA I MA D'OBRA, ...) I FEINES NECESSÀRIES PER A LA CORRECTE EXECUCIÓ. | E90: 4950
B92: SENYALITZACIÓ
B93: S-001 | C93: UT | D93: SUBMINISTRAMENT DE SENYAL DE "CÀMERA DE TRÀNSIT" B-53a SEGONS MANUAL DE SENYALITZACIÓ URBANA I PLEC DE SENYALITZACIÓ PER A LA CIUTAT DE BARCELONA. SENYAL D'ALUMINI DE DOBLE PESTANYA HI, NIVELL II DE 2 MM DE GRUIX, DE DIÀMETRE 40 o 60cm SEGONS NORMES. INCLÒS ELEMENTS DE SUSTENTACIÓ I FIXACIÓ. | E93: 90.42
B94: S-002 | C94: UT | D94: SUBMINISTRAMENT DE SENYAL DE "CÀMERA DE TRÀNSIT" B-53b SEGONS MANUAL DE SENYALITZACIÓ URBANA I PLEC DE SENYALITZACIÓ PER A LA CIUTAT DE BARCELONA. SENYAL D'ALUMINI DE DOBLE PESTANYA HI, NIVELL II DE 2 MM DE GRUIX, DE DIÀMETRE 15x30cm SEGONS NORMES. INCLÒS ELEMENTS DE SUSTENTACIÓ I FIXACIÓ. | E94: 80.34
B95: S-003 | C95: UT | D95: SUBMINISTRAMENT DE SENYAL DE "CONTROL DE MATRÍCULES" B-52 SEGONS MANUAL DE SENYALITZACIÓ URBANA I PLEC DE SENYALITZACIÓ PER A LA CIUTAT DE BARCELONA. SENYAL D'ALUMINI DE DOBLE PESTANYA HI, NIVELL II DE 2 MM DE GRUIX, DE DIMENSIONS 60X30 CM SEGONS NORMES. INCLÒS ELEMENTS DE SUSTENTACIÓ I FIXACIÓ. | E95: 86.22
B96: S-004 | C96: UT | D96: SUBMINISTRAMENT DE SENYAL DE "CONTROL FOTOGRÀFIC" B-55a SEGONS MANUAL DE SENYALITZACIÓ URBANA I PLEC DE SENYALITZACIÓ PER A LA CIUTAT DE BARCELONA. SENYAL D'ALUMINI DE DOBLE PESTANYA HI, NIVELL II DE 2 MM DE GRUIX, DE DIÀMETRE 60 CM SEGONS NORMES. INCLÒS ELEMENTS DE SUSTENTACIÓ I FIXACIÓ. | E96: 107.23
B97: S-005 | C97: UT | D97: SUBMINISTRAMENT DE SENYAL DE "EXCEPTE AUTORITZATS" B-40 SEGONS MANUAL DE SENYALITZACIÓ URBANA I PLEC DE SENYALITZACIÓ PER A LA CIUTAT DE BARCELONA. SENYAL D'ALUMINI DE DOBLE PESTANYA HI, NIVELL II DE 2 MM DE GRUIX, DE DMENSIONS 80 X 120 CM SEGONS NORMES. INCLÒS ELEMENTS DE SUSTENTACIÓ I FIXACIÓ. | E97: 107.23
B98: S-006 | C98: UT | D98: SUBMINISTRAMENT DE SENYAL DE "CONTROL D'ACCÉS A ZONA DE VIANANTS", D'ACORD A LES INDICACIONS DEL DISTRICTE. SEGONS MANUAL DE SENYALITZACIÓ URBANA I PLEC DE SENYALITZACIÓ PER A LA CIUTAT DE BARCELONA. SENYAL D'ALUMINI DE DOBLE PESTANYA HI, NIVELL II DE 2 MM DE GRUIX. INCLÒS ELEMENTS DE SUSTENTACIÓ I FIXACIÓ. | E98: 149.24
B99: S-007 | C99: UT | D99: INSTAL·LACIÓ DE SENYAL VERTICAL. | E99: 38.95
B100: S-008 | C100: UT | D100: SUBMINISTRAMENT DE SUPORT D'ALUMINI ESTRIAT DE DIAMETRE 60 MM, 4MM ESPESSOR, PINTAT AMB PINTURA DE POLIESTER RAL 7037, ALÇADA LLIURE DE 2,60M RESPECTE DEL TERRE, PER SUPORTACIÓ DE SENYALITZACIÓ VERTICAL, SEGONS NORMATIVA AJUNTAMENT. | E100: 88.5
B101: S-009 | C101: UT | D101: SUBMINISTRAMENT DE SUPORT METÀL·LIC FINS A 4M PER SUPORTACIÓ DE SENYALITZACIÓ VERTICAL, SEGONS NORMATIVA AJUNTAMENT. | E101: 140.84
B102: S-010 | C102: UT | D102: INSTAL·LACIÓ DE SUPORT METÀL·LIC FINS A 2,6M PER SUPORTACIÓ DE SENYALITZACIÓ VERTICAL, SEGONS NORMATIVA AJUNTAMENT, INCLOSOS TREBALLS D'OBRA CIVIL NECESSARIS. | E102: 40.3
B103: S-011 | C103: UT | D103: INSTAL·LACIÓ DE SUPORT METÀL·LIC FINS A 4M PER SUPORTACIÓ DE SENYALITZACIÓ VERTICAL, SEGONS NORMATIVA AJUNTAMENT, INCLOSOS TREBALLS D'OBRA CIVIL NECESSARIS. | E103: 92.24
B105: COMUNICACIONS
B106: FO-01 | C106: ML | D106: SUBMINISTRAMENT I INSTAL∙LACIÓ DE CABLE DE 8 FO MONOMODE B1.1, SEGONS EN 186000. ARMAT. AMB PROTECCIÓ D'ARAMIDA, ARMADURA METÀL∙LICA I COBERTA EXTERIOR DE POLIETILÈ. | E106: 2.26
B107: FO-02 | C107: ML | D107: SUBMINISTRAMENT I INSTAL∙LACIÓ DE CABLE DE 16 FO MONOMODE B1.1, SEGONS EN 186000. ARMAT. AMB PROTECCIÓ D'ARAMIDA, ARMADURA METÀL∙LICA I COBERTA EXTERIOR DE POLIETILÈ. | E107: 2.51
B108: FO-03 | C108: ML | D108: SUBMINISTRAMENT I INSTAL∙LACIÓ DE CABLE DE 24 FO MONOMODE B1.1, SEGONS EN 186000. ARMAT. AMB PROTECCIÓ D'ARAMIDA, ARMADURA METÀL∙LICA I COBERTA EXTERIOR DE POLIETILÈ. | E108: 2.74
B109: FO-04 | C109: ML | D109: SUBMINISTRAMENT I INSTAL∙LACIÓ DE CABLE DE 48 FO MONOMODE B1.1, SEGONS EN 186000. ARMAT. AMB PROTECCIÓ D'ARAMIDA, ARMADURA METÀL∙LICA I COBERTA EXTERIOR DE POLIETILÈ. | E109: 2.84
B110: FO-05 | C110: ML | D110: SUBMINISTRAMENT I INSTAL∙LACIÓ DE CABLE DE 96 FO MONOMODE B1.1, SEGONS EN 186000. ARMAT. AMB PROTECCIÓ D'ARAMIDA, ARMADURA METÀL∙LICA I COBERTA EXTERIOR DE POLIETILÈ. | E110: 3.17
B111: FO-06 | C111: UT | D111: SUBMINISTRAMENT I INSTAL·LACIÓ DE FUETÓ DE FO MONOMODE FINS A 2 m, INCLÚS CONNECTORS. SEGONS ESPECIFICACIONS AJUNTAMENT. | E111: 19.04
B112: FO-07 | C112: ML | D112: SUBMINISTRAMENT I INSTAL·LACIÓ DE CABLATGE ESTRUCTURAT UTP CAT 6A PER EXTERIORS, INCLÚS CONNECTORS I CERTIFICACIÓ DEL PUNTS. | E112: 1.82
B113: FO-08 | C113: UD | D113: CAIXES D'EMPIULAMAMENT. SUBMINISTRAMENT I INSTAL.LACIÓ DE CAIXA D'EMPALMAMENT (TORPEDO) AMB SAFATES PER 128 FIBRES ÒPTIQUES (NO INCLOU EMPALMAMENTS). INCLOU TOTA LA PREPARACIÓ DE LA CAIXA I LLUR INSTAL·LACIÓ AMB TOTS ELS ACCESSORIS NECESSARIS. | E113: 391.4
B114: FO-09 | C114: UT | D114: SUBMINISTRAMENT I INSTAL·LACIÓ DE CAIXA REPARTIDORA ÒPTICA OTB-24. SEGONS ESPECIFICACIONS AJUNTAMENT. | E114: 302.94
B115: FO-10 | C115: UD | D115: FUSIÓ DE FO. UNITAT DE CONNECTORITZACIÓ DE FIBRA ÒPTICA PER ARC DE FUSIÓ, INCLOU P/P TREBALLS AUXILIARS, MATERIALS (TERMORETRÀCTILS, ETC..). NOMÉS S'ADMITIRAN PÈRDUES IGUALS O INFERIORS A 0,05dB. | E115: 16.46
B116: FO-11 | C116: UT | D116: FUSIÓ EN RECTE DE 1 FO MONOMODE. INCLOU PIG·TAIL, CONNECTORS I ADAPTADORS, AIXÍ COM LES MESURES DE RETROESPARCIMENT I POTÈNCIA. SEGONS ESPECIFICACIONS AJUTAMENT. | E116: 56.26
B117: FO-12 | C117: UD | D117: PREPARACIÓ DE CABLE PER A SEGREGACIÓ DE 64 FF.OO, INCLOU MATERIAL. | E117: 132.87
... B128: FO-23 | C128: PAJ | D128: TREBALLS CELLNEX PDC-2: MAGDALENES, INCLOU CONNEXIÓ I INTEGRACIÓ A LA XARXA ACTIVA, TREBALLS DE FO I TREBALLS D'ENGINYERIA, DESPLEGAMENT, DOCUMENTACIÓ I PRL. | E128: 3098.94
B129: FO-24 | C129: PAJ | D129: TREBALLS CELLNEX PDC-3: JAUME I, INCLOU CONNEXIÓ I INTEGRACIÓ A LA XARXA ACTIVA, TREBALLS DE FO I TREBALLS D'ENGINYERIA, DESPLEGAMENT, DOCUMENTACIÓ I PRL. | E129: =3052.48+333.34 -> 3385.82
B130: FO-25 | C130: PAJ | D130: TREBALLS INTEGRACIÓ EN PDC EXISTENT PDC-4: FUSTERIA, ASSIGNACIÓ D'IPS ADICIONALS, A UN PDC EXISTENT, INTEGRACIÓ A LA XARXA I ALTA I BASES DE DADES DE L'AJUNTAMENT. | E130: 1079.17
B131: FO-26 | C131: PAJ | D131: TREBALLS CELLNEX PDC-05 LLUÍS EL PIADÓS. INCLOU CONNEXIÓ I INTEGRACIÓ A LA XARXA ACTIVA, TREBALLS DE FO I TREBALLS D'ENGINYERIA, DESPLEGAMENT, DOCUMENTACIÓ I PRL. | E131: 3155.14
B132: FO-27 | C132: PAJ | D132: TREBALLS CELLNEX PDC-06 PLACETA COMERÇ, INCLOU CONNEXIÓ I INTEGRACIÓ A LA XARXA ACTIVA, TREBALLS DE FO I TREBALLS D'ENGINYERIA, DESPLEGAMENT, DOCUMENTACIÓ I PRL. | E132: 3228.55
B133: FO-28 | C133: PAJ | D133: TREBALLS CELLNEX PDC-07 PRINCESA, INCLOU CONNEXIÓ I INTEGRACIÓ A LA XARXA ACTIVA, TREBALLS DE FO I TREBALLS D'ENGINYERIA, DESPLEGAMENT, DOCUMENTACIÓ I PRL. | E133: 2340.91
B134: FO-29 | C134: PAJ | D134: TREBALLS CELLNEX PDC-08 ANTIC SANT JOAN, INCLOU CONNEXIÓ I INTEGRACIÓ A LA XARXA ACTIVA, TREBALLS DE FO I TREBALLS D'ENGINYERIA, DESPLEGAMENT, DOCUMENTACIÓ I PRL. | E134: 3579.98
B135: FO-30 | C135: PAJ | D135: TREBALLS CELLNEX PDC-09 PLA DE PALAU, INCLOU CONNEXIÓ I INTEGRACIÓ A LA XARXA ACTIVA, TREBALLS DE FO I TREBALLS D'ENGINYERIA, DESPLEGAMENT, DOCUMENTACIÓ I PRL. | E135: 4634.26
B137: PLATAFORMA GESTIÓ I CONTROL
B138: P-001 | C138: UT | D138: INTEGRACIÓ, CONFIGURACIÓ I DONAR D'ALTA ELS NOUS PUNTS DE CONTROL A LA PLATAFORMA DE VISIÓ ARTIFICIAL DE MOBILITAT DE L'AJUNTAMENT DE BARCELONA. INCLOU DONAR D'ALTA TOT L'EQUIPAMENT NOU, ACCÉS AL SISTEMA, INCLOURE ELS NOUS EQUIPAMENTS AL MTO (MITJÀ TÈCNIC OPERATIU), MODIFICACIONS DE BASES DE DADES, INFORMES, … I QUALSEVOL ALTRA FEINA NECESSÀRIA FINS LA TOTAL IMPLEMENTACIÓ I POSADA EN FUNCIONAMENT, INCLOSES TOTES LES PROVES NECESSÀRIES I PERTINENTS, TANT EN ENTORN DE PREPRODUCCIÓ COM POSTERIOR EN PRODUCCIÓ. | E138: 5600
B139: P-002 | C139: UT | D139: IMPLEMENTACIÓ DE LA FUNCIONALITAT D'EMMASCARAMENT DE MATRÍCULES, EN LA PRÒPIA CÀMERA DE LECTURA DE MATRÍCULES, EXCEPTE LA MATRÍCULA INFRACTORA O PRINCIPAL, PER LES CÀMERES QUE S'AFEGEIXIN A LA PLATAFORMA. PREU PER CÀMERA. | E139: 71.43
B140: P-003 | C140: UT | D140: IMPLEMENTACIÓ DE LA FUNCIONALITAT D'EMMASCARAMENT DE CARES DE PERSONES, EN EL PROCESSADOR PC DEL PUNT DE CONTROL, PER LES CÀMERES QUE S'AFEGEIXIN A LA PLATAFORMA. PREU PER PUNT DE CONTROL. | E140: 138.66
B141: P-004 | C141: UT | D141: ADAPTACIÓ I MODIFICACIONS MÒDUL PLATAFORMA PER INTERGRACIÓ LLISTA EXCEPCIONS DEL SISTEMA DE CONTROL D'ACCÉS. | E141: 6302.52
B142: P-005 | C142: UT | D142: ADAPTACIÓ I MODIFICACIONS MÒDUL PLATAFORMA PER INTEGRAR LES DADES DE LES CÀMERES DE CONTROL D'ACCÉS PER UTILITZAR-LES COM DADES DE CÀMERES DE ZONA DE BAIXES EMISSIONS. PREU PER PUNT DE CONTROL. | E142: 3781.51
B143: P-006 | C143: UT | D143: INTEGRACIÓ DE CÀMARA DE LM DE CONTROL D'ACCESSOS EN UN PUNT DE CONTROL EXISTENT DE ZBE. INCLOU DESENVOLUPAMENT PER APLICACIÓ DE POLITIQUES D'ACCÉS, CALENDARIS, HORARIS,… | E143: 1900
B144: P-007 | C144: H | D144: CAP DE PROJECTE DESENVOLUPAMENT PLATAFORMA INFORMÀTICA. | E144: 46.22
B145: P-008 | C145: H | D145: TÈCNIC ESPECIALISTA PROGRAMADOR INFORMÀTIC. | E145: 35.29
B146: P-009 | C146: PAJ | D146: ACTUALITZACIÓ DEL CERTIFICAT VOLUNTARI DE LA PLATAFORMA DE VISIÓ ARTIFICIAL DE MOBILITAT DE L'AJUNTAMENT DE BARCELONA, AMB VALIDACIÓ AUTOMÀTICA, PER INCLOURE ELS NOUS DISPOSITIUS DE CONTROL D'ACCÉS. TREBALLS A REALITZAR PER ENTITAT CERTIFICADORA ACREDITADA I HOMOLOGADA. | E146: 12605.04
B147: P-010 | C147: UT | D147: CERTIFICACIÓ VOLUNTARIA A CÀRREC D'UNA ENAC (Entidad Nacional de Acreditación) QUE ACREDITI LA FIABILITAT DE LECTURA I DE DETECCIÓ DE LA CÀMERA DE LECTURA DE MATRÍCULES EN CONDICIONS REALS DE FUNCIONAMENT. PREU PER CÀMERA LM. | E147: 1187
B148: P-011 | C148: UT | D148: TREBALLS DE PARAMETRITZACIÓ I CONFIGURACIÓ DELS VIDEOS DE LES CÀMERES DE LES LPR. INCLOU TOTES LES FEINES NECESSARIES (SISTEMA DE GRAVACIÓ I ENVIAMENT, RECOPILACIÓ DE DADES, REVISIÓ PREVIA) PER ENTREGAR ELS VIDEOS A L'ENTITAT CERTIFICADORA I PODER REALITZAR LA CERTIFICACIÓ DE FIABILITAT DE LES CÀMERES. | E148: 6718
B150: CONFIGURACIÓ, PROVES, POSADA EN OPERACIÓ, FORMACIÓ I DOCUMENTACIÓ
B151: V-001 | C151: UT | D151: CONFIGURACIONS, PROVES I POSADA EN EXPLOTACIÓ DE TOTS ELS EQUIPAMENTS I SISTEMES INSTAL·LATS. INCLOU TOTES LES GESTIONS AMB TOTES LES ÀREES, DEPARTAMENTS I EMPRESES IMPLICADES. | E151: 2941.18
B152: V-002 | C152: PA | D152: PARTIDA ALÇADA DE COBRAMENT ÍNTEGRA PER LES FEINES D'ENGINYERIA I GESTIÓ D'OBRA, PREPARACIO DE DOCUMENTACIÓ I TRAMITACIÓ DE PERMISSOS, ELABORACIÓ DE MANUALS D'USUARI, INSTAL·LACIÓ I EXPLOTACIÓ, DE DOCUMENTACIÓ TÈCNICA (PRÈVIA, DURANT PROCÉS I FINAL), ACTUALITZACIÓ I GESTIÓ D'INVENTARIS DEL DEPARTAMENT D'ESPAI URBÀ I DE DOCUMENTACIÓ FINAL D'OBRA. | E152: 7521.01
B154: AJUTS I VARIS
B155: AJ-001 | C155: PAJ | D155: PARTIDA ALÇADA A JUSTIFICAR PER AJUTS DE PALETA I SIMILARS, EN LES FEINES NECESSÀRIES PER A LA CORRECTE INSTAL∙LACIÓ DELS DIFERENTS EQUIPAMENTS (PER MUNTATGE DE QUADRES ELÈCTRICS I EQUIPAMENTS VARIS, DE CONDUCTES I ESTESA DE CABLEJATS (PETITES ORNAMENTACIONS, TREPANTS PASSAMURS, TAPAT DE FORATS I ACABATS GENERALS, …) | E155: 6470.59
B156: AJ-002 | C156: PAJ | D156: PARTIDA ALÇADA D'IMPREVISTS A JUSTIFICAR EN REFERÈNCIA A LES INSTAL∙LACIONS (INTERFERÈNCIA AMB SERVEIS AFECTATS, EXCÉS D'AMIDAMENTS, ETC). | E156: 3781.51
B157: AJ-003 | C157: PAJ | D157: DESPESES ACEFAT. TRAMITACIÓ I GESTIÓ DE PERMISOS EGIOS PROMOTORS MUNICIPALS PER A CONSTRUCCIÓ DE RAMALS, CANALITZACIONS, AVARIES, RAMALS ESPECIALS I PRÒRROGUES NO IMPUTABLES A L'ADJUDICATARI. INCLOU GESTIÓ, PETICIÓ DE SERVEIS AFECTATS FINS A 12HA I VISITA QUALITAT URBANA | E157: 1848.74
B159: MANTENIMENTS
B160: 105A0010M | C160: UT | D160: MANTENIMENT CORRECTIU DE CÀMERA COMPACTA CHRONOS ECO DUO. INCLOU EN UNA MATEIXA CABINA L'IL·LUMINADOR, LA CÀMERA LPR AMB CPU I LLICÈNCIA LPR I UNA CÀMERA COLOR DE CONTEXT. | E160: 4.32
B161: 105A0020M | C161: UT | D161: MANTENIMENT CORRECTIU DE PC INDUSTRIAL AXIOMTEK (i7 2.9GHz / DDR4 8GB / 125GB SSD / 2TB SATA3). | E161: 2.88
B162: 105A0030M | C162: UT | D162: MANTENIMENT CORRECTIU D'ARMARI EXTERIOR M1 CERTIFICAT PER EQUIPAMENT DE CONTROL, AMB PROTECCIONS, ALIMENTACIÓ, SAI, EQUIPS DE COMUNICACIÓ I SISTEMA DE TANCAMENT. | E162: 0.68
...

Sheet PdC-01
B2: =_xlfn.CONCAT('Resum Amid.Ppals'!A9," ",'Resum Amid.Ppals'!B9) -> PdC-01 Av. Portal de l'Àngel
B4: CODI | C4: U.M | D4: CONCEPTE/DENOMINACIO | E4: AMID. | F4: P.U.PEM | H4: PREU TOTAL
B7: =PU!B5 -> EQUIPAMENT PUNT DE CONTROL
B8: E‐001 | C8: =VLOOKUP($B8,PU!$B$3:$E$175,2,FALSE) -> UT | D8: =VLOOKUP($B8,PU!$B$3:$E$175,3,FALSE) -> SUBMINISTRAMENT D'EQUIP COMPACTE DE RECONEIXEMENT DE MATRÍCULES, FORMAT PER CONJUNT DE CÀMERA LPR 2 CARRILS HD, CÀMERA DE CONTEXT A COLOR, IL∙LUMINADOR IR PER A ZONA D’INFRACCIONS I SISTEMA PROCÉS I EMMAGATZEMATGE SSD 60 GB. INCLOU LLICÈNCIA OCR, CARCASSA, BRAÇ I ADAPTACIÓ A SUPORT. | E8: 1 | F8: =VLOOKUP($B8,PU!$B$3:$E$175,4,FALSE) -> 6405.04 | H8: =ROUND($E8*F8,2) -> 6405.04
B9: E‐002 | C9: =VLOOKUP($B9,PU!$B$3:$E$175,2,FALSE) -> UT | D9: =VLOOKUP($B9,PU!$B$3:$E$175,3,FALSE) -> INSTAL∙LACIÓ D'EQUIP COMPACTE DE RECONEIXEMENT DE MATRÍCULES, FORMAT PER CONJUNT DE CÀMERA LPR 2 CARRILS HD, CÀMERA DE CONTEXT A COLOR, IL∙LUMINADOR IR PER A ZONA D’INFRACCIONS I SISTEMA PROCÉS I EMMAGATZEMATGE SSD 60 GB. INCLOU LICÈNCIA OCR, CARCASSA, BRAÇ I ADAPTACIÓ A SUPORT. | E9: 1 | F9: =VLOOKUP($B9,PU!$B$3:$E$175,4,FALSE) -> 307.27 | H9: =ROUND($E9*F9,2) -> 307.27
B10: E‐003 | C10: =VLOOKUP($B10,PU!$B$3:$E$175,2,FALSE) -> UT | D10: =VLOOKUP($B10,PU!$B$3:$E$175,3,FALSE) -> SUBMINISTRAMENT D'UNITAT DE PROCÉS PEL PUNT DE CONTROL, CONSISTENT EN UN PC DE TIPUS INDUSTRIAL, RUGORITZAT, AMB PROCESSADOR I7, CPU QUAD CORE, BIOS, SISTEMA OPERATIU, WATCHDOG, ALIMENTACIÓ 9‐48V, CAPACITAT EMMAGATZEMATGE 2 TB | E10: 1 | F10: =VLOOKUP($B10,PU!$B$3:$E$175,4,FALSE) -> 930.46 | H10: =ROUND($E10*F10,2) -> 930.46
B11: E‐004 | C11: =VLOOKUP($B11,PU!$B$3:$E$175,2,FALSE) -> UT | D11: =VLOOKUP($B11,PU!$B$3:$E$175,3,FALSE) -> INSTAL∙LACIÓ, CONFIGURACIÓ I POSADA EN FUNCIONAMENT, D'UNITAT DE PROCÉS PEL PUNT DE CONTROL EN ARMARI PDC. | E11: 1 | F11: =VLOOKUP($B11,PU!$B$3:$E$175,4,FALSE) -> 160.12 | H11: =ROUND($E11*F11,2) -> 160.12
B12: E‐005 | C12: =VLOOKUP($B12,PU!$B$3:$E$175,2,FALSE) -> UT | D12: =VLOOKUP($B12,PU!$B$3:$E$175,3,FALSE) -> SUBMINISTRAMENT DE FONT D'ALIMENTACIÓ TIPUS INDUSTRIAL, PER MUNTATGE EN CARRIL DIN, PER ALIMENTAR FINS A 4 CÀMERES PUNT DE CONTROL. | E12: 1 | F12: =VLOOKUP($B12,PU!$B$3:$E$175,4,FALSE) -> 138.48 | H12: =ROUND($E12*F12,2) -> 138.48
B13: E‐006 | C13: =VLOOKUP($B13,PU!$B$3:$E$175,2,FALSE) -> UT | D13: =VLOOKUP($B13,PU!$B$3:$E$175,3,FALSE) -> INSTAL∙LACIÓ DE FONT D'ALIMENTACIÓ TIPUS INDUSTRIAL, PER MUNTATGE EN CARRIL DIN, PER ALIMENTAR FINS A 4 CÀMERES PUNT DE CONTROL. | E13: 1 | F13: =VLOOKUP($B13,PU!$B$3:$E$175,4,FALSE) -> 30.29 | H13: =ROUND($E13*F13,2) -> 30.29
B14: E‐007 | C14: =VLOOKUP($B14,PU!$B$3:$E$175,2,FALSE) -> UT | D14: =VLOOKUP($B14,PU!$B$3:$E$175,3,FALSE) -> SUBMINISTRAMENT DE FONT D'ALIMENTACIÓ TIPUS INDUSTRIAL, PER MUNTATGE EN CARRIL DIN, PER ALIMENTAR UNITAT DE PROCÈS (PC) | E14: 1 | F14: =VLOOKUP($B14,PU!$B$3:$E$175,4,FALSE) -> 46.74 | H14: =ROUND($E14*F14,2) -> 46.74
B15: E‐008 | C15: =VLOOKUP($B15,PU!$B$3:$E$175,2,FALSE) -> UT | D15: =VLOOKUP($B15,PU!$B$3:$E$175,3,FALSE) -> INSTAL·LACIÓ DE FONT D'ALIMENTACIÓ TIPUS INDUSTRIAL, PER MUNTATGE EN CARRIL DIN, PER ALIMENTAR UNITAT DE PROCÈS (PC) | E15: 1 | F15: =VLOOKUP($B15,PU!$B$3:$E$175,4,FALSE) -> 12.12 | H15: =ROUND($E15*F15,2) -> 12.12
B16: E‐013 | C16: =VLOOKUP($B16,PU!$B$3:$E$175,2,FALSE) -> UT | D16: =VLOOKUP($B16,PU!$B$3:$E$175,3,FALSE) -> SUBMINISTRAMENT DE SAI PUNT DE CONTROL LECTURA DE MATRÍCULES, 1000 / 1000VA ‐ AP160N‐1K, FORMAT RACK 19", DE 1000VA / 900W, MONOFÀSIC AMB 3 BATERIES 12V/7,2 AH. | E16: 1 | F16: =VLOOKUP($B16,PU!$B$3:$E$175,4,FALSE) -> 392.09 | H16: =ROUND($E16*F16,2) -> 392.09
B17: E‐014 | C17: =VLOOKUP($B17,PU!$B$3:$E$175,2,FALSE) -> UT | D17: =VLOOKUP($B17,PU!$B$3:$E$175,3,FALSE) -> INSTAL∙LACIÓ DE SAI PUNT DE CONTROL LECTURA DE MATRÍCULES, 1000 / 1000VA ‐ AP160N‐1K, FORMAT RACK 19", DE 1000VA / 900W, MONOFÀSIC AMB 3 BATERIES 12V/7,2 AH. INSTAL∙LACIÓ, CONNEXIÓ I POSADA EN MARXA, INCLOU PETIT MATERIAL INSTAL∙LACIÓ, CABLEJAT I CONNEXIÓ I QUALSEVOL ALTRE NECESSARI PEL CORRECTE FUNCIONAMENT. | E17: 1 | F17: =VLOOKUP($B17,PU!$B$3:$E$175,4,FALSE) -> 30.29 | H17: =ROUND($E17*F17,2) -> 30.29
B18: E‐015 | C18: =VLOOKUP($B18,PU!$B$3:$E$175,2,FALSE) -> UT | D18: =VLOOKUP($B18,PU!$B$3:$E$175,3,FALSE) -> SUBMINISTRAMENT DE MÒDUL SNMP DE COMUNICACIONS PER SAI. INCLOU PETIT MATERIAL, CABLEJAT I QUALSEVOL ALTRE NECESSARI PEL CORRECTE FUNCIONAMENT. | E18: 1 | F18: =VLOOKUP($B18,PU!$B$3:$E$175,4,FALSE) -> 188.04 | H18: =ROUND($E18*F18,2) -> 188.04
B19: E‐016 | C19: =VLOOKUP($B19,PU!$B$3:$E$175,2,FALSE) -> UT | D19: =VLOOKUP($B19,PU!$B$3:$E$175,3,FALSE) -> INSTAL∙LACIÓ DE MÒDUL SNMP COMUNICACIONS PER SAI, CONNEXIÓ I POSADA EN MARXA. INCLOU PETIT MATERIAL INSTAL∙LACIÓ, CABLEJAT I CONNEXIÓ I QUALSEVOL ALTRE NECESSARI PEL CORRECTE FUNCIONAMENT. | E19: 1 | F19: =VLOOKUP($B19,PU!$B$3:$E$175,4,FALSE) -> 5.19 | H19: =ROUND($E19*F19,2) -> 5.19
... B26: E‐034 | C26: =VLOOKUP($B26,PU!$B$3:$E$175,2,FALSE) -> UT | D26: =VLOOKUP($B26,PU!$B$3:$E$175,3,FALSE) -> PRECINTAT DE CÀMERES I DEL PC DE CONTROL DEL PUNT DE CONTROL. INCLOU TOTS ELS MATERIALS (PRECINTES), MITJANS I RECURSOS NECESSARIS. PREU PER PUNT DE CONTROL. | E26: 1 | F26: =VLOOKUP($B26,PU!$B$3:$E$175,4,FALSE) -> 259.66 | H26: =ROUND($E26*F26,2) -> 259.66
B27: Subtotal PdC | H27: =SUM(H8:H26) -> 11328.45
B29: =PU!B41 -> OBRA CIVIL
B30: O-001 | C30: =VLOOKUP($B30,PU!$B$3:$E$175,2,FALSE) -> UT | D30: =VLOOKUP($B30,PU!$B$3:$E$175,3,FALSE) -> FONAMENT DE FORMIGÓ PREFABRICAT PER A ARMARI REGULADOR AMB DOSIFICACIÓ DE 250 KG/m3 I ENCOFRAT CARA VISTA DE DIMENSIONS APROXIMADES 53 x 32,5 x 35 cm. AMB UN ENCASTAMENT DE 15 cm. I DOS FORATS DE 110 mm. DE DIÀMETRE. TOTALMENT EXECUTAT. | E30: 1 | F30: =VLOOKUP($B30,PU!$B$3:$E$175,4,FALSE) -> 203.4 | H30: =ROUND($E30*F30,2) -> 203.4
B31: O-007 | C31: =VLOOKUP($B31,PU!$B$3:$E$175,2,FALSE) -> UT | D31: =VLOOKUP($B31,PU!$B$3:$E$175,3,FALSE) -> PERICÓ DE 60 x 60 cm. PREFABRICAT DE FORMIGÓ O CONSTRUÏT AMB MAONS GERO I FONS DEL MATEIX MATERIAL REBENT EL MARC I LA TAPA CORRESPONENT, SENSE INCLOURE AQUESTS. INCLOU DEMOLICIÓ PAVIMENT, EXCAVACIÓ I POSTERIOR REPOSICIÓ. TOTALMENT EXECUTAT. | E31: 1 | F31: =VLOOKUP($B31,PU!$B$3:$E$175,4,FALSE) -> 129.83 | H31: =ROUND($E31*F31,2) -> 129.83
B32: O-015 | C32: =VLOOKUP($B32,PU!$B$3:$E$175,2,FALSE) -> UT | D32: =VLOOKUP($B32,PU!$B$3:$E$175,3,FALSE) -> INTERCEPTAR CANALITZACIÓ EXISTENT / EMBOCADURA PERICÓ EXISTENT. | E32: 1 | F32: =VLOOKUP($B32,PU!$B$3:$E$175,4,FALSE) -> 160.12 | H32: =ROUND($E32*F32,2) -> 160.12
B33: O-016 | C33: =VLOOKUP($B33,PU!$B$3:$E$175,2,FALSE) -> ML | D33: =VLOOKUP($B33,PU!$B$3:$E$175,3,FALSE) -> COMPROVACIÓ I MANDRINATGE DE CANALITZACIÓ EXISTENT DEIXANT PASSAT FIL GUIA. | E33: 100 | F33: =VLOOKUP($B33,PU!$B$3:$E$175,4,FALSE) -> 2.16 | H33: =ROUND($E33*F33,2) -> 216
B34: O-018 | C34: =VLOOKUP($B34,PU!$B$3:$E$175,2,FALSE) -> ML | D34: =VLOOKUP($B34,PU!$B$3:$E$175,3,FALSE) -> CANALITZACIÓ EN VORERA INCLOENT SUBMINISTRAMENT I INSTAL∙LACIÓ DE 2 TUBS DE PE ø 110 mm DE DOBLE CAPA, LLIS A L'INTERIOR I CORRUGAT A L'EXTERIOR, INCLÒS EXCAVACIÓ EN RASA DE 40 x 60 cm. DE PROFUNDITAT, BASE I PROTECCIÓ DE FORMIGÓ HM20, EN VORERES DE PANOT INCLÒS LA SEVA REPOSICIÓ. TOTALMENT EXECUTADA D'ACORD AMB LES ORDENANCES MUNICIPALS I INDICACIONS PARTICULARS. | E34: 10 | F34: =VLOOKUP($B34,PU!$B$3:$E$175,4,FALSE) -> 73.57 | H34: =ROUND($E34*F34,2) -> 735.7
B35: O-022 | C35: =VLOOKUP($B35,PU!$B$3:$E$175,2,FALSE) -> ML | D35: =VLOOKUP($B35,PU!$B$3:$E$175,3,FALSE) -> SUPLEMENT PER REALITZACIÓ DE CANALITZACIÓ EN VORERA DE PAVIMENT ESPECIAL, TIPUS GRANIT, LLAMBORDES O SIMILARS | E35: 4 | F35: =VLOOKUP($B35,PU!$B$3:$E$175,4,FALSE) -> 25.97 | H35: =ROUND($E35*F35,2) -> 103.88
B36: O-023 | C36: =VLOOKUP($B36,PU!$B$3:$E$175,2,FALSE) -> ML | D36: =VLOOKUP($B36,PU!$B$3:$E$175,3,FALSE) -> REPARACIÓ TUBULAR EN VORERA, MITJANÇANT EXCAVACIÓ, SUBMINISTRAMENT I COL∙LOCACIÓ TUB DE PE DE DOBLE CAPA, LLIS A L'INTERIOR I CORRUGAT A L'EXTERIOR DEL MATEIX DIÀMETRE QUE L'EXISTENT, MANIGOT D'ACOBLAMENT, PAS DEL CABLE, COL∙LOCACIÓ DE MITJA CANYA, LLIGAT AMB FILFERROS I FORMIGONAT DEL CONJUNT I REPOSICIÓ DE PAVIMENT DE PANOT DE LES MATEIXES CARACTERÍSTIQUES A L'EXISTENT, PER A LLARGADES FINS A 2m. TOTALMENT EXECUTADA. | E36: 2 | F36: =VLOOKUP($B36,PU!$B$3:$E$175,4,FALSE) -> 134.16 | H36: =ROUND($E36*F36,2) -> 268.32
B37: O-025 | C37: =VLOOKUP($B37,PU!$B$3:$E$175,2,FALSE) -> M2 | D37: =VLOOKUP($B37,PU!$B$3:$E$175,3,FALSE) -> REPOSICIÓ DE PAVIMENT TIPUS AGLOMERAT ASFÀLTIC EN CALENT. INCLOU DEMOLICIÓ DE PAVIMENT DE FORMIGÓ, FINS A 30 cm DE GRUIX I POSTERIOR REPOSICIÓ DE PAVIMENT DE MESCLA BITUMINOSA EN CALENT DE 18 cm, AMB CAPA DE RODADURA DE TRÀNSIT DE 3 cm MESCLA BITUMINOSA. D'ACORD A LES CONDICIONS INDICADES PELS SERVEIS TÈCNICS MUNICIPALS. | E37: 0 | F37: =VLOOKUP($B37,PU!$B$3:$E$175,4,FALSE) -> 398.16 | H37: =ROUND($E37*F37,2) -> 0
B38: O-026 | C38: =VLOOKUP($B38,PU!$B$3:$E$175,2,FALSE) -> UT | D38: =VLOOKUP($B38,PU!$B$3:$E$175,3,FALSE) -> SUBMINISTRAMENT PLACA DE PRESA DE TERRA DE 500 x 500 x 3 mm I ACCESSORIS CONNEXIÓ. | E38: 1 | F38: =VLOOKUP($B38,PU!$B$3:$E$175,4,FALSE) -> 30.29 | H38: =ROUND($E38*F38,2) -> 30.29
B39: O-027 | C39: =VLOOKUP($B39,PU!$B$3:$E$175,2,FALSE) -> UT | D39: =VLOOKUP($B39,PU!$B$3:$E$175,3,FALSE) -> INSTAL∙LACIÓ PLACA DE PRESA DE TERRA DE 500 x 500 x 3 mm I ACCESSORIS CONNEXIÓ, EN PERICÓ DE REGISTRE. INCLOSA OBRA CIVIL NECESSÀRIA. | E39: 1 | F39: =VLOOKUP($B39,PU!$B$3:$E$175,4,FALSE) -> 129.83 | H39: =ROUND($E39*F39,2) -> 129.83
B40: O-028 | C40: =VLOOKUP($B40,PU!$B$3:$E$175,2,FALSE) -> UT | D40: =VLOOKUP($B40,PU!$B$3:$E$175,3,FALSE) -> OBTURACIÓ DE TUBULAR AMB CABLES EXISTENTS. | E40: 6 | F40: =VLOOKUP($B40,PU!$B$3:$E$175,4,FALSE) -> 2.6 | H40: =ROUND($E40*F40,2) -> 15.6
B41: O-029 | C41: =VLOOKUP($B41,PU!$B$3:$E$175,2,FALSE) -> M3 | D41: =VLOOKUP($B41,PU!$B$3:$E$175,3,FALSE) -> DEMOLICIÓ DE FORMIGÓ AMB MARTELL TRENCADOR, INCLÒS TALL D'ARMADURES AMB SOPLET, RETIRADA I TRANSPORT DE RESIDUS A DEIXALLERIA. TOTALMENT EXECUTADA. | E41: 1 | F41: =VLOOKUP($B41,PU!$B$3:$E$175,4,FALSE) -> 109.06 | H41: =ROUND($E41*F41,2) -> 109.06
B42: O-030 | C42: =VLOOKUP($B42,PU!$B$3:$E$175,2,FALSE) -> UT | D42: =VLOOKUP($B42,PU!$B$3:$E$175,3,FALSE) -> SENYALITZACIÓ OBRES, ZONES D'ABASSEGAMENT DE MATERIALS, MAQUINÀRIA, TALLS DE CARRIL I SIMILARS, NECESSARIS PER A L'EXECUCIÓ DE L'OBRA CIVIL A FER EN EL PUNT DE CONTROL. INCLOU TRAMITACIÓ PERMISOS I GESTIONS DAVANT ORGANISMES I ADMINISTRACIONS. | E42: 1 | F42: =VLOOKUP($B42,PU!$B$3:$E$175,4,FALSE) -> 389.49 | H42: =ROUND($E42*F42,2) -> 389.49
B43: Subtotal Obra Civil | H43: =SUM(H30:H42) -> 2491.52
B45: =PU!B73 -> INSTAL·LACIÓ ELÈCTRICA
B46: I-001 | C46: =VLOOKUP($B46,PU!$B$3:$E$175,2,FALSE) -> UT | D46: =VLOOKUP($B46,PU!$B$3:$E$175,3,FALSE) -> TREBALLS PER A LA REALITZACIÓ DE L'ALIMENTACIÓ DEL PUNT DE CONTROL, D'ACORD AMB EL QUE INDICA EL PLEC. | E46: 1 | F46: =VLOOKUP($B46,PU!$B$3:$E$175,4,FALSE) -> 164.45 | H46: =ROUND($E46*F46,2) -> 164.45
B47: I-002 | C47: =VLOOKUP($B47,PU!$B$3:$E$175,2,FALSE) -> UT | D47: =VLOOKUP($B47,PU!$B$3:$E$175,3,FALSE) -> SUBMINISTRAMENT D'EQUIPAMENTS ESPECÍFICS PER LA DISTRIBUCIÓ D'ENERGIA DEL PUNT DE CONTROL, CONSISTENTS EN PROTECCIONS ELÈCTRIQUES CONTRA SOBRETENSIONS TRANSITÒRIES (1 UT) I PERMANENTS (1 UT), DIFERENCIALS (FINS A 2 UT), MAGNETOTÈRMICS (FINS A 3 UT) I PRESA DE CORRENT TIPUS SCHUKO (1 UT). | E47: 1 | F47: =VLOOKUP($B47,PU!$B$3:$E$175,4,FALSE) -> 257.93 | H47: =ROUND($E47*F47,2) -> 257.93
B48: I-003 | C48: =VLOOKUP($B48,PU!$B$3:$E$175,2,FALSE) -> UT | D48: =VLOOKUP($B48,PU!$B$3:$E$175,3,FALSE) -> INSTAL·LACIÓ D'EQUIPAMENTS ESPECÍFICS PER LA DISTRIBUCIÓ D'ENERGIA DEL PUNT DE CONTROL. | E48: 1 | F48: =VLOOKUP($B48,PU!$B$3:$E$175,4,FALSE) -> 70.11 | H48: =ROUND($E48*F48,2) -> 70.11
B49: I-004 | C49: =VLOOKUP($B49,PU!$B$3:$E$175,2,FALSE) -> ML | D49: =VLOOKUP($B49,PU!$B$3:$E$175,3,FALSE) -> SUBMINISTRAMENT DE CABLE DE CONDUCTOR DE COURE AMB AÏLLAMENT DE PLÀSTIC, DE SECCIÓ 1x6 mm2 PER PRESES DE TERRA. | E49: 50 | F49: =VLOOKUP($B49,PU!$B$3:$E$175,4,FALSE) -> 0.95 | H49: =ROUND($E49*F49,2) -> 47.5
B50: I-005 | C50: =VLOOKUP($B50,PU!$B$3:$E$175,2,FALSE) -> ML | D50: =VLOOKUP($B50,PU!$B$3:$E$175,3,FALSE) -> INSTAL·LACIÓ DE CABLE DE CONDUCTOR DE COURE AMB AÏLLAMENT DE PLÀSTIC, DE SECCIÓ 1x6 mm2 PER PRESES DE TERRA. | E50: 50 | F50: =VLOOKUP($B50,PU!$B$3:$E$175,4,FALSE) -> 0.78 | H50: =ROUND($E50*F50,2) -> 39
B51: I-006 | C51: =VLOOKUP($B51,PU!$B$3:$E$175,2,FALSE) -> ML | D51: =VLOOKUP($B51,PU!$B$3:$E$175,3,FALSE) -> SUBMINISTRAMENT DE CABLE DE CONDUCTOR DE COURE EPTAFILAR NU, DE SECCIÓ 1x35 mm2. | E51: 5 | F51: =VLOOKUP($B51,PU!$B$3:$E$175,4,FALSE) -> 3.89 | H51: =ROUND($E51*F51,2) -> 19.45
B52: I-007 | C52: =VLOOKUP($B52,PU!$B$3:$E$175,2,FALSE) -> ML | D52: =VLOOKUP($B52,PU!$B$3:$E$175,3,FALSE) -> INSTAL·LACIÓ DE CABLE DE CONDUCTOR DE COURE EPTAFILAR NU, DE SECCIÓ 1x35 mm2. | E52: 5 | F52: =VLOOKUP($B52,PU!$B$3:$E$175,4,FALSE) -> 0.78 | H52: =ROUND($E52*F52,2) -> 3.9
B53: I-008 | C53: =VLOOKUP($B53,PU!$B$3:$E$175,2,FALSE) -> ML | D53: =VLOOKUP($B53,PU!$B$3:$E$175,3,FALSE) -> SUBMINISTRAMENT DE CABLE CONDUCTOR DE COURE RV-K 0,6/1KV DE 3x6 mm2 | E53: 60 | F53: =VLOOKUP($B53,PU!$B$3:$E$175,4,FALSE) -> 2.42 | H53: =ROUND($E53*F53,2) -> 145.2
B54: I-009 | C54: =VLOOKUP($B54,PU!$B$3:$E$175,2,FALSE) -> ML | D54: =VLOOKUP($B54,PU!$B$3:$E$175,3,FALSE) -> INSTAL·LACIÓ DE CABLE CONDUCTOR DE COURE RV-K 0,6/1KV DE 3x6 mm2 | E54: 60 | F54: =VLOOKUP($B54,PU!$B$3:$E$175,4,FALSE) -> 0.78 | H54: =ROUND($E54*F54,2) -> 46.8
B55: I-014 | C55: =VLOOKUP($B55,PU!$B$3:$E$175,2,FALSE) -> UT | D55: =VLOOKUP($B55,PU!$B$3:$E$175,3,FALSE) -> MODIFICACIÓ DE LEGALITZACIÓ EXISTENT DE <15KW PER AFEGIR UNA SORTIDA ADICIONAL PER ALIMENTAR UN ARMARI Y CÀMERES. INCLOU CÀLCULS DE CABLEJAT, RIYSIC, CIE I LA GESTIÓ PER LA FIRMA DE LA DECLARACIÓ RESPONSABLE I LA PRESENTACIÓ A INDUSTRIA. | E55: 1 | F55: =VLOOKUP($B55,PU!$B$3:$E$175,4,FALSE) -> 261.73 | H55: =ROUND($E55*F55,2) -> 261.73
B56: Subtotal instal·lacions elèctriques. | H56: =SUM(H46:H55) -> 1056.07
B58: =PU!B92 -> SENYALITZACIÓ
B59: S-001 | C59: =VLOOKUP($B59,PU!$B$3:$E$175,2,FALSE) -> UT | D59: =VLOOKUP($B59,PU!$B$3:$E$175,3,FALSE) -> SUBMINISTRAMENT DE SENYAL DE "CÀMERA DE TRÀNSIT" B-53a SEGONS MANUAL DE SENYALITZACIÓ URBANA I PLEC DE SENYALITZACIÓ PER A LA CIUTAT DE BARCELONA. SENYAL D'ALUMINI DE DOBLE PESTANYA HI, NIVELL II DE 2 MM DE GRUIX, DE DIÀMETRE 40 o 60cm SEGONS NORMES. INCLÒS ELEMENTS DE SUSTENTACIÓ I FIXACIÓ. | E59: 1 | F59: =VLOOKUP($B59,PU!$B$3:$E$175,4,FALSE) -> 90.42 | H59: =ROUND($E59*F59,2) -> 90.42
B60: S-004 | C60: =VLOOKUP($B60,PU!$B$3:$E$175,2,FALSE) -> UT | D60: =VLOOKUP($B60,PU!$B$3:$E$175,3,FALSE) -> SUBMINISTRAMENT DE SENYAL DE "CONTROL FOTOGRÀFIC" B-55a SEGONS MANUAL DE SENYALITZACIÓ URBANA I PLEC DE SENYALITZACIÓ PER A LA CIUTAT DE BARCELONA. SENYAL D'ALUMINI DE DOBLE PESTANYA HI, NIVELL II DE 2 MM DE GRUIX, DE DIÀMETRE 60 CM SEGONS NORMES. INCLÒS ELEMENTS DE SUSTENTACIÓ I FIXACIÓ. | E60: 1 | F60: =VLOOKUP($B60,PU!$B$3:$E$175,4,FALSE) -> 107.23 | H60: =ROUND($E60*F60,2) -> 107.23
B61: S-007 | C61: =VLOOKUP($B61,PU!$B$3:$E$175,2,FALSE) -> UT | D61: =VLOOKUP($B61,PU!$B$3:$E$175,3,FALSE) -> INSTAL·LACIÓ DE SENYAL VERTICAL. | E61: 2 | F61: =VLOOKUP($B61,PU!$B$3:$E$175,4,FALSE) -> 38.95 | H61: =ROUND($E61*F61,2) -> 77.9
B62: Subtotal Senyalització | H62: =SUM(H59:H61) -> 275.55
B64: =PU!B105 -> COMUNICACIONS
B65: FO-07 | C65: =VLOOKUP($B65,PU!$B$3:$E$175,2,FALSE) -> ML | D65: =VLOOKUP($B65,PU!$B$3:$E$175,3,FALSE) -> SUBMINISTRAMENT I INSTAL·LACIÓ DE CABLATGE ESTRUCTURAT UTP CAT 6A PER EXTERIORS, INCLÚS CONNECTORS I CERTIFICACIÓ DEL PUNTS. | E65: 70 | F65: =VLOOKUP($B65,PU!$B$3:$E$175,4,FALSE) -> 1.82 | H65: =ROUND($E65*F65,2) -> 127.4
B66: FO-14 | C66: =VLOOKUP($B66,PU!$B$3:$E$175,2,FALSE) -> UD | D66: =VLOOKUP($B66,PU!$B$3:$E$175,3,FALSE) -> SUBMINISTRAMENT DE SWITCH DE COMUNICACIONS PER INSTAL·LACIÓ EN ARMARI DE CARRER, HOMOLOGAT PER L'AJUNTAMENT DE BARCELONA - IMI. SWITCH GESTIONABLE AMB 8 PORTS 10/100/1000Base-T + 2 PORTS 100/1000 SFP/RJ45 Combo. INCLOSOS SFP’s DE FIBRA TN-SFP-LX1-SM GIB I SISTEMA DE MUNTATGE EN RACK. | E66: 1 | F66: =VLOOKUP($B66,PU!$B$3:$E$175,4,FALSE) -> 999.71 | H66: =ROUND($E66*F66,2) -> 999.71
B67: FO-15 | C67: =VLOOKUP($B67,PU!$B$3:$E$175,2,FALSE) -> UD | D67: =VLOOKUP($B67,PU!$B$3:$E$175,3,FALSE) -> INSTAL·LACIÓ DE SWITCH DE COMUNICACIONS EN ARMARI DE CARRER, HOMOLOGAT PER L'AJUNTAMENT DE BARCELONA - IMI. | E67: 1 | F67: =VLOOKUP($B67,PU!$B$3:$E$175,4,FALSE) -> 64.92 | H67: =ROUND($E67*F67,2) -> 64.92
B68: FO-22 | C68: =VLOOKUP($B68,PU!$B$3:$E$175,2,FALSE) -> PAJ | D68: =VLOOKUP($B68,PU!$B$3:$E$175,3,FALSE) -> TREBALLS CELLNEX PDC-01: AV. PORTAL DE L'ÀNGEL. INCLOU CONNEXIÓ I INTEGRACIÓ A LA XARXA ACTIVA, TREBALLS DE FO I TREBALLS D'ENGINYERIA, DESPLEGAMENT, DOCUMENTACIÓ I PRL. | E68: 1 | F68: =VLOOKUP($B68,PU!$B$3:$E$175,4,FALSE) -> 3033.06 | H68: =ROUND($E68*F68,2) -> 3033.06
B69: Subtotal Comunicacions | H69: =SUM(H65:H68) -> 4225.09
B70: TOTAL GENERAL | H70: =H27+H43+H56+H62+H69 -> 19376.68
D73: RESUM PRESSUPOST
D74: =B7 -> EQUIPAMENT PUNT DE CONTROL | H74: =H27 -> 11328.45
D75: =B29 -> OBRA CIVIL | H75: =H43 -> 2491.52
D76: =B45 -> INSTAL·LACIÓ ELÈCTRICA | H76: =H56 -> 1056.07
D77: =B58 -> SENYALITZACIÓ | H77: =H62 -> 275.55
D78: =B64 -> COMUNICACIONS | H78: =H69 -> 4225.09
D79: TOTAL PRESSUPOST EXECUCIÓ INSTAL·LACIÓ PdC-01 | H79: =SUM(H74:H78) -> 19376.68

Sheet PdC-02
B2: =_xlfn.CONCAT('Resum Amid.Ppals'!A10," ",'Resum Amid.Ppals'!B10) -> PdC-02 Magdalenes
B4: CODI | C4: U.M | D4: CONCEPTE/DENOMINACIO | E4: AMID. | F4: P.U.PEM | I4: PREU TOTAL
B6: =PU!B5 -> EQUIPAMENT PUNT DE CONTROL
B7: E‐001 | C7: =VLOOKUP($B7,PU!$B$3:$E$175,2,FALSE) -> UT | D7: =VLOOKUP($B7,PU!$B$3:$E$175,3,FALSE) -> SUBMINISTRAMENT D'EQUIP COMPACTE DE RECONEIXEMENT DE MATRÍCULES, FORMAT PER CONJUNT DE CÀMERA LPR 2 CARRILS HD, CÀMERA DE CONTEXT A COLOR, IL∙LUMINADOR IR PER A ZONA D’INFRACCIONS I SISTEMA PROCÉS I EMMAGATZEMATGE SSD 60 GB. INCLOU LLICÈNCIA OCR, CARCASSA, BRAÇ I ADAPTACIÓ A SUPORT. | E7: 1 | F7: =VLOOKUP($B7,PU!$B$3:$E$175,4,FALSE) -> 6405.04 | I7: =ROUND($E7*F7,2) -> 6405.04
B8: E‐002 | C8: =VLOOKUP($B8,PU!$B$3:$E$175,2,FALSE) -> UT | D8: =VLOOKUP($B8,PU!$B$3:$E$175,3,FALSE) -> INSTAL∙LACIÓ D'EQUIP COMPACTE DE RECONEIXEMENT DE MATRÍCULES, FORMAT PER CONJUNT DE CÀMERA LPR 2 CARRILS HD, CÀMERA DE CONTEXT A COLOR, IL∙LUMINADOR IR PER A ZONA D’INFRACCIONS I SISTEMA PROCÉS I EMMAGATZEMATGE SSD 60 GB. INCLOU LICÈNCIA OCR, CARCASSA, BRAÇ I ADAPTACIÓ A SUPORT. | E8: 1 | F8: =VLOOKUP($B8,PU!$B$3:$E$175,4,FALSE) -> 307.27 | I8: =ROUND($E8*F8,2) -> 307.27
B9: E‐003 | C9: =VLOOKUP($B9,PU!$B$3:$E$175,2,FALSE) -> UT | D9: =VLOOKUP($B9,PU!$B$3:$E$175,3,FALSE) -> SUBMINISTRAMENT D'UNITAT DE PROCÉS PEL PUNT DE CONTROL, CONSISTENT EN UN PC DE TIPUS INDUSTRIAL, RUGORITZAT, AMB PROCESSADOR I7, CPU QUAD CORE, BIOS, SISTEMA OPERATIU, WATCHDOG, ALIMENTACIÓ 9‐48V, CAPACITAT EMMAGATZEMATGE 2 TB | E9: 1 | F9: =VLOOKUP($B9,PU!$B$3:$E$175,4,FALSE) -> 930.46 | I9: =ROUND($E9*F9,2) -> 930.46
B10: E‐004 | C10: =VLOOKUP($B10,PU!$B$3:$E$175,2,FALSE) -> UT | D10: =VLOOKUP($B10,PU!$B$3:$E$175,3,FALSE) -> INSTAL∙LACIÓ, CONFIGURACIÓ I POSADA EN FUNCIONAMENT, D'UNITAT DE PROCÉS PEL PUNT DE CONTROL EN ARMARI PDC. | E10: 1 | F10: =VLOOKUP($B10,PU!$B$3:$E$175,4,FALSE) -> 160.12 | I10: =ROUND($E10*F10,2) -> 160.12
B11: E‐005 | C11: =VLOOKUP($B11,PU!$B$3:$E$175,2,FALSE) -> UT | D11: =VLOOKUP($B11,PU!$B$3:$E$175,3,FALSE) -> SUBMINISTRAMENT DE FONT D'ALIMENTACIÓ TIPUS INDUSTRIAL, PER MUNTATGE EN CARRIL DIN, PER ALIMENTAR FINS A 4 CÀMERES PUNT DE CONTROL. | E11: 1 | F11: =VLOOKUP($B11,PU!$B$3:$E$175,4,FALSE) -> 138.48 | I11: =ROUND($E11*F11,2) -> 138.48
B12: E‐006 | C12: =VLOOKUP($B12,PU!$B$3:$E$175,2,FALSE) -> UT | D12: =VLOOKUP($B12,PU!$B$3:$E$175,3,FALSE) -> INSTAL∙LACIÓ DE FONT D'ALIMENTACIÓ TIPUS INDUSTRIAL, PER MUNTATGE EN CARRIL DIN, PER ALIMENTAR FINS A 4 CÀMERES PUNT DE CONTROL. | E12: 1 | F12: =VLOOKUP($B12,PU!$B$3:$E$175,4,FALSE) -> 30.29 | I12: =ROUND($E12*F12,2) -> 30.29
B13: E‐007 | C13: =VLOOKUP($B13,PU!$B$3:$E$175,2,FALSE) -> UT | D13: =VLOOKUP($B13,PU!$B$3:$E$175,3,FALSE) -> SUBMINISTRAMENT DE FONT D'ALIMENTACIÓ TIPUS INDUSTRIAL, PER MUNTATGE EN CARRIL DIN, PER ALIMENTAR UNITAT DE PROCÈS (PC) | E13: 1 | F13: =VLOOKUP($B13,PU!$B$3:$E$175,4,FALSE) -> 46.74 | I13: =ROUND($E13*F13,2) -> 46.74
B14: E‐008 | C14: =VLOOKUP($B14,PU!$B$3:$E$175,2,FALSE) -> UT | D14: =VLOOKUP($B14,PU!$B$3:$E$175,3,FALSE) -> INSTAL·LACIÓ DE FONT D'ALIMENTACIÓ TIPUS INDUSTRIAL, PER MUNTATGE EN CARRIL DIN, PER ALIMENTAR UNITAT DE PROCÈS (PC) | E14: 1 | F14: =VLOOKUP($B14,PU!$B$3:$E$175,4,FALSE) -> 12.12 | I14: =ROUND($E14*F14,2) -> 12.12
B15: E‐013 | C15: =VLOOKUP($B15,PU!$B$3:$E$175,2,FALSE) -> UT | D15: =VLOOKUP($B15,PU!$B$3:$E$175,3,FALSE) -> SUBMINISTRAMENT DE SAI PUNT DE CONTROL LECTURA DE MATRÍCULES, 1000 / 1000VA ‐ AP160N‐1K, FORMAT RACK 19", DE 1000VA / 900W, MONOFÀSIC AMB 3 BATERIES 12V/7,2 AH. | E15: 1 | F15: =VLOOKUP($B15,PU!$B$3:$E$175,4,FALSE) -> 392.09 | I15: =ROUND($E15*F15,2) -> 392.09
B16: E‐014 | C16: =VLOOKUP($B16,PU!$B$3:$E$175,2,FALSE) -> UT | D16: =VLOOKUP($B16,PU!$B$3:$E$175,3,FALSE) -> INSTAL∙LACIÓ DE SAI PUNT DE CONTROL LECTURA DE MATRÍCULES, 1000 / 1000VA ‐ AP160N‐1K, FORMAT RACK 19", DE 1000VA / 900W, MONOFÀSIC AMB 3 BATERIES 12V/7,2 AH. INSTAL∙LACIÓ, CONNEXIÓ I POSADA EN MARXA, INCLOU PETIT MATERIAL INSTAL∙LACIÓ, CABLEJAT I CONNEXIÓ I QUALSEVOL ALTRE NECESSARI PEL CORRECTE FUNCIONAMENT. | E16: 1 | F16: =VLOOKUP($B16,PU!$B$3:$E$175,4,FALSE) -> 30.29 | I16: =ROUND($E16*F16,2) -> 30.29
B17: E‐015 | C17: =VLOOKUP($B17,PU!$B$3:$E$175,2,FALSE) -> UT | D17: =VLOOKUP($B17,PU!$B$3:$E$175,3,FALSE) -> SUBMINISTRAMENT DE MÒDUL SNMP DE COMUNICACIONS PER SAI. INCLOU PETIT MATERIAL, CABLEJAT I QUALSEVOL ALTRE NECESSARI PEL CORRECTE FUNCIONAMENT. | E17: 1 | F17: =VLOOKUP($B17,PU!$B$3:$E$175,4,FALSE) -> 188.04 | I17: =ROUND($E17*F17,2) -> 188.04
B18: E‐016 | C18: =VLOOKUP($B18,PU!$B$3:$E$175,2,FALSE) -> UT | D18: =VLOOKUP($B18,PU!$B$3:$E$175,3,FALSE) -> INSTAL∙LACIÓ DE MÒDUL SNMP COMUNICACIONS PER SAI, CONNEXIÓ I POSADA EN MARXA. INCLOU PETIT MATERIAL INSTAL∙LACIÓ, CABLEJAT I CONNEXIÓ I QUALSEVOL ALTRE NECESSARI PEL CORRECTE FUNCIONAMENT. | E18: 1 | F18: =VLOOKUP($B18,PU!$B$3:$E$175,4,FALSE) -> 5.19 | I18: =ROUND($E18*F18,2) -> 5.19
... B25: E‐034 | C25: =VLOOKUP($B25,PU!$B$3:$E$175,2,FALSE) -> UT | D25: =VLOOKUP($B25,PU!$B$3:$E$175,3,FALSE) -> PRECINTAT DE CÀMERES I DEL PC DE CONTROL DEL PUNT DE CONTROL. INCLOU TOTS ELS MATERIALS (PRECINTES), MITJANS I RECURSOS NECESSARIS. PREU PER PUNT DE CONTROL. | E25: 1 | F25: =VLOOKUP($B25,PU!$B$3:$E$175,4,FALSE) -> 259.66 | I25: =ROUND($E25*F25,2) -> 259.66
B26: Subtotal PdC | I26: =SUM(I7:I25) -> 11328.45
B28: =PU!B41 -> OBRA CIVIL
B29: O-001 | C29: =VLOOKUP($B29,PU!$B$3:$E$175,2,FALSE) -> UT | D29: =VLOOKUP($B29,PU!$B$3:$E$175,3,FALSE) -> FONAMENT DE FORMIGÓ PREFABRICAT PER A ARMARI REGULADOR AMB DOSIFICACIÓ DE 250 KG/m3 I ENCOFRAT CARA VISTA DE DIMENSIONS APROXIMADES 53 x 32,5 x 35 cm. AMB UN ENCASTAMENT DE 15 cm. I DOS FORATS DE 110 mm. DE DIÀMETRE. TOTALMENT EXECUTAT. | E29: 1 | F29: =VLOOKUP($B29,PU!$B$3:$E$175,4,FALSE) -> 203.4 | I29: =ROUND($E29*F29,2) -> 203.4
B30: O-007 | C30: =VLOOKUP($B30,PU!$B$3:$E$175,2,FALSE) -> UT | D30: =VLOOKUP($B30,PU!$B$3:$E$175,3,FALSE) -> PERICÓ DE 60 x 60 cm. PREFABRICAT DE FORMIGÓ O CONSTRUÏT AMB MAONS GERO I FONS DEL MATEIX MATERIAL REBENT EL MARC I LA TAPA CORRESPONENT, SENSE INCLOURE AQUESTS. INCLOU DEMOLICIÓ PAVIMENT, EXCAVACIÓ I POSTERIOR REPOSICIÓ. TOTALMENT EXECUTAT. | E30: 1 | F30: =VLOOKUP($B30,PU!$B$3:$E$175,4,FALSE) -> 129.83 | I30: =ROUND($E30*F30,2) -> 129.83
B31: O-008 | C31: =VLOOKUP($B31,PU!$B$3:$E$175,2,FALSE) -> UT | D31: =VLOOKUP($B31,PU!$B$3:$E$175,3,FALSE) -> SUBMINISTRAMENT MARC DE FERRO FOS DE 60 x 60 cm PER INSTAL·LACIÓ EN VORERA, AMB INSCRIPCIÓ. | E31: 1 | F31: =VLOOKUP($B31,PU!$B$3:$E$175,4,FALSE) -> 34.62 | I31: =ROUND($E31*F31,2) -> 34.62
B32: O-009 | C32: =VLOOKUP($B32,PU!$B$3:$E$175,2,FALSE) -> UT | D32: =VLOOKUP($B32,PU!$B$3:$E$175,3,FALSE) -> SUBMINISTRAMENT TAPA DE FERRO FOS DE 60 x 60 cm PER INSTAL·LACIÓ EN VORERA, AMB INSCRIPCIÓ. | E32: 1 | F32: =VLOOKUP($B32,PU!$B$3:$E$175,4,FALSE) -> 69.25 | I32: =ROUND($E32*F32,2) -> 69.25
B33: O-010 | C33: =VLOOKUP($B33,PU!$B$3:$E$175,2,FALSE) -> UT | D33: =VLOOKUP($B33,PU!$B$3:$E$175,3,FALSE) -> REPARACIÓ D'ESTRUCTURA INTERIOR DE PERICÓ EXISTENT DE 60 x 60 cm, AMB ADEQUACIÓ DE PARETS I LLISCAT. TOTALMENT EXECUTAT. | E33: 2 | F33: =VLOOKUP($B33,PU!$B$3:$E$175,4,FALSE) -> 70.98 | I33: =ROUND($E33*F33,2) -> 141.96
B34: O-015 | C34: =VLOOKUP($B34,PU!$B$3:$E$175,2,FALSE) -> UT | D34: =VLOOKUP($B34,PU!$B$3:$E$175,3,FALSE) -> INTERCEPTAR CANALITZACIÓ EXISTENT / EMBOCADURA PERICÓ EXISTENT. | E34: 2 | F34: =VLOOKUP($B34,PU!$B$3:$E$175,4,FALSE) -> 160.12 | I34: =ROUND($E34*F34,2) -> 320.24
B35: O-016 | C35: =VLOOKUP($B35,PU!$B$3:$E$175,2,FALSE) -> ML | D35: =VLOOKUP($B35,PU!$B$3:$E$175,3,FALSE) -> COMPROVACIÓ I MANDRINATGE DE CANALITZACIÓ EXISTENT DEIXANT PASSAT FIL GUIA. | E35: 60 | F35: =VLOOKUP($B35,PU!$B$3:$E$175,4,FALSE) -> 2.16 | I35: =ROUND($E35*F35,2) -> 129.6
B36: O-018 | C36: =VLOOKUP($B36,PU!$B$3:$E$175,2,FALSE) -> ML | D36: =VLOOKUP($B36,PU!$B$3:$E$175,3,FALSE) -> CANALITZACIÓ EN VORERA INCLOENT SUBMINISTRAMENT I INSTAL∙LACIÓ DE 2 TUBS DE PE ø 110 mm DE DOBLE CAPA, LLIS A L'INTERIOR I CORRUGAT A L'EXTERIOR, INCLÒS EXCAVACIÓ EN RASA DE 40 x 60 cm. DE PROFUNDITAT, BASE I PROTECCIÓ DE FORMIGÓ HM20, EN VORERES DE PANOT INCLÒS LA SEVA REPOSICIÓ. TOTALMENT EXECUTADA D'ACORD AMB LES ORDENANCES MUNICIPALS I INDICACIONS PARTICULARS. | E36: 32 | F36: =VLOOKUP($B36,PU!$B$3:$E$175,4,FALSE) -> 73.57 | I36: =ROUND($E36*F36,2) -> 2354.24
B37: O-022 | C37: =VLOOKUP($B37,PU!$B$3:$E$175,2,FALSE) -> ML | D37: =VLOOKUP($B37,PU!$B$3:$E$175,3,FALSE) -> SUPLEMENT PER REALITZACIÓ DE CANALITZACIÓ EN VORERA DE PAVIMENT ESPECIAL, TIPUS GRANIT, LLAMBORDES O SIMILARS | E37: 35 | F37: =VLOOKUP($B37,PU!$B$3:$E$175,4,FALSE) -> 25.97 | I37: =ROUND($E37*F37,2) -> 908.95
B38: O-023 | C38: =VLOOKUP($B38,PU!$B$3:$E$175,2,FALSE) -> ML | D38: =VLOOKUP($B38,PU!$B$3:$E$175,3,FALSE) -> REPARACIÓ TUBULAR EN VORERA, MITJANÇANT EXCAVACIÓ, SUBMINISTRAMENT I COL∙LOCACIÓ TUB DE PE DE DOBLE CAPA, LLIS A L'INTERIOR I CORRUGAT A L'EXTERIOR DEL MATEIX DIÀMETRE QUE L'EXISTENT, MANIGOT D'ACOBLAMENT, PAS DEL CABLE, COL∙LOCACIÓ DE MITJA CANYA, LLIGAT AMB FILFERROS I FORMIGONAT DEL CONJUNT I REPOSICIÓ DE PAVIMENT DE PANOT DE LES MATEIXES CARACTERÍSTIQUES A L'EXISTENT, PER A LLARGADES FINS A 2m. TOTALMENT EXECUTADA. | E38: 2 | F38: =VLOOKUP($B38,PU!$B$3:$E$175,4,FALSE) -> 134.16 | I38: =ROUND($E38*F38,2) -> 268.32
B39: O-026 | C39: =VLOOKUP($B39,PU!$B$3:$E$175,2,FALSE) -> UT | D39: =VLOOKUP($B39,PU!$B$3:$E$175,3,FALSE) -> SUBMINISTRAMENT PLACA DE PRESA DE TERRA DE 500 x 500 x 3 mm I ACCESSORIS CONNEXIÓ. | E39: 1 | F39: =VLOOKUP($B39,PU!$B$3:$E$175,4,FALSE) -> 30.29 | I39: =ROUND($E39*F39,2) -> 30.29
B40: O-027 | C40: =VLOOKUP($B40,PU!$B$3:$E$175,2,FALSE) -> UT | D40: =VLOOKUP($B40,PU!$B$3:$E$175,3,FALSE) -> INSTAL∙LACIÓ PLACA DE PRESA DE TERRA DE 500 x 500 x 3 mm I ACCESSORIS CONNEXIÓ, EN PERICÓ DE REGISTRE. INCLOSA OBRA CIVIL NECESSÀRIA. | E40: 1 | F40: =VLOOKUP($B40,PU!$B$3:$E$175,4,FALSE) -> 129.83 | I40: =ROUND($E40*F40,2) -> 129.83
... B43: O-030 | C43: =VLOOKUP($B43,PU!$B$3:$E$175,2,FALSE) -> UT | D43: =VLOOKUP($B43,PU!$B$3:$E$175,3,FALSE) -> SENYALITZACIÓ OBRES, ZONES D'ABASSEGAMENT DE MATERIALS, MAQUINÀRIA, TALLS DE CARRIL I SIMILARS, NECESSARIS PER A L'EXECUCIÓ DE L'OBRA CIVIL A FER EN EL PUNT DE CONTROL. INCLOU TRAMITACIÓ PERMISOS I GESTIONS DAVANT ORGANISMES I ADMINISTRACIONS. | E43: 1 | F43: =VLOOKUP($B43,PU!$B$3:$E$175,4,FALSE) -> 389.49 | I43: =ROUND($E43*F43,2) -> 389.49
B44: Subtotal Obra Civil | I44: =SUM(I29:I43) -> 5234.68
B46: =PU!B73 -> INSTAL·LACIÓ ELÈCTRICA
B47: I-001 | C47: =VLOOKUP($B47,PU!$B$3:$E$175,2,FALSE) -> UT | D47: =VLOOKUP($B47,PU!$B$3:$E$175,3,FALSE) -> TREBALLS PER A LA REALITZACIÓ DE L'ALIMENTACIÓ DEL PUNT DE CONTROL, D'ACORD AMB EL QUE INDICA EL PLEC. | E47: 1 | F47: =VLOOKUP($B47,PU!$B$3:$E$175,4,FALSE) -> 164.45 | I47: =ROUND($E47*F47,2) -> 164.45
B48: I-002 | C48: =VLOOKUP($B48,PU!$B$3:$E$175,2,FALSE) -> UT | D48: =VLOOKUP($B48,PU!$B$3:$E$175,3,FALSE) -> SUBMINISTRAMENT D'EQUIPAMENTS ESPECÍFICS PER LA DISTRIBUCIÓ D'ENERGIA DEL PUNT DE CONTROL, CONSISTENTS EN PROTECCIONS ELÈCTRIQUES CONTRA SOBRETENSIONS TRANSITÒRIES (1 UT) I PERMANENTS (1 UT), DIFERENCIALS (FINS A 2 UT), MAGNETOTÈRMICS (FINS A 3 UT) I PRESA DE CORRENT TIPUS SCHUKO (1 UT). | E48: 1 | F48: =VLOOKUP($B48,PU!$B$3:$E$175,4,FALSE) -> 257.93 | I48: =ROUND($E48*F48,2) -> 257.93
B49: I-003 | C49: =VLOOKUP($B49,PU!$B$3:$E$175,2,FALSE) -> UT | D49: =VLOOKUP($B49,PU!$B$3:$E$175,3,FALSE) -> INSTAL·LACIÓ D'EQUIPAMENTS ESPECÍFICS PER LA DISTRIBUCIÓ D'ENERGIA DEL PUNT DE CONTROL. | E49: 1 | F49: =VLOOKUP($B49,PU!$B$3:$E$175,4,FALSE) -> 70.11 | I49: =ROUND($E49*F49,2) -> 70.11
B50: I-004 | C50: =VLOOKUP($B50,PU!$B$3:$E$175,2,FALSE) -> ML | D50: =VLOOKUP($B50,PU!$B$3:$E$175,3,FALSE) -> SUBMINISTRAMENT DE CABLE DE CONDUCTOR DE COURE AMB AÏLLAMENT DE PLÀSTIC, DE SECCIÓ 1x6 mm2 PER PRESES DE TERRA. | E50: 10 | F50: =VLOOKUP($B50,PU!$B$3:$E$175,4,FALSE) -> 0.95 | I50: =ROUND($E50*F50,2) -> 9.5
B51: I-005 | C51: =VLOOKUP($B51,PU!$B$3:$E$175,2,FALSE) -> ML | D51: =VLOOKUP($B51,PU!$B$3:$E$175,3,FALSE) -> INSTAL·LACIÓ DE CABLE DE CONDUCTOR DE COURE AMB AÏLLAMENT DE PLÀSTIC, DE SECCIÓ 1x6 mm2 PER PRESES DE TERRA. | E51: 10 | F51: =VLOOKUP($B51,PU!$B$3:$E$175,4,FALSE) -> 0.78 | I51: =ROUND($E51*F51,2) -> 7.8
B52: I-006 | C52: =VLOOKUP($B52,PU!$B$3:$E$175,2,FALSE) -> ML | D52: =VLOOKUP($B52,PU!$B$3:$E$175,3,FALSE) -> SUBMINISTRAMENT DE CABLE DE CONDUCTOR DE COURE EPTAFILAR NU, DE SECCIÓ 1x35 mm2. | E52: 5 | F52: =VLOOKUP($B52,PU!$B$3:$E$175,4,FALSE) -> 3.89 | I52: =ROUND($E52*F52,2) -> 19.45
B53: I-007 | C53: =VLOOKUP($B53,PU!$B$3:$E$175,2,FALSE) -> ML | D53: =VLOOKUP($B53,PU!$B$3:$E$175,3,FALSE) -> INSTAL·LACIÓ DE CABLE DE CONDUCTOR DE COURE EPTAFILAR NU, DE SECCIÓ 1x35 mm2. | E53: 5 | F53: =VLOOKUP($B53,PU!$B$3:$E$175,4,FALSE) -> 0.78 | I53: =ROUND($E53*F53,2) -> 3.9
B54: I-008 | C54: =VLOOKUP($B54,PU!$B$3:$E$175,2,FALSE) -> ML | D54: =VLOOKUP($B54,PU!$B$3:$E$175,3,FALSE) -> SUBMINISTRAMENT DE CABLE CONDUCTOR DE COURE RV-K 0,6/1KV DE 3x6 mm2 | E54: 10 | F54: =VLOOKUP($B54,PU!$B$3:$E$175,4,FALSE) -> 2.42 | I54: =ROUND($E54*F54,2) -> 24.2
B55: I-009 | C55: =VLOOKUP($B55,PU!$B$3:$E$175,2,FALSE) -> ML | D55: =VLOOKUP($B55,PU!$B$3:$E$175,3,FALSE) -> INSTAL·LACIÓ DE CABLE CONDUCTOR DE COURE RV-K 0,6/1KV DE 3x6 mm2 | E55: 10 | F55: =VLOOKUP($B55,PU!$B$3:$E$175,4,FALSE) -> 0.78 | I55: =ROUND($E55*F55,2) -> 7.8
B56: I-014 | C56: =VLOOKUP($B56,PU!$B$3:$E$175,2,FALSE) -> UT | D56: =VLOOKUP($B56,PU!$B$3:$E$175,3,FALSE) -> MODIFICACIÓ DE LEGALITZACIÓ EXISTENT DE <15KW PER AFEGIR UNA SORTIDA ADICIONAL PER ALIMENTAR UN ARMARI Y CÀMERES. INCLOU CÀLCULS DE CABLEJAT, RIYSIC, CIE I LA GESTIÓ PER LA FIRMA DE LA DECLARACIÓ RESPONSABLE I LA PRESENTACIÓ A INDUSTRIA. | E56: 1 | F56: =VLOOKUP($B56,PU!$B$3:$E$175,4,FALSE) -> 261.73 | I56: =ROUND($E56*F56,2) -> 261.73
B57: Subtotal instal·lacions elèctriques. | I57: =SUM(I47:I56) -> 826.87
B59: =PU!B92 -> SENYALITZACIÓ
B60: S-001 | C60: =VLOOKUP($B60,PU!$B$3:$E$175,2,FALSE) -> UT | D60: =VLOOKUP($B60,PU!$B$3:$E$175,3,FALSE) -> SUBMINISTRAMENT DE SENYAL DE "CÀMERA DE TRÀNSIT" B-53a SEGONS MANUAL DE SENYALITZACIÓ URBANA I PLEC DE SENYALITZACIÓ PER A LA CIUTAT DE BARCELONA. SENYAL D'ALUMINI DE DOBLE PESTANYA HI, NIVELL II DE 2 MM DE GRUIX, DE DIÀMETRE 40 o 60cm SEGONS NORMES. INCLÒS ELEMENTS DE SUSTENTACIÓ I FIXACIÓ. | E60: 1 | F60: =VLOOKUP($B60,PU!$B$3:$E$175,4,FALSE) -> 90.42 | I60: =ROUND($E60*F60,2) -> 90.42
B61: S-004 | C61: =VLOOKUP($B61,PU!$B$3:$E$175,2,FALSE) -> UT | D61: =VLOOKUP($B61,PU!$B$3:$E$175,3,FALSE) -> SUBMINISTRAMENT DE SENYAL DE "CONTROL FOTOGRÀFIC" B-55a SEGONS MANUAL DE SENYALITZACIÓ URBANA I PLEC DE SENYALITZACIÓ PER A LA CIUTAT DE BARCELONA. SENYAL D'ALUMINI DE DOBLE PESTANYA HI, NIVELL II DE 2 MM DE GRUIX, DE DIÀMETRE 60 CM SEGONS NORMES. INCLÒS ELEMENTS DE SUSTENTACIÓ I FIXACIÓ. | E61: 1 | F61: =VLOOKUP($B61,PU!$B$3:$E$175,4,FALSE) -> 107.23 | I61: =ROUND($E61*F61,2) -> 107.23
B62: S-007 | C62: =VLOOKUP($B62,PU!$B$3:$E$175,2,FALSE) -> UT | D62: =VLOOKUP($B62,PU!$B$3:$E$175,3,FALSE) -> INSTAL·LACIÓ DE SENYAL VERTICAL. | E62: 2 | F62: =VLOOKUP($B62,PU!$B$3:$E$175,4,FALSE) -> 38.95 | I62: =ROUND($E62*F62,2) -> 77.9
B63: Subtotal Senyalització | I63: =SUM(I60:I62) -> 275.55
B65: =PU!B105 -> COMUNICACIONS
B66: FO-03 | C66: =VLOOKUP($B66,PU!$B$3:$E$175,2,FALSE) -> ML | D66: =VLOOKUP($B66,PU!$B$3:$E$175,3,FALSE) -> SUBMINISTRAMENT I INSTAL∙LACIÓ DE CABLE DE 24 FO MONOMODE B1.1, SEGONS EN 186000. ARMAT. AMB PROTECCIÓ D'ARAMIDA, ARMADURA METÀL∙LICA I COBERTA EXTERIOR DE POLIETILÈ. | E66: 60 | F66: =VLOOKUP($B66,PU!$B$3:$E$175,4,FALSE) -> 2.74 | I66: =ROUND($E66*F66,2) -> 164.4
B67: FO-06 | C67: =VLOOKUP($B67,PU!$B$3:$E$175,2,FALSE) -> UT | D67: =VLOOKUP($B67,PU!$B$3:$E$175,3,FALSE) -> SUBMINISTRAMENT I INSTAL·LACIÓ DE FUETÓ DE FO MONOMODE FINS A 2 m, INCLÚS CONNECTORS. SEGONS ESPECIFICACIONS AJUNTAMENT. | E67: 2 | F67: =VLOOKUP($B67,PU!$B$3:$E$175,4,FALSE) -> 19.04 | I67: =ROUND($E67*F67,2) -> 38.08
B68: FO-09 | C68: =VLOOKUP($B68,PU!$B$3:$E$175,2,FALSE) -> UT | D68: =VLOOKUP($B68,PU!$B$3:$E$175,3,FALSE) -> SUBMINISTRAMENT I INSTAL·LACIÓ DE CAIXA REPARTIDORA ÒPTICA OTB-24. SEGONS ESPECIFICACIONS AJUNTAMENT. | E68: 1 | F68: =VLOOKUP($B68,PU!$B$3:$E$175,4,FALSE) -> 302.94 | I68: =ROUND($E68*F68,2) -> 302.94
B69: FO-11 | C69: =VLOOKUP($B69,PU!$B$3:$E$175,2,FALSE) -> UT | D69: =VLOOKUP($B69,PU!$B$3:$E$175,3,FALSE) -> FUSIÓ EN RECTE DE 1 FO MONOMODE. INCLOU PIG·TAIL, CONNECTORS I ADAPTADORS, AIXÍ COM LES MESURES DE RETROESPARCIMENT I POTÈNCIA. SEGONS ESPECIFICACIONS AJUTAMENT. | E69: 4 | F69: =VLOOKUP($B69,PU!$B$3:$E$175,4,FALSE) -> 56.26 | I69: =ROUND($E69*F69,2) -> 225.04
B70: FO-14 | C70: =VLOOKUP($B70,PU!$B$3:$E$175,2,FALSE) -> UD | D70: =VLOOKUP($B70,PU!$B$3:$E$175,3,FALSE) -> SUBMINISTRAMENT DE SWITCH DE COMUNICACIONS PER INSTAL·LACIÓ EN ARMARI DE CARRER, HOMOLOGAT PER L'AJUNTAMENT DE BARCELONA - IMI. SWITCH GESTIONABLE AMB 8 PORTS 10/100/1000Base-T + 2 PORTS 100/1000 SFP/RJ45 Combo. INCLOSOS SFP’s DE FIBRA TN-SFP-LX1-SM GIB I SISTEMA DE MUNTATGE EN RACK. | E70: 1 | F70: =VLOOKUP($B70,PU!$B$3:$E$175,4,FALSE) -> 999.71 | I70: =ROUND($E70*F70,2) -> 999.71
B71: FO-15 | C71: =VLOOKUP($B71,PU!$B$3:$E$175,2,FALSE) -> UD | D71: =VLOOKUP($B71,PU!$B$3:$E$175,3,FALSE) -> INSTAL·LACIÓ DE SWITCH DE COMUNICACIONS EN ARMARI DE CARRER, HOMOLOGAT PER L'AJUNTAMENT DE BARCELONA - IMI. | E71: 1 | F71: =VLOOKUP($B71,PU!$B$3:$E$175,4,FALSE) -> 64.92 | I71: =ROUND($E71*F71,2) -> 64.92
B72: FO-21 | C72: =VLOOKUP($B72,PU!$B$3:$E$175,2,FALSE) -> UT | D72: =VLOOKUP($B72,PU!$B$3:$E$175,3,FALSE) -> SUBMINISTRAMENT l INSTAL·LACIÓ DE CANVIADOR DE MEDI TIPUS SFP (FIBRA OPTICA MONOMODE). CONVERTIDOR DE MEDI NECESSARI PER TRANSFORMAR LA SENYAL OPTICA A ELECTRICA FO/ ETHERNET/ 422/ 485/ 422, MODEL RAISECOM L2 DIN·RAIL S1503i-AC O EQUIVALENT, INCLOS EL SFP BIFIBRA LC/PC, AMB 1 PORT 100/1000M BASE-X SFP + 2 PORTS 10/100/1000M BX | E72: 1 | F72: =VLOOKUP($B72,PU!$B$3:$E$175,4,FALSE) -> 478.64 | I72: =ROUND($E72*F72,2) -> 478.64
B73: FO-23 | C73: =VLOOKUP($B73,PU!$B$3:$E$175,2,FALSE) -> PAJ | D73: =VLOOKUP($B73,PU!$B$3:$E$175,3,FALSE) -> TREBALLS CELLNEX PDC-2: MAGDALENES, INCLOU CONNEXIÓ I INTEGRACIÓ A LA XARXA ACTIVA, TREBALLS DE FO I TREBALLS D'ENGINYERIA, DESPLEGAMENT, DOCUMENTACIÓ I PRL. | E73: 1 | F73: =VLOOKUP($B73,PU!$B$3:$E$175,4,FALSE) -> 3098.94 | I73: =ROUND($E73*F73,2) -> 3098.94
B74: Subtotal Comunicacions | I74: =SUM(I66:I73) -> 5372.67
B75: TOTAL GENERAL | I75: =I26+I44+I57+I63+I74 -> 23038.22
D78: RESUM PRESSUPOST
D79: =B6 -> EQUIPAMENT PUNT DE CONTROL | I79: =I26 -> 11328.45
D80: =B28 -> OBRA CIVIL | I80: =I44 -> 5234.68
D81: =B46 -> INSTAL·LACIÓ ELÈCTRICA | I81: =I57 -> 826.87
D82: =B59 -> SENYALITZACIÓ | I82: =I63 -> 275.55
D83: =B65 -> COMUNICACIONS | I83: =I74 -> 5372.67
D84: TOTAL PRESSUPOST EXECUCIÓ INSTAL·LACIÓ PdC-01 | I84: =SUM(I79:I83) -> 23038.22

Sheet PdC-03
B2: =_xlfn.CONCAT('Resum Amid.Ppals'!A11," ",'Resum Amid.Ppals'!B11) -> PdC-03 Jaume I
B4: CODI | C4: U.M | D4: CONCEPTE/DENOMINACIO | E4: AMID. | F4: P.U.PEM | G4: PREU TOTAL
B6: =PU!B5 -> EQUIPAMENT PUNT DE CONTROL
B7: E‐001 | C7: =VLOOKUP($B7,PU!$B$3:$E$175,2,FALSE) -> UT | D7: =VLOOKUP($B7,PU!$B$3:$E$175,3,FALSE) -> SUBMINISTRAMENT D'EQUIP COMPACTE DE RECONEIXEMENT DE MATRÍCULES, FORMAT PER CONJUNT DE CÀMERA LPR 2 CARRILS HD, CÀMERA DE CONTEXT A COLOR, IL∙LUMINADOR IR PER A ZONA D’INFRACCIONS I SISTEMA PROCÉS I EMMAGATZEMATGE SSD 60 GB. INCLOU LLICÈNCIA OCR, CARCASSA, BRAÇ I ADAPTACIÓ A SUPORT. | E7: 1 | F7: =VLOOKUP($B7,PU!$B$3:$E$175,4,FALSE) -> 6405.04 | G7: =ROUND($E7*F7,2) -> 6405.04
B8: E‐002 | C8: =VLOOKUP($B8,PU!$B$3:$E$175,2,FALSE) -> UT | D8: =VLOOKUP($B8,PU!$B$3:$E$175,3,FALSE) -> INSTAL∙LACIÓ D'EQUIP COMPACTE DE RECONEIXEMENT DE MATRÍCULES, FORMAT PER CONJUNT DE CÀMERA LPR 2 CARRILS HD, CÀMERA DE CONTEXT A COLOR, IL∙LUMINADOR IR PER A ZONA D’INFRACCIONS I SISTEMA PROCÉS I EMMAGATZEMATGE SSD 60 GB. INCLOU LICÈNCIA OCR, CARCASSA, BRAÇ I ADAPTACIÓ A SUPORT. | E8: 1 | F8: =VLOOKUP($B8,PU!$B$3:$E$175,4,FALSE) -> 307.27 | G8: =ROUND($E8*F8,2) -> 307.27
B9: E‐003 | C9: =VLOOKUP($B9,PU!$B$3:$E$175,2,FALSE) -> UT | D9: =VLOOKUP($B9,PU!$B$3:$E$175,3,FALSE) -> SUBMINISTRAMENT D'UNITAT DE PROCÉS PEL PUNT DE CONTROL, CONSISTENT EN UN PC DE TIPUS INDUSTRIAL, RUGORITZAT, AMB PROCESSADOR I7, CPU QUAD CORE, BIOS, SISTEMA OPERATIU, WATCHDOG, ALIMENTACIÓ 9‐48V, CAPACITAT EMMAGATZEMATGE 2 TB | E9: 1 | F9: =VLOOKUP($B9,PU!$B$3:$E$175,4,FALSE) -> 930.46 | G9: =ROUND($E9*F9,2) -> 930.46
B10: E‐004 | C10: =VLOOKUP($B10,PU!$B$3:$E$175,2,FALSE) -> UT | D10: =VLOOKUP($B10,PU!$B$3:$E$175,3,FALSE) -> INSTAL∙LACIÓ, CONFIGURACIÓ I POSADA EN FUNCIONAMENT, D'UNITAT DE PROCÉS PEL PUNT DE CONTROL EN ARMARI PDC. | E10: 1 | F10: =VLOOKUP($B10,PU!$B$3:$E$175,4,FALSE) -> 160.12 | G10: =ROUND($E10*F10,2) -> 160.12
B11: E‐005 | C11: =VLOOKUP($B11,PU!$B$3:$E$175,2,FALSE) -> UT | D11: =VLOOKUP($B11,PU!$B$3:$E$175,3,FALSE) -> SUBMINISTRAMENT DE FONT D'ALIMENTACIÓ TIPUS INDUSTRIAL, PER MUNTATGE EN CARRIL DIN, PER ALIMENTAR FINS A 4 CÀMERES PUNT DE CONTROL. | E11: 1 | F11: =VLOOKUP($B11,PU!$B$3:$E$175,4,FALSE) -> 138.48 | G11: =ROUND($E11*F11,2) -> 138.48
B12: E‐006 | C12: =VLOOKUP($B12,PU!$B$3:$E$175,2,FALSE) -> UT | D12: =VLOOKUP($B12,PU!$B$3:$E$175,3,FALSE) -> INSTAL∙LACIÓ DE FONT D'ALIMENTACIÓ TIPUS INDUSTRIAL, PER MUNTATGE EN CARRIL DIN, PER ALIMENTAR FINS A 4 CÀMERES PUNT DE CONTROL. | E12: 1 | F12: =VLOOKUP($B12,PU!$B$3:$E$175,4,FALSE) -> 30.29 | G12: =ROUND($E12*F12,2) -> 30.29
B13: E‐007 | C13: =VLOOKUP($B13,PU!$B$3:$E$175,2,FALSE) -> UT | D13: =VLOOKUP($B13,PU!$B$3:$E$175,3,FALSE) -> SUBMINISTRAMENT DE FONT D'ALIMENTACIÓ TIPUS INDUSTRIAL, PER MUNTATGE EN CARRIL DIN, PER ALIMENTAR UNITAT DE PROCÈS (PC) | E13: 1 | F13: =VLOOKUP($B13,PU!$B$3:$E$175,4,FALSE) -> 46.74 | G13: =ROUND($E13*F13,2) -> 46.74
B14: E‐008 | C14: =VLOOKUP($B14,PU!$B$3:$E$175,2,FALSE) -> UT | D14: =VLOOKUP($B14,PU!$B$3:$E$175,3,FALSE) -> INSTAL·LACIÓ DE FONT D'ALIMENTACIÓ TIPUS INDUSTRIAL, PER MUNTATGE EN CARRIL DIN, PER ALIMENTAR UNITAT DE PROCÈS (PC) | E14: 1 | F14: =VLOOKUP($B14,PU!$B$3:$E$175,4,FALSE) -> 12.12 | G14: =ROUND($E14*F14,2) -> 12.12
B15: E‐011 | C15: =VLOOKUP($B15,PU!$B$3:$E$175,2,FALSE) -> UT | D15: =VLOOKUP($B15,PU!$B$3:$E$175,3,FALSE) -> SUBMINISTRAMENT DE ROUTER 4G PER COMUNICACIONS SENSE FILS, COMPATIBLE AMB EL SISTEMA DE COMUNICACIONS DE L'AJUNTAMENT. INCLOENT ANTENA ANTIVANDÀLICA. | E15: 1 | F15: =VLOOKUP($B15,PU!$B$3:$E$175,4,FALSE) -> 389.49 | G15: =ROUND($E15*F15,2) -> 389.49
B16: E‐012 | C16: =VLOOKUP($B16,PU!$B$3:$E$175,2,FALSE) -> UT | D16: =VLOOKUP($B16,PU!$B$3:$E$175,3,FALSE) -> INSTAL∙LACIÓ I CONFIGURACIÓ DE ROUTER 4G I ANTENA ANTIVANDÀLICA PER COMUNICACIONS SENSE FILS, COMPATIBLE AMB EL SISTEMA DE COMUNICACIONS DE L'AJUNTAMENT. | E16: 1 | F16: =VLOOKUP($B16,PU!$B$3:$E$175,4,FALSE) -> 51.93 | G16: =ROUND($E16*F16,2) -> 51.93
B17: E‐013 | C17: =VLOOKUP($B17,PU!$B$3:$E$175,2,FALSE) -> UT | D17: =VLOOKUP($B17,PU!$B$3:$E$175,3,FALSE) -> SUBMINISTRAMENT DE SAI PUNT DE CONTROL LECTURA DE MATRÍCULES, 1000 / 1000VA ‐ AP160N‐1K, FORMAT RACK 19", DE 1000VA / 900W, MONOFÀSIC AMB 3 BATERIES 12V/7,2 AH. | E17: 1 | F17: =VLOOKUP($B17,PU!$B$3:$E$175,4,FALSE) -> 392.09 | G17: =ROUND($E17*F17,2) -> 392.09
B18: E‐014 | C18: =VLOOKUP($B18,PU!$B$3:$E$175,2,FALSE) -> UT | D18: =VLOOKUP($B18,PU!$B$3:$E$175,3,FALSE) -> INSTAL∙LACIÓ DE SAI PUNT DE CONTROL LECTURA DE MATRÍCULES, 1000 / 1000VA ‐ AP160N‐1K, FORMAT RACK 19", DE 1000VA / 900W, MONOFÀSIC AMB 3 BATERIES 12V/7,2 AH. INSTAL∙LACIÓ, CONNEXIÓ I POSADA EN MARXA, INCLOU PETIT MATERIAL INSTAL∙LACIÓ, CABLEJAT I CONNEXIÓ I QUALSEVOL ALTRE NECESSARI PEL CORRECTE FUNCIONAMENT. | E18: 1 | F18: =VLOOKUP($B18,PU!$B$3:$E$175,4,FALSE) -> 30.29 | G18: =ROUND($E18*F18,2) -> 30.29
... B31: E‐034 | C31: =VLOOKUP($B31,PU!$B$3:$E$175,2,FALSE) -> UT | D31: =VLOOKUP($B31,PU!$B$3:$E$175,3,FALSE) -> PRECINTAT DE CÀMERES I DEL PC DE CONTROL DEL PUNT DE CONTROL. INCLOU TOTS ELS MATERIALS (PRECINTES), MITJANS I RECURSOS NECESSARIS. PREU PER PUNT DE CONTROL. | E31: 1 | F31: =VLOOKUP($B31,PU!$B$3:$E$175,4,FALSE) -> 259.66 | G31: =ROUND($E31*F31,2) -> 259.66
B32: Subtotal PdC | G32: =SUM(G7:G31) -> 12479.62
B34: =PU!B41 -> OBRA CIVIL
B35: O-001 | C35: =VLOOKUP($B35,PU!$B$3:$E$175,2,FALSE) -> UT | D35: =VLOOKUP($B35,PU!$B$3:$E$175,3,FALSE) -> FONAMENT DE FORMIGÓ PREFABRICAT PER A ARMARI REGULADOR AMB DOSIFICACIÓ DE 250 KG/m3 I ENCOFRAT CARA VISTA DE DIMENSIONS APROXIMADES 53 x 32,5 x 35 cm. AMB UN ENCASTAMENT DE 15 cm. I DOS FORATS DE 110 mm. DE DIÀMETRE. TOTALMENT EXECUTAT. | E35: 1 | F35: =VLOOKUP($B35,PU!$B$3:$E$175,4,FALSE) -> 203.4 | G35: =ROUND($E35*F35,2) -> 203.4
B36: O-002 | C36: =VLOOKUP($B36,PU!$B$3:$E$175,2,FALSE) -> UT | D36: =VLOOKUP($B36,PU!$B$3:$E$175,3,FALSE) -> FONAMENT DE FORMIGÓ PER A COLUMNA DE 4 METRES, AMB DOSIFICACIÓ DE 250 KG/m3, MITJANÇANT UN DAU DE 50 cm. DE COSTAT I 60 cm. DE PROFUNDITAT, INCLÒS COLZE DE CONNEXIÓ AMB TUBULAR. INCLOU DEMOLICIÓ PAVIMENT, EXCAVACIÓ I POSTERIOR REPOSICIÓ. TOTALMENT EXECUTAT. | E36: 1 | F36: =VLOOKUP($B36,PU!$B$3:$E$175,4,FALSE) -> 95.21 | G36: =ROUND($E36*F36,2) -> 95.21
B37: O-007 | C37: =VLOOKUP($B37,PU!$B$3:$E$175,2,FALSE) -> UT | D37: =VLOOKUP($B37,PU!$B$3:$E$175,3,FALSE) -> PERICÓ DE 60 x 60 cm. PREFABRICAT DE FORMIGÓ O CONSTRUÏT AMB MAONS GERO I FONS DEL MATEIX MATERIAL REBENT EL MARC I LA TAPA CORRESPONENT, SENSE INCLOURE AQUESTS. INCLOU DEMOLICIÓ PAVIMENT, EXCAVACIÓ I POSTERIOR REPOSICIÓ. TOTALMENT EXECUTAT. | E37: 2 | F37: =VLOOKUP($B37,PU!$B$3:$E$175,4,FALSE) -> 129.83 | G37: =ROUND($E37*F37,2) -> 259.66
B38: O-008 | C38: =VLOOKUP($B38,PU!$B$3:$E$175,2,FALSE) -> UT | D38: =VLOOKUP($B38,PU!$B$3:$E$175,3,FALSE) -> SUBMINISTRAMENT MARC DE FERRO FOS DE 60 x 60 cm PER INSTAL·LACIÓ EN VORERA, AMB INSCRIPCIÓ. | E38: 2 | F38: =VLOOKUP($B38,PU!$B$3:$E$175,4,FALSE) -> 34.62 | G38: =ROUND($E38*F38,2) -> 69.24
B39: O-009 | C39: =VLOOKUP($B39,PU!$B$3:$E$175,2,FALSE) -> UT | D39: =VLOOKUP($B39,PU!$B$3:$E$175,3,FALSE) -> SUBMINISTRAMENT TAPA DE FERRO FOS DE 60 x 60 cm PER INSTAL·LACIÓ EN VORERA, AMB INSCRIPCIÓ. | E39: 2 | F39: =VLOOKUP($B39,PU!$B$3:$E$175,4,FALSE) -> 69.25 | G39: =ROUND($E39*F39,2) -> 138.5
B40: O-010 | C40: =VLOOKUP($B40,PU!$B$3:$E$175,2,FALSE) -> UT | D40: =VLOOKUP($B40,PU!$B$3:$E$175,3,FALSE) -> REPARACIÓ D'ESTRUCTURA INTERIOR DE PERICÓ EXISTENT DE 60 x 60 cm, AMB ADEQUACIÓ DE PARETS I LLISCAT. TOTALMENT EXECUTAT. | E40: 2 | F40: =VLOOKUP($B40,PU!$B$3:$E$175,4,FALSE) -> 70.98 | G40: =ROUND($E40*F40,2) -> 141.96
B41: O-014 | C41: =VLOOKUP($B41,PU!$B$3:$E$175,2,FALSE) -> UT | D41: =VLOOKUP($B41,PU!$B$3:$E$175,3,FALSE) -> RECONVERSIÓ PERICÓ DE 40X40 A PERICÓ DE 60X60. INCLOU TREBALLS DE CONSTRUCCIÓ DE L'ESTRUCTURA AMB MAONS, FORMIGÓ I LA TAPA I MARC DE FERRO, AIXÍ COM ELS TREBALLS DE MÀ D'OBRA. | E41: 1 | F41: =VLOOKUP($B41,PU!$B$3:$E$175,4,FALSE) -> 181.76 | G41: =ROUND($E41*F41,2) -> 181.76
B42: O-015 | C42: =VLOOKUP($B42,PU!$B$3:$E$175,2,FALSE) -> UT | D42: =VLOOKUP($B42,PU!$B$3:$E$175,3,FALSE) -> INTERCEPTAR CANALITZACIÓ EXISTENT / EMBOCADURA PERICÓ EXISTENT. | E42: 2 | F42: =VLOOKUP($B42,PU!$B$3:$E$175,4,FALSE) -> 160.12 | G42: =ROUND($E42*F42,2) -> 320.24
B43: O-016 | C43: =VLOOKUP($B43,PU!$B$3:$E$175,2,FALSE) -> ML | D43: =VLOOKUP($B43,PU!$B$3:$E$175,3,FALSE) -> COMPROVACIÓ I MANDRINATGE DE CANALITZACIÓ EXISTENT DEIXANT PASSAT FIL GUIA. | E43: 180 | F43: =VLOOKUP($B43,PU!$B$3:$E$175,4,FALSE) -> 2.16 | G43: =ROUND($E43*F43,2) -> 388.8
B44: O-018 | C44: =VLOOKUP($B44,PU!$B$3:$E$175,2,FALSE) -> ML | D44: =VLOOKUP($B44,PU!$B$3:$E$175,3,FALSE) -> CANALITZACIÓ EN VORERA INCLOENT SUBMINISTRAMENT I INSTAL∙LACIÓ DE 2 TUBS DE PE ø 110 mm DE DOBLE CAPA, LLIS A L'INTERIOR I CORRUGAT A L'EXTERIOR, INCLÒS EXCAVACIÓ EN RASA DE 40 x 60 cm. DE PROFUNDITAT, BASE I PROTECCIÓ DE FORMIGÓ HM20, EN VORERES DE PANOT INCLÒS LA SEVA REPOSICIÓ. TOTALMENT EXECUTADA D'ACORD AMB LES ORDENANCES MUNICIPALS I INDICACIONS PARTICULARS. | E44: 15 | F44: =VLOOKUP($B44,PU!$B$3:$E$175,4,FALSE) -> 73.57 | G44: =ROUND($E44*F44,2) -> 1103.55
B45: O-021 | C45: =VLOOKUP($B45,PU!$B$3:$E$175,2,FALSE) -> ML | D45: =VLOOKUP($B45,PU!$B$3:$E$175,3,FALSE) -> SUPLEMENT PER REALITZACIÓ DE CANALITZACIÓ EN CALÇADA EN FESTIU. | E45: 2 | F45: =VLOOKUP($B45,PU!$B$3:$E$175,4,FALSE) -> 56.26 | G45: =ROUND($E45*F45,2) -> 112.52
B46: O-022 | C46: =VLOOKUP($B46,PU!$B$3:$E$175,2,FALSE) -> ML | D46: =VLOOKUP($B46,PU!$B$3:$E$175,3,FALSE) -> SUPLEMENT PER REALITZACIÓ DE CANALITZACIÓ EN VORERA DE PAVIMENT ESPECIAL, TIPUS GRANIT, LLAMBORDES O SIMILARS | E46: 15 | F46: =VLOOKUP($B46,PU!$B$3:$E$175,4,FALSE) -> 25.97 | G46: =ROUND($E46*F46,2) -> 389.55
... B54: O-030 | C54: =VLOOKUP($B54,PU!$B$3:$E$175,2,FALSE) -> UT | D54: =VLOOKUP($B54,PU!$B$3:$E$175,3,FALSE) -> SENYALITZACIÓ OBRES, ZONES D'ABASSEGAMENT DE MATERIALS, MAQUINÀRIA, TALLS DE CARRIL I SIMILARS, NECESSARIS PER A L'EXECUCIÓ DE L'OBRA CIVIL A FER EN EL PUNT DE CONTROL. INCLOU TRAMITACIÓ PERMISOS I GESTIONS DAVANT ORGANISMES I ADMINISTRACIONS. | E54: 1 | F54: =VLOOKUP($B54,PU!$B$3:$E$175,4,FALSE) -> 389.49 | G54: =ROUND($E54*F54,2) -> 389.49
B55: Subtotal Obra Civil | G55: =SUM(G35:G54) -> 7931.28
B57: =PU!B73 -> INSTAL·LACIÓ ELÈCTRICA
B58: I-001 | C58: =VLOOKUP($B58,PU!$B$3:$E$175,2,FALSE) -> UT | D58: =VLOOKUP($B58,PU!$B$3:$E$175,3,FALSE) -> TREBALLS PER A LA REALITZACIÓ DE L'ALIMENTACIÓ DEL PUNT DE CONTROL, D'ACORD AMB EL QUE INDICA EL PLEC. | E58: 1 | F58: =VLOOKUP($B58,PU!$B$3:$E$175,4,FALSE) -> 164.45 | G58: =ROUND($E58*F58,2) -> 164.45
B59: I-002 | C59: =VLOOKUP($B59,PU!$B$3:$E$175,2,FALSE) -> UT | D59: =VLOOKUP($B59,PU!$B$3:$E$175,3,FALSE) -> SUBMINISTRAMENT D'EQUIPAMENTS ESPECÍFICS PER LA DISTRIBUCIÓ D'ENERGIA DEL PUNT DE CONTROL, CONSISTENTS EN PROTECCIONS ELÈCTRIQUES CONTRA SOBRETENSIONS TRANSITÒRIES (1 UT) I PERMANENTS (1 UT), DIFERENCIALS (FINS A 2 UT), MAGNETOTÈRMICS (FINS A 3 UT) I PRESA DE CORRENT TIPUS SCHUKO (1 UT). | E59: 1 | F59: =VLOOKUP($B59,PU!$B$3:$E$175,4,FALSE) -> 257.93 | G59: =ROUND($E59*F59,2) -> 257.93
B60: I-003 | C60: =VLOOKUP($B60,PU!$B$3:$E$175,2,FALSE) -> UT | D60: =VLOOKUP($B60,PU!$B$3:$E$175,3,FALSE) -> INSTAL·LACIÓ D'EQUIPAMENTS ESPECÍFICS PER LA DISTRIBUCIÓ D'ENERGIA DEL PUNT DE CONTROL. | E60: 1 | F60: =VLOOKUP($B60,PU!$B$3:$E$175,4,FALSE) -> 70.11 | G60: =ROUND($E60*F60,2) -> 70.11
B61: I-004 | C61: =VLOOKUP($B61,PU!$B$3:$E$175,2,FALSE) -> ML | D61: =VLOOKUP($B61,PU!$B$3:$E$175,3,FALSE) -> SUBMINISTRAMENT DE CABLE DE CONDUCTOR DE COURE AMB AÏLLAMENT DE PLÀSTIC, DE SECCIÓ 1x6 mm2 PER PRESES DE TERRA. | E61: 20 | F61: =VLOOKUP($B61,PU!$B$3:$E$175,4,FALSE) -> 0.95 | G61: =ROUND($E61*F61,2) -> 19
B62: I-005 | C62: =VLOOKUP($B62,PU!$B$3:$E$175,2,FALSE) -> ML | D62: =VLOOKUP($B62,PU!$B$3:$E$175,3,FALSE) -> INSTAL·LACIÓ DE CABLE DE CONDUCTOR DE COURE AMB AÏLLAMENT DE PLÀSTIC, DE SECCIÓ 1x6 mm2 PER PRESES DE TERRA. | E62: 20 | F62: =VLOOKUP($B62,PU!$B$3:$E$175,4,FALSE) -> 0.78 | G62: =ROUND($E62*F62,2) -> 15.6
B63: I-006 | C63: =VLOOKUP($B63,PU!$B$3:$E$175,2,FALSE) -> ML | D63: =VLOOKUP($B63,PU!$B$3:$E$175,3,FALSE) -> SUBMINISTRAMENT DE CABLE DE CONDUCTOR DE COURE EPTAFILAR NU, DE SECCIÓ 1x35 mm2. | E63: 5 | F63: =VLOOKUP($B63,PU!$B$3:$E$175,4,FALSE) -> 3.89 | G63: =ROUND($E63*F63,2) -> 19.45
B64: I-007 | C64: =VLOOKUP($B64,PU!$B$3:$E$175,2,FALSE) -> ML | D64: =VLOOKUP($B64,PU!$B$3:$E$175,3,FALSE) -> INSTAL·LACIÓ DE CABLE DE CONDUCTOR DE COURE EPTAFILAR NU, DE SECCIÓ 1x35 mm2. | E64: 5 | F64: =VLOOKUP($B64,PU!$B$3:$E$175,4,FALSE) -> 0.78 | G64: =ROUND($E64*F64,2) -> 3.9
B65: I-008 | C65: =VLOOKUP($B65,PU!$B$3:$E$175,2,FALSE) -> ML | D65: =VLOOKUP($B65,PU!$B$3:$E$175,3,FALSE) -> SUBMINISTRAMENT DE CABLE CONDUCTOR DE COURE RV-K 0,6/1KV DE 3x6 mm2 | E65: 50 | F65: =VLOOKUP($B65,PU!$B$3:$E$175,4,FALSE) -> 2.42 | G65: =ROUND($E65*F65,2) -> 121
B66: I-009 | C66: =VLOOKUP($B66,PU!$B$3:$E$175,2,FALSE) -> ML | D66: =VLOOKUP($B66,PU!$B$3:$E$175,3,FALSE) -> INSTAL·LACIÓ DE CABLE CONDUCTOR DE COURE RV-K 0,6/1KV DE 3x6 mm2 | E66: 50 | F66: =VLOOKUP($B66,PU!$B$3:$E$175,4,FALSE) -> 0.78 | G66: =ROUND($E66*F66,2) -> 39
B67: I-012 | C67: =VLOOKUP($B67,PU!$B$3:$E$175,2,FALSE) -> UT | D67: =VLOOKUP($B67,PU!$B$3:$E$175,3,FALSE) -> REALITZACIÓ D'UNA SORTIDA ELÈCTRICA, EN QUADRE ELÈCTRIC EXISTENT, CONSISTENT EN PROTECCIÓ MAGNETOTÈRMICA 6A 2P I TREBALLS DE CONNEXIÓ NECESSARIS, PER L'ALIMENTACIÓ D'UN CONJUNT DE CÀMERA. | E67: 1 | F67: =VLOOKUP($B67,PU!$B$3:$E$175,4,FALSE) -> 43.78 | G67: =ROUND($E67*F67,2) -> 43.78
B68: I-014 | C68: =VLOOKUP($B68,PU!$B$3:$E$175,2,FALSE) -> UT | D68: =VLOOKUP($B68,PU!$B$3:$E$175,3,FALSE) -> MODIFICACIÓ DE LEGALITZACIÓ EXISTENT DE <15KW PER AFEGIR UNA SORTIDA ADICIONAL PER ALIMENTAR UN ARMARI Y CÀMERES. INCLOU CÀLCULS DE CABLEJAT, RIYSIC, CIE I LA GESTIÓ PER LA FIRMA DE LA DECLARACIÓ RESPONSABLE I LA PRESENTACIÓ A INDUSTRIA. | E68: 1 | F68: =VLOOKUP($B68,PU!$B$3:$E$175,4,FALSE) -> 261.73 | G68: =ROUND($E68*F68,2) -> 261.73
B69: Subtotal instal·lacions elèctriques. | G69: =SUM(G58:G68) -> 1015.95
B71: =PU!B92 -> SENYALITZACIÓ
B72: S-001 | C72: =VLOOKUP($B72,PU!$B$3:$E$175,2,FALSE) -> UT | D72: =VLOOKUP($B72,PU!$B$3:$E$175,3,FALSE) -> SUBMINISTRAMENT DE SENYAL DE "CÀMERA DE TRÀNSIT" B-53a SEGONS MANUAL DE SENYALITZACIÓ URBANA I PLEC DE SENYALITZACIÓ PER A LA CIUTAT DE BARCELONA. SENYAL D'ALUMINI DE DOBLE PESTANYA HI, NIVELL II DE 2 MM DE GRUIX, DE DIÀMETRE 40 o 60cm SEGONS NORMES. INCLÒS ELEMENTS DE SUSTENTACIÓ I FIXACIÓ. | E72: 1 | F72: =VLOOKUP($B72,PU!$B$3:$E$175,4,FALSE) -> 90.42 | G72: =ROUND($E72*F72,2) -> 90.42
B73: S-004 | C73: =VLOOKUP($B73,PU!$B$3:$E$175,2,FALSE) -> UT | D73: =VLOOKUP($B73,PU!$B$3:$E$175,3,FALSE) -> SUBMINISTRAMENT DE SENYAL DE "CONTROL FOTOGRÀFIC" B-55a SEGONS MANUAL DE SENYALITZACIÓ URBANA I PLEC DE SENYALITZACIÓ PER A LA CIUTAT DE BARCELONA. SENYAL D'ALUMINI DE DOBLE PESTANYA HI, NIVELL II DE 2 MM DE GRUIX, DE DIÀMETRE 60 CM SEGONS NORMES. INCLÒS ELEMENTS DE SUSTENTACIÓ I FIXACIÓ. | E73: 1 | F73: =VLOOKUP($B73,PU!$B$3:$E$175,4,FALSE) -> 107.23 | G73: =ROUND($E73*F73,2) -> 107.23
B74: S-007 | C74: =VLOOKUP($B74,PU!$B$3:$E$175,2,FALSE) -> UT | D74: =VLOOKUP($B74,PU!$B$3:$E$175,3,FALSE) -> INSTAL·LACIÓ DE SENYAL VERTICAL. | E74: 2 | F74: =VLOOKUP($B74,PU!$B$3:$E$175,4,FALSE) -> 38.95 | G74: =ROUND($E74*F74,2) -> 77.9
B75: Subtotal Senyalització | G75: =SUM(G72:G74) -> 275.55
B77: =PU!B105 -> COMUNICACIONS
B78: FO-03 | C78: =VLOOKUP($B78,PU!$B$3:$E$175,2,FALSE) -> ML | D78: =VLOOKUP($B78,PU!$B$3:$E$175,3,FALSE) -> SUBMINISTRAMENT I INSTAL∙LACIÓ DE CABLE DE 24 FO MONOMODE B1.1, SEGONS EN 186000. ARMAT. AMB PROTECCIÓ D'ARAMIDA, ARMADURA METÀL∙LICA I COBERTA EXTERIOR DE POLIETILÈ. | E78: 100 | F78: =VLOOKUP($B78,PU!$B$3:$E$175,4,FALSE) -> 2.74 | G78: =ROUND($E78*F78,2) -> 274
B79: FO-06 | C79: =VLOOKUP($B79,PU!$B$3:$E$175,2,FALSE) -> UT | D79: =VLOOKUP($B79,PU!$B$3:$E$175,3,FALSE) -> SUBMINISTRAMENT I INSTAL·LACIÓ DE FUETÓ DE FO MONOMODE FINS A 2 m, INCLÚS CONNECTORS. SEGONS ESPECIFICACIONS AJUNTAMENT. | E79: 2 | F79: =VLOOKUP($B79,PU!$B$3:$E$175,4,FALSE) -> 19.04 | G79: =ROUND($E79*F79,2) -> 38.08
B80: FO-09 | C80: =VLOOKUP($B80,PU!$B$3:$E$175,2,FALSE) -> UT | D80: =VLOOKUP($B80,PU!$B$3:$E$175,3,FALSE) -> SUBMINISTRAMENT I INSTAL·LACIÓ DE CAIXA REPARTIDORA ÒPTICA OTB-24. SEGONS ESPECIFICACIONS AJUNTAMENT. | E80: 1 | F80: =VLOOKUP($B80,PU!$B$3:$E$175,4,FALSE) -> 302.94 | G80: =ROUND($E80*F80,2) -> 302.94
B81: FO-11 | C81: =VLOOKUP($B81,PU!$B$3:$E$175,2,FALSE) -> UT | D81: =VLOOKUP($B81,PU!$B$3:$E$175,3,FALSE) -> FUSIÓ EN RECTE DE 1 FO MONOMODE. INCLOU PIG·TAIL, CONNECTORS I ADAPTADORS, AIXÍ COM LES MESURES DE RETROESPARCIMENT I POTÈNCIA. SEGONS ESPECIFICACIONS AJUTAMENT. | E81: 2 | F81: =VLOOKUP($B81,PU!$B$3:$E$175,4,FALSE) -> 56.26 | G81: =ROUND($E81*F81,2) -> 112.52
B82: FO-14 | C82: =VLOOKUP($B82,PU!$B$3:$E$175,2,FALSE) -> UD | D82: =VLOOKUP($B82,PU!$B$3:$E$175,3,FALSE) -> SUBMINISTRAMENT DE SWITCH DE COMUNICACIONS PER INSTAL·LACIÓ EN ARMARI DE CARRER, HOMOLOGAT PER L'AJUNTAMENT DE BARCELONA - IMI. SWITCH GESTIONABLE AMB 8 PORTS 10/100/1000Base-T + 2 PORTS 100/1000 SFP/RJ45 Combo. INCLOSOS SFP’s DE FIBRA TN-SFP-LX1-SM GIB I SISTEMA DE MUNTATGE EN RACK. | E82: 1 | F82: =VLOOKUP($B82,PU!$B$3:$E$175,4,FALSE) -> 999.71 | G82: =ROUND($E82*F82,2) -> 999.71
B83: FO-15 | C83: =VLOOKUP($B83,PU!$B$3:$E$175,2,FALSE) -> UD | D83: =VLOOKUP($B83,PU!$B$3:$E$175,3,FALSE) -> INSTAL·LACIÓ DE SWITCH DE COMUNICACIONS EN ARMARI DE CARRER, HOMOLOGAT PER L'AJUNTAMENT DE BARCELONA - IMI. | E83: 1 | F83: =VLOOKUP($B83,PU!$B$3:$E$175,4,FALSE) -> 64.92 | G83: =ROUND($E83*F83,2) -> 64.92
B84: FO-21 | C84: =VLOOKUP($B84,PU!$B$3:$E$175,2,FALSE) -> UT | D84: =VLOOKUP($B84,PU!$B$3:$E$175,3,FALSE) -> SUBMINISTRAMENT l INSTAL·LACIÓ DE CANVIADOR DE MEDI TIPUS SFP (FIBRA OPTICA MONOMODE). CONVERTIDOR DE MEDI NECESSARI PER TRANSFORMAR LA SENYAL OPTICA A ELECTRICA FO/ ETHERNET/ 422/ 485/ 422, MODEL RAISECOM L2 DIN·RAIL S1503i-AC O EQUIVALENT, INCLOS EL SFP BIFIBRA LC/PC, AMB 1 PORT 100/1000M BASE-X SFP + 2 PORTS 10/100/1000M BX | E84: 1 | F84: =VLOOKUP($B84,PU!$B$3:$E$175,4,FALSE) -> 478.64 | G84: =ROUND($E84*F84,2) -> 478.64
B85: FO-24 | C85: =VLOOKUP($B85,PU!$B$3:$E$175,2,FALSE) -> PAJ | D85: =VLOOKUP($B85,PU!$B$3:$E$175,3,FALSE) -> TREBALLS CELLNEX PDC-3: JAUME I, INCLOU CONNEXIÓ I INTEGRACIÓ A LA XARXA ACTIVA, TREBALLS DE FO I TREBALLS D'ENGINYERIA, DESPLEGAMENT, DOCUMENTACIÓ I PRL. | E85: 1 | F85: =VLOOKUP($B85,PU!$B$3:$E$175,4,FALSE) -> 3385.82 | G85: =ROUND($E85*F85,2) -> 3385.82
B86: Subtotal Comunicacions | G86: =SUM(G78:G85) -> 5656.63
B87: TOTAL GENERAL | G87: =G32+G55+G69+G75+G86 -> 27359.03
D90: RESUM PRESSUPOST
D91: =B6 -> EQUIPAMENT PUNT DE CONTROL | G91: =G32 -> 12479.62
D92: =B34 -> OBRA CIVIL | G92: =G55 -> 7931.28
D93: =B57 -> INSTAL·LACIÓ ELÈCTRICA | G93: =G69 -> 1015.95
D94: =B71 -> SENYALITZACIÓ | G94: =G75 -> 275.55
D95: =PU!B105 -> COMUNICACIONS | G95: =G86 -> 5656.63
D96: TOTAL PRESSUPOST EXECUCIÓ INSTAL·LACIÓ PdC-01 | G96: =SUM(G91:G95) -> 27359.03

Sheet PdC-04
B2: =_xlfn.CONCAT('Resum Amid.Ppals'!A12," ",'Resum Amid.Ppals'!B12) -> PdC-04 Fusteria
B4: CODI | C4: U.M | D4: CONCEPTE/DENOMINACIO | E4: AMID. | F4: P.U.PEM | I4: PREU TOTAL
B6: =PU!B5 -> EQUIPAMENT PUNT DE CONTROL
B7: E‐001 | C7: =VLOOKUP($B7,PU!$B$3:$E$175,2,FALSE) -> UT | D7: =VLOOKUP($B7,PU!$B$3:$E$175,3,FALSE) -> SUBMINISTRAMENT D'EQUIP COMPACTE DE RECONEIXEMENT DE MATRÍCULES, FORMAT PER CONJUNT DE CÀMERA LPR 2 CARRILS HD, CÀMERA DE CONTEXT A COLOR, IL∙LUMINADOR IR PER A ZONA D’INFRACCIONS I SISTEMA PROCÉS I EMMAGATZEMATGE SSD 60 GB. INCLOU LLICÈNCIA OCR, CARCASSA, BRAÇ I ADAPTACIÓ A SUPORT. | E7: 1 | F7: =VLOOKUP($B7,PU!$B$3:$E$175,4,FALSE) -> 6405.04 | I7: =ROUND($E7*F7,2) -> 6405.04
B8: E‐002 | C8: =VLOOKUP($B8,PU!$B$3:$E$175,2,FALSE) -> UT | D8: =VLOOKUP($B8,PU!$B$3:$E$175,3,FALSE) -> INSTAL∙LACIÓ D'EQUIP COMPACTE DE RECONEIXEMENT DE MATRÍCULES, FORMAT PER CONJUNT DE CÀMERA LPR 2 CARRILS HD, CÀMERA DE CONTEXT A COLOR, IL∙LUMINADOR IR PER A ZONA D’INFRACCIONS I SISTEMA PROCÉS I EMMAGATZEMATGE SSD 60 GB. INCLOU LICÈNCIA OCR, CARCASSA, BRAÇ I ADAPTACIÓ A SUPORT. | E8: 1 | F8: =VLOOKUP($B8,PU!$B$3:$E$175,4,FALSE) -> 307.27 | I8: =ROUND($E8*F8,2) -> 307.27
B9: E‐003 | C9: =VLOOKUP($B9,PU!$B$3:$E$175,2,FALSE) -> UT | D9: =VLOOKUP($B9,PU!$B$3:$E$175,3,FALSE) -> SUBMINISTRAMENT D'UNITAT DE PROCÉS PEL PUNT DE CONTROL, CONSISTENT EN UN PC DE TIPUS INDUSTRIAL, RUGORITZAT, AMB PROCESSADOR I7, CPU QUAD CORE, BIOS, SISTEMA OPERATIU, WATCHDOG, ALIMENTACIÓ 9‐48V, CAPACITAT EMMAGATZEMATGE 2 TB | E9: 1 | F9: =VLOOKUP($B9,PU!$B$3:$E$175,4,FALSE) -> 930.46 | I9: =ROUND($E9*F9,2) -> 930.46
B10: E‐004 | C10: =VLOOKUP($B10,PU!$B$3:$E$175,2,FALSE) -> UT | D10: =VLOOKUP($B10,PU!$B$3:$E$175,3,FALSE) -> INSTAL∙LACIÓ, CONFIGURACIÓ I POSADA EN FUNCIONAMENT, D'UNITAT DE PROCÉS PEL PUNT DE CONTROL EN ARMARI PDC. | E10: 1 | F10: =VLOOKUP($B10,PU!$B$3:$E$175,4,FALSE) -> 160.12 | I10: =ROUND($E10*F10,2) -> 160.12
B11: E‐005 | C11: =VLOOKUP($B11,PU!$B$3:$E$175,2,FALSE) -> UT | D11: =VLOOKUP($B11,PU!$B$3:$E$175,3,FALSE) -> SUBMINISTRAMENT DE FONT D'ALIMENTACIÓ TIPUS INDUSTRIAL, PER MUNTATGE EN CARRIL DIN, PER ALIMENTAR FINS A 4 CÀMERES PUNT DE CONTROL. | E11: 1 | F11: =VLOOKUP($B11,PU!$B$3:$E$175,4,FALSE) -> 138.48 | I11: =ROUND($E11*F11,2) -> 138.48
B12: E‐006 | C12: =VLOOKUP($B12,PU!$B$3:$E$175,2,FALSE) -> UT | D12: =VLOOKUP($B12,PU!$B$3:$E$175,3,FALSE) -> INSTAL∙LACIÓ DE FONT D'ALIMENTACIÓ TIPUS INDUSTRIAL, PER MUNTATGE EN CARRIL DIN, PER ALIMENTAR FINS A 4 CÀMERES PUNT DE CONTROL. | E12: 1 | F12: =VLOOKUP($B12,PU!$B$3:$E$175,4,FALSE) -> 30.29 | I12: =ROUND($E12*F12,2) -> 30.29
B13: E‐007 | C13: =VLOOKUP($B13,PU!$B$3:$E$175,2,FALSE) -> UT | D13: =VLOOKUP($B13,PU!$B$3:$E$175,3,FALSE) -> SUBMINISTRAMENT DE FONT D'ALIMENTACIÓ TIPUS INDUSTRIAL, PER MUNTATGE EN CARRIL DIN, PER ALIMENTAR UNITAT DE PROCÈS (PC) | E13: 1 | F13: =VLOOKUP($B13,PU!$B$3:$E$175,4,FALSE) -> 46.74 | I13: =ROUND($E13*F13,2) -> 46.74
B14: E‐008 | C14: =VLOOKUP($B14,PU!$B$3:$E$175,2,FALSE) -> UT | D14: =VLOOKUP($B14,PU!$B$3:$E$175,3,FALSE) -> INSTAL·LACIÓ DE FONT D'ALIMENTACIÓ TIPUS INDUSTRIAL, PER MUNTATGE EN CARRIL DIN, PER ALIMENTAR UNITAT DE PROCÈS (PC) | E14: 1 | F14: =VLOOKUP($B14,PU!$B$3:$E$175,4,FALSE) -> 12.12 | I14: =ROUND($E14*F14,2) -> 12.12
B15: E‐025 | C15: =VLOOKUP($B15,PU!$B$3:$E$175,2,FALSE) -> UT | D15: =VLOOKUP($B15,PU!$B$3:$E$175,3,FALSE) -> TREBALLS PER SUBSTITUIR I ADEQUAR COLUMNES SEMAFÒRIQUES EXISTENTS, A EFECTES DE PODER‐HI INSTAL∙LAR LES NOVES CÀMERES. INCLOU DESCONNEXIÓ, DESMUNTATGE DE SEMÀFORS, CABLEJATS, I POSTERIOR CABLEJAT, MUNTATGE I CONNEXIÓ DELS SEMÀFORS A NOVA COLUMNA. | E15: 1 | F15: =VLOOKUP($B15,PU!$B$3:$E$175,4,FALSE) -> 367.85 | I15: =ROUND($E15*F15,2) -> 367.85
B16: E‐027 | C16: =VLOOKUP($B16,PU!$B$3:$E$175,2,FALSE) -> UT | D16: =VLOOKUP($B16,PU!$B$3:$E$175,3,FALSE) -> SUBMINISTRAMENT DE COLUMNA MODEL SEMÀFORS, METÀL·LICA DE 4 m ALÇADA LLIURE I 100 mm DE DIÀMETRE, AMB O SENSE PLETINA D'ANCORATGE INCLOSOS PERNS ANCORATGE O FIXACIONS. | E16: 1 | F16: =VLOOKUP($B16,PU!$B$3:$E$175,4,FALSE) -> 177.44 | I16: =ROUND($E16*F16,2) -> 177.44
B17: E‐028 | C17: =VLOOKUP($B17,PU!$B$3:$E$175,2,FALSE) -> UT | D17: =VLOOKUP($B17,PU!$B$3:$E$175,3,FALSE) -> INSTAL·LACIÓ DE COLUMNA MODEL SEMÀFORS, METÀL·LICA DE 4 m ALÇADA LLIURE I 100 mm DE DIÀMETRE, AMB O SENSE PLETINA D'ANCORATGE INCLOSOS PERNS ANCORATGE O FIXACIONS. | E17: 1 | F17: =VLOOKUP($B17,PU!$B$3:$E$175,4,FALSE) -> 73.57 | I17: =ROUND($E17*F17,2) -> 73.57
B18: E‐029 | C18: =VLOOKUP($B18,PU!$B$3:$E$175,2,FALSE) -> UT | D18: =VLOOKUP($B18,PU!$B$3:$E$175,3,FALSE) -> DESMUNTATGE DE COLUMNA DE SEMÀFORS, INCLÒS EL TRANSPORT A NOVA UBICACIÓ O MAGATZEM. INCLOSOS ELEMENTS SEMAFÒRICS I CABLEJATS. | E18: 1 | F18: =VLOOKUP($B18,PU!$B$3:$E$175,4,FALSE) -> 90.89 | I18: =ROUND($E18*F18,2) -> 90.89
... B21: E‐034 | C21: =VLOOKUP($B21,PU!$B$3:$E$175,2,FALSE) -> UT | D21: =VLOOKUP($B21,PU!$B$3:$E$175,3,FALSE) -> PRECINTAT DE CÀMERES I DEL PC DE CONTROL DEL PUNT DE CONTROL. INCLOU TOTS ELS MATERIALS (PRECINTES), MITJANS I RECURSOS NECESSARIS. PREU PER PUNT DE CONTROL. | E21: 1 | F21: =VLOOKUP($B21,PU!$B$3:$E$175,4,FALSE) -> 259.66 | I21: =ROUND($E21*F21,2) -> 259.66
B22: Subtotal PdC | I22: =SUM(I7:I21) -> 10241.99
B24: =PU!B41 -> OBRA CIVIL
B25: O-002 | C25: =VLOOKUP($B25,PU!$B$3:$E$175,2,FALSE) -> UT | D25: =VLOOKUP($B25,PU!$B$3:$E$175,3,FALSE) -> FONAMENT DE FORMIGÓ PER A COLUMNA DE 4 METRES, AMB DOSIFICACIÓ DE 250 KG/m3, MITJANÇANT UN DAU DE 50 cm. DE COSTAT I 60 cm. DE PROFUNDITAT, INCLÒS COLZE DE CONNEXIÓ AMB TUBULAR. INCLOU DEMOLICIÓ PAVIMENT, EXCAVACIÓ I POSTERIOR REPOSICIÓ. TOTALMENT EXECUTAT. | E25: 1 | F25: =VLOOKUP($B25,PU!$B$3:$E$175,4,FALSE) -> 95.21 | I25: =ROUND($E25*F25,2) -> 95.21
B26: O-010 | C26: =VLOOKUP($B26,PU!$B$3:$E$175,2,FALSE) -> UT | D26: =VLOOKUP($B26,PU!$B$3:$E$175,3,FALSE) -> REPARACIÓ D'ESTRUCTURA INTERIOR DE PERICÓ EXISTENT DE 60 x 60 cm, AMB ADEQUACIÓ DE PARETS I LLISCAT. TOTALMENT EXECUTAT. | E26: 1 | F26: =VLOOKUP($B26,PU!$B$3:$E$175,4,FALSE) -> 70.98 | I26: =ROUND($E26*F26,2) -> 70.98
B27: O-015 | C27: =VLOOKUP($B27,PU!$B$3:$E$175,2,FALSE) -> UT | D27: =VLOOKUP($B27,PU!$B$3:$E$175,3,FALSE) -> INTERCEPTAR CANALITZACIÓ EXISTENT / EMBOCADURA PERICÓ EXISTENT. | E27: 1 | F27: =VLOOKUP($B27,PU!$B$3:$E$175,4,FALSE) -> 160.12 | I27: =ROUND($E27*F27,2) -> 160.12
B28: O-016 | C28: =VLOOKUP($B28,PU!$B$3:$E$175,2,FALSE) -> ML | D28: =VLOOKUP($B28,PU!$B$3:$E$175,3,FALSE) -> COMPROVACIÓ I MANDRINATGE DE CANALITZACIÓ EXISTENT DEIXANT PASSAT FIL GUIA. | E28: 40 | F28: =VLOOKUP($B28,PU!$B$3:$E$175,4,FALSE) -> 2.16 | I28: =ROUND($E28*F28,2) -> 86.4
B29: O-023 | C29: =VLOOKUP($B29,PU!$B$3:$E$175,2,FALSE) -> ML | D29: =VLOOKUP($B29,PU!$B$3:$E$175,3,FALSE) -> REPARACIÓ TUBULAR EN VORERA, MITJANÇANT EXCAVACIÓ, SUBMINISTRAMENT I COL∙LOCACIÓ TUB DE PE DE DOBLE CAPA, LLIS A L'INTERIOR I CORRUGAT A L'EXTERIOR DEL MATEIX DIÀMETRE QUE L'EXISTENT, MANIGOT D'ACOBLAMENT, PAS DEL CABLE, COL∙LOCACIÓ DE MITJA CANYA, LLIGAT AMB FILFERROS I FORMIGONAT DEL CONJUNT I REPOSICIÓ DE PAVIMENT DE PANOT DE LES MATEIXES CARACTERÍSTIQUES A L'EXISTENT, PER A LLARGADES FINS A 2m. TOTALMENT EXECUTADA. | E29: 2 | F29: =VLOOKUP($B29,PU!$B$3:$E$175,4,FALSE) -> 134.16 | I29: =ROUND($E29*F29,2) -> 268.32
B30: O-028 | C30: =VLOOKUP($B30,PU!$B$3:$E$175,2,FALSE) -> UT | D30: =VLOOKUP($B30,PU!$B$3:$E$175,3,FALSE) -> OBTURACIÓ DE TUBULAR AMB CABLES EXISTENTS. | E30: 6 | F30: =VLOOKUP($B30,PU!$B$3:$E$175,4,FALSE) -> 2.6 | I30: =ROUND($E30*F30,2) -> 15.6
B31: O-030 | C31: =VLOOKUP($B31,PU!$B$3:$E$175,2,FALSE) -> UT | D31: =VLOOKUP($B31,PU!$B$3:$E$175,3,FALSE) -> SENYALITZACIÓ OBRES, ZONES D'ABASSEGAMENT DE MATERIALS, MAQUINÀRIA, TALLS DE CARRIL I SIMILARS, NECESSARIS PER A L'EXECUCIÓ DE L'OBRA CIVIL A FER EN EL PUNT DE CONTROL. INCLOU TRAMITACIÓ PERMISOS I GESTIONS DAVANT ORGANISMES I ADMINISTRACIONS. | E31: 1 | F31: =VLOOKUP($B31,PU!$B$3:$E$175,4,FALSE) -> 389.49 | I31: =ROUND($E31*F31,2) -> 389.49
B32: Subtotal Obra Civil | I32: =SUM(I25:I31) -> 1086.12
B34: =PU!B73 -> INSTAL·LACIÓ ELÈCTRICA
B35: =PU!B85 -> I-012 | C35: =VLOOKUP($B35,PU!$B$3:$E$175,2,FALSE) -> UT | D35: =VLOOKUP($B35,PU!$B$3:$E$175,3,FALSE) -> REALITZACIÓ D'UNA SORTIDA ELÈCTRICA, EN QUADRE ELÈCTRIC EXISTENT, CONSISTENT EN PROTECCIÓ MAGNETOTÈRMICA 6A 2P I TREBALLS DE CONNEXIÓ NECESSARIS, PER L'ALIMENTACIÓ D'UN CONJUNT DE CÀMERA. | E35: 1 | F35: =VLOOKUP($B35,PU!$B$3:$E$175,4,FALSE) -> 43.78 | I35: =ROUND($E35*F35,2) -> 43.78
B36: Subtotal instal·lacions elèctriques. | I36: =SUM(I35:I35) -> 43.78
B38: =PU!B92 -> SENYALITZACIÓ
B39: S-001 | C39: =VLOOKUP($B39,PU!$B$3:$E$175,2,FALSE) -> UT | D39: =VLOOKUP($B39,PU!$B$3:$E$175,3,FALSE) -> SUBMINISTRAMENT DE SENYAL DE "CÀMERA DE TRÀNSIT" B-53a SEGONS MANUAL DE SENYALITZACIÓ URBANA I PLEC DE SENYALITZACIÓ PER A LA CIUTAT DE BARCELONA. SENYAL D'ALUMINI DE DOBLE PESTANYA HI, NIVELL II DE 2 MM DE GRUIX, DE DIÀMETRE 40 o 60cm SEGONS NORMES. INCLÒS ELEMENTS DE SUSTENTACIÓ I FIXACIÓ. | E39: 1 | F39: =VLOOKUP($B39,PU!$B$3:$E$175,4,FALSE) -> 90.42 | I39: =ROUND($E39*F39,2) -> 90.42
B40: S-004 | C40: =VLOOKUP($B40,PU!$B$3:$E$175,2,FALSE) -> UT | D40: =VLOOKUP($B40,PU!$B$3:$E$175,3,FALSE) -> SUBMINISTRAMENT DE SENYAL DE "CONTROL FOTOGRÀFIC" B-55a SEGONS MANUAL DE SENYALITZACIÓ URBANA I PLEC DE SENYALITZACIÓ PER A LA CIUTAT DE BARCELONA. SENYAL D'ALUMINI DE DOBLE PESTANYA HI, NIVELL II DE 2 MM DE GRUIX, DE DIÀMETRE 60 CM SEGONS NORMES. INCLÒS ELEMENTS DE SUSTENTACIÓ I FIXACIÓ. | E40: 1 | F40: =VLOOKUP($B40,PU!$B$3:$E$175,4,FALSE) -> 107.23 | I40: =ROUND($E40*F40,2) -> 107.23
B41: S-007 | C41: =VLOOKUP($B41,PU!$B$3:$E$175,2,FALSE) -> UT | D41: =VLOOKUP($B41,PU!$B$3:$E$175,3,FALSE) -> INSTAL·LACIÓ DE SENYAL VERTICAL. | E41: 2 | F41: =VLOOKUP($B41,PU!$B$3:$E$175,4,FALSE) -> 38.95 | I41: =ROUND($E41*F41,2) -> 77.9
B42: Subtotal Senyalització | I42: =SUM(I39:I41) -> 275.55
B44: =PU!B105 -> COMUNICACIONS
B45: FO-07 | C45: =VLOOKUP($B45,PU!$B$3:$E$175,2,FALSE) -> ML | D45: =VLOOKUP($B45,PU!$B$3:$E$175,3,FALSE) -> SUBMINISTRAMENT I INSTAL·LACIÓ DE CABLATGE ESTRUCTURAT UTP CAT 6A PER EXTERIORS, INCLÚS CONNECTORS I CERTIFICACIÓ DEL PUNTS. | E45: 15 | F45: =VLOOKUP($B45,PU!$B$3:$E$175,4,FALSE) -> 1.82 | I45: =ROUND($E45*F45,2) -> 27.3
B46: FO-25 | C46: =VLOOKUP($B46,PU!$B$3:$E$175,2,FALSE) -> PAJ | D46: =VLOOKUP($B46,PU!$B$3:$E$175,3,FALSE) -> TREBALLS INTEGRACIÓ EN PDC EXISTENT PDC-4: FUSTERIA, ASSIGNACIÓ D'IPS ADICIONALS, A UN PDC EXISTENT, INTEGRACIÓ A LA XARXA I ALTA I BASES DE DADES DE L'AJUNTAMENT. | E46: 1 | F46: =VLOOKUP($B46,PU!$B$3:$E$175,4,FALSE) -> 1079.17 | I46: =ROUND($E46*F46,2) -> 1079.17
B47: Subtotal Comunicacions | I47: =SUM(I45:I46) -> 1106.47
B48: TOTAL GENERAL | I48: =I22+I32+I36+I42+I47 -> 12753.91
D51: RESUM PRESSUPOST
D52: =B6 -> EQUIPAMENT PUNT DE CONTROL | I52: =I22 -> 10241.99
D53: =B24 -> OBRA CIVIL | I53: =I32 -> 1086.12
D54: =B34 -> INSTAL·LACIÓ ELÈCTRICA | I54: =I36 -> 43.78
D55: =B38 -> SENYALITZACIÓ | I55: =I42 -> 275.55
D56: COMUNICACIONS | I56: =I47 -> 1106.47
D57: TOTAL PRESSUPOST EXECUCIÓ INSTAL·LACIÓ PdC-01 | I57: =SUM(I52:I56) -> 12753.91

Sheet PdC-05
B2: =_xlfn.CONCAT('Resum Amid.Ppals'!A13," ",'Resum Amid.Ppals'!B13) -> PdC-05 Lluís el Piadós
B4: CODI | C4: U.M | D4: CONCEPTE/DENOMINACIO | E4: AMID. | F4: P.U.PEM | G4: PREU TOTAL
B6: =PU!B5 -> EQUIPAMENT PUNT DE CONTROL
B7: E‐001 | C7: =VLOOKUP($B7,PU!$B$3:$E$175,2,FALSE) -> UT | D7: =VLOOKUP($B7,PU!$B$3:$E$175,3,FALSE) -> SUBMINISTRAMENT D'EQUIP COMPACTE DE RECONEIXEMENT DE MATRÍCULES, FORMAT PER CONJUNT DE CÀMERA LPR 2 CARRILS HD, CÀMERA DE CONTEXT A COLOR, IL∙LUMINADOR IR PER A ZONA D’INFRACCIONS I SISTEMA PROCÉS I EMMAGATZEMATGE SSD 60 GB. INCLOU LLICÈNCIA OCR, CARCASSA, BRAÇ I ADAPTACIÓ A SUPORT. | E7: 1 | F7: =VLOOKUP($B7,PU!$B$3:$E$175,4,FALSE) -> 6405.04 | G7: =ROUND($E7*F7,2) -> 6405.04
B8: E‐002 | C8: =VLOOKUP($B8,PU!$B$3:$E$175,2,FALSE) -> UT | D8: =VLOOKUP($B8,PU!$B$3:$E$175,3,FALSE) -> INSTAL∙LACIÓ D'EQUIP COMPACTE DE RECONEIXEMENT DE MATRÍCULES, FORMAT PER CONJUNT DE CÀMERA LPR 2 CARRILS HD, CÀMERA DE CONTEXT A COLOR, IL∙LUMINADOR IR PER A ZONA D’INFRACCIONS I SISTEMA PROCÉS I EMMAGATZEMATGE SSD 60 GB. INCLOU LICÈNCIA OCR, CARCASSA, BRAÇ I ADAPTACIÓ A SUPORT. | E8: 1 | F8: =VLOOKUP($B8,PU!$B$3:$E$175,4,FALSE) -> 307.27 | G8: =ROUND($E8*F8,2) -> 307.27
B9: E‐003 | C9: =VLOOKUP($B9,PU!$B$3:$E$175,2,FALSE) -> UT | D9: =VLOOKUP($B9,PU!$B$3:$E$175,3,FALSE) -> SUBMINISTRAMENT D'UNITAT DE PROCÉS PEL PUNT DE CONTROL, CONSISTENT EN UN PC DE TIPUS INDUSTRIAL, RUGORITZAT, AMB PROCESSADOR I7, CPU QUAD CORE, BIOS, SISTEMA OPERATIU, WATCHDOG, ALIMENTACIÓ 9‐48V, CAPACITAT EMMAGATZEMATGE 2 TB | E9: 1 | F9: =VLOOKUP($B9,PU!$B$3:$E$175,4,FALSE) -> 930.46 | G9: =ROUND($E9*F9,2) -> 930.46
B10: E‐004 | C10: =VLOOKUP($B10,PU!$B$3:$E$175,2,FALSE) -> UT | D10: =VLOOKUP($B10,PU!$B$3:$E$175,3,FALSE) -> INSTAL∙LACIÓ, CONFIGURACIÓ I POSADA EN FUNCIONAMENT, D'UNITAT DE PROCÉS PEL PUNT DE CONTROL EN ARMARI PDC. | E10: 1 | F10: =VLOOKUP($B10,PU!$B$3:$E$175,4,FALSE) -> 160.12 | G10: =ROUND($E10*F10,2) -> 160.12
B11: E‐005 | C11: =VLOOKUP($B11,PU!$B$3:$E$175,2,FALSE) -> UT | D11: =VLOOKUP($B11,PU!$B$3:$E$175,3,FALSE) -> SUBMINISTRAMENT DE FONT D'ALIMENTACIÓ TIPUS INDUSTRIAL, PER MUNTATGE EN CARRIL DIN, PER ALIMENTAR FINS A 4 CÀMERES PUNT DE CONTROL. | E11: 1 | F11: =VLOOKUP($B11,PU!$B$3:$E$175,4,FALSE) -> 138.48 | G11: =ROUND($E11*F11,2) -> 138.48
B12: E‐006 | C12: =VLOOKUP($B12,PU!$B$3:$E$175,2,FALSE) -> UT | D12: =VLOOKUP($B12,PU!$B$3:$E$175,3,FALSE) -> INSTAL∙LACIÓ DE FONT D'ALIMENTACIÓ TIPUS INDUSTRIAL, PER MUNTATGE EN CARRIL DIN, PER ALIMENTAR FINS A 4 CÀMERES PUNT DE CONTROL. | E12: 1 | F12: =VLOOKUP($B12,PU!$B$3:$E$175,4,FALSE) -> 30.29 | G12: =ROUND($E12*F12,2) -> 30.29
B13: E‐007 | C13: =VLOOKUP($B13,PU!$B$3:$E$175,2,FALSE) -> UT | D13: =VLOOKUP($B13,PU!$B$3:$E$175,3,FALSE) -> SUBMINISTRAMENT DE FONT D'ALIMENTACIÓ TIPUS INDUSTRIAL, PER MUNTATGE EN CARRIL DIN, PER ALIMENTAR UNITAT DE PROCÈS (PC) | E13: 1 | F13: =VLOOKUP($B13,PU!$B$3:$E$175,4,FALSE) -> 46.74 | G13: =ROUND($E13*F13,2) -> 46.74
B14: E‐008 | C14: =VLOOKUP($B14,PU!$B$3:$E$175,2,FALSE) -> UT | D14: =VLOOKUP($B14,PU!$B$3:$E$175,3,FALSE) -> INSTAL·LACIÓ DE FONT D'ALIMENTACIÓ TIPUS INDUSTRIAL, PER MUNTATGE EN CARRIL DIN, PER ALIMENTAR UNITAT DE PROCÈS (PC) | E14: 1 | F14: =VLOOKUP($B14,PU!$B$3:$E$175,4,FALSE) -> 12.12 | G14: =ROUND($E14*F14,2) -> 12.12
B15: E‐013 | C15: =VLOOKUP($B15,PU!$B$3:$E$175,2,FALSE) -> UT | D15: =VLOOKUP($B15,PU!$B$3:$E$175,3,FALSE) -> SUBMINISTRAMENT DE SAI PUNT DE CONTROL LECTURA DE MATRÍCULES, 1000 / 1000VA ‐ AP160N‐1K, FORMAT RACK 19", DE 1000VA / 900W, MONOFÀSIC AMB 3 BATERIES 12V/7,2 AH. | E15: 1 | F15: =VLOOKUP($B15,PU!$B$3:$E$175,4,FALSE) -> 392.09 | G15: =ROUND($E15*F15,2) -> 392.09
B16: E‐014 | C16: =VLOOKUP($B16,PU!$B$3:$E$175,2,FALSE) -> UT | D16: =VLOOKUP($B16,PU!$B$3:$E$175,3,FALSE) -> INSTAL∙LACIÓ DE SAI PUNT DE CONTROL LECTURA DE MATRÍCULES, 1000 / 1000VA ‐ AP160N‐1K, FORMAT RACK 19", DE 1000VA / 900W, MONOFÀSIC AMB 3 BATERIES 12V/7,2 AH. INSTAL∙LACIÓ, CONNEXIÓ I POSADA EN MARXA, INCLOU PETIT MATERIAL INSTAL∙LACIÓ, CABLEJAT I CONNEXIÓ I QUALSEVOL ALTRE NECESSARI PEL CORRECTE FUNCIONAMENT. | E16: 1 | F16: =VLOOKUP($B16,PU!$B$3:$E$175,4,FALSE) -> 30.29 | G16: =ROUND($E16*F16,2) -> 30.29
B17: E‐015 | C17: =VLOOKUP($B17,PU!$B$3:$E$175,2,FALSE) -> UT | D17: =VLOOKUP($B17,PU!$B$3:$E$175,3,FALSE) -> SUBMINISTRAMENT DE MÒDUL SNMP DE COMUNICACIONS PER SAI. INCLOU PETIT MATERIAL, CABLEJAT I QUALSEVOL ALTRE NECESSARI PEL CORRECTE FUNCIONAMENT. | E17: 1 | F17: =VLOOKUP($B17,PU!$B$3:$E$175,4,FALSE) -> 188.04 | G17: =ROUND($E17*F17,2) -> 188.04
B18: E‐016 | C18: =VLOOKUP($B18,PU!$B$3:$E$175,2,FALSE) -> UT | D18: =VLOOKUP($B18,PU!$B$3:$E$175,3,FALSE) -> INSTAL∙LACIÓ DE MÒDUL SNMP COMUNICACIONS PER SAI, CONNEXIÓ I POSADA EN MARXA. INCLOU PETIT MATERIAL INSTAL∙LACIÓ, CABLEJAT I CONNEXIÓ I QUALSEVOL ALTRE NECESSARI PEL CORRECTE FUNCIONAMENT. | E18: 1 | F18: =VLOOKUP($B18,PU!$B$3:$E$175,4,FALSE) -> 5.19 | G18: =ROUND($E18*F18,2) -> 5.19
... B27: E‐034 | C27: =VLOOKUP($B27,PU!$B$3:$E$175,2,FALSE) -> UT | D27: =VLOOKUP($B27,PU!$B$3:$E$175,3,FALSE) -> PRECINTAT DE CÀMERES I DEL PC DE CONTROL DEL PUNT DE CONTROL. INCLOU TOTS ELS MATERIALS (PRECINTES), MITJANS I RECURSOS NECESSARIS. PREU PER PUNT DE CONTROL. | E27: 1 | F27: =VLOOKUP($B27,PU!$B$3:$E$175,4,FALSE) -> 259.66 | G27: =ROUND($E27*F27,2) -> 259.66
B28: Subtotal PdC | G28: =SUM(G7:G27) -> 11579.46
B30: =PU!B41 -> OBRA CIVIL
B31: O-001 | C31: =VLOOKUP($B31,PU!$B$3:$E$175,2,FALSE) -> UT | D31: =VLOOKUP($B31,PU!$B$3:$E$175,3,FALSE) -> FONAMENT DE FORMIGÓ PREFABRICAT PER A ARMARI REGULADOR AMB DOSIFICACIÓ DE 250 KG/m3 I ENCOFRAT CARA VISTA DE DIMENSIONS APROXIMADES 53 x 32,5 x 35 cm. AMB UN ENCASTAMENT DE 15 cm. I DOS FORATS DE 110 mm. DE DIÀMETRE. TOTALMENT EXECUTAT. | E31: 1 | F31: =VLOOKUP($B31,PU!$B$3:$E$175,4,FALSE) -> 203.4 | G31: =ROUND($E31*F31,2) -> 203.4
B32: O-002 | C32: =VLOOKUP($B32,PU!$B$3:$E$175,2,FALSE) -> UT | D32: =VLOOKUP($B32,PU!$B$3:$E$175,3,FALSE) -> FONAMENT DE FORMIGÓ PER A COLUMNA DE 4 METRES, AMB DOSIFICACIÓ DE 250 KG/m3, MITJANÇANT UN DAU DE 50 cm. DE COSTAT I 60 cm. DE PROFUNDITAT, INCLÒS COLZE DE CONNEXIÓ AMB TUBULAR. INCLOU DEMOLICIÓ PAVIMENT, EXCAVACIÓ I POSTERIOR REPOSICIÓ. TOTALMENT EXECUTAT. | E32: 1 | F32: =VLOOKUP($B32,PU!$B$3:$E$175,4,FALSE) -> 95.21 | G32: =ROUND($E32*F32,2) -> 95.21
B33: O-007 | C33: =VLOOKUP($B33,PU!$B$3:$E$175,2,FALSE) -> UT | D33: =VLOOKUP($B33,PU!$B$3:$E$175,3,FALSE) -> PERICÓ DE 60 x 60 cm. PREFABRICAT DE FORMIGÓ O CONSTRUÏT AMB MAONS GERO I FONS DEL MATEIX MATERIAL REBENT EL MARC I LA TAPA CORRESPONENT, SENSE INCLOURE AQUESTS. INCLOU DEMOLICIÓ PAVIMENT, EXCAVACIÓ I POSTERIOR REPOSICIÓ. TOTALMENT EXECUTAT. | E33: 1 | F33: =VLOOKUP($B33,PU!$B$3:$E$175,4,FALSE) -> 129.83 | G33: =ROUND($E33*F33,2) -> 129.83
B34: O-008 | C34: =VLOOKUP($B34,PU!$B$3:$E$175,2,FALSE) -> UT | D34: =VLOOKUP($B34,PU!$B$3:$E$175,3,FALSE) -> SUBMINISTRAMENT MARC DE FERRO FOS DE 60 x 60 cm PER INSTAL·LACIÓ EN VORERA, AMB INSCRIPCIÓ. | E34: 1 | F34: =VLOOKUP($B34,PU!$B$3:$E$175,4,FALSE) -> 34.62 | G34: =ROUND($E34*F34,2) -> 34.62
B35: O-009 | C35: =VLOOKUP($B35,PU!$B$3:$E$175,2,FALSE) -> UT | D35: =VLOOKUP($B35,PU!$B$3:$E$175,3,FALSE) -> SUBMINISTRAMENT TAPA DE FERRO FOS DE 60 x 60 cm PER INSTAL·LACIÓ EN VORERA, AMB INSCRIPCIÓ. | E35: 1 | F35: =VLOOKUP($B35,PU!$B$3:$E$175,4,FALSE) -> 69.25 | G35: =ROUND($E35*F35,2) -> 69.25
B36: O-010 | C36: =VLOOKUP($B36,PU!$B$3:$E$175,2,FALSE) -> UT | D36: =VLOOKUP($B36,PU!$B$3:$E$175,3,FALSE) -> REPARACIÓ D'ESTRUCTURA INTERIOR DE PERICÓ EXISTENT DE 60 x 60 cm, AMB ADEQUACIÓ DE PARETS I LLISCAT. TOTALMENT EXECUTAT. | E36: 1 | F36: =VLOOKUP($B36,PU!$B$3:$E$175,4,FALSE) -> 70.98 | G36: =ROUND($E36*F36,2) -> 70.98
B37: O-015 | C37: =VLOOKUP($B37,PU!$B$3:$E$175,2,FALSE) -> UT | D37: =VLOOKUP($B37,PU!$B$3:$E$175,3,FALSE) -> INTERCEPTAR CANALITZACIÓ EXISTENT / EMBOCADURA PERICÓ EXISTENT. | E37: 1 | F37: =VLOOKUP($B37,PU!$B$3:$E$175,4,FALSE) -> 160.12 | G37: =ROUND($E37*F37,2) -> 160.12
B38: O-016 | C38: =VLOOKUP($B38,PU!$B$3:$E$175,2,FALSE) -> ML | D38: =VLOOKUP($B38,PU!$B$3:$E$175,3,FALSE) -> COMPROVACIÓ I MANDRINATGE DE CANALITZACIÓ EXISTENT DEIXANT PASSAT FIL GUIA. | E38: 150 | F38: =VLOOKUP($B38,PU!$B$3:$E$175,4,FALSE) -> 2.16 | G38: =ROUND($E38*F38,2) -> 324
B39: O-018 | C39: =VLOOKUP($B39,PU!$B$3:$E$175,2,FALSE) -> ML | D39: =VLOOKUP($B39,PU!$B$3:$E$175,3,FALSE) -> CANALITZACIÓ EN VORERA INCLOENT SUBMINISTRAMENT I INSTAL∙LACIÓ DE 2 TUBS DE PE ø 110 mm DE DOBLE CAPA, LLIS A L'INTERIOR I CORRUGAT A L'EXTERIOR, INCLÒS EXCAVACIÓ EN RASA DE 40 x 60 cm. DE PROFUNDITAT, BASE I PROTECCIÓ DE FORMIGÓ HM20, EN VORERES DE PANOT INCLÒS LA SEVA REPOSICIÓ. TOTALMENT EXECUTADA D'ACORD AMB LES ORDENANCES MUNICIPALS I INDICACIONS PARTICULARS. | E39: 10 | F39: =VLOOKUP($B39,PU!$B$3:$E$175,4,FALSE) -> 73.57 | G39: =ROUND($E39*F39,2) -> 735.7
B40: O-023 | C40: =VLOOKUP($B40,PU!$B$3:$E$175,2,FALSE) -> ML | D40: =VLOOKUP($B40,PU!$B$3:$E$175,3,FALSE) -> REPARACIÓ TUBULAR EN VORERA, MITJANÇANT EXCAVACIÓ, SUBMINISTRAMENT I COL∙LOCACIÓ TUB DE PE DE DOBLE CAPA, LLIS A L'INTERIOR I CORRUGAT A L'EXTERIOR DEL MATEIX DIÀMETRE QUE L'EXISTENT, MANIGOT D'ACOBLAMENT, PAS DEL CABLE, COL∙LOCACIÓ DE MITJA CANYA, LLIGAT AMB FILFERROS I FORMIGONAT DEL CONJUNT I REPOSICIÓ DE PAVIMENT DE PANOT DE LES MATEIXES CARACTERÍSTIQUES A L'EXISTENT, PER A LLARGADES FINS A 2m. TOTALMENT EXECUTADA. | E40: 3 | F40: =VLOOKUP($B40,PU!$B$3:$E$175,4,FALSE) -> 134.16 | G40: =ROUND($E40*F40,2) -> 402.48
B41: O-026 | C41: =VLOOKUP($B41,PU!$B$3:$E$175,2,FALSE) -> UT | D41: =VLOOKUP($B41,PU!$B$3:$E$175,3,FALSE) -> SUBMINISTRAMENT PLACA DE PRESA DE TERRA DE 500 x 500 x 3 mm I ACCESSORIS CONNEXIÓ. | E41: 1 | F41: =VLOOKUP($B41,PU!$B$3:$E$175,4,FALSE) -> 30.29 | G41: =ROUND($E41*F41,2) -> 30.29
B42: O-027 | C42: =VLOOKUP($B42,PU!$B$3:$E$175,2,FALSE) -> UT | D42: =VLOOKUP($B42,PU!$B$3:$E$175,3,FALSE) -> INSTAL∙LACIÓ PLACA DE PRESA DE TERRA DE 500 x 500 x 3 mm I ACCESSORIS CONNEXIÓ, EN PERICÓ DE REGISTRE. INCLOSA OBRA CIVIL NECESSÀRIA. | E42: 1 | F42: =VLOOKUP($B42,PU!$B$3:$E$175,4,FALSE) -> 129.83 | G42: =ROUND($E42*F42,2) -> 129.83
... B45: O-030 | C45: =VLOOKUP($B45,PU!$B$3:$E$175,2,FALSE) -> UT | D45: =VLOOKUP($B45,PU!$B$3:$E$175,3,FALSE) -> SENYALITZACIÓ OBRES, ZONES D'ABASSEGAMENT DE MATERIALS, MAQUINÀRIA, TALLS DE CARRIL I SIMILARS, NECESSARIS PER A L'EXECUCIÓ DE L'OBRA CIVIL A FER EN EL PUNT DE CONTROL. INCLOU TRAMITACIÓ PERMISOS I GESTIONS DAVANT ORGANISMES I ADMINISTRACIONS. | E45: 1 | F45: =VLOOKUP($B45,PU!$B$3:$E$175,4,FALSE) -> 389.49 | G45: =ROUND($E45*F45,2) -> 389.49
B46: Subtotal Obra Civil | G46: =SUM(G31:G45) -> 2923.26
B48: =PU!B73 -> INSTAL·LACIÓ ELÈCTRICA
B49: I-001 | C49: =VLOOKUP($B49,PU!$B$3:$E$175,2,FALSE) -> UT | D49: =VLOOKUP($B49,PU!$B$3:$E$175,3,FALSE) -> TREBALLS PER A LA REALITZACIÓ DE L'ALIMENTACIÓ DEL PUNT DE CONTROL, D'ACORD AMB EL QUE INDICA EL PLEC. | E49: 1 | F49: =VLOOKUP($B49,PU!$B$3:$E$175,4,FALSE) -> 164.45 | G49: =ROUND($E49*F49,2) -> 164.45
B50: I-002 | C50: =VLOOKUP($B50,PU!$B$3:$E$175,2,FALSE) -> UT | D50: =VLOOKUP($B50,PU!$B$3:$E$175,3,FALSE) -> SUBMINISTRAMENT D'EQUIPAMENTS ESPECÍFICS PER LA DISTRIBUCIÓ D'ENERGIA DEL PUNT DE CONTROL, CONSISTENTS EN PROTECCIONS ELÈCTRIQUES CONTRA SOBRETENSIONS TRANSITÒRIES (1 UT) I PERMANENTS (1 UT), DIFERENCIALS (FINS A 2 UT), MAGNETOTÈRMICS (FINS A 3 UT) I PRESA DE CORRENT TIPUS SCHUKO (1 UT). | E50: 1 | F50: =VLOOKUP($B50,PU!$B$3:$E$175,4,FALSE) -> 257.93 | G50: =ROUND($E50*F50,2) -> 257.93
B51: I-003 | C51: =VLOOKUP($B51,PU!$B$3:$E$175,2,FALSE) -> UT | D51: =VLOOKUP($B51,PU!$B$3:$E$175,3,FALSE) -> INSTAL·LACIÓ D'EQUIPAMENTS ESPECÍFICS PER LA DISTRIBUCIÓ D'ENERGIA DEL PUNT DE CONTROL. | E51: 1 | F51: =VLOOKUP($B51,PU!$B$3:$E$175,4,FALSE) -> 70.11 | G51: =ROUND($E51*F51,2) -> 70.11
B52: I-004 | C52: =VLOOKUP($B52,PU!$B$3:$E$175,2,FALSE) -> ML | D52: =VLOOKUP($B52,PU!$B$3:$E$175,3,FALSE) -> SUBMINISTRAMENT DE CABLE DE CONDUCTOR DE COURE AMB AÏLLAMENT DE PLÀSTIC, DE SECCIÓ 1x6 mm2 PER PRESES DE TERRA. | E52: 20 | F52: =VLOOKUP($B52,PU!$B$3:$E$175,4,FALSE) -> 0.95 | G52: =ROUND($E52*F52,2) -> 19
B53: I-005 | C53: =VLOOKUP($B53,PU!$B$3:$E$175,2,FALSE) -> ML | D53: =VLOOKUP($B53,PU!$B$3:$E$175,3,FALSE) -> INSTAL·LACIÓ DE CABLE DE CONDUCTOR DE COURE AMB AÏLLAMENT DE PLÀSTIC, DE SECCIÓ 1x6 mm2 PER PRESES DE TERRA. | E53: 20 | F53: =VLOOKUP($B53,PU!$B$3:$E$175,4,FALSE) -> 0.78 | G53: =ROUND($E53*F53,2) -> 15.6
B54: I-006 | C54: =VLOOKUP($B54,PU!$B$3:$E$175,2,FALSE) -> ML | D54: =VLOOKUP($B54,PU!$B$3:$E$175,3,FALSE) -> SUBMINISTRAMENT DE CABLE DE CONDUCTOR DE COURE EPTAFILAR NU, DE SECCIÓ 1x35 mm2. | E54: 5 | F54: =VLOOKUP($B54,PU!$B$3:$E$175,4,FALSE) -> 3.89 | G54: =ROUND($E54*F54,2) -> 19.45
B55: I-007 | C55: =VLOOKUP($B55,PU!$B$3:$E$175,2,FALSE) -> ML | D55: =VLOOKUP($B55,PU!$B$3:$E$175,3,FALSE) -> INSTAL·LACIÓ DE CABLE DE CONDUCTOR DE COURE EPTAFILAR NU, DE SECCIÓ 1x35 mm2. | E55: 5 | F55: =VLOOKUP($B55,PU!$B$3:$E$175,4,FALSE) -> 0.78 | G55: =ROUND($E55*F55,2) -> 3.9
B56: I-008 | C56: =VLOOKUP($B56,PU!$B$3:$E$175,2,FALSE) -> ML | D56: =VLOOKUP($B56,PU!$B$3:$E$175,3,FALSE) -> SUBMINISTRAMENT DE CABLE CONDUCTOR DE COURE RV-K 0,6/1KV DE 3x6 mm2 | E56: 200 | F56: =VLOOKUP($B56,PU!$B$3:$E$175,4,FALSE) -> 2.42 | G56: =ROUND($E56*F56,2) -> 484
B57: I-009 | C57: =VLOOKUP($B57,PU!$B$3:$E$175,2,FALSE) -> ML | D57: =VLOOKUP($B57,PU!$B$3:$E$175,3,FALSE) -> INSTAL·LACIÓ DE CABLE CONDUCTOR DE COURE RV-K 0,6/1KV DE 3x6 mm2 | E57: 200 | F57: =VLOOKUP($B57,PU!$B$3:$E$175,4,FALSE) -> 0.78 | G57: =ROUND($E57*F57,2) -> 156
B58: I-014 | C58: =VLOOKUP($B58,PU!$B$3:$E$175,2,FALSE) -> UT | D58: =VLOOKUP($B58,PU!$B$3:$E$175,3,FALSE) -> MODIFICACIÓ DE LEGALITZACIÓ EXISTENT DE <15KW PER AFEGIR UNA SORTIDA ADICIONAL PER ALIMENTAR UN ARMARI Y CÀMERES. INCLOU CÀLCULS DE CABLEJAT, RIYSIC, CIE I LA GESTIÓ PER LA FIRMA DE LA DECLARACIÓ RESPONSABLE I LA PRESENTACIÓ A INDUSTRIA. | E58: 1 | F58: =VLOOKUP($B58,PU!$B$3:$E$175,4,FALSE) -> 261.73 | G58: =ROUND($E58*F58,2) -> 261.73
B59: Subtotal instal·lacions elèctriques. | G59: =SUM(G49:G58) -> 1452.17
B61: =PU!B92 -> SENYALITZACIÓ
B62: S-001 | C62: =VLOOKUP($B62,PU!$B$3:$E$175,2,FALSE) -> UT | D62: =VLOOKUP($B62,PU!$B$3:$E$175,3,FALSE) -> SUBMINISTRAMENT DE SENYAL DE "CÀMERA DE TRÀNSIT" B-53a SEGONS MANUAL DE SENYALITZACIÓ URBANA I PLEC DE SENYALITZACIÓ PER A LA CIUTAT DE BARCELONA. SENYAL D'ALUMINI DE DOBLE PESTANYA HI, NIVELL II DE 2 MM DE GRUIX, DE DIÀMETRE 40 o 60cm SEGONS NORMES. INCLÒS ELEMENTS DE SUSTENTACIÓ I FIXACIÓ. | E62: 1 | F62: =VLOOKUP($B62,PU!$B$3:$E$175,4,FALSE) -> 90.42 | G62: =ROUND($E62*F62,2) -> 90.42
B63: S-004 | C63: =VLOOKUP($B63,PU!$B$3:$E$175,2,FALSE) -> UT | D63: =VLOOKUP($B63,PU!$B$3:$E$175,3,FALSE) -> SUBMINISTRAMENT DE SENYAL DE "CONTROL FOTOGRÀFIC" B-55a SEGONS MANUAL DE SENYALITZACIÓ URBANA I PLEC DE SENYALITZACIÓ PER A LA CIUTAT DE BARCELONA. SENYAL D'ALUMINI DE DOBLE PESTANYA HI, NIVELL II DE 2 MM DE GRUIX, DE DIÀMETRE 60 CM SEGONS NORMES. INCLÒS ELEMENTS DE SUSTENTACIÓ I FIXACIÓ. | E63: 1 | F63: =VLOOKUP($B63,PU!$B$3:$E$175,4,FALSE) -> 107.23 | G63: =ROUND($E63*F63,2) -> 107.23
B64: S-007 | C64: =VLOOKUP($B64,PU!$B$3:$E$175,2,FALSE) -> UT | D64: =VLOOKUP($B64,PU!$B$3:$E$175,3,FALSE) -> INSTAL·LACIÓ DE SENYAL VERTICAL. | E64: 2 | F64: =VLOOKUP($B64,PU!$B$3:$E$175,4,FALSE) -> 38.95 | G64: =ROUND($E64*F64,2) -> 77.9
B65: Subtotal Senyalització | G65: =SUM(G62:G64) -> 275.55
B67: COMUNICACIONS
B68: FO-03 | C68: =VLOOKUP($B68,PU!$B$3:$E$175,2,FALSE) -> ML | D68: =VLOOKUP($B68,PU!$B$3:$E$175,3,FALSE) -> SUBMINISTRAMENT I INSTAL∙LACIÓ DE CABLE DE 24 FO MONOMODE B1.1, SEGONS EN 186000. ARMAT. AMB PROTECCIÓ D'ARAMIDA, ARMADURA METÀL∙LICA I COBERTA EXTERIOR DE POLIETILÈ. | E68: 200 | F68: =VLOOKUP($B68,PU!$B$3:$E$175,4,FALSE) -> 2.74 | G68: =ROUND($E68*F68,2) -> 548
B69: FO-06 | C69: =VLOOKUP($B69,PU!$B$3:$E$175,2,FALSE) -> UT | D69: =VLOOKUP($B69,PU!$B$3:$E$175,3,FALSE) -> SUBMINISTRAMENT I INSTAL·LACIÓ DE FUETÓ DE FO MONOMODE FINS A 2 m, INCLÚS CONNECTORS. SEGONS ESPECIFICACIONS AJUNTAMENT. | E69: 2 | F69: =VLOOKUP($B69,PU!$B$3:$E$175,4,FALSE) -> 19.04 | G69: =ROUND($E69*F69,2) -> 38.08
B70: FO-09 | C70: =VLOOKUP($B70,PU!$B$3:$E$175,2,FALSE) -> UT | D70: =VLOOKUP($B70,PU!$B$3:$E$175,3,FALSE) -> SUBMINISTRAMENT I INSTAL·LACIÓ DE CAIXA REPARTIDORA ÒPTICA OTB-24. SEGONS ESPECIFICACIONS AJUNTAMENT. | E70: 1 | F70: =VLOOKUP($B70,PU!$B$3:$E$175,4,FALSE) -> 302.94 | G70: =ROUND($E70*F70,2) -> 302.94
B71: FO-11 | C71: =VLOOKUP($B71,PU!$B$3:$E$175,2,FALSE) -> UT | D71: =VLOOKUP($B71,PU!$B$3:$E$175,3,FALSE) -> FUSIÓ EN RECTE DE 1 FO MONOMODE. INCLOU PIG·TAIL, CONNECTORS I ADAPTADORS, AIXÍ COM LES MESURES DE RETROESPARCIMENT I POTÈNCIA. SEGONS ESPECIFICACIONS AJUTAMENT. | E71: 4 | F71: =VLOOKUP($B71,PU!$B$3:$E$175,4,FALSE) -> 56.26 | G71: =ROUND($E71*F71,2) -> 225.04
B72: FO-14 | C72: =VLOOKUP($B72,PU!$B$3:$E$175,2,FALSE) -> UD | D72: =VLOOKUP($B72,PU!$B$3:$E$175,3,FALSE) -> SUBMINISTRAMENT DE SWITCH DE COMUNICACIONS PER INSTAL·LACIÓ EN ARMARI DE CARRER, HOMOLOGAT PER L'AJUNTAMENT DE BARCELONA - IMI. SWITCH GESTIONABLE AMB 8 PORTS 10/100/1000Base-T + 2 PORTS 100/1000 SFP/RJ45 Combo. INCLOSOS SFP’s DE FIBRA TN-SFP-LX1-SM GIB I SISTEMA DE MUNTATGE EN RACK. | E72: 1 | F72: =VLOOKUP($B72,PU!$B$3:$E$175,4,FALSE) -> 999.71 | G72: =ROUND($E72*F72,2) -> 999.71
B73: FO-15 | C73: =VLOOKUP($B73,PU!$B$3:$E$175,2,FALSE) -> UD | D73: =VLOOKUP($B73,PU!$B$3:$E$175,3,FALSE) -> INSTAL·LACIÓ DE SWITCH DE COMUNICACIONS EN ARMARI DE CARRER, HOMOLOGAT PER L'AJUNTAMENT DE BARCELONA - IMI. | E73: 1 | F73: =VLOOKUP($B73,PU!$B$3:$E$175,4,FALSE) -> 64.92 | G73: =ROUND($E73*F73,2) -> 64.92
B74: FO-21 | C74: =VLOOKUP($B74,PU!$B$3:$E$175,2,FALSE) -> UT | D74: =VLOOKUP($B74,PU!$B$3:$E$175,3,FALSE) -> SUBMINISTRAMENT l INSTAL·LACIÓ DE CANVIADOR DE MEDI TIPUS SFP (FIBRA OPTICA MONOMODE). CONVERTIDOR DE MEDI NECESSARI PER TRANSFORMAR LA SENYAL OPTICA A ELECTRICA FO/ ETHERNET/ 422/ 485/ 422, MODEL RAISECOM L2 DIN·RAIL S1503i-AC O EQUIVALENT, INCLOS EL SFP BIFIBRA LC/PC, AMB 1 PORT 100/1000M BASE-X SFP + 2 PORTS 10/100/1000M BX | E74: 1 | F74: =VLOOKUP($B74,PU!$B$3:$E$175,4,FALSE) -> 478.64 | G74: =ROUND($E74*F74,2) -> 478.64
B75: FO-26 | C75: =VLOOKUP($B75,PU!$B$3:$E$175,2,FALSE) -> PAJ | D75: =VLOOKUP($B75,PU!$B$3:$E$175,3,FALSE) -> TREBALLS CELLNEX PDC-05 LLUÍS EL PIADÓS. INCLOU CONNEXIÓ I INTEGRACIÓ A LA XARXA ACTIVA, TREBALLS DE FO I TREBALLS D'ENGINYERIA, DESPLEGAMENT, DOCUMENTACIÓ I PRL. | E75: 1 | F75: =VLOOKUP($B75,PU!$B$3:$E$175,4,FALSE) -> 3155.14 | G75: =ROUND($E75*F75,2) -> 3155.14
B76: Subtotal Comunicacions | G76: =SUM(G68:G75) -> 5812.47
B77: TOTAL GENERAL | G77: =G28+G46+G59+G65+G76 -> 22042.91
D80: RESUM PRESSUPOST
D81: =B6 -> EQUIPAMENT PUNT DE CONTROL | G81: =G28 -> 11579.46
D82: =B30 -> OBRA CIVIL | G82: =G46 -> 2923.26
D83: =B48 -> INSTAL·LACIÓ ELÈCTRICA | G83: =G59 -> 1452.17
D84: =B61 -> SENYALITZACIÓ | G84: =G65 -> 275.55
D85: COMUNICACIONS | G85: =G76 -> 5812.47
D86: TOTAL PRESSUPOST EXECUCIÓ INSTAL·LACIÓ PdC-01 | G86: =SUM(G81:G85) -> 22042.91

Sheet PdC-06
B2: =_xlfn.CONCAT('Resum Amid.Ppals'!A14," ",'Resum Amid.Ppals'!B14) -> PdC-06 Placeta Comerç
B4: CODI | C4: U.M | D4: CONCEPTE/DENOMINACIO | E4: AMID. | F4: P.U.PEM | G4: PREU TOTAL
B6: =PU!B5 -> EQUIPAMENT PUNT DE CONTROL
B7: E‐001 | C7: =VLOOKUP($B7,PU!$B$3:$E$175,2,FALSE) -> UT | D7: =VLOOKUP($B7,PU!$B$3:$E$175,3,FALSE) -> SUBMINISTRAMENT D'EQUIP COMPACTE DE RECONEIXEMENT DE MATRÍCULES, FORMAT PER CONJUNT DE CÀMERA LPR 2 CARRILS HD, CÀMERA DE CONTEXT A COLOR, IL∙LUMINADOR IR PER A ZONA D’INFRACCIONS I SISTEMA PROCÉS I EMMAGATZEMATGE SSD 60 GB. INCLOU LLICÈNCIA OCR, CARCASSA, BRAÇ I ADAPTACIÓ A SUPORT. | E7: 2 | F7: =VLOOKUP($B7,PU!$B$3:$E$175,4,FALSE) -> 6405.04 | G7: =ROUND($E7*F7,2) -> 12810.08
B8: E‐002 | C8: =VLOOKUP($B8,PU!$B$3:$E$175,2,FALSE) -> UT | D8: =VLOOKUP($B8,PU!$B$3:$E$175,3,FALSE) -> INSTAL∙LACIÓ D'EQUIP COMPACTE DE RECONEIXEMENT DE MATRÍCULES, FORMAT PER CONJUNT DE CÀMERA LPR 2 CARRILS HD, CÀMERA DE CONTEXT A COLOR, IL∙LUMINADOR IR PER A ZONA D’INFRACCIONS I SISTEMA PROCÉS I EMMAGATZEMATGE SSD 60 GB. INCLOU LICÈNCIA OCR, CARCASSA, BRAÇ I ADAPTACIÓ A SUPORT. | E8: 2 | F8: =VLOOKUP($B8,PU!$B$3:$E$175,4,FALSE) -> 307.27 | G8: =ROUND($E8*F8,2) -> 614.54
B9: E‐003 | C9: =VLOOKUP($B9,PU!$B$3:$E$175,2,FALSE) -> UT | D9: =VLOOKUP($B9,PU!$B$3:$E$175,3,FALSE) -> SUBMINISTRAMENT D'UNITAT DE PROCÉS PEL PUNT DE CONTROL, CONSISTENT EN UN PC DE TIPUS INDUSTRIAL, RUGORITZAT, AMB PROCESSADOR I7, CPU QUAD CORE, BIOS, SISTEMA OPERATIU, WATCHDOG, ALIMENTACIÓ 9‐48V, CAPACITAT EMMAGATZEMATGE 2 TB | E9: 1 | F9: =VLOOKUP($B9,PU!$B$3:$E$175,4,FALSE) -> 930.46 | G9: =ROUND($E9*F9,2) -> 930.46
B10: E‐004 | C10: =VLOOKUP($B10,PU!$B$3:$E$175,2,FALSE) -> UT | D10: =VLOOKUP($B10,PU!$B$3:$E$175,3,FALSE) -> INSTAL∙LACIÓ, CONFIGURACIÓ I POSADA EN FUNCIONAMENT, D'UNITAT DE PROCÉS PEL PUNT DE CONTROL EN ARMARI PDC. | E10: 1 | F10: =VLOOKUP($B10,PU!$B$3:$E$175,4,FALSE) -> 160.12 | G10: =ROUND($E10*F10,2) -> 160.12
B11: E‐005 | C11: =VLOOKUP($B11,PU!$B$3:$E$175,2,FALSE) -> UT | D11: =VLOOKUP($B11,PU!$B$3:$E$175,3,FALSE) -> SUBMINISTRAMENT DE FONT D'ALIMENTACIÓ TIPUS INDUSTRIAL, PER MUNTATGE EN CARRIL DIN, PER ALIMENTAR FINS A 4 CÀMERES PUNT DE CONTROL. | E11: 1 | F11: =VLOOKUP($B11,PU!$B$3:$E$175,4,FALSE) -> 138.48 | G11: =ROUND($E11*F11,2) -> 138.48
B12: E‐006 | C12: =VLOOKUP($B12,PU!$B$3:$E$175,2,FALSE) -> UT | D12: =VLOOKUP($B12,PU!$B$3:$E$175,3,FALSE) -> INSTAL∙LACIÓ DE FONT D'ALIMENTACIÓ TIPUS INDUSTRIAL, PER MUNTATGE EN CARRIL DIN, PER ALIMENTAR FINS A 4 CÀMERES PUNT DE CONTROL. | E12: 1 | F12: =VLOOKUP($B12,PU!$B$3:$E$175,4,FALSE) -> 30.29 | G12: =ROUND($E12*F12,2) -> 30.29
B13: E‐007 | C13: =VLOOKUP($B13,PU!$B$3:$E$175,2,FALSE) -> UT | D13: =VLOOKUP($B13,PU!$B$3:$E$175,3,FALSE) -> SUBMINISTRAMENT DE FONT D'ALIMENTACIÓ TIPUS INDUSTRIAL, PER MUNTATGE EN CARRIL DIN, PER ALIMENTAR UNITAT DE PROCÈS (PC) | E13: 1 | F13: =VLOOKUP($B13,PU!$B$3:$E$175,4,FALSE) -> 46.74 | G13: =ROUND($E13*F13,2) -> 46.74
B14: E‐008 | C14: =VLOOKUP($B14,PU!$B$3:$E$175,2,FALSE) -> UT | D14: =VLOOKUP($B14,PU!$B$3:$E$175,3,FALSE) -> INSTAL·LACIÓ DE FONT D'ALIMENTACIÓ TIPUS INDUSTRIAL, PER MUNTATGE EN CARRIL DIN, PER ALIMENTAR UNITAT DE PROCÈS (PC) | E14: 1 | F14: =VLOOKUP($B14,PU!$B$3:$E$175,4,FALSE) -> 12.12 | G14: =ROUND($E14*F14,2) -> 12.12
B15: E‐013 | C15: =VLOOKUP($B15,PU!$B$3:$E$175,2,FALSE) -> UT | D15: =VLOOKUP($B15,PU!$B$3:$E$175,3,FALSE) -> SUBMINISTRAMENT DE SAI PUNT DE CONTROL LECTURA DE MATRÍCULES, 1000 / 1000VA ‐ AP160N‐1K, FORMAT RACK 19", DE 1000VA / 900W, MONOFÀSIC AMB 3 BATERIES 12V/7,2 AH. | E15: 1 | F15: =VLOOKUP($B15,PU!$B$3:$E$175,4,FALSE) -> 392.09 | G15: =ROUND($E15*F15,2) -> 392.09
B16: E‐014 | C16: =VLOOKUP($B16,PU!$B$3:$E$175,2,FALSE) -> UT | D16: =VLOOKUP($B16,PU!$B$3:$E$175,3,FALSE) -> INSTAL∙LACIÓ DE SAI PUNT DE CONTROL LECTURA DE MATRÍCULES, 1000 / 1000VA ‐ AP160N‐1K, FORMAT RACK 19", DE 1000VA / 900W, MONOFÀSIC AMB 3 BATERIES 12V/7,2 AH. INSTAL∙LACIÓ, CONNEXIÓ I POSADA EN MARXA, INCLOU PETIT MATERIAL INSTAL∙LACIÓ, CABLEJAT I CONNEXIÓ I QUALSEVOL ALTRE NECESSARI PEL CORRECTE FUNCIONAMENT. | E16: 1 | F16: =VLOOKUP($B16,PU!$B$3:$E$175,4,FALSE) -> 30.29 | G16: =ROUND($E16*F16,2) -> 30.29
B17: E‐015 | C17: =VLOOKUP($B17,PU!$B$3:$E$175,2,FALSE) -> UT | D17: =VLOOKUP($B17,PU!$B$3:$E$175,3,FALSE) -> SUBMINISTRAMENT DE MÒDUL SNMP DE COMUNICACIONS PER SAI. INCLOU PETIT MATERIAL, CABLEJAT I QUALSEVOL ALTRE NECESSARI PEL CORRECTE FUNCIONAMENT. | E17: 1 | F17: =VLOOKUP($B17,PU!$B$3:$E$175,4,FALSE) -> 188.04 | G17: =ROUND($E17*F17,2) -> 188.04
B18: E‐016 | C18: =VLOOKUP($B18,PU!$B$3:$E$175,2,FALSE) -> UT | D18: =VLOOKUP($B18,PU!$B$3:$E$175,3,FALSE) -> INSTAL∙LACIÓ DE MÒDUL SNMP COMUNICACIONS PER SAI, CONNEXIÓ I POSADA EN MARXA. INCLOU PETIT MATERIAL INSTAL∙LACIÓ, CABLEJAT I CONNEXIÓ I QUALSEVOL ALTRE NECESSARI PEL CORRECTE FUNCIONAMENT. | E18: 1 | F18: =VLOOKUP($B18,PU!$B$3:$E$175,4,FALSE) -> 5.19 | G18: =ROUND($E18*F18,2) -> 5.19
... B30: E‐034 | C30: =VLOOKUP($B30,PU!$B$3:$E$175,2,FALSE) -> UT | D30: =VLOOKUP($B30,PU!$B$3:$E$175,3,FALSE) -> PRECINTAT DE CÀMERES I DEL PC DE CONTROL DEL PUNT DE CONTROL. INCLOU TOTS ELS MATERIALS (PRECINTES), MITJANS I RECURSOS NECESSARIS. PREU PER PUNT DE CONTROL. | E30: 1 | F30: =VLOOKUP($B30,PU!$B$3:$E$175,4,FALSE) -> 259.66 | G30: =ROUND($E30*F30,2) -> 259.66
B31: Subtotal PdC | G31: =SUM(G7:G30) -> 19698.28
B33: =PU!B41 -> OBRA CIVIL
B34: O-001 | C34: =VLOOKUP($B34,PU!$B$3:$E$175,2,FALSE) -> UT | D34: =VLOOKUP($B34,PU!$B$3:$E$175,3,FALSE) -> FONAMENT DE FORMIGÓ PREFABRICAT PER A ARMARI REGULADOR AMB DOSIFICACIÓ DE 250 KG/m3 I ENCOFRAT CARA VISTA DE DIMENSIONS APROXIMADES 53 x 32,5 x 35 cm. AMB UN ENCASTAMENT DE 15 cm. I DOS FORATS DE 110 mm. DE DIÀMETRE. TOTALMENT EXECUTAT. | E34: 1 | F34: =VLOOKUP($B34,PU!$B$3:$E$175,4,FALSE) -> 203.4 | G34: =ROUND($E34*F34,2) -> 203.4
B35: O-002 | C35: =VLOOKUP($B35,PU!$B$3:$E$175,2,FALSE) -> UT | D35: =VLOOKUP($B35,PU!$B$3:$E$175,3,FALSE) -> FONAMENT DE FORMIGÓ PER A COLUMNA DE 4 METRES, AMB DOSIFICACIÓ DE 250 KG/m3, MITJANÇANT UN DAU DE 50 cm. DE COSTAT I 60 cm. DE PROFUNDITAT, INCLÒS COLZE DE CONNEXIÓ AMB TUBULAR. INCLOU DEMOLICIÓ PAVIMENT, EXCAVACIÓ I POSTERIOR REPOSICIÓ. TOTALMENT EXECUTAT. | E35: 2 | F35: =VLOOKUP($B35,PU!$B$3:$E$175,4,FALSE) -> 95.21 | G35: =ROUND($E35*F35,2) -> 190.42
B36: O-007 | C36: =VLOOKUP($B36,PU!$B$3:$E$175,2,FALSE) -> UT | D36: =VLOOKUP($B36,PU!$B$3:$E$175,3,FALSE) -> PERICÓ DE 60 x 60 cm. PREFABRICAT DE FORMIGÓ O CONSTRUÏT AMB MAONS GERO I FONS DEL MATEIX MATERIAL REBENT EL MARC I LA TAPA CORRESPONENT, SENSE INCLOURE AQUESTS. INCLOU DEMOLICIÓ PAVIMENT, EXCAVACIÓ I POSTERIOR REPOSICIÓ. TOTALMENT EXECUTAT. | E36: 1 | F36: =VLOOKUP($B36,PU!$B$3:$E$175,4,FALSE) -> 129.83 | G36: =ROUND($E36*F36,2) -> 129.83
B37: O-008 | C37: =VLOOKUP($B37,PU!$B$3:$E$175,2,FALSE) -> UT | D37: =VLOOKUP($B37,PU!$B$3:$E$175,3,FALSE) -> SUBMINISTRAMENT MARC DE FERRO FOS DE 60 x 60 cm PER INSTAL·LACIÓ EN VORERA, AMB INSCRIPCIÓ. | E37: 1 | F37: =VLOOKUP($B37,PU!$B$3:$E$175,4,FALSE) -> 34.62 | G37: =ROUND($E37*F37,2) -> 34.62
B38: O-009 | C38: =VLOOKUP($B38,PU!$B$3:$E$175,2,FALSE) -> UT | D38: =VLOOKUP($B38,PU!$B$3:$E$175,3,FALSE) -> SUBMINISTRAMENT TAPA DE FERRO FOS DE 60 x 60 cm PER INSTAL·LACIÓ EN VORERA, AMB INSCRIPCIÓ. | E38: 1 | F38: =VLOOKUP($B38,PU!$B$3:$E$175,4,FALSE) -> 69.25 | G38: =ROUND($E38*F38,2) -> 69.25
B39: O-010 | C39: =VLOOKUP($B39,PU!$B$3:$E$175,2,FALSE) -> UT | D39: =VLOOKUP($B39,PU!$B$3:$E$175,3,FALSE) -> REPARACIÓ D'ESTRUCTURA INTERIOR DE PERICÓ EXISTENT DE 60 x 60 cm, AMB ADEQUACIÓ DE PARETS I LLISCAT. TOTALMENT EXECUTAT. | E39: 1 | F39: =VLOOKUP($B39,PU!$B$3:$E$175,4,FALSE) -> 70.98 | G39: =ROUND($E39*F39,2) -> 70.98
B40: O-014 | C40: =VLOOKUP($B40,PU!$B$3:$E$175,2,FALSE) -> UT | D40: =VLOOKUP($B40,PU!$B$3:$E$175,3,FALSE) -> RECONVERSIÓ PERICÓ DE 40X40 A PERICÓ DE 60X60. INCLOU TREBALLS DE CONSTRUCCIÓ DE L'ESTRUCTURA AMB MAONS, FORMIGÓ I LA TAPA I MARC DE FERRO, AIXÍ COM ELS TREBALLS DE MÀ D'OBRA. | E40: 1 | F40: =VLOOKUP($B40,PU!$B$3:$E$175,4,FALSE) -> 181.76 | G40: =ROUND($E40*F40,2) -> 181.76
B41: O-015 | C41: =VLOOKUP($B41,PU!$B$3:$E$175,2,FALSE) -> UT | D41: =VLOOKUP($B41,PU!$B$3:$E$175,3,FALSE) -> INTERCEPTAR CANALITZACIÓ EXISTENT / EMBOCADURA PERICÓ EXISTENT. | E41: 1 | F41: =VLOOKUP($B41,PU!$B$3:$E$175,4,FALSE) -> 160.12 | G41: =ROUND($E41*F41,2) -> 160.12
B42: O-016 | C42: =VLOOKUP($B42,PU!$B$3:$E$175,2,FALSE) -> ML | D42: =VLOOKUP($B42,PU!$B$3:$E$175,3,FALSE) -> COMPROVACIÓ I MANDRINATGE DE CANALITZACIÓ EXISTENT DEIXANT PASSAT FIL GUIA. | E42: 100 | F42: =VLOOKUP($B42,PU!$B$3:$E$175,4,FALSE) -> 2.16 | G42: =ROUND($E42*F42,2) -> 216
B43: O-018 | C43: =VLOOKUP($B43,PU!$B$3:$E$175,2,FALSE) -> ML | D43: =VLOOKUP($B43,PU!$B$3:$E$175,3,FALSE) -> CANALITZACIÓ EN VORERA INCLOENT SUBMINISTRAMENT I INSTAL∙LACIÓ DE 2 TUBS DE PE ø 110 mm DE DOBLE CAPA, LLIS A L'INTERIOR I CORRUGAT A L'EXTERIOR, INCLÒS EXCAVACIÓ EN RASA DE 40 x 60 cm. DE PROFUNDITAT, BASE I PROTECCIÓ DE FORMIGÓ HM20, EN VORERES DE PANOT INCLÒS LA SEVA REPOSICIÓ. TOTALMENT EXECUTADA D'ACORD AMB LES ORDENANCES MUNICIPALS I INDICACIONS PARTICULARS. | E43: 40 | F43: =VLOOKUP($B43,PU!$B$3:$E$175,4,FALSE) -> 73.57 | G43: =ROUND($E43*F43,2) -> 2942.8
B44: O-022 | C44: =VLOOKUP($B44,PU!$B$3:$E$175,2,FALSE) -> ML | D44: =VLOOKUP($B44,PU!$B$3:$E$175,3,FALSE) -> SUPLEMENT PER REALITZACIÓ DE CANALITZACIÓ EN VORERA DE PAVIMENT ESPECIAL, TIPUS GRANIT, LLAMBORDES O SIMILARS | E44: 1 | F44: =VLOOKUP($B44,PU!$B$3:$E$175,4,FALSE) -> 25.97 | G44: =ROUND($E44*F44,2) -> 25.97
B45: O-023 | C45: =VLOOKUP($B45,PU!$B$3:$E$175,2,FALSE) -> ML | D45: =VLOOKUP($B45,PU!$B$3:$E$175,3,FALSE) -> REPARACIÓ TUBULAR EN VORERA, MITJANÇANT EXCAVACIÓ, SUBMINISTRAMENT I COL∙LOCACIÓ TUB DE PE DE DOBLE CAPA, LLIS A L'INTERIOR I CORRUGAT A L'EXTERIOR DEL MATEIX DIÀMETRE QUE L'EXISTENT, MANIGOT D'ACOBLAMENT, PAS DEL CABLE, COL∙LOCACIÓ DE MITJA CANYA, LLIGAT AMB FILFERROS I FORMIGONAT DEL CONJUNT I REPOSICIÓ DE PAVIMENT DE PANOT DE LES MATEIXES CARACTERÍSTIQUES A L'EXISTENT, PER A LLARGADES FINS A 2m. TOTALMENT EXECUTADA. | E45: 2 | F45: =VLOOKUP($B45,PU!$B$3:$E$175,4,FALSE) -> 134.16 | G45: =ROUND($E45*F45,2) -> 268.32
... B51: O-030 | C51: =VLOOKUP($B51,PU!$B$3:$E$175,2,FALSE) -> UT | D51: =VLOOKUP($B51,PU!$B$3:$E$175,3,FALSE) -> SENYALITZACIÓ OBRES, ZONES D'ABASSEGAMENT DE MATERIALS, MAQUINÀRIA, TALLS DE CARRIL I SIMILARS, NECESSARIS PER A L'EXECUCIÓ DE L'OBRA CIVIL A FER EN EL PUNT DE CONTROL. INCLOU TRAMITACIÓ PERMISOS I GESTIONS DAVANT ORGANISMES I ADMINISTRACIONS. | E51: 1 | F51: =VLOOKUP($B51,PU!$B$3:$E$175,4,FALSE) -> 389.49 | G51: =ROUND($E51*F51,2) -> 389.49
B52: Subtotal Obra Civil | G52: =SUM(G34:G51) -> 5576.33
B54: =PU!B73 -> INSTAL·LACIÓ ELÈCTRICA
B55: I-001 | C55: =VLOOKUP($B55,PU!$B$3:$E$175,2,FALSE) -> UT | D55: =VLOOKUP($B55,PU!$B$3:$E$175,3,FALSE) -> TREBALLS PER A LA REALITZACIÓ DE L'ALIMENTACIÓ DEL PUNT DE CONTROL, D'ACORD AMB EL QUE INDICA EL PLEC. | E55: 1 | F55: =VLOOKUP($B55,PU!$B$3:$E$175,4,FALSE) -> 164.45 | G55: =ROUND($E55*F55,2) -> 164.45
B56: I-002 | C56: =VLOOKUP($B56,PU!$B$3:$E$175,2,FALSE) -> UT | D56: =VLOOKUP($B56,PU!$B$3:$E$175,3,FALSE) -> SUBMINISTRAMENT D'EQUIPAMENTS ESPECÍFICS PER LA DISTRIBUCIÓ D'ENERGIA DEL PUNT DE CONTROL, CONSISTENTS EN PROTECCIONS ELÈCTRIQUES CONTRA SOBRETENSIONS TRANSITÒRIES (1 UT) I PERMANENTS (1 UT), DIFERENCIALS (FINS A 2 UT), MAGNETOTÈRMICS (FINS A 3 UT) I PRESA DE CORRENT TIPUS SCHUKO (1 UT). | E56: 1 | F56: =VLOOKUP($B56,PU!$B$3:$E$175,4,FALSE) -> 257.93 | G56: =ROUND($E56*F56,2) -> 257.93
B57: I-003 | C57: =VLOOKUP($B57,PU!$B$3:$E$175,2,FALSE) -> UT | D57: =VLOOKUP($B57,PU!$B$3:$E$175,3,FALSE) -> INSTAL·LACIÓ D'EQUIPAMENTS ESPECÍFICS PER LA DISTRIBUCIÓ D'ENERGIA DEL PUNT DE CONTROL. | E57: 1 | F57: =VLOOKUP($B57,PU!$B$3:$E$175,4,FALSE) -> 70.11 | G57: =ROUND($E57*F57,2) -> 70.11
B58: I-004 | C58: =VLOOKUP($B58,PU!$B$3:$E$175,2,FALSE) -> ML | D58: =VLOOKUP($B58,PU!$B$3:$E$175,3,FALSE) -> SUBMINISTRAMENT DE CABLE DE CONDUCTOR DE COURE AMB AÏLLAMENT DE PLÀSTIC, DE SECCIÓ 1x6 mm2 PER PRESES DE TERRA. | E58: 30 | F58: =VLOOKUP($B58,PU!$B$3:$E$175,4,FALSE) -> 0.95 | G58: =ROUND($E58*F58,2) -> 28.5
B59: I-005 | C59: =VLOOKUP($B59,PU!$B$3:$E$175,2,FALSE) -> ML | D59: =VLOOKUP($B59,PU!$B$3:$E$175,3,FALSE) -> INSTAL·LACIÓ DE CABLE DE CONDUCTOR DE COURE AMB AÏLLAMENT DE PLÀSTIC, DE SECCIÓ 1x6 mm2 PER PRESES DE TERRA. | E59: 30 | F59: =VLOOKUP($B59,PU!$B$3:$E$175,4,FALSE) -> 0.78 | G59: =ROUND($E59*F59,2) -> 23.4
B60: I-006 | C60: =VLOOKUP($B60,PU!$B$3:$E$175,2,FALSE) -> ML | D60: =VLOOKUP($B60,PU!$B$3:$E$175,3,FALSE) -> SUBMINISTRAMENT DE CABLE DE CONDUCTOR DE COURE EPTAFILAR NU, DE SECCIÓ 1x35 mm2. | E60: 5 | F60: =VLOOKUP($B60,PU!$B$3:$E$175,4,FALSE) -> 3.89 | G60: =ROUND($E60*F60,2) -> 19.45
B61: I-007 | C61: =VLOOKUP($B61,PU!$B$3:$E$175,2,FALSE) -> ML | D61: =VLOOKUP($B61,PU!$B$3:$E$175,3,FALSE) -> INSTAL·LACIÓ DE CABLE DE CONDUCTOR DE COURE EPTAFILAR NU, DE SECCIÓ 1x35 mm2. | E61: 5 | F61: =VLOOKUP($B61,PU!$B$3:$E$175,4,FALSE) -> 0.78 | G61: =ROUND($E61*F61,2) -> 3.9
B62: I-008 | C62: =VLOOKUP($B62,PU!$B$3:$E$175,2,FALSE) -> ML | D62: =VLOOKUP($B62,PU!$B$3:$E$175,3,FALSE) -> SUBMINISTRAMENT DE CABLE CONDUCTOR DE COURE RV-K 0,6/1KV DE 3x6 mm2 | E62: 30 | F62: =VLOOKUP($B62,PU!$B$3:$E$175,4,FALSE) -> 2.42 | G62: =ROUND($E62*F62,2) -> 72.6
B63: I-009 | C63: =VLOOKUP($B63,PU!$B$3:$E$175,2,FALSE) -> ML | D63: =VLOOKUP($B63,PU!$B$3:$E$175,3,FALSE) -> INSTAL·LACIÓ DE CABLE CONDUCTOR DE COURE RV-K 0,6/1KV DE 3x6 mm2 | E63: 30 | F63: =VLOOKUP($B63,PU!$B$3:$E$175,4,FALSE) -> 0.78 | G63: =ROUND($E63*F63,2) -> 23.4
B64: I-014 | C64: =VLOOKUP($B64,PU!$B$3:$E$175,2,FALSE) -> UT | D64: =VLOOKUP($B64,PU!$B$3:$E$175,3,FALSE) -> MODIFICACIÓ DE LEGALITZACIÓ EXISTENT DE <15KW PER AFEGIR UNA SORTIDA ADICIONAL PER ALIMENTAR UN ARMARI Y CÀMERES. INCLOU CÀLCULS DE CABLEJAT, RIYSIC, CIE I LA GESTIÓ PER LA FIRMA DE LA DECLARACIÓ RESPONSABLE I LA PRESENTACIÓ A INDUSTRIA. | E64: 1 | F64: =VLOOKUP($B64,PU!$B$3:$E$175,4,FALSE) -> 261.73 | G64: =ROUND($E64*F64,2) -> 261.73
B65: Subtotal instal·lacions elèctriques. | G65: =SUM(G55:G64) -> 925.47
B67: =PU!B92 -> SENYALITZACIÓ
B68: S-001 | C68: =VLOOKUP($B68,PU!$B$3:$E$175,2,FALSE) -> UT | D68: =VLOOKUP($B68,PU!$B$3:$E$175,3,FALSE) -> SUBMINISTRAMENT DE SENYAL DE "CÀMERA DE TRÀNSIT" B-53a SEGONS MANUAL DE SENYALITZACIÓ URBANA I PLEC DE SENYALITZACIÓ PER A LA CIUTAT DE BARCELONA. SENYAL D'ALUMINI DE DOBLE PESTANYA HI, NIVELL II DE 2 MM DE GRUIX, DE DIÀMETRE 40 o 60cm SEGONS NORMES. INCLÒS ELEMENTS DE SUSTENTACIÓ I FIXACIÓ. | E68: 1 | F68: =VLOOKUP($B68,PU!$B$3:$E$175,4,FALSE) -> 90.42 | G68: =ROUND($E68*F68,2) -> 90.42
B69: S-004 | C69: =VLOOKUP($B69,PU!$B$3:$E$175,2,FALSE) -> UT | D69: =VLOOKUP($B69,PU!$B$3:$E$175,3,FALSE) -> SUBMINISTRAMENT DE SENYAL DE "CONTROL FOTOGRÀFIC" B-55a SEGONS MANUAL DE SENYALITZACIÓ URBANA I PLEC DE SENYALITZACIÓ PER A LA CIUTAT DE BARCELONA. SENYAL D'ALUMINI DE DOBLE PESTANYA HI, NIVELL II DE 2 MM DE GRUIX, DE DIÀMETRE 60 CM SEGONS NORMES. INCLÒS ELEMENTS DE SUSTENTACIÓ I FIXACIÓ. | E69: 1 | F69: =VLOOKUP($B69,PU!$B$3:$E$175,4,FALSE) -> 107.23 | G69: =ROUND($E69*F69,2) -> 107.23
B70: S-007 | C70: =VLOOKUP($B70,PU!$B$3:$E$175,2,FALSE) -> UT | D70: =VLOOKUP($B70,PU!$B$3:$E$175,3,FALSE) -> INSTAL·LACIÓ DE SENYAL VERTICAL. | E70: 2 | F70: =VLOOKUP($B70,PU!$B$3:$E$175,4,FALSE) -> 38.95 | G70: =ROUND($E70*F70,2) -> 77.9
B71: Subtotal Senyalització | G71: =SUM(G68:G70) -> 275.55
B73: COMUNICACIONS
B74: FO-03 | C74: =VLOOKUP($B74,PU!$B$3:$E$175,2,FALSE) -> ML | D74: =VLOOKUP($B74,PU!$B$3:$E$175,3,FALSE) -> SUBMINISTRAMENT I INSTAL∙LACIÓ DE CABLE DE 24 FO MONOMODE B1.1, SEGONS EN 186000. ARMAT. AMB PROTECCIÓ D'ARAMIDA, ARMADURA METÀL∙LICA I COBERTA EXTERIOR DE POLIETILÈ. | E74: 330 | F74: =VLOOKUP($B74,PU!$B$3:$E$175,4,FALSE) -> 2.74 | G74: =ROUND($E74*F74,2) -> 904.2
B75: FO-06 | C75: =VLOOKUP($B75,PU!$B$3:$E$175,2,FALSE) -> UT | D75: =VLOOKUP($B75,PU!$B$3:$E$175,3,FALSE) -> SUBMINISTRAMENT I INSTAL·LACIÓ DE FUETÓ DE FO MONOMODE FINS A 2 m, INCLÚS CONNECTORS. SEGONS ESPECIFICACIONS AJUNTAMENT. | E75: 2 | F75: =VLOOKUP($B75,PU!$B$3:$E$175,4,FALSE) -> 19.04 | G75: =ROUND($E75*F75,2) -> 38.08
B76: FO-09 | C76: =VLOOKUP($B76,PU!$B$3:$E$175,2,FALSE) -> UT | D76: =VLOOKUP($B76,PU!$B$3:$E$175,3,FALSE) -> SUBMINISTRAMENT I INSTAL·LACIÓ DE CAIXA REPARTIDORA ÒPTICA OTB-24. SEGONS ESPECIFICACIONS AJUNTAMENT. | E76: 1 | F76: =VLOOKUP($B76,PU!$B$3:$E$175,4,FALSE) -> 302.94 | G76: =ROUND($E76*F76,2) -> 302.94
B77: FO-11 | C77: =VLOOKUP($B77,PU!$B$3:$E$175,2,FALSE) -> UT | D77: =VLOOKUP($B77,PU!$B$3:$E$175,3,FALSE) -> FUSIÓ EN RECTE DE 1 FO MONOMODE. INCLOU PIG·TAIL, CONNECTORS I ADAPTADORS, AIXÍ COM LES MESURES DE RETROESPARCIMENT I POTÈNCIA. SEGONS ESPECIFICACIONS AJUTAMENT. | E77: 4 | F77: =VLOOKUP($B77,PU!$B$3:$E$175,4,FALSE) -> 56.26 | G77: =ROUND($E77*F77,2) -> 225.04
B78: FO-14 | C78: =VLOOKUP($B78,PU!$B$3:$E$175,2,FALSE) -> UD | D78: =VLOOKUP($B78,PU!$B$3:$E$175,3,FALSE) -> SUBMINISTRAMENT DE SWITCH DE COMUNICACIONS PER INSTAL·LACIÓ EN ARMARI DE CARRER, HOMOLOGAT PER L'AJUNTAMENT DE BARCELONA - IMI. SWITCH GESTIONABLE AMB 8 PORTS 10/100/1000Base-T + 2 PORTS 100/1000 SFP/RJ45 Combo. INCLOSOS SFP’s DE FIBRA TN-SFP-LX1-SM GIB I SISTEMA DE MUNTATGE EN RACK. | E78: 1 | F78: =VLOOKUP($B78,PU!$B$3:$E$175,4,FALSE) -> 999.71 | G78: =ROUND($E78*F78,2) -> 999.71
B79: FO-15 | C79: =VLOOKUP($B79,PU!$B$3:$E$175,2,FALSE) -> UD | D79: =VLOOKUP($B79,PU!$B$3:$E$175,3,FALSE) -> INSTAL·LACIÓ DE SWITCH DE COMUNICACIONS EN ARMARI DE CARRER, HOMOLOGAT PER L'AJUNTAMENT DE BARCELONA - IMI. | E79: 1 | F79: =VLOOKUP($B79,PU!$B$3:$E$175,4,FALSE) -> 64.92 | G79: =ROUND($E79*F79,2) -> 64.92
B80: FO-21 | C80: =VLOOKUP($B80,PU!$B$3:$E$175,2,FALSE) -> UT | D80: =VLOOKUP($B80,PU!$B$3:$E$175,3,FALSE) -> SUBMINISTRAMENT l INSTAL·LACIÓ DE CANVIADOR DE MEDI TIPUS SFP (FIBRA OPTICA MONOMODE). CONVERTIDOR DE MEDI NECESSARI PER TRANSFORMAR LA SENYAL OPTICA A ELECTRICA FO/ ETHERNET/ 422/ 485/ 422, MODEL RAISECOM L2 DIN·RAIL S1503i-AC O EQUIVALENT, INCLOS EL SFP BIFIBRA LC/PC, AMB 1 PORT 100/1000M BASE-X SFP + 2 PORTS 10/100/1000M BX | E80: 1 | F80: =VLOOKUP($B80,PU!$B$3:$E$175,4,FALSE) -> 478.64 | G80: =ROUND($E80*F80,2) -> 478.64
B81: FO-27 | C81: =VLOOKUP($B81,PU!$B$3:$E$175,2,FALSE) -> PAJ | D81: =VLOOKUP($B81,PU!$B$3:$E$175,3,FALSE) -> TREBALLS CELLNEX PDC-06 PLACETA COMERÇ, INCLOU CONNEXIÓ I INTEGRACIÓ A LA XARXA ACTIVA, TREBALLS DE FO I TREBALLS D'ENGINYERIA, DESPLEGAMENT, DOCUMENTACIÓ I PRL. | E81: 1 | F81: =VLOOKUP($B81,PU!$B$3:$E$175,4,FALSE) -> 3228.55 | G81: =ROUND($E81*F81,2) -> 3228.55
B82: Subtotal Comunicacions | G82: =SUM(G74:G81) -> 6242.08
B83: TOTAL GENERAL | G83: =G31+G52+G65+G71+G82 -> 32717.71
D86: RESUM PRESSUPOST
D87: =B6 -> EQUIPAMENT PUNT DE CONTROL | G87: =G31 -> 19698.28
D88: =B33 -> OBRA CIVIL | G88: =G52 -> 5576.33
D89: =B54 -> INSTAL·LACIÓ ELÈCTRICA | G89: =G65 -> 925.47
D90: =B67 -> SENYALITZACIÓ | G90: =G71 -> 275.55
D91: COMUNICACIONS | G91: =G82 -> 6242.08
D92: TOTAL PRESSUPOST EXECUCIÓ INSTAL·LACIÓ PdC-01 | G92: =SUM(G87:G91) -> 32717.71

Sheet PdC-07
B2: =_xlfn.CONCAT('Resum Amid.Ppals'!A15," ",'Resum Amid.Ppals'!B15) -> PdC-07 Princesa
B4: CODI | C4: U.M | D4: CONCEPTE/DENOMINACIO | E4: AMID. | F4: P.U.PEM | G4: PREU TOTAL
B6: =PU!B5 -> EQUIPAMENT PUNT DE CONTROL
B7: E‐001 | C7: =VLOOKUP($B7,PU!$B$3:$E$175,2,FALSE) -> UT | D7: =VLOOKUP($B7,PU!$B$3:$E$175,3,FALSE) -> SUBMINISTRAMENT D'EQUIP COMPACTE DE RECONEIXEMENT DE MATRÍCULES, FORMAT PER CONJUNT DE CÀMERA LPR 2 CARRILS HD, CÀMERA DE CONTEXT A COLOR, IL∙LUMINADOR IR PER A ZONA D’INFRACCIONS I SISTEMA PROCÉS I EMMAGATZEMATGE SSD 60 GB. INCLOU LLICÈNCIA OCR, CARCASSA, BRAÇ I ADAPTACIÓ A SUPORT. | E7: 1 | F7: =VLOOKUP($B7,PU!$B$3:$E$175,4,FALSE) -> 6405.04 | G7: =ROUND($E7*F7,2) -> 6405.04
B8: E‐002 | C8: =VLOOKUP($B8,PU!$B$3:$E$175,2,FALSE) -> UT | D8: =VLOOKUP($B8,PU!$B$3:$E$175,3,FALSE) -> INSTAL∙LACIÓ D'EQUIP COMPACTE DE RECONEIXEMENT DE MATRÍCULES, FORMAT PER CONJUNT DE CÀMERA LPR 2 CARRILS HD, CÀMERA DE CONTEXT A COLOR, IL∙LUMINADOR IR PER A ZONA D’INFRACCIONS I SISTEMA PROCÉS I EMMAGATZEMATGE SSD 60 GB. INCLOU LICÈNCIA OCR, CARCASSA, BRAÇ I ADAPTACIÓ A SUPORT. | E8: 1 | F8: =VLOOKUP($B8,PU!$B$3:$E$175,4,FALSE) -> 307.27 | G8: =ROUND($E8*F8,2) -> 307.27
B9: E‐003 | C9: =VLOOKUP($B9,PU!$B$3:$E$175,2,FALSE) -> UT | D9: =VLOOKUP($B9,PU!$B$3:$E$175,3,FALSE) -> SUBMINISTRAMENT D'UNITAT DE PROCÉS PEL PUNT DE CONTROL, CONSISTENT EN UN PC DE TIPUS INDUSTRIAL, RUGORITZAT, AMB PROCESSADOR I7, CPU QUAD CORE, BIOS, SISTEMA OPERATIU, WATCHDOG, ALIMENTACIÓ 9‐48V, CAPACITAT EMMAGATZEMATGE 2 TB | E9: 1 | F9: =VLOOKUP($B9,PU!$B$3:$E$175,4,FALSE) -> 930.46 | G9: =ROUND($E9*F9,2) -> 930.46
B10: E‐004 | C10: =VLOOKUP($B10,PU!$B$3:$E$175,2,FALSE) -> UT | D10: =VLOOKUP($B10,PU!$B$3:$E$175,3,FALSE) -> INSTAL∙LACIÓ, CONFIGURACIÓ I POSADA EN FUNCIONAMENT, D'UNITAT DE PROCÉS PEL PUNT DE CONTROL EN ARMARI PDC. | E10: 1 | F10: =VLOOKUP($B10,PU!$B$3:$E$175,4,FALSE) -> 160.12 | G10: =ROUND($E10*F10,2) -> 160.12
B11: E‐005 | C11: =VLOOKUP($B11,PU!$B$3:$E$175,2,FALSE) -> UT | D11: =VLOOKUP($B11,PU!$B$3:$E$175,3,FALSE) -> SUBMINISTRAMENT DE FONT D'ALIMENTACIÓ TIPUS INDUSTRIAL, PER MUNTATGE EN CARRIL DIN, PER ALIMENTAR FINS A 4 CÀMERES PUNT DE CONTROL. | E11: 1 | F11: =VLOOKUP($B11,PU!$B$3:$E$175,4,FALSE) -> 138.48 | G11: =ROUND($E11*F11,2) -> 138.48
B12: E‐006 | C12: =VLOOKUP($B12,PU!$B$3:$E$175,2,FALSE) -> UT | D12: =VLOOKUP($B12,PU!$B$3:$E$175,3,FALSE) -> INSTAL∙LACIÓ DE FONT D'ALIMENTACIÓ TIPUS INDUSTRIAL, PER MUNTATGE EN CARRIL DIN, PER ALIMENTAR FINS A 4 CÀMERES PUNT DE CONTROL. | E12: 1 | F12: =VLOOKUP($B12,PU!$B$3:$E$175,4,FALSE) -> 30.29 | G12: =ROUND($E12*F12,2) -> 30.29
B13: E‐007 | C13: =VLOOKUP($B13,PU!$B$3:$E$175,2,FALSE) -> UT | D13: =VLOOKUP($B13,PU!$B$3:$E$175,3,FALSE) -> SUBMINISTRAMENT DE FONT D'ALIMENTACIÓ TIPUS INDUSTRIAL, PER MUNTATGE EN CARRIL DIN, PER ALIMENTAR UNITAT DE PROCÈS (PC) | E13: 1 | F13: =VLOOKUP($B13,PU!$B$3:$E$175,4,FALSE) -> 46.74 | G13: =ROUND($E13*F13,2) -> 46.74
B14: E‐008 | C14: =VLOOKUP($B14,PU!$B$3:$E$175,2,FALSE) -> UT | D14: =VLOOKUP($B14,PU!$B$3:$E$175,3,FALSE) -> INSTAL·LACIÓ DE FONT D'ALIMENTACIÓ TIPUS INDUSTRIAL, PER MUNTATGE EN CARRIL DIN, PER ALIMENTAR UNITAT DE PROCÈS (PC) | E14: 1 | F14: =VLOOKUP($B14,PU!$B$3:$E$175,4,FALSE) -> 12.12 | G14: =ROUND($E14*F14,2) -> 12.12
B15: E‐013 | C15: =VLOOKUP($B15,PU!$B$3:$E$175,2,FALSE) -> UT | D15: =VLOOKUP($B15,PU!$B$3:$E$175,3,FALSE) -> SUBMINISTRAMENT DE SAI PUNT DE CONTROL LECTURA DE MATRÍCULES, 1000 / 1000VA ‐ AP160N‐1K, FORMAT RACK 19", DE 1000VA / 900W, MONOFÀSIC AMB 3 BATERIES 12V/7,2 AH. | E15: 1 | F15: =VLOOKUP($B15,PU!$B$3:$E$175,4,FALSE) -> 392.09 | G15: =ROUND($E15*F15,2) -> 392.09
B16: E‐014 | C16: =VLOOKUP($B16,PU!$B$3:$E$175,2,FALSE) -> UT | D16: =VLOOKUP($B16,PU!$B$3:$E$175,3,FALSE) -> INSTAL∙LACIÓ DE SAI PUNT DE CONTROL LECTURA DE MATRÍCULES, 1000 / 1000VA ‐ AP160N‐1K, FORMAT RACK 19", DE 1000VA / 900W, MONOFÀSIC AMB 3 BATERIES 12V/7,2 AH. INSTAL∙LACIÓ, CONNEXIÓ I POSADA EN MARXA, INCLOU PETIT MATERIAL INSTAL∙LACIÓ, CABLEJAT I CONNEXIÓ I QUALSEVOL ALTRE NECESSARI PEL CORRECTE FUNCIONAMENT. | E16: 1 | F16: =VLOOKUP($B16,PU!$B$3:$E$175,4,FALSE) -> 30.29 | G16: =ROUND($E16*F16,2) -> 30.29
B17: E‐015 | C17: =VLOOKUP($B17,PU!$B$3:$E$175,2,FALSE) -> UT | D17: =VLOOKUP($B17,PU!$B$3:$E$175,3,FALSE) -> SUBMINISTRAMENT DE MÒDUL SNMP DE COMUNICACIONS PER SAI. INCLOU PETIT MATERIAL, CABLEJAT I QUALSEVOL ALTRE NECESSARI PEL CORRECTE FUNCIONAMENT. | E17: 1 | F17: =VLOOKUP($B17,PU!$B$3:$E$175,4,FALSE) -> 188.04 | G17: =ROUND($E17*F17,2) -> 188.04
B18: E‐016 | C18: =VLOOKUP($B18,PU!$B$3:$E$175,2,FALSE) -> UT | D18: =VLOOKUP($B18,PU!$B$3:$E$175,3,FALSE) -> INSTAL∙LACIÓ DE MÒDUL SNMP COMUNICACIONS PER SAI, CONNEXIÓ I POSADA EN MARXA. INCLOU PETIT MATERIAL INSTAL∙LACIÓ, CABLEJAT I CONNEXIÓ I QUALSEVOL ALTRE NECESSARI PEL CORRECTE FUNCIONAMENT. | E18: 1 | F18: =VLOOKUP($B18,PU!$B$3:$E$175,4,FALSE) -> 5.19 | G18: =ROUND($E18*F18,2) -> 5.19
... B29: E‐034 | C29: =VLOOKUP($B29,PU!$B$3:$E$175,2,FALSE) -> UT | D29: =VLOOKUP($B29,PU!$B$3:$E$175,3,FALSE) -> PRECINTAT DE CÀMERES I DEL PC DE CONTROL DEL PUNT DE CONTROL. INCLOU TOTS ELS MATERIALS (PRECINTES), MITJANS I RECURSOS NECESSARIS. PREU PER PUNT DE CONTROL. | E29: 1 | F29: =VLOOKUP($B29,PU!$B$3:$E$175,4,FALSE) -> 259.66 | G29: =ROUND($E29*F29,2) -> 259.66
B30: Subtotal PdC | G30: =SUM(G7:G29) -> 12038.2
B32: =PU!B41 -> OBRA CIVIL
B33: O-001 | C33: =VLOOKUP($B33,PU!$B$3:$E$175,2,FALSE) -> UT | D33: =VLOOKUP($B33,PU!$B$3:$E$175,3,FALSE) -> FONAMENT DE FORMIGÓ PREFABRICAT PER A ARMARI REGULADOR AMB DOSIFICACIÓ DE 250 KG/m3 I ENCOFRAT CARA VISTA DE DIMENSIONS APROXIMADES 53 x 32,5 x 35 cm. AMB UN ENCASTAMENT DE 15 cm. I DOS FORATS DE 110 mm. DE DIÀMETRE. TOTALMENT EXECUTAT. | E33: 1 | F33: =VLOOKUP($B33,PU!$B$3:$E$175,4,FALSE) -> 203.4 | G33: =ROUND($E33*F33,2) -> 203.4
B34: O-002 | C34: =VLOOKUP($B34,PU!$B$3:$E$175,2,FALSE) -> UT | D34: =VLOOKUP($B34,PU!$B$3:$E$175,3,FALSE) -> FONAMENT DE FORMIGÓ PER A COLUMNA DE 4 METRES, AMB DOSIFICACIÓ DE 250 KG/m3, MITJANÇANT UN DAU DE 50 cm. DE COSTAT I 60 cm. DE PROFUNDITAT, INCLÒS COLZE DE CONNEXIÓ AMB TUBULAR. INCLOU DEMOLICIÓ PAVIMENT, EXCAVACIÓ I POSTERIOR REPOSICIÓ. TOTALMENT EXECUTAT. | E34: 1 | F34: =VLOOKUP($B34,PU!$B$3:$E$175,4,FALSE) -> 95.21 | G34: =ROUND($E34*F34,2) -> 95.21
B35: O-007 | C35: =VLOOKUP($B35,PU!$B$3:$E$175,2,FALSE) -> UT | D35: =VLOOKUP($B35,PU!$B$3:$E$175,3,FALSE) -> PERICÓ DE 60 x 60 cm. PREFABRICAT DE FORMIGÓ O CONSTRUÏT AMB MAONS GERO I FONS DEL MATEIX MATERIAL REBENT EL MARC I LA TAPA CORRESPONENT, SENSE INCLOURE AQUESTS. INCLOU DEMOLICIÓ PAVIMENT, EXCAVACIÓ I POSTERIOR REPOSICIÓ. TOTALMENT EXECUTAT. | E35: 1 | F35: =VLOOKUP($B35,PU!$B$3:$E$175,4,FALSE) -> 129.83 | G35: =ROUND($E35*F35,2) -> 129.83
B36: O-008 | C36: =VLOOKUP($B36,PU!$B$3:$E$175,2,FALSE) -> UT | D36: =VLOOKUP($B36,PU!$B$3:$E$175,3,FALSE) -> SUBMINISTRAMENT MARC DE FERRO FOS DE 60 x 60 cm PER INSTAL·LACIÓ EN VORERA, AMB INSCRIPCIÓ. | E36: 1 | F36: =VLOOKUP($B36,PU!$B$3:$E$175,4,FALSE) -> 34.62 | G36: =ROUND($E36*F36,2) -> 34.62
B37: O-009 | C37: =VLOOKUP($B37,PU!$B$3:$E$175,2,FALSE) -> UT | D37: =VLOOKUP($B37,PU!$B$3:$E$175,3,FALSE) -> SUBMINISTRAMENT TAPA DE FERRO FOS DE 60 x 60 cm PER INSTAL·LACIÓ EN VORERA, AMB INSCRIPCIÓ. | E37: 1 | F37: =VLOOKUP($B37,PU!$B$3:$E$175,4,FALSE) -> 69.25 | G37: =ROUND($E37*F37,2) -> 69.25
B38: O-015 | C38: =VLOOKUP($B38,PU!$B$3:$E$175,2,FALSE) -> UT | D38: =VLOOKUP($B38,PU!$B$3:$E$175,3,FALSE) -> INTERCEPTAR CANALITZACIÓ EXISTENT / EMBOCADURA PERICÓ EXISTENT. | E38: 1 | F38: =VLOOKUP($B38,PU!$B$3:$E$175,4,FALSE) -> 160.12 | G38: =ROUND($E38*F38,2) -> 160.12
B39: O-016 | C39: =VLOOKUP($B39,PU!$B$3:$E$175,2,FALSE) -> ML | D39: =VLOOKUP($B39,PU!$B$3:$E$175,3,FALSE) -> COMPROVACIÓ I MANDRINATGE DE CANALITZACIÓ EXISTENT DEIXANT PASSAT FIL GUIA. | E39: 40 | F39: =VLOOKUP($B39,PU!$B$3:$E$175,4,FALSE) -> 2.16 | G39: =ROUND($E39*F39,2) -> 86.4
B40: O-018 | C40: =VLOOKUP($B40,PU!$B$3:$E$175,2,FALSE) -> ML | D40: =VLOOKUP($B40,PU!$B$3:$E$175,3,FALSE) -> CANALITZACIÓ EN VORERA INCLOENT SUBMINISTRAMENT I INSTAL∙LACIÓ DE 2 TUBS DE PE ø 110 mm DE DOBLE CAPA, LLIS A L'INTERIOR I CORRUGAT A L'EXTERIOR, INCLÒS EXCAVACIÓ EN RASA DE 40 x 60 cm. DE PROFUNDITAT, BASE I PROTECCIÓ DE FORMIGÓ HM20, EN VORERES DE PANOT INCLÒS LA SEVA REPOSICIÓ. TOTALMENT EXECUTADA D'ACORD AMB LES ORDENANCES MUNICIPALS I INDICACIONS PARTICULARS. | E40: 23 | F40: =VLOOKUP($B40,PU!$B$3:$E$175,4,FALSE) -> 73.57 | G40: =ROUND($E40*F40,2) -> 1692.11
B41: O-022 | C41: =VLOOKUP($B41,PU!$B$3:$E$175,2,FALSE) -> ML | D41: =VLOOKUP($B41,PU!$B$3:$E$175,3,FALSE) -> SUPLEMENT PER REALITZACIÓ DE CANALITZACIÓ EN VORERA DE PAVIMENT ESPECIAL, TIPUS GRANIT, LLAMBORDES O SIMILARS | E41: 5 | F41: =VLOOKUP($B41,PU!$B$3:$E$175,4,FALSE) -> 25.97 | G41: =ROUND($E41*F41,2) -> 129.85
B42: O-026 | C42: =VLOOKUP($B42,PU!$B$3:$E$175,2,FALSE) -> UT | D42: =VLOOKUP($B42,PU!$B$3:$E$175,3,FALSE) -> SUBMINISTRAMENT PLACA DE PRESA DE TERRA DE 500 x 500 x 3 mm I ACCESSORIS CONNEXIÓ. | E42: 1 | F42: =VLOOKUP($B42,PU!$B$3:$E$175,4,FALSE) -> 30.29 | G42: =ROUND($E42*F42,2) -> 30.29
B43: O-027 | C43: =VLOOKUP($B43,PU!$B$3:$E$175,2,FALSE) -> UT | D43: =VLOOKUP($B43,PU!$B$3:$E$175,3,FALSE) -> INSTAL∙LACIÓ PLACA DE PRESA DE TERRA DE 500 x 500 x 3 mm I ACCESSORIS CONNEXIÓ, EN PERICÓ DE REGISTRE. INCLOSA OBRA CIVIL NECESSÀRIA. | E43: 1 | F43: =VLOOKUP($B43,PU!$B$3:$E$175,4,FALSE) -> 129.83 | G43: =ROUND($E43*F43,2) -> 129.83
B44: O-028 | C44: =VLOOKUP($B44,PU!$B$3:$E$175,2,FALSE) -> UT | D44: =VLOOKUP($B44,PU!$B$3:$E$175,3,FALSE) -> OBTURACIÓ DE TUBULAR AMB CABLES EXISTENTS. | E44: 5 | F44: =VLOOKUP($B44,PU!$B$3:$E$175,4,FALSE) -> 2.6 | G44: =ROUND($E44*F44,2) -> 13
... B46: O-030 | C46: =VLOOKUP($B46,PU!$B$3:$E$175,2,FALSE) -> UT | D46: =VLOOKUP($B46,PU!$B$3:$E$175,3,FALSE) -> SENYALITZACIÓ OBRES, ZONES D'ABASSEGAMENT DE MATERIALS, MAQUINÀRIA, TALLS DE CARRIL I SIMILARS, NECESSARIS PER A L'EXECUCIÓ DE L'OBRA CIVIL A FER EN EL PUNT DE CONTROL. INCLOU TRAMITACIÓ PERMISOS I GESTIONS DAVANT ORGANISMES I ADMINISTRACIONS. | E46: 1 | F46: =VLOOKUP($B46,PU!$B$3:$E$175,4,FALSE) -> 389.49 | G46: =ROUND($E46*F46,2) -> 389.49
B47: Subtotal Obra Civil | G47: =SUM(G33:G46) -> 3272.46
B49: =PU!B73 -> INSTAL·LACIÓ ELÈCTRICA
B50: I-001 | C50: =VLOOKUP($B50,PU!$B$3:$E$175,2,FALSE) -> UT | D50: =VLOOKUP($B50,PU!$B$3:$E$175,3,FALSE) -> TREBALLS PER A LA REALITZACIÓ DE L'ALIMENTACIÓ DEL PUNT DE CONTROL, D'ACORD AMB EL QUE INDICA EL PLEC. | E50: 1 | F50: =VLOOKUP($B50,PU!$B$3:$E$175,4,FALSE) -> 164.45 | G50: =ROUND($E50*F50,2) -> 164.45
B51: I-002 | C51: =VLOOKUP($B51,PU!$B$3:$E$175,2,FALSE) -> UT | D51: =VLOOKUP($B51,PU!$B$3:$E$175,3,FALSE) -> SUBMINISTRAMENT D'EQUIPAMENTS ESPECÍFICS PER LA DISTRIBUCIÓ D'ENERGIA DEL PUNT DE CONTROL, CONSISTENTS EN PROTECCIONS ELÈCTRIQUES CONTRA SOBRETENSIONS TRANSITÒRIES (1 UT) I PERMANENTS (1 UT), DIFERENCIALS (FINS A 2 UT), MAGNETOTÈRMICS (FINS A 3 UT) I PRESA DE CORRENT TIPUS SCHUKO (1 UT). | E51: 1 | F51: =VLOOKUP($B51,PU!$B$3:$E$175,4,FALSE) -> 257.93 | G51: =ROUND($E51*F51,2) -> 257.93
B52: I-003 | C52: =VLOOKUP($B52,PU!$B$3:$E$175,2,FALSE) -> UT | D52: =VLOOKUP($B52,PU!$B$3:$E$175,3,FALSE) -> INSTAL·LACIÓ D'EQUIPAMENTS ESPECÍFICS PER LA DISTRIBUCIÓ D'ENERGIA DEL PUNT DE CONTROL. | E52: 1 | F52: =VLOOKUP($B52,PU!$B$3:$E$175,4,FALSE) -> 70.11 | G52: =ROUND($E52*F52,2) -> 70.11
B53: I-004 | C53: =VLOOKUP($B53,PU!$B$3:$E$175,2,FALSE) -> ML | D53: =VLOOKUP($B53,PU!$B$3:$E$175,3,FALSE) -> SUBMINISTRAMENT DE CABLE DE CONDUCTOR DE COURE AMB AÏLLAMENT DE PLÀSTIC, DE SECCIÓ 1x6 mm2 PER PRESES DE TERRA. | E53: 30 | F53: =VLOOKUP($B53,PU!$B$3:$E$175,4,FALSE) -> 0.95 | G53: =ROUND($E53*F53,2) -> 28.5
B54: I-005 | C54: =VLOOKUP($B54,PU!$B$3:$E$175,2,FALSE) -> ML | D54: =VLOOKUP($B54,PU!$B$3:$E$175,3,FALSE) -> INSTAL·LACIÓ DE CABLE DE CONDUCTOR DE COURE AMB AÏLLAMENT DE PLÀSTIC, DE SECCIÓ 1x6 mm2 PER PRESES DE TERRA. | E54: 30 | F54: =VLOOKUP($B54,PU!$B$3:$E$175,4,FALSE) -> 0.78 | G54: =ROUND($E54*F54,2) -> 23.4
B55: I-006 | C55: =VLOOKUP($B55,PU!$B$3:$E$175,2,FALSE) -> ML | D55: =VLOOKUP($B55,PU!$B$3:$E$175,3,FALSE) -> SUBMINISTRAMENT DE CABLE DE CONDUCTOR DE COURE EPTAFILAR NU, DE SECCIÓ 1x35 mm2. | E55: 5 | F55: =VLOOKUP($B55,PU!$B$3:$E$175,4,FALSE) -> 3.89 | G55: =ROUND($E55*F55,2) -> 19.45
B56: I-007 | C56: =VLOOKUP($B56,PU!$B$3:$E$175,2,FALSE) -> ML | D56: =VLOOKUP($B56,PU!$B$3:$E$175,3,FALSE) -> INSTAL·LACIÓ DE CABLE DE CONDUCTOR DE COURE EPTAFILAR NU, DE SECCIÓ 1x35 mm2. | E56: 5 | F56: =VLOOKUP($B56,PU!$B$3:$E$175,4,FALSE) -> 0.78 | G56: =ROUND($E56*F56,2) -> 3.9
B57: I-008 | C57: =VLOOKUP($B57,PU!$B$3:$E$175,2,FALSE) -> ML | D57: =VLOOKUP($B57,PU!$B$3:$E$175,3,FALSE) -> SUBMINISTRAMENT DE CABLE CONDUCTOR DE COURE RV-K 0,6/1KV DE 3x6 mm2 | E57: 50 | F57: =VLOOKUP($B57,PU!$B$3:$E$175,4,FALSE) -> 2.42 | G57: =ROUND($E57*F57,2) -> 121
B58: I-009 | C58: =VLOOKUP($B58,PU!$B$3:$E$175,2,FALSE) -> ML | D58: =VLOOKUP($B58,PU!$B$3:$E$175,3,FALSE) -> INSTAL·LACIÓ DE CABLE CONDUCTOR DE COURE RV-K 0,6/1KV DE 3x6 mm2 | E58: 50 | F58: =VLOOKUP($B58,PU!$B$3:$E$175,4,FALSE) -> 0.78 | G58: =ROUND($E58*F58,2) -> 39
B59: I-014 | C59: =VLOOKUP($B59,PU!$B$3:$E$175,2,FALSE) -> UT | D59: =VLOOKUP($B59,PU!$B$3:$E$175,3,FALSE) -> MODIFICACIÓ DE LEGALITZACIÓ EXISTENT DE <15KW PER AFEGIR UNA SORTIDA ADICIONAL PER ALIMENTAR UN ARMARI Y CÀMERES. INCLOU CÀLCULS DE CABLEJAT, RIYSIC, CIE I LA GESTIÓ PER LA FIRMA DE LA DECLARACIÓ RESPONSABLE I LA PRESENTACIÓ A INDUSTRIA. | E59: 1 | F59: =VLOOKUP($B59,PU!$B$3:$E$175,4,FALSE) -> 261.73 | G59: =ROUND($E59*F59,2) -> 261.73
B60: Subtotal instal·lacions elèctriques. | G60: =SUM(G50:G59) -> 989.47
B62: =PU!B92 -> SENYALITZACIÓ
B63: S-001 | C63: =VLOOKUP($B63,PU!$B$3:$E$175,2,FALSE) -> UT | D63: =VLOOKUP($B63,PU!$B$3:$E$175,3,FALSE) -> SUBMINISTRAMENT DE SENYAL DE "CÀMERA DE TRÀNSIT" B-53a SEGONS MANUAL DE SENYALITZACIÓ URBANA I PLEC DE SENYALITZACIÓ PER A LA CIUTAT DE BARCELONA. SENYAL D'ALUMINI DE DOBLE PESTANYA HI, NIVELL II DE 2 MM DE GRUIX, DE DIÀMETRE 40 o 60cm SEGONS NORMES. INCLÒS ELEMENTS DE SUSTENTACIÓ I FIXACIÓ. | E63: 1 | F63: =VLOOKUP($B63,PU!$B$3:$E$175,4,FALSE) -> 90.42 | G63: =ROUND($E63*F63,2) -> 90.42
B64: S-004 | C64: =VLOOKUP($B64,PU!$B$3:$E$175,2,FALSE) -> UT | D64: =VLOOKUP($B64,PU!$B$3:$E$175,3,FALSE) -> SUBMINISTRAMENT DE SENYAL DE "CONTROL FOTOGRÀFIC" B-55a SEGONS MANUAL DE SENYALITZACIÓ URBANA I PLEC DE SENYALITZACIÓ PER A LA CIUTAT DE BARCELONA. SENYAL D'ALUMINI DE DOBLE PESTANYA HI, NIVELL II DE 2 MM DE GRUIX, DE DIÀMETRE 60 CM SEGONS NORMES. INCLÒS ELEMENTS DE SUSTENTACIÓ I FIXACIÓ. | E64: 1 | F64: =VLOOKUP($B64,PU!$B$3:$E$175,4,FALSE) -> 107.23 | G64: =ROUND($E64*F64,2) -> 107.23
B65: S-007 | C65: =VLOOKUP($B65,PU!$B$3:$E$175,2,FALSE) -> UT | D65: =VLOOKUP($B65,PU!$B$3:$E$175,3,FALSE) -> INSTAL·LACIÓ DE SENYAL VERTICAL. | E65: 2 | F65: =VLOOKUP($B65,PU!$B$3:$E$175,4,FALSE) -> 38.95 | G65: =ROUND($E65*F65,2) -> 77.9
B66: Subtotal Senyalització | G66: =SUM(G63:G65) -> 275.55
B68: =PU!B105 -> COMUNICACIONS
B69: FO-03 | C69: =VLOOKUP($B69,PU!$B$3:$E$175,2,FALSE) -> ML | D69: =VLOOKUP($B69,PU!$B$3:$E$175,3,FALSE) -> SUBMINISTRAMENT I INSTAL∙LACIÓ DE CABLE DE 24 FO MONOMODE B1.1, SEGONS EN 186000. ARMAT. AMB PROTECCIÓ D'ARAMIDA, ARMADURA METÀL∙LICA I COBERTA EXTERIOR DE POLIETILÈ. | E69: 90 | F69: =VLOOKUP($B69,PU!$B$3:$E$175,4,FALSE) -> 2.74 | G69: =ROUND($E69*F69,2) -> 246.6
B70: FO-06 | C70: =VLOOKUP($B70,PU!$B$3:$E$175,2,FALSE) -> UT | D70: =VLOOKUP($B70,PU!$B$3:$E$175,3,FALSE) -> SUBMINISTRAMENT I INSTAL·LACIÓ DE FUETÓ DE FO MONOMODE FINS A 2 m, INCLÚS CONNECTORS. SEGONS ESPECIFICACIONS AJUNTAMENT. | E70: 2 | F70: =VLOOKUP($B70,PU!$B$3:$E$175,4,FALSE) -> 19.04 | G70: =ROUND($E70*F70,2) -> 38.08
B71: FO-09 | C71: =VLOOKUP($B71,PU!$B$3:$E$175,2,FALSE) -> UT | D71: =VLOOKUP($B71,PU!$B$3:$E$175,3,FALSE) -> SUBMINISTRAMENT I INSTAL·LACIÓ DE CAIXA REPARTIDORA ÒPTICA OTB-24. SEGONS ESPECIFICACIONS AJUNTAMENT. | E71: 1 | F71: =VLOOKUP($B71,PU!$B$3:$E$175,4,FALSE) -> 302.94 | G71: =ROUND($E71*F71,2) -> 302.94
B72: FO-11 | C72: =VLOOKUP($B72,PU!$B$3:$E$175,2,FALSE) -> UT | D72: =VLOOKUP($B72,PU!$B$3:$E$175,3,FALSE) -> FUSIÓ EN RECTE DE 1 FO MONOMODE. INCLOU PIG·TAIL, CONNECTORS I ADAPTADORS, AIXÍ COM LES MESURES DE RETROESPARCIMENT I POTÈNCIA. SEGONS ESPECIFICACIONS AJUTAMENT. | E72: 4 | F72: =VLOOKUP($B72,PU!$B$3:$E$175,4,FALSE) -> 56.26 | G72: =ROUND($E72*F72,2) -> 225.04
B73: FO-14 | C73: =VLOOKUP($B73,PU!$B$3:$E$175,2,FALSE) -> UD | D73: =VLOOKUP($B73,PU!$B$3:$E$175,3,FALSE) -> SUBMINISTRAMENT DE SWITCH DE COMUNICACIONS PER INSTAL·LACIÓ EN ARMARI DE CARRER, HOMOLOGAT PER L'AJUNTAMENT DE BARCELONA - IMI. SWITCH GESTIONABLE AMB 8 PORTS 10/100/1000Base-T + 2 PORTS 100/1000 SFP/RJ45 Combo. INCLOSOS SFP’s DE FIBRA TN-SFP-LX1-SM GIB I SISTEMA DE MUNTATGE EN RACK. | E73: 1 | F73: =VLOOKUP($B73,PU!$B$3:$E$175,4,FALSE) -> 999.71 | G73: =ROUND($E73*F73,2) -> 999.71
B74: FO-15 | C74: =VLOOKUP($B74,PU!$B$3:$E$175,2,FALSE) -> UD | D74: =VLOOKUP($B74,PU!$B$3:$E$175,3,FALSE) -> INSTAL·LACIÓ DE SWITCH DE COMUNICACIONS EN ARMARI DE CARRER, HOMOLOGAT PER L'AJUNTAMENT DE BARCELONA - IMI. | E74: 1 | F74: =VLOOKUP($B74,PU!$B$3:$E$175,4,FALSE) -> 64.92 | G74: =ROUND($E74*F74,2) -> 64.92
B75: FO-21 | C75: =VLOOKUP($B75,PU!$B$3:$E$175,2,FALSE) -> UT | D75: =VLOOKUP($B75,PU!$B$3:$E$175,3,FALSE) -> SUBMINISTRAMENT l INSTAL·LACIÓ DE CANVIADOR DE MEDI TIPUS SFP (FIBRA OPTICA MONOMODE). CONVERTIDOR DE MEDI NECESSARI PER TRANSFORMAR LA SENYAL OPTICA A ELECTRICA FO/ ETHERNET/ 422/ 485/ 422, MODEL RAISECOM L2 DIN·RAIL S1503i-AC O EQUIVALENT, INCLOS EL SFP BIFIBRA LC/PC, AMB 1 PORT 100/1000M BASE-X SFP + 2 PORTS 10/100/1000M BX | E75: 1 | F75: =VLOOKUP($B75,PU!$B$3:$E$175,4,FALSE) -> 478.64 | G75: =ROUND($E75*F75,2) -> 478.64
B76: FO-28 | C76: =VLOOKUP($B76,PU!$B$3:$E$175,2,FALSE) -> PAJ | D76: =VLOOKUP($B76,PU!$B$3:$E$175,3,FALSE) -> TREBALLS CELLNEX PDC-07 PRINCESA, INCLOU CONNEXIÓ I INTEGRACIÓ A LA XARXA ACTIVA, TREBALLS DE FO I TREBALLS D'ENGINYERIA, DESPLEGAMENT, DOCUMENTACIÓ I PRL. | E76: 1 | F76: =VLOOKUP($B76,PU!$B$3:$E$175,4,FALSE) -> 2340.91 | G76: =ROUND($E76*F76,2) -> 2340.91
B77: Subtotal Comunicacions | G77: =SUM(G69:G76) -> 4696.84
B78: TOTAL GENERAL | G78: =G30+G47+G60+G66+G77 -> 21272.52
D81: RESUM PRESSUPOST
D82: =B6 -> EQUIPAMENT PUNT DE CONTROL | G82: =G30 -> 12038.2
D83: =B32 -> OBRA CIVIL | G83: =G47 -> 3272.46
D84: =B49 -> INSTAL·LACIÓ ELÈCTRICA | G84: =G60 -> 989.47
D85: =B62 -> SENYALITZACIÓ | G85: =G66 -> 275.55
D86: =B68 -> COMUNICACIONS | G86: =G77 -> 4696.84
D87: TOTAL PRESSUPOST EXECUCIÓ INSTAL·LACIÓ PdC-01 | G87: =SUM(G82:G86) -> 21272.52

Sheet PdC-08
B2: =_xlfn.CONCAT('Resum Amid.Ppals'!A16," ",'Resum Amid.Ppals'!B16) -> PdC-08 Antic Sant Joan
B4: CODI | C4: U.M | D4: CONCEPTE/DENOMINACIO | E4: AMID. | F4: P.U.PEM | G4: PREU TOTAL
B6: =PU!B5 -> EQUIPAMENT PUNT DE CONTROL
B7: E‐001 | C7: =VLOOKUP($B7,PU!$B$3:$E$175,2,FALSE) -> UT | D7: =VLOOKUP($B7,PU!$B$3:$E$175,3,FALSE) -> SUBMINISTRAMENT D'EQUIP COMPACTE DE RECONEIXEMENT DE MATRÍCULES, FORMAT PER CONJUNT DE CÀMERA LPR 2 CARRILS HD, CÀMERA DE CONTEXT A COLOR, IL∙LUMINADOR IR PER A ZONA D’INFRACCIONS I SISTEMA PROCÉS I EMMAGATZEMATGE SSD 60 GB. INCLOU LLICÈNCIA OCR, CARCASSA, BRAÇ I ADAPTACIÓ A SUPORT. | E7: 1 | F7: =VLOOKUP($B7,PU!$B$3:$E$175,4,FALSE) -> 6405.04 | G7: =ROUND($E7*F7,2) -> 6405.04
B8: E‐002 | C8: =VLOOKUP($B8,PU!$B$3:$E$175,2,FALSE) -> UT | D8: =VLOOKUP($B8,PU!$B$3:$E$175,3,FALSE) -> INSTAL∙LACIÓ D'EQUIP COMPACTE DE RECONEIXEMENT DE MATRÍCULES, FORMAT PER CONJUNT DE CÀMERA LPR 2 CARRILS HD, CÀMERA DE CONTEXT A COLOR, IL∙LUMINADOR IR PER A ZONA D’INFRACCIONS I SISTEMA PROCÉS I EMMAGATZEMATGE SSD 60 GB. INCLOU LICÈNCIA OCR, CARCASSA, BRAÇ I ADAPTACIÓ A SUPORT. | E8: 1 | F8: =VLOOKUP($B8,PU!$B$3:$E$175,4,FALSE) -> 307.27 | G8: =ROUND($E8*F8,2) -> 307.27
B9: E‐003 | C9: =VLOOKUP($B9,PU!$B$3:$E$175,2,FALSE) -> UT | D9: =VLOOKUP($B9,PU!$B$3:$E$175,3,FALSE) -> SUBMINISTRAMENT D'UNITAT DE PROCÉS PEL PUNT DE CONTROL, CONSISTENT EN UN PC DE TIPUS INDUSTRIAL, RUGORITZAT, AMB PROCESSADOR I7, CPU QUAD CORE, BIOS, SISTEMA OPERATIU, WATCHDOG, ALIMENTACIÓ 9‐48V, CAPACITAT EMMAGATZEMATGE 2 TB | E9: 1 | F9: =VLOOKUP($B9,PU!$B$3:$E$175,4,FALSE) -> 930.46 | G9: =ROUND($E9*F9,2) -> 930.46
B10: E‐004 | C10: =VLOOKUP($B10,PU!$B$3:$E$175,2,FALSE) -> UT | D10: =VLOOKUP($B10,PU!$B$3:$E$175,3,FALSE) -> INSTAL∙LACIÓ, CONFIGURACIÓ I POSADA EN FUNCIONAMENT, D'UNITAT DE PROCÉS PEL PUNT DE CONTROL EN ARMARI PDC. | E10: 1 | F10: =VLOOKUP($B10,PU!$B$3:$E$175,4,FALSE) -> 160.12 | G10: =ROUND($E10*F10,2) -> 160.12
B11: E‐005 | C11: =VLOOKUP($B11,PU!$B$3:$E$175,2,FALSE) -> UT | D11: =VLOOKUP($B11,PU!$B$3:$E$175,3,FALSE) -> SUBMINISTRAMENT DE FONT D'ALIMENTACIÓ TIPUS INDUSTRIAL, PER MUNTATGE EN CARRIL DIN, PER ALIMENTAR FINS A 4 CÀMERES PUNT DE CONTROL. | E11: 1 | F11: =VLOOKUP($B11,PU!$B$3:$E$175,4,FALSE) -> 138.48 | G11: =ROUND($E11*F11,2) -> 138.48
B12: E‐006 | C12: =VLOOKUP($B12,PU!$B$3:$E$175,2,FALSE) -> UT | D12: =VLOOKUP($B12,PU!$B$3:$E$175,3,FALSE) -> INSTAL∙LACIÓ DE FONT D'ALIMENTACIÓ TIPUS INDUSTRIAL, PER MUNTATGE EN CARRIL DIN, PER ALIMENTAR FINS A 4 CÀMERES PUNT DE CONTROL. | E12: 1 | F12: =VLOOKUP($B12,PU!$B$3:$E$175,4,FALSE) -> 30.29 | G12: =ROUND($E12*F12,2) -> 30.29
B13: E‐007 | C13: =VLOOKUP($B13,PU!$B$3:$E$175,2,FALSE) -> UT | D13: =VLOOKUP($B13,PU!$B$3:$E$175,3,FALSE) -> SUBMINISTRAMENT DE FONT D'ALIMENTACIÓ TIPUS INDUSTRIAL, PER MUNTATGE EN CARRIL DIN, PER ALIMENTAR UNITAT DE PROCÈS (PC) | E13: 1 | F13: =VLOOKUP($B13,PU!$B$3:$E$175,4,FALSE) -> 46.74 | G13: =ROUND($E13*F13,2) -> 46.74
B14: E‐008 | C14: =VLOOKUP($B14,PU!$B$3:$E$175,2,FALSE) -> UT | D14: =VLOOKUP($B14,PU!$B$3:$E$175,3,FALSE) -> INSTAL·LACIÓ DE FONT D'ALIMENTACIÓ TIPUS INDUSTRIAL, PER MUNTATGE EN CARRIL DIN, PER ALIMENTAR UNITAT DE PROCÈS (PC) | E14: 1 | F14: =VLOOKUP($B14,PU!$B$3:$E$175,4,FALSE) -> 12.12 | G14: =ROUND($E14*F14,2) -> 12.12
B15: E‐013 | C15: =VLOOKUP($B15,PU!$B$3:$E$175,2,FALSE) -> UT | D15: =VLOOKUP($B15,PU!$B$3:$E$175,3,FALSE) -> SUBMINISTRAMENT DE SAI PUNT DE CONTROL LECTURA DE MATRÍCULES, 1000 / 1000VA ‐ AP160N‐1K, FORMAT RACK 19", DE 1000VA / 900W, MONOFÀSIC AMB 3 BATERIES 12V/7,2 AH. | E15: 1 | F15: =VLOOKUP($B15,PU!$B$3:$E$175,4,FALSE) -> 392.09 | G15: =ROUND($E15*F15,2) -> 392.09
B16: E‐014 | C16: =VLOOKUP($B16,PU!$B$3:$E$175,2,FALSE) -> UT | D16: =VLOOKUP($B16,PU!$B$3:$E$175,3,FALSE) -> INSTAL∙LACIÓ DE SAI PUNT DE CONTROL LECTURA DE MATRÍCULES, 1000 / 1000VA ‐ AP160N‐1K, FORMAT RACK 19", DE 1000VA / 900W, MONOFÀSIC AMB 3 BATERIES 12V/7,2 AH. INSTAL∙LACIÓ, CONNEXIÓ I POSADA EN MARXA, INCLOU PETIT MATERIAL INSTAL∙LACIÓ, CABLEJAT I CONNEXIÓ I QUALSEVOL ALTRE NECESSARI PEL CORRECTE FUNCIONAMENT. | E16: 1 | F16: =VLOOKUP($B16,PU!$B$3:$E$175,4,FALSE) -> 30.29 | G16: =ROUND($E16*F16,2) -> 30.29
B17: E‐015 | C17: =VLOOKUP($B17,PU!$B$3:$E$175,2,FALSE) -> UT | D17: =VLOOKUP($B17,PU!$B$3:$E$175,3,FALSE) -> SUBMINISTRAMENT DE MÒDUL SNMP DE COMUNICACIONS PER SAI. INCLOU PETIT MATERIAL, CABLEJAT I QUALSEVOL ALTRE NECESSARI PEL CORRECTE FUNCIONAMENT. | E17: 1 | F17: =VLOOKUP($B17,PU!$B$3:$E$175,4,FALSE) -> 188.04 | G17: =ROUND($E17*F17,2) -> 188.04
B18: E‐016 | C18: =VLOOKUP($B18,PU!$B$3:$E$175,2,FALSE) -> UT | D18: =VLOOKUP($B18,PU!$B$3:$E$175,3,FALSE) -> INSTAL∙LACIÓ DE MÒDUL SNMP COMUNICACIONS PER SAI, CONNEXIÓ I POSADA EN MARXA. INCLOU PETIT MATERIAL INSTAL∙LACIÓ, CABLEJAT I CONNEXIÓ I QUALSEVOL ALTRE NECESSARI PEL CORRECTE FUNCIONAMENT. | E18: 1 | F18: =VLOOKUP($B18,PU!$B$3:$E$175,4,FALSE) -> 5.19 | G18: =ROUND($E18*F18,2) -> 5.19
... B29: E‐034 | C29: =VLOOKUP($B29,PU!$B$3:$E$175,2,FALSE) -> UT | D29: =VLOOKUP($B29,PU!$B$3:$E$175,3,FALSE) -> PRECINTAT DE CÀMERES I DEL PC DE CONTROL DEL PUNT DE CONTROL. INCLOU TOTS ELS MATERIALS (PRECINTES), MITJANS I RECURSOS NECESSARIS. PREU PER PUNT DE CONTROL. | E29: 1 | F29: =VLOOKUP($B29,PU!$B$3:$E$175,4,FALSE) -> 259.66 | G29: =ROUND($E29*F29,2) -> 259.66
B30: Subtotal PdC | G30: =SUM(G7:G29) -> 12038.2
B32: =PU!B41 -> OBRA CIVIL
B33: O-001 | C33: =VLOOKUP($B33,PU!$B$3:$E$175,2,FALSE) -> UT | D33: =VLOOKUP($B33,PU!$B$3:$E$175,3,FALSE) -> FONAMENT DE FORMIGÓ PREFABRICAT PER A ARMARI REGULADOR AMB DOSIFICACIÓ DE 250 KG/m3 I ENCOFRAT CARA VISTA DE DIMENSIONS APROXIMADES 53 x 32,5 x 35 cm. AMB UN ENCASTAMENT DE 15 cm. I DOS FORATS DE 110 mm. DE DIÀMETRE. TOTALMENT EXECUTAT. | E33: 1 | F33: =VLOOKUP($B33,PU!$B$3:$E$175,4,FALSE) -> 203.4 | G33: =ROUND($E33*F33,2) -> 203.4
B34: O-002 | C34: =VLOOKUP($B34,PU!$B$3:$E$175,2,FALSE) -> UT | D34: =VLOOKUP($B34,PU!$B$3:$E$175,3,FALSE) -> FONAMENT DE FORMIGÓ PER A COLUMNA DE 4 METRES, AMB DOSIFICACIÓ DE 250 KG/m3, MITJANÇANT UN DAU DE 50 cm. DE COSTAT I 60 cm. DE PROFUNDITAT, INCLÒS COLZE DE CONNEXIÓ AMB TUBULAR. INCLOU DEMOLICIÓ PAVIMENT, EXCAVACIÓ I POSTERIOR REPOSICIÓ. TOTALMENT EXECUTAT. | E34: 1 | F34: =VLOOKUP($B34,PU!$B$3:$E$175,4,FALSE) -> 95.21 | G34: =ROUND($E34*F34,2) -> 95.21
B35: O-007 | C35: =VLOOKUP($B35,PU!$B$3:$E$175,2,FALSE) -> UT | D35: =VLOOKUP($B35,PU!$B$3:$E$175,3,FALSE) -> PERICÓ DE 60 x 60 cm. PREFABRICAT DE FORMIGÓ O CONSTRUÏT AMB MAONS GERO I FONS DEL MATEIX MATERIAL REBENT EL MARC I LA TAPA CORRESPONENT, SENSE INCLOURE AQUESTS. INCLOU DEMOLICIÓ PAVIMENT, EXCAVACIÓ I POSTERIOR REPOSICIÓ. TOTALMENT EXECUTAT. | E35: 1 | F35: =VLOOKUP($B35,PU!$B$3:$E$175,4,FALSE) -> 129.83 | G35: =ROUND($E35*F35,2) -> 129.83
B36: O-008 | C36: =VLOOKUP($B36,PU!$B$3:$E$175,2,FALSE) -> UT | D36: =VLOOKUP($B36,PU!$B$3:$E$175,3,FALSE) -> SUBMINISTRAMENT MARC DE FERRO FOS DE 60 x 60 cm PER INSTAL·LACIÓ EN VORERA, AMB INSCRIPCIÓ. | E36: 1 | F36: =VLOOKUP($B36,PU!$B$3:$E$175,4,FALSE) -> 34.62 | G36: =ROUND($E36*F36,2) -> 34.62
B37: O-009 | C37: =VLOOKUP($B37,PU!$B$3:$E$175,2,FALSE) -> UT | D37: =VLOOKUP($B37,PU!$B$3:$E$175,3,FALSE) -> SUBMINISTRAMENT TAPA DE FERRO FOS DE 60 x 60 cm PER INSTAL·LACIÓ EN VORERA, AMB INSCRIPCIÓ. | E37: 1 | F37: =VLOOKUP($B37,PU!$B$3:$E$175,4,FALSE) -> 69.25 | G37: =ROUND($E37*F37,2) -> 69.25
B38: O-015 | C38: =VLOOKUP($B38,PU!$B$3:$E$175,2,FALSE) -> UT | D38: =VLOOKUP($B38,PU!$B$3:$E$175,3,FALSE) -> INTERCEPTAR CANALITZACIÓ EXISTENT / EMBOCADURA PERICÓ EXISTENT. | E38: 1 | F38: =VLOOKUP($B38,PU!$B$3:$E$175,4,FALSE) -> 160.12 | G38: =ROUND($E38*F38,2) -> 160.12
B39: O-016 | C39: =VLOOKUP($B39,PU!$B$3:$E$175,2,FALSE) -> ML | D39: =VLOOKUP($B39,PU!$B$3:$E$175,3,FALSE) -> COMPROVACIÓ I MANDRINATGE DE CANALITZACIÓ EXISTENT DEIXANT PASSAT FIL GUIA. | E39: 80 | F39: =VLOOKUP($B39,PU!$B$3:$E$175,4,FALSE) -> 2.16 | G39: =ROUND($E39*F39,2) -> 172.8
B40: O-018 | C40: =VLOOKUP($B40,PU!$B$3:$E$175,2,FALSE) -> ML | D40: =VLOOKUP($B40,PU!$B$3:$E$175,3,FALSE) -> CANALITZACIÓ EN VORERA INCLOENT SUBMINISTRAMENT I INSTAL∙LACIÓ DE 2 TUBS DE PE ø 110 mm DE DOBLE CAPA, LLIS A L'INTERIOR I CORRUGAT A L'EXTERIOR, INCLÒS EXCAVACIÓ EN RASA DE 40 x 60 cm. DE PROFUNDITAT, BASE I PROTECCIÓ DE FORMIGÓ HM20, EN VORERES DE PANOT INCLÒS LA SEVA REPOSICIÓ. TOTALMENT EXECUTADA D'ACORD AMB LES ORDENANCES MUNICIPALS I INDICACIONS PARTICULARS. | E40: 8 | F40: =VLOOKUP($B40,PU!$B$3:$E$175,4,FALSE) -> 73.57 | G40: =ROUND($E40*F40,2) -> 588.56
B41: O-023 | C41: =VLOOKUP($B41,PU!$B$3:$E$175,2,FALSE) -> ML | D41: =VLOOKUP($B41,PU!$B$3:$E$175,3,FALSE) -> REPARACIÓ TUBULAR EN VORERA, MITJANÇANT EXCAVACIÓ, SUBMINISTRAMENT I COL∙LOCACIÓ TUB DE PE DE DOBLE CAPA, LLIS A L'INTERIOR I CORRUGAT A L'EXTERIOR DEL MATEIX DIÀMETRE QUE L'EXISTENT, MANIGOT D'ACOBLAMENT, PAS DEL CABLE, COL∙LOCACIÓ DE MITJA CANYA, LLIGAT AMB FILFERROS I FORMIGONAT DEL CONJUNT I REPOSICIÓ DE PAVIMENT DE PANOT DE LES MATEIXES CARACTERÍSTIQUES A L'EXISTENT, PER A LLARGADES FINS A 2m. TOTALMENT EXECUTADA. | E41: 2 | F41: =VLOOKUP($B41,PU!$B$3:$E$175,4,FALSE) -> 134.16 | G41: =ROUND($E41*F41,2) -> 268.32
B42: O-026 | C42: =VLOOKUP($B42,PU!$B$3:$E$175,2,FALSE) -> UT | D42: =VLOOKUP($B42,PU!$B$3:$E$175,3,FALSE) -> SUBMINISTRAMENT PLACA DE PRESA DE TERRA DE 500 x 500 x 3 mm I ACCESSORIS CONNEXIÓ. | E42: 1 | F42: =VLOOKUP($B42,PU!$B$3:$E$175,4,FALSE) -> 30.29 | G42: =ROUND($E42*F42,2) -> 30.29
B43: O-027 | C43: =VLOOKUP($B43,PU!$B$3:$E$175,2,FALSE) -> UT | D43: =VLOOKUP($B43,PU!$B$3:$E$175,3,FALSE) -> INSTAL∙LACIÓ PLACA DE PRESA DE TERRA DE 500 x 500 x 3 mm I ACCESSORIS CONNEXIÓ, EN PERICÓ DE REGISTRE. INCLOSA OBRA CIVIL NECESSÀRIA. | E43: 1 | F43: =VLOOKUP($B43,PU!$B$3:$E$175,4,FALSE) -> 129.83 | G43: =ROUND($E43*F43,2) -> 129.83
B44: O-028 | C44: =VLOOKUP($B44,PU!$B$3:$E$175,2,FALSE) -> UT | D44: =VLOOKUP($B44,PU!$B$3:$E$175,3,FALSE) -> OBTURACIÓ DE TUBULAR AMB CABLES EXISTENTS. | E44: 10 | F44: =VLOOKUP($B44,PU!$B$3:$E$175,4,FALSE) -> 2.6 | G44: =ROUND($E44*F44,2) -> 26
... B46: O-030 | C46: =VLOOKUP($B46,PU!$B$3:$E$175,2,FALSE) -> UT | D46: =VLOOKUP($B46,PU!$B$3:$E$175,3,FALSE) -> SENYALITZACIÓ OBRES, ZONES D'ABASSEGAMENT DE MATERIALS, MAQUINÀRIA, TALLS DE CARRIL I SIMILARS, NECESSARIS PER A L'EXECUCIÓ DE L'OBRA CIVIL A FER EN EL PUNT DE CONTROL. INCLOU TRAMITACIÓ PERMISOS I GESTIONS DAVANT ORGANISMES I ADMINISTRACIONS. | E46: 1 | F46: =VLOOKUP($B46,PU!$B$3:$E$175,4,FALSE) -> 389.49 | G46: =ROUND($E46*F46,2) -> 389.49
B47: Subtotal Obra Civil | G47: =SUM(G33:G46) -> 2406.78
B49: =PU!B73 -> INSTAL·LACIÓ ELÈCTRICA
B50: I-001 | C50: =VLOOKUP($B50,PU!$B$3:$E$175,2,FALSE) -> UT | D50: =VLOOKUP($B50,PU!$B$3:$E$175,3,FALSE) -> TREBALLS PER A LA REALITZACIÓ DE L'ALIMENTACIÓ DEL PUNT DE CONTROL, D'ACORD AMB EL QUE INDICA EL PLEC. | E50: 1 | F50: =VLOOKUP($B50,PU!$B$3:$E$175,4,FALSE) -> 164.45 | G50: =ROUND($E50*F50,2) -> 164.45
B51: I-002 | C51: =VLOOKUP($B51,PU!$B$3:$E$175,2,FALSE) -> UT | D51: =VLOOKUP($B51,PU!$B$3:$E$175,3,FALSE) -> SUBMINISTRAMENT D'EQUIPAMENTS ESPECÍFICS PER LA DISTRIBUCIÓ D'ENERGIA DEL PUNT DE CONTROL, CONSISTENTS EN PROTECCIONS ELÈCTRIQUES CONTRA SOBRETENSIONS TRANSITÒRIES (1 UT) I PERMANENTS (1 UT), DIFERENCIALS (FINS A 2 UT), MAGNETOTÈRMICS (FINS A 3 UT) I PRESA DE CORRENT TIPUS SCHUKO (1 UT). | E51: 1 | F51: =VLOOKUP($B51,PU!$B$3:$E$175,4,FALSE) -> 257.93 | G51: =ROUND($E51*F51,2) -> 257.93
B52: I-003 | C52: =VLOOKUP($B52,PU!$B$3:$E$175,2,FALSE) -> UT | D52: =VLOOKUP($B52,PU!$B$3:$E$175,3,FALSE) -> INSTAL·LACIÓ D'EQUIPAMENTS ESPECÍFICS PER LA DISTRIBUCIÓ D'ENERGIA DEL PUNT DE CONTROL. | E52: 1 | F52: =VLOOKUP($B52,PU!$B$3:$E$175,4,FALSE) -> 70.11 | G52: =ROUND($E52*F52,2) -> 70.11
B53: I-004 | C53: =VLOOKUP($B53,PU!$B$3:$E$175,2,FALSE) -> ML | D53: =VLOOKUP($B53,PU!$B$3:$E$175,3,FALSE) -> SUBMINISTRAMENT DE CABLE DE CONDUCTOR DE COURE AMB AÏLLAMENT DE PLÀSTIC, DE SECCIÓ 1x6 mm2 PER PRESES DE TERRA. | E53: 30 | F53: =VLOOKUP($B53,PU!$B$3:$E$175,4,FALSE) -> 0.95 | G53: =ROUND($E53*F53,2) -> 28.5
B54: I-005 | C54: =VLOOKUP($B54,PU!$B$3:$E$175,2,FALSE) -> ML | D54: =VLOOKUP($B54,PU!$B$3:$E$175,3,FALSE) -> INSTAL·LACIÓ DE CABLE DE CONDUCTOR DE COURE AMB AÏLLAMENT DE PLÀSTIC, DE SECCIÓ 1x6 mm2 PER PRESES DE TERRA. | E54: 30 | F54: =VLOOKUP($B54,PU!$B$3:$E$175,4,FALSE) -> 0.78 | G54: =ROUND($E54*F54,2) -> 23.4
B55: I-006 | C55: =VLOOKUP($B55,PU!$B$3:$E$175,2,FALSE) -> ML | D55: =VLOOKUP($B55,PU!$B$3:$E$175,3,FALSE) -> SUBMINISTRAMENT DE CABLE DE CONDUCTOR DE COURE EPTAFILAR NU, DE SECCIÓ 1x35 mm2. | E55: 5 | F55: =VLOOKUP($B55,PU!$B$3:$E$175,4,FALSE) -> 3.89 | G55: =ROUND($E55*F55,2) -> 19.45
B56: I-007 | C56: =VLOOKUP($B56,PU!$B$3:$E$175,2,FALSE) -> ML | D56: =VLOOKUP($B56,PU!$B$3:$E$175,3,FALSE) -> INSTAL·LACIÓ DE CABLE DE CONDUCTOR DE COURE EPTAFILAR NU, DE SECCIÓ 1x35 mm2. | E56: 5 | F56: =VLOOKUP($B56,PU!$B$3:$E$175,4,FALSE) -> 0.78 | G56: =ROUND($E56*F56,2) -> 3.9
B57: I-008 | C57: =VLOOKUP($B57,PU!$B$3:$E$175,2,FALSE) -> ML | D57: =VLOOKUP($B57,PU!$B$3:$E$175,3,FALSE) -> SUBMINISTRAMENT DE CABLE CONDUCTOR DE COURE RV-K 0,6/1KV DE 3x6 mm2 | E57: 50 | F57: =VLOOKUP($B57,PU!$B$3:$E$175,4,FALSE) -> 2.42 | G57: =ROUND($E57*F57,2) -> 121
B58: I-009 | C58: =VLOOKUP($B58,PU!$B$3:$E$175,2,FALSE) -> ML | D58: =VLOOKUP($B58,PU!$B$3:$E$175,3,FALSE) -> INSTAL·LACIÓ DE CABLE CONDUCTOR DE COURE RV-K 0,6/1KV DE 3x6 mm2 | E58: 50 | F58: =VLOOKUP($B58,PU!$B$3:$E$175,4,FALSE) -> 0.78 | G58: =ROUND($E58*F58,2) -> 39
B59: I-014 | C59: =VLOOKUP($B59,PU!$B$3:$E$175,2,FALSE) -> UT | D59: =VLOOKUP($B59,PU!$B$3:$E$175,3,FALSE) -> MODIFICACIÓ DE LEGALITZACIÓ EXISTENT DE <15KW PER AFEGIR UNA SORTIDA ADICIONAL PER ALIMENTAR UN ARMARI Y CÀMERES. INCLOU CÀLCULS DE CABLEJAT, RIYSIC, CIE I LA GESTIÓ PER LA FIRMA DE LA DECLARACIÓ RESPONSABLE I LA PRESENTACIÓ A INDUSTRIA. | E59: 1 | F59: =VLOOKUP($B59,PU!$B$3:$E$175,4,FALSE) -> 261.73 | G59: =ROUND($E59*F59,2) -> 261.73
B60: Subtotal instal·lacions elèctriques. | G60: =SUM(G50:G59) -> 989.47
B62: =PU!B92 -> SENYALITZACIÓ
B63: S-001 | C63: =VLOOKUP($B63,PU!$B$3:$E$175,2,FALSE) -> UT | D63: =VLOOKUP($B63,PU!$B$3:$E$175,3,FALSE) -> SUBMINISTRAMENT DE SENYAL DE "CÀMERA DE TRÀNSIT" B-53a SEGONS MANUAL DE SENYALITZACIÓ URBANA I PLEC DE SENYALITZACIÓ PER A LA CIUTAT DE BARCELONA. SENYAL D'ALUMINI DE DOBLE PESTANYA HI, NIVELL II DE 2 MM DE GRUIX, DE DIÀMETRE 40 o 60cm SEGONS NORMES. INCLÒS ELEMENTS DE SUSTENTACIÓ I FIXACIÓ. | E63: 1 | F63: =VLOOKUP($B63,PU!$B$3:$E$175,4,FALSE) -> 90.42 | G63: =ROUND($E63*F63,2) -> 90.42
B64: S-004 | C64: =VLOOKUP($B64,PU!$B$3:$E$175,2,FALSE) -> UT | D64: =VLOOKUP($B64,PU!$B$3:$E$175,3,FALSE) -> SUBMINISTRAMENT DE SENYAL DE "CONTROL FOTOGRÀFIC" B-55a SEGONS MANUAL DE SENYALITZACIÓ URBANA I PLEC DE SENYALITZACIÓ PER A LA CIUTAT DE BARCELONA. SENYAL D'ALUMINI DE DOBLE PESTANYA HI, NIVELL II DE 2 MM DE GRUIX, DE DIÀMETRE 60 CM SEGONS NORMES. INCLÒS ELEMENTS DE SUSTENTACIÓ I FIXACIÓ. | E64: 1 | F64: =VLOOKUP($B64,PU!$B$3:$E$175,4,FALSE) -> 107.23 | G64: =ROUND($E64*F64,2) -> 107.23
B65: S-007 | C65: =VLOOKUP($B65,PU!$B$3:$E$175,2,FALSE) -> UT | D65: =VLOOKUP($B65,PU!$B$3:$E$175,3,FALSE) -> INSTAL·LACIÓ DE SENYAL VERTICAL. | E65: 2 | F65: =VLOOKUP($B65,PU!$B$3:$E$175,4,FALSE) -> 38.95 | G65: =ROUND($E65*F65,2) -> 77.9
B66: Subtotal Senyalització | G66: =SUM(G63:G65) -> 275.55
B68: =PU!B105 -> COMUNICACIONS
B69: FO-03 | C69: =VLOOKUP($B69,PU!$B$3:$E$175,2,FALSE) -> ML | D69: =VLOOKUP($B69,PU!$B$3:$E$175,3,FALSE) -> SUBMINISTRAMENT I INSTAL∙LACIÓ DE CABLE DE 24 FO MONOMODE B1.1, SEGONS EN 186000. ARMAT. AMB PROTECCIÓ D'ARAMIDA, ARMADURA METÀL∙LICA I COBERTA EXTERIOR DE POLIETILÈ. | E69: 180 | F69: =VLOOKUP($B69,PU!$B$3:$E$175,4,FALSE) -> 2.74 | G69: =ROUND($E69*F69,2) -> 493.2
B70: FO-06 | C70: =VLOOKUP($B70,PU!$B$3:$E$175,2,FALSE) -> UT | D70: =VLOOKUP($B70,PU!$B$3:$E$175,3,FALSE) -> SUBMINISTRAMENT I INSTAL·LACIÓ DE FUETÓ DE FO MONOMODE FINS A 2 m, INCLÚS CONNECTORS. SEGONS ESPECIFICACIONS AJUNTAMENT. | E70: 2 | F70: =VLOOKUP($B70,PU!$B$3:$E$175,4,FALSE) -> 19.04 | G70: =ROUND($E70*F70,2) -> 38.08
B71: FO-09 | C71: =VLOOKUP($B71,PU!$B$3:$E$175,2,FALSE) -> UT | D71: =VLOOKUP($B71,PU!$B$3:$E$175,3,FALSE) -> SUBMINISTRAMENT I INSTAL·LACIÓ DE CAIXA REPARTIDORA ÒPTICA OTB-24. SEGONS ESPECIFICACIONS AJUNTAMENT. | E71: 1 | F71: =VLOOKUP($B71,PU!$B$3:$E$175,4,FALSE) -> 302.94 | G71: =ROUND($E71*F71,2) -> 302.94
B72: FO-11 | C72: =VLOOKUP($B72,PU!$B$3:$E$175,2,FALSE) -> UT | D72: =VLOOKUP($B72,PU!$B$3:$E$175,3,FALSE) -> FUSIÓ EN RECTE DE 1 FO MONOMODE. INCLOU PIG·TAIL, CONNECTORS I ADAPTADORS, AIXÍ COM LES MESURES DE RETROESPARCIMENT I POTÈNCIA. SEGONS ESPECIFICACIONS AJUTAMENT. | E72: 4 | F72: =VLOOKUP($B72,PU!$B$3:$E$175,4,FALSE) -> 56.26 | G72: =ROUND($E72*F72,2) -> 225.04
B73: FO-14 | C73: =VLOOKUP($B73,PU!$B$3:$E$175,2,FALSE) -> UD | D73: =VLOOKUP($B73,PU!$B$3:$E$175,3,FALSE) -> SUBMINISTRAMENT DE SWITCH DE COMUNICACIONS PER INSTAL·LACIÓ EN ARMARI DE CARRER, HOMOLOGAT PER L'AJUNTAMENT DE BARCELONA - IMI. SWITCH GESTIONABLE AMB 8 PORTS 10/100/1000Base-T + 2 PORTS 100/1000 SFP/RJ45 Combo. INCLOSOS SFP’s DE FIBRA TN-SFP-LX1-SM GIB I SISTEMA DE MUNTATGE EN RACK. | E73: 1 | F73: =VLOOKUP($B73,PU!$B$3:$E$175,4,FALSE) -> 999.71 | G73: =ROUND($E73*F73,2) -> 999.71
B74: FO-15 | C74: =VLOOKUP($B74,PU!$B$3:$E$175,2,FALSE) -> UD | D74: =VLOOKUP($B74,PU!$B$3:$E$175,3,FALSE) -> INSTAL·LACIÓ DE SWITCH DE COMUNICACIONS EN ARMARI DE CARRER, HOMOLOGAT PER L'AJUNTAMENT DE BARCELONA - IMI. | E74: 1 | F74: =VLOOKUP($B74,PU!$B$3:$E$175,4,FALSE) -> 64.92 | G74: =ROUND($E74*F74,2) -> 64.92
B75: FO-21 | C75: =VLOOKUP($B75,PU!$B$3:$E$175,2,FALSE) -> UT | D75: =VLOOKUP($B75,PU!$B$3:$E$175,3,FALSE) -> SUBMINISTRAMENT l INSTAL·LACIÓ DE CANVIADOR DE MEDI TIPUS SFP (FIBRA OPTICA MONOMODE). CONVERTIDOR DE MEDI NECESSARI PER TRANSFORMAR LA SENYAL OPTICA A ELECTRICA FO/ ETHERNET/ 422/ 485/ 422, MODEL RAISECOM L2 DIN·RAIL S1503i-AC O EQUIVALENT, INCLOS EL SFP BIFIBRA LC/PC, AMB 1 PORT 100/1000M BASE-X SFP + 2 PORTS 10/100/1000M BX | E75: 1 | F75: =VLOOKUP($B75,PU!$B$3:$E$175,4,FALSE) -> 478.64 | G75: =ROUND($E75*F75,2) -> 478.64
B76: FO-29 | C76: =VLOOKUP($B76,PU!$B$3:$E$175,2,FALSE) -> PAJ | D76: =VLOOKUP($B76,PU!$B$3:$E$175,3,FALSE) -> TREBALLS CELLNEX PDC-08 ANTIC SANT JOAN, INCLOU CONNEXIÓ I INTEGRACIÓ A LA XARXA ACTIVA, TREBALLS DE FO I TREBALLS D'ENGINYERIA, DESPLEGAMENT, DOCUMENTACIÓ I PRL. | E76: 1 | F76: =VLOOKUP($B76,PU!$B$3:$E$175,4,FALSE) -> 3579.98 | G76: =ROUND($E76*F76,2) -> 3579.98
B77: Subtotal Comunicacions | G77: =SUM(G69:G76) -> 6182.51
B78: TOTAL GENERAL | G78: =G30+G47+G60+G66+G77 -> 21892.51
D81: RESUM PRESSUPOST
D82: =B6 -> EQUIPAMENT PUNT DE CONTROL | G82: =G30 -> 12038.2
D83: =B32 -> OBRA CIVIL | G83: =G47 -> 2406.78
D84: =B49 -> INSTAL·LACIÓ ELÈCTRICA | G84: =G60 -> 989.47
D85: =B62 -> SENYALITZACIÓ | G85: =G66 -> 275.55
D86: =B68 -> COMUNICACIONS | G86: =G77 -> 6182.51
D87: TOTAL PRESSUPOST EXECUCIÓ INSTAL·LACIÓ PdC-01 | G87: =SUM(G82:G86) -> 21892.51
G170: =G87 -> 21892.51

Sheet PdC-09
B2: =_xlfn.CONCAT('Resum Amid.Ppals'!A17," ",'Resum Amid.Ppals'!B17) -> PdC-09 Pla de Palau
B4: CODI | C4: U.M | D4: CONCEPTE/DENOMINACIO | E4: AMID. | F4: P.U.PEM | G4: PREU TOTAL
B6: =PU!B5 -> EQUIPAMENT PUNT DE CONTROL
B7: E‐001 | C7: =VLOOKUP($B7,PU!$B$3:$E$175,2,FALSE) -> UT | D7: =VLOOKUP($B7,PU!$B$3:$E$175,3,FALSE) -> SUBMINISTRAMENT D'EQUIP COMPACTE DE RECONEIXEMENT DE MATRÍCULES, FORMAT PER CONJUNT DE CÀMERA LPR 2 CARRILS HD, CÀMERA DE CONTEXT A COLOR, IL∙LUMINADOR IR PER A ZONA D’INFRACCIONS I SISTEMA PROCÉS I EMMAGATZEMATGE SSD 60 GB. INCLOU LLICÈNCIA OCR, CARCASSA, BRAÇ I ADAPTACIÓ A SUPORT. | E7: 1 | F7: =VLOOKUP($B7,PU!$B$3:$E$175,4,FALSE) -> 6405.04 | G7: =ROUND($E7*F7,2) -> 6405.04
B8: E‐002 | C8: =VLOOKUP($B8,PU!$B$3:$E$175,2,FALSE) -> UT | D8: =VLOOKUP($B8,PU!$B$3:$E$175,3,FALSE) -> INSTAL∙LACIÓ D'EQUIP COMPACTE DE RECONEIXEMENT DE MATRÍCULES, FORMAT PER CONJUNT DE CÀMERA LPR 2 CARRILS HD, CÀMERA DE CONTEXT A COLOR, IL∙LUMINADOR IR PER A ZONA D’INFRACCIONS I SISTEMA PROCÉS I EMMAGATZEMATGE SSD 60 GB. INCLOU LICÈNCIA OCR, CARCASSA, BRAÇ I ADAPTACIÓ A SUPORT. | E8: 1 | F8: =VLOOKUP($B8,PU!$B$3:$E$175,4,FALSE) -> 307.27 | G8: =ROUND($E8*F8,2) -> 307.27
B9: E‐003 | C9: =VLOOKUP($B9,PU!$B$3:$E$175,2,FALSE) -> UT | D9: =VLOOKUP($B9,PU!$B$3:$E$175,3,FALSE) -> SUBMINISTRAMENT D'UNITAT DE PROCÉS PEL PUNT DE CONTROL, CONSISTENT EN UN PC DE TIPUS INDUSTRIAL, RUGORITZAT, AMB PROCESSADOR I7, CPU QUAD CORE, BIOS, SISTEMA OPERATIU, WATCHDOG, ALIMENTACIÓ 9‐48V, CAPACITAT EMMAGATZEMATGE 2 TB | E9: 1 | F9: =VLOOKUP($B9,PU!$B$3:$E$175,4,FALSE) -> 930.46 | G9: =ROUND($E9*F9,2) -> 930.46
B10: E‐004 | C10: =VLOOKUP($B10,PU!$B$3:$E$175,2,FALSE) -> UT | D10: =VLOOKUP($B10,PU!$B$3:$E$175,3,FALSE) -> INSTAL∙LACIÓ, CONFIGURACIÓ I POSADA EN FUNCIONAMENT, D'UNITAT DE PROCÉS PEL PUNT DE CONTROL EN ARMARI PDC. | E10: 1 | F10: =VLOOKUP($B10,PU!$B$3:$E$175,4,FALSE) -> 160.12 | G10: =ROUND($E10*F10,2) -> 160.12
B11: E‐005 | C11: =VLOOKUP($B11,PU!$B$3:$E$175,2,FALSE) -> UT | D11: =VLOOKUP($B11,PU!$B$3:$E$175,3,FALSE) -> SUBMINISTRAMENT DE FONT D'ALIMENTACIÓ TIPUS INDUSTRIAL, PER MUNTATGE EN CARRIL DIN, PER ALIMENTAR FINS A 4 CÀMERES PUNT DE CONTROL. | E11: 1 | F11: =VLOOKUP($B11,PU!$B$3:$E$175,4,FALSE) -> 138.48 | G11: =ROUND($E11*F11,2) -> 138.48
B12: E‐006 | C12: =VLOOKUP($B12,PU!$B$3:$E$175,2,FALSE) -> UT | D12: =VLOOKUP($B12,PU!$B$3:$E$175,3,FALSE) -> INSTAL∙LACIÓ DE FONT D'ALIMENTACIÓ TIPUS INDUSTRIAL, PER MUNTATGE EN CARRIL DIN, PER ALIMENTAR FINS A 4 CÀMERES PUNT DE CONTROL. | E12: 1 | F12: =VLOOKUP($B12,PU!$B$3:$E$175,4,FALSE) -> 30.29 | G12: =ROUND($E12*F12,2) -> 30.29
B13: E‐007 | C13: =VLOOKUP($B13,PU!$B$3:$E$175,2,FALSE) -> UT | D13: =VLOOKUP($B13,PU!$B$3:$E$175,3,FALSE) -> SUBMINISTRAMENT DE FONT D'ALIMENTACIÓ TIPUS INDUSTRIAL, PER MUNTATGE EN CARRIL DIN, PER ALIMENTAR UNITAT DE PROCÈS (PC) | E13: 1 | F13: =VLOOKUP($B13,PU!$B$3:$E$175,4,FALSE) -> 46.74 | G13: =ROUND($E13*F13,2) -> 46.74
B14: E‐008 | C14: =VLOOKUP($B14,PU!$B$3:$E$175,2,FALSE) -> UT | D14: =VLOOKUP($B14,PU!$B$3:$E$175,3,FALSE) -> INSTAL·LACIÓ DE FONT D'ALIMENTACIÓ TIPUS INDUSTRIAL, PER MUNTATGE EN CARRIL DIN, PER ALIMENTAR UNITAT DE PROCÈS (PC) | E14: 1 | F14: =VLOOKUP($B14,PU!$B$3:$E$175,4,FALSE) -> 12.12 | G14: =ROUND($E14*F14,2) -> 12.12
B15: E‐013 | C15: =VLOOKUP($B15,PU!$B$3:$E$175,2,FALSE) -> UT | D15: =VLOOKUP($B15,PU!$B$3:$E$175,3,FALSE) -> SUBMINISTRAMENT DE SAI PUNT DE CONTROL LECTURA DE MATRÍCULES, 1000 / 1000VA ‐ AP160N‐1K, FORMAT RACK 19", DE 1000VA / 900W, MONOFÀSIC AMB 3 BATERIES 12V/7,2 AH. | E15: 1 | F15: =VLOOKUP($B15,PU!$B$3:$E$175,4,FALSE) -> 392.09 | G15: =ROUND($E15*F15,2) -> 392.09
B16: E‐014 | C16: =VLOOKUP($B16,PU!$B$3:$E$175,2,FALSE) -> UT | D16: =VLOOKUP($B16,PU!$B$3:$E$175,3,FALSE) -> INSTAL∙LACIÓ DE SAI PUNT DE CONTROL LECTURA DE MATRÍCULES, 1000 / 1000VA ‐ AP160N‐1K, FORMAT RACK 19", DE 1000VA / 900W, MONOFÀSIC AMB 3 BATERIES 12V/7,2 AH. INSTAL∙LACIÓ, CONNEXIÓ I POSADA EN MARXA, INCLOU PETIT MATERIAL INSTAL∙LACIÓ, CABLEJAT I CONNEXIÓ I QUALSEVOL ALTRE NECESSARI PEL CORRECTE FUNCIONAMENT. | E16: 1 | F16: =VLOOKUP($B16,PU!$B$3:$E$175,4,FALSE) -> 30.29 | G16: =ROUND($E16*F16,2) -> 30.29
B17: E‐015 | C17: =VLOOKUP($B17,PU!$B$3:$E$175,2,FALSE) -> UT | D17: =VLOOKUP($B17,PU!$B$3:$E$175,3,FALSE) -> SUBMINISTRAMENT DE MÒDUL SNMP DE COMUNICACIONS PER SAI. INCLOU PETIT MATERIAL, CABLEJAT I QUALSEVOL ALTRE NECESSARI PEL CORRECTE FUNCIONAMENT. | E17: 1 | F17: =VLOOKUP($B17,PU!$B$3:$E$175,4,FALSE) -> 188.04 | G17: =ROUND($E17*F17,2) -> 188.04
B18: E‐016 | C18: =VLOOKUP($B18,PU!$B$3:$E$175,2,FALSE) -> UT | D18: =VLOOKUP($B18,PU!$B$3:$E$175,3,FALSE) -> INSTAL∙LACIÓ DE MÒDUL SNMP COMUNICACIONS PER SAI, CONNEXIÓ I POSADA EN MARXA. INCLOU PETIT MATERIAL INSTAL∙LACIÓ, CABLEJAT I CONNEXIÓ I QUALSEVOL ALTRE NECESSARI PEL CORRECTE FUNCIONAMENT. | E18: 1 | F18: =VLOOKUP($B18,PU!$B$3:$E$175,4,FALSE) -> 5.19 | G18: =ROUND($E18*F18,2) -> 5.19
... B29: E‐034 | C29: =VLOOKUP($B29,PU!$B$3:$E$175,2,FALSE) -> UT | D29: =VLOOKUP($B29,PU!$B$3:$E$175,3,FALSE) -> PRECINTAT DE CÀMERES I DEL PC DE CONTROL DEL PUNT DE CONTROL. INCLOU TOTS ELS MATERIALS (PRECINTES), MITJANS I RECURSOS NECESSARIS. PREU PER PUNT DE CONTROL. | E29: 1 | F29: =VLOOKUP($B29,PU!$B$3:$E$175,4,FALSE) -> 259.66 | G29: =ROUND($E29*F29,2) -> 259.66
B30: Subtotal PdC | G30: =SUM(G7:G29) -> 12038.2
B32: =PU!B41 -> OBRA CIVIL
B33: O-001 | C33: =VLOOKUP($B33,PU!$B$3:$E$175,2,FALSE) -> UT | D33: =VLOOKUP($B33,PU!$B$3:$E$175,3,FALSE) -> FONAMENT DE FORMIGÓ PREFABRICAT PER A ARMARI REGULADOR AMB DOSIFICACIÓ DE 250 KG/m3 I ENCOFRAT CARA VISTA DE DIMENSIONS APROXIMADES 53 x 32,5 x 35 cm. AMB UN ENCASTAMENT DE 15 cm. I DOS FORATS DE 110 mm. DE DIÀMETRE. TOTALMENT EXECUTAT. | E33: 1 | F33: =VLOOKUP($B33,PU!$B$3:$E$175,4,FALSE) -> 203.4 | G33: =ROUND($E33*F33,2) -> 203.4
B34: O-007 | C34: =VLOOKUP($B34,PU!$B$3:$E$175,2,FALSE) -> UT | D34: =VLOOKUP($B34,PU!$B$3:$E$175,3,FALSE) -> PERICÓ DE 60 x 60 cm. PREFABRICAT DE FORMIGÓ O CONSTRUÏT AMB MAONS GERO I FONS DEL MATEIX MATERIAL REBENT EL MARC I LA TAPA CORRESPONENT, SENSE INCLOURE AQUESTS. INCLOU DEMOLICIÓ PAVIMENT, EXCAVACIÓ I POSTERIOR REPOSICIÓ. TOTALMENT EXECUTAT. | E34: 1 | F34: =VLOOKUP($B34,PU!$B$3:$E$175,4,FALSE) -> 129.83 | G34: =ROUND($E34*F34,2) -> 129.83
B35: O-008 | C35: =VLOOKUP($B35,PU!$B$3:$E$175,2,FALSE) -> UT | D35: =VLOOKUP($B35,PU!$B$3:$E$175,3,FALSE) -> SUBMINISTRAMENT MARC DE FERRO FOS DE 60 x 60 cm PER INSTAL·LACIÓ EN VORERA, AMB INSCRIPCIÓ. | E35: 1 | F35: =VLOOKUP($B35,PU!$B$3:$E$175,4,FALSE) -> 34.62 | G35: =ROUND($E35*F35,2) -> 34.62
B36: O-009 | C36: =VLOOKUP($B36,PU!$B$3:$E$175,2,FALSE) -> UT | D36: =VLOOKUP($B36,PU!$B$3:$E$175,3,FALSE) -> SUBMINISTRAMENT TAPA DE FERRO FOS DE 60 x 60 cm PER INSTAL·LACIÓ EN VORERA, AMB INSCRIPCIÓ. | E36: 1 | F36: =VLOOKUP($B36,PU!$B$3:$E$175,4,FALSE) -> 69.25 | G36: =ROUND($E36*F36,2) -> 69.25
B37: O-010 | C37: =VLOOKUP($B37,PU!$B$3:$E$175,2,FALSE) -> UT | D37: =VLOOKUP($B37,PU!$B$3:$E$175,3,FALSE) -> REPARACIÓ D'ESTRUCTURA INTERIOR DE PERICÓ EXISTENT DE 60 x 60 cm, AMB ADEQUACIÓ DE PARETS I LLISCAT. TOTALMENT EXECUTAT. | E37: 1 | F37: =VLOOKUP($B37,PU!$B$3:$E$175,4,FALSE) -> 70.98 | G37: =ROUND($E37*F37,2) -> 70.98
B38: O-015 | C38: =VLOOKUP($B38,PU!$B$3:$E$175,2,FALSE) -> UT | D38: =VLOOKUP($B38,PU!$B$3:$E$175,3,FALSE) -> INTERCEPTAR CANALITZACIÓ EXISTENT / EMBOCADURA PERICÓ EXISTENT. | E38: 1 | F38: =VLOOKUP($B38,PU!$B$3:$E$175,4,FALSE) -> 160.12 | G38: =ROUND($E38*F38,2) -> 160.12
B39: O-016 | C39: =VLOOKUP($B39,PU!$B$3:$E$175,2,FALSE) -> ML | D39: =VLOOKUP($B39,PU!$B$3:$E$175,3,FALSE) -> COMPROVACIÓ I MANDRINATGE DE CANALITZACIÓ EXISTENT DEIXANT PASSAT FIL GUIA. | E39: 80 | F39: =VLOOKUP($B39,PU!$B$3:$E$175,4,FALSE) -> 2.16 | G39: =ROUND($E39*F39,2) -> 172.8
B40: O-018 | C40: =VLOOKUP($B40,PU!$B$3:$E$175,2,FALSE) -> ML | D40: =VLOOKUP($B40,PU!$B$3:$E$175,3,FALSE) -> CANALITZACIÓ EN VORERA INCLOENT SUBMINISTRAMENT I INSTAL∙LACIÓ DE 2 TUBS DE PE ø 110 mm DE DOBLE CAPA, LLIS A L'INTERIOR I CORRUGAT A L'EXTERIOR, INCLÒS EXCAVACIÓ EN RASA DE 40 x 60 cm. DE PROFUNDITAT, BASE I PROTECCIÓ DE FORMIGÓ HM20, EN VORERES DE PANOT INCLÒS LA SEVA REPOSICIÓ. TOTALMENT EXECUTADA D'ACORD AMB LES ORDENANCES MUNICIPALS I INDICACIONS PARTICULARS. | E40: 8 | F40: =VLOOKUP($B40,PU!$B$3:$E$175,4,FALSE) -> 73.57 | G40: =ROUND($E40*F40,2) -> 588.56
B41: O-022 | C41: =VLOOKUP($B41,PU!$B$3:$E$175,2,FALSE) -> ML | D41: =VLOOKUP($B41,PU!$B$3:$E$175,3,FALSE) -> SUPLEMENT PER REALITZACIÓ DE CANALITZACIÓ EN VORERA DE PAVIMENT ESPECIAL, TIPUS GRANIT, LLAMBORDES O SIMILARS | E41: 5 | F41: =VLOOKUP($B41,PU!$B$3:$E$175,4,FALSE) -> 25.97 | G41: =ROUND($E41*F41,2) -> 129.85
B42: O-023 | C42: =VLOOKUP($B42,PU!$B$3:$E$175,2,FALSE) -> ML | D42: =VLOOKUP($B42,PU!$B$3:$E$175,3,FALSE) -> REPARACIÓ TUBULAR EN VORERA, MITJANÇANT EXCAVACIÓ, SUBMINISTRAMENT I COL∙LOCACIÓ TUB DE PE DE DOBLE CAPA, LLIS A L'INTERIOR I CORRUGAT A L'EXTERIOR DEL MATEIX DIÀMETRE QUE L'EXISTENT, MANIGOT D'ACOBLAMENT, PAS DEL CABLE, COL∙LOCACIÓ DE MITJA CANYA, LLIGAT AMB FILFERROS I FORMIGONAT DEL CONJUNT I REPOSICIÓ DE PAVIMENT DE PANOT DE LES MATEIXES CARACTERÍSTIQUES A L'EXISTENT, PER A LLARGADES FINS A 2m. TOTALMENT EXECUTADA. | E42: 2 | F42: =VLOOKUP($B42,PU!$B$3:$E$175,4,FALSE) -> 134.16 | G42: =ROUND($E42*F42,2) -> 268.32
B43: O-026 | C43: =VLOOKUP($B43,PU!$B$3:$E$175,2,FALSE) -> UT | D43: =VLOOKUP($B43,PU!$B$3:$E$175,3,FALSE) -> SUBMINISTRAMENT PLACA DE PRESA DE TERRA DE 500 x 500 x 3 mm I ACCESSORIS CONNEXIÓ. | E43: 1 | F43: =VLOOKUP($B43,PU!$B$3:$E$175,4,FALSE) -> 30.29 | G43: =ROUND($E43*F43,2) -> 30.29
B44: O-027 | C44: =VLOOKUP($B44,PU!$B$3:$E$175,2,FALSE) -> UT | D44: =VLOOKUP($B44,PU!$B$3:$E$175,3,FALSE) -> INSTAL∙LACIÓ PLACA DE PRESA DE TERRA DE 500 x 500 x 3 mm I ACCESSORIS CONNEXIÓ, EN PERICÓ DE REGISTRE. INCLOSA OBRA CIVIL NECESSÀRIA. | E44: 1 | F44: =VLOOKUP($B44,PU!$B$3:$E$175,4,FALSE) -> 129.83 | G44: =ROUND($E44*F44,2) -> 129.83
... B47: O-030 | C47: =VLOOKUP($B47,PU!$B$3:$E$175,2,FALSE) -> UT | D47: =VLOOKUP($B47,PU!$B$3:$E$175,3,FALSE) -> SENYALITZACIÓ OBRES, ZONES D'ABASSEGAMENT DE MATERIALS, MAQUINÀRIA, TALLS DE CARRIL I SIMILARS, NECESSARIS PER A L'EXECUCIÓ DE L'OBRA CIVIL A FER EN EL PUNT DE CONTROL. INCLOU TRAMITACIÓ PERMISOS I GESTIONS DAVANT ORGANISMES I ADMINISTRACIONS. | E47: 1 | F47: =VLOOKUP($B47,PU!$B$3:$E$175,4,FALSE) -> 389.49 | G47: =ROUND($E47*F47,2) -> 389.49
B48: Subtotal Obra Civil | G48: =SUM(G33:G47) -> 2496.8
B50: =PU!B73 -> INSTAL·LACIÓ ELÈCTRICA
B51: I-001 | C51: =VLOOKUP($B51,PU!$B$3:$E$175,2,FALSE) -> UT | D51: =VLOOKUP($B51,PU!$B$3:$E$175,3,FALSE) -> TREBALLS PER A LA REALITZACIÓ DE L'ALIMENTACIÓ DEL PUNT DE CONTROL, D'ACORD AMB EL QUE INDICA EL PLEC. | E51: 1 | F51: =VLOOKUP($B51,PU!$B$3:$E$175,4,FALSE) -> 164.45 | G51: =ROUND($E51*F51,2) -> 164.45
B52: I-002 | C52: =VLOOKUP($B52,PU!$B$3:$E$175,2,FALSE) -> UT | D52: =VLOOKUP($B52,PU!$B$3:$E$175,3,FALSE) -> SUBMINISTRAMENT D'EQUIPAMENTS ESPECÍFICS PER LA DISTRIBUCIÓ D'ENERGIA DEL PUNT DE CONTROL, CONSISTENTS EN PROTECCIONS ELÈCTRIQUES CONTRA SOBRETENSIONS TRANSITÒRIES (1 UT) I PERMANENTS (1 UT), DIFERENCIALS (FINS A 2 UT), MAGNETOTÈRMICS (FINS A 3 UT) I PRESA DE CORRENT TIPUS SCHUKO (1 UT). | E52: 1 | F52: =VLOOKUP($B52,PU!$B$3:$E$175,4,FALSE) -> 257.93 | G52: =ROUND($E52*F52,2) -> 257.93
B53: I-003 | C53: =VLOOKUP($B53,PU!$B$3:$E$175,2,FALSE) -> UT | D53: =VLOOKUP($B53,PU!$B$3:$E$175,3,FALSE) -> INSTAL·LACIÓ D'EQUIPAMENTS ESPECÍFICS PER LA DISTRIBUCIÓ D'ENERGIA DEL PUNT DE CONTROL. | E53: 1 | F53: =VLOOKUP($B53,PU!$B$3:$E$175,4,FALSE) -> 70.11 | G53: =ROUND($E53*F53,2) -> 70.11
B54: I-004 | C54: =VLOOKUP($B54,PU!$B$3:$E$175,2,FALSE) -> ML | D54: =VLOOKUP($B54,PU!$B$3:$E$175,3,FALSE) -> SUBMINISTRAMENT DE CABLE DE CONDUCTOR DE COURE AMB AÏLLAMENT DE PLÀSTIC, DE SECCIÓ 1x6 mm2 PER PRESES DE TERRA. | E54: 30 | F54: =VLOOKUP($B54,PU!$B$3:$E$175,4,FALSE) -> 0.95 | G54: =ROUND($E54*F54,2) -> 28.5
B55: I-005 | C55: =VLOOKUP($B55,PU!$B$3:$E$175,2,FALSE) -> ML | D55: =VLOOKUP($B55,PU!$B$3:$E$175,3,FALSE) -> INSTAL·LACIÓ DE CABLE DE CONDUCTOR DE COURE AMB AÏLLAMENT DE PLÀSTIC, DE SECCIÓ 1x6 mm2 PER PRESES DE TERRA. | E55: 30 | F55: =VLOOKUP($B55,PU!$B$3:$E$175,4,FALSE) -> 0.78 | G55: =ROUND($E55*F55,2) -> 23.4
B56: I-006 | C56: =VLOOKUP($B56,PU!$B$3:$E$175,2,FALSE) -> ML | D56: =VLOOKUP($B56,PU!$B$3:$E$175,3,FALSE) -> SUBMINISTRAMENT DE CABLE DE CONDUCTOR DE COURE EPTAFILAR NU, DE SECCIÓ 1x35 mm2. | E56: 5 | F56: =VLOOKUP($B56,PU!$B$3:$E$175,4,FALSE) -> 3.89 | G56: =ROUND($E56*F56,2) -> 19.45
B57: I-007 | C57: =VLOOKUP($B57,PU!$B$3:$E$175,2,FALSE) -> ML | D57: =VLOOKUP($B57,PU!$B$3:$E$175,3,FALSE) -> INSTAL·LACIÓ DE CABLE DE CONDUCTOR DE COURE EPTAFILAR NU, DE SECCIÓ 1x35 mm2. | E57: 5 | F57: =VLOOKUP($B57,PU!$B$3:$E$175,4,FALSE) -> 0.78 | G57: =ROUND($E57*F57,2) -> 3.9
B58: I-008 | C58: =VLOOKUP($B58,PU!$B$3:$E$175,2,FALSE) -> ML | D58: =VLOOKUP($B58,PU!$B$3:$E$175,3,FALSE) -> SUBMINISTRAMENT DE CABLE CONDUCTOR DE COURE RV-K 0,6/1KV DE 3x6 mm2 | E58: 130 | F58: =VLOOKUP($B58,PU!$B$3:$E$175,4,FALSE) -> 2.42 | G58: =ROUND($E58*F58,2) -> 314.6
B59: I-009 | C59: =VLOOKUP($B59,PU!$B$3:$E$175,2,FALSE) -> ML | D59: =VLOOKUP($B59,PU!$B$3:$E$175,3,FALSE) -> INSTAL·LACIÓ DE CABLE CONDUCTOR DE COURE RV-K 0,6/1KV DE 3x6 mm2 | E59: 130 | F59: =VLOOKUP($B59,PU!$B$3:$E$175,4,FALSE) -> 0.78 | G59: =ROUND($E59*F59,2) -> 101.4
B60: I-014 | C60: =VLOOKUP($B60,PU!$B$3:$E$175,2,FALSE) -> UT | D60: =VLOOKUP($B60,PU!$B$3:$E$175,3,FALSE) -> MODIFICACIÓ DE LEGALITZACIÓ EXISTENT DE <15KW PER AFEGIR UNA SORTIDA ADICIONAL PER ALIMENTAR UN ARMARI Y CÀMERES. INCLOU CÀLCULS DE CABLEJAT, RIYSIC, CIE I LA GESTIÓ PER LA FIRMA DE LA DECLARACIÓ RESPONSABLE I LA PRESENTACIÓ A INDUSTRIA. | E60: 1 | F60: =VLOOKUP($B60,PU!$B$3:$E$175,4,FALSE) -> 261.73 | G60: =ROUND($E60*F60,2) -> 261.73
B61: Subtotal instal·lacions elèctriques. | G61: =SUM(G51:G60) -> 1245.47
B63: =PU!B92 -> SENYALITZACIÓ
B64: S-001 | C64: =VLOOKUP($B64,PU!$B$3:$E$175,2,FALSE) -> UT | D64: =VLOOKUP($B64,PU!$B$3:$E$175,3,FALSE) -> SUBMINISTRAMENT DE SENYAL DE "CÀMERA DE TRÀNSIT" B-53a SEGONS MANUAL DE SENYALITZACIÓ URBANA I PLEC DE SENYALITZACIÓ PER A LA CIUTAT DE BARCELONA. SENYAL D'ALUMINI DE DOBLE PESTANYA HI, NIVELL II DE 2 MM DE GRUIX, DE DIÀMETRE 40 o 60cm SEGONS NORMES. INCLÒS ELEMENTS DE SUSTENTACIÓ I FIXACIÓ. | E64: 1 | F64: =VLOOKUP($B64,PU!$B$3:$E$175,4,FALSE) -> 90.42 | G64: =ROUND($E64*F64,2) -> 90.42
B65: S-004 | C65: =VLOOKUP($B65,PU!$B$3:$E$175,2,FALSE) -> UT | D65: =VLOOKUP($B65,PU!$B$3:$E$175,3,FALSE) -> SUBMINISTRAMENT DE SENYAL DE "CONTROL FOTOGRÀFIC" B-55a SEGONS MANUAL DE SENYALITZACIÓ URBANA I PLEC DE SENYALITZACIÓ PER A LA CIUTAT DE BARCELONA. SENYAL D'ALUMINI DE DOBLE PESTANYA HI, NIVELL II DE 2 MM DE GRUIX, DE DIÀMETRE 60 CM SEGONS NORMES. INCLÒS ELEMENTS DE SUSTENTACIÓ I FIXACIÓ. | E65: 1 | F65: =VLOOKUP($B65,PU!$B$3:$E$175,4,FALSE) -> 107.23 | G65: =ROUND($E65*F65,2) -> 107.23
B66: S-007 | C66: =VLOOKUP($B66,PU!$B$3:$E$175,2,FALSE) -> UT | D66: =VLOOKUP($B66,PU!$B$3:$E$175,3,FALSE) -> INSTAL·LACIÓ DE SENYAL VERTICAL. | E66: 2 | F66: =VLOOKUP($B66,PU!$B$3:$E$175,4,FALSE) -> 38.95 | G66: =ROUND($E66*F66,2) -> 77.9
B67: Subtotal Senyalització | G67: =SUM(G64:G66) -> 275.55
B69: =PU!B105 -> COMUNICACIONS
B70: FO-03 | C70: =VLOOKUP($B70,PU!$B$3:$E$175,2,FALSE) -> ML | D70: =VLOOKUP($B70,PU!$B$3:$E$175,3,FALSE) -> SUBMINISTRAMENT I INSTAL∙LACIÓ DE CABLE DE 24 FO MONOMODE B1.1, SEGONS EN 186000. ARMAT. AMB PROTECCIÓ D'ARAMIDA, ARMADURA METÀL∙LICA I COBERTA EXTERIOR DE POLIETILÈ. | E70: 30 | F70: =VLOOKUP($B70,PU!$B$3:$E$175,4,FALSE) -> 2.74 | G70: =ROUND($E70*F70,2) -> 82.2
B71: FO-06 | C71: =VLOOKUP($B71,PU!$B$3:$E$175,2,FALSE) -> UT | D71: =VLOOKUP($B71,PU!$B$3:$E$175,3,FALSE) -> SUBMINISTRAMENT I INSTAL·LACIÓ DE FUETÓ DE FO MONOMODE FINS A 2 m, INCLÚS CONNECTORS. SEGONS ESPECIFICACIONS AJUNTAMENT. | E71: 2 | F71: =VLOOKUP($B71,PU!$B$3:$E$175,4,FALSE) -> 19.04 | G71: =ROUND($E71*F71,2) -> 38.08
B72: FO-09 | C72: =VLOOKUP($B72,PU!$B$3:$E$175,2,FALSE) -> UT | D72: =VLOOKUP($B72,PU!$B$3:$E$175,3,FALSE) -> SUBMINISTRAMENT I INSTAL·LACIÓ DE CAIXA REPARTIDORA ÒPTICA OTB-24. SEGONS ESPECIFICACIONS AJUNTAMENT. | E72: 1 | F72: =VLOOKUP($B72,PU!$B$3:$E$175,4,FALSE) -> 302.94 | G72: =ROUND($E72*F72,2) -> 302.94
B73: FO-11 | C73: =VLOOKUP($B73,PU!$B$3:$E$175,2,FALSE) -> UT | D73: =VLOOKUP($B73,PU!$B$3:$E$175,3,FALSE) -> FUSIÓ EN RECTE DE 1 FO MONOMODE. INCLOU PIG·TAIL, CONNECTORS I ADAPTADORS, AIXÍ COM LES MESURES DE RETROESPARCIMENT I POTÈNCIA. SEGONS ESPECIFICACIONS AJUTAMENT. | E73: 4 | F73: =VLOOKUP($B73,PU!$B$3:$E$175,4,FALSE) -> 56.26 | G73: =ROUND($E73*F73,2) -> 225.04
B74: FO-14 | C74: =VLOOKUP($B74,PU!$B$3:$E$175,2,FALSE) -> UD | D74: =VLOOKUP($B74,PU!$B$3:$E$175,3,FALSE) -> SUBMINISTRAMENT DE SWITCH DE COMUNICACIONS PER INSTAL·LACIÓ EN ARMARI DE CARRER, HOMOLOGAT PER L'AJUNTAMENT DE BARCELONA - IMI. SWITCH GESTIONABLE AMB 8 PORTS 10/100/1000Base-T + 2 PORTS 100/1000 SFP/RJ45 Combo. INCLOSOS SFP’s DE FIBRA TN-SFP-LX1-SM GIB I SISTEMA DE MUNTATGE EN RACK. | E74: 1 | F74: =VLOOKUP($B74,PU!$B$3:$E$175,4,FALSE) -> 999.71 | G74: =ROUND($E74*F74,2) -> 999.71
B75: FO-15 | C75: =VLOOKUP($B75,PU!$B$3:$E$175,2,FALSE) -> UD | D75: =VLOOKUP($B75,PU!$B$3:$E$175,3,FALSE) -> INSTAL·LACIÓ DE SWITCH DE COMUNICACIONS EN ARMARI DE CARRER, HOMOLOGAT PER L'AJUNTAMENT DE BARCELONA - IMI. | E75: 1 | F75: =VLOOKUP($B75,PU!$B$3:$E$175,4,FALSE) -> 64.92 | G75: =ROUND($E75*F75,2) -> 64.92
B76: FO-21 | C76: =VLOOKUP($B76,PU!$B$3:$E$175,2,FALSE) -> UT | D76: =VLOOKUP($B76,PU!$B$3:$E$175,3,FALSE) -> SUBMINISTRAMENT l INSTAL·LACIÓ DE CANVIADOR DE MEDI TIPUS SFP (FIBRA OPTICA MONOMODE). CONVERTIDOR DE MEDI NECESSARI PER TRANSFORMAR LA SENYAL OPTICA A ELECTRICA FO/ ETHERNET/ 422/ 485/ 422, MODEL RAISECOM L2 DIN·RAIL S1503i-AC O EQUIVALENT, INCLOS EL SFP BIFIBRA LC/PC, AMB 1 PORT 100/1000M BASE-X SFP + 2 PORTS 10/100/1000M BX | E76: 1 | F76: =VLOOKUP($B76,PU!$B$3:$E$175,4,FALSE) -> 478.64 | G76: =ROUND($E76*F76,2) -> 478.64
B77: FO-30 | C77: =VLOOKUP($B77,PU!$B$3:$E$175,2,FALSE) -> PAJ | D77: =VLOOKUP($B77,PU!$B$3:$E$175,3,FALSE) -> TREBALLS CELLNEX PDC-09 PLA DE PALAU, INCLOU CONNEXIÓ I INTEGRACIÓ A LA XARXA ACTIVA, TREBALLS DE FO I TREBALLS D'ENGINYERIA, DESPLEGAMENT, DOCUMENTACIÓ I PRL. | E77: 1 | F77: =VLOOKUP($B77,PU!$B$3:$E$175,4,FALSE) -> 4634.26 | G77: =ROUND($E77*F77,2) -> 4634.26
B78: Subtotal Comunicacions | G78: =SUM(G70:G77) -> 6825.79
B79: TOTAL GENERAL | G79: =G30+G48+G61+G67+G78 -> 22881.81
D82: RESUM PRESSUPOST
D83: =B6 -> EQUIPAMENT PUNT DE CONTROL | G83: =G30 -> 12038.2
D84: =B32 -> OBRA CIVIL | G84: =G48 -> 2496.8
D85: =B50 -> INSTAL·LACIÓ ELÈCTRICA | G85: =G61 -> 1245.47
D86: =B63 -> SENYALITZACIÓ | G86: =G67 -> 275.55
D87: =B69 -> COMUNICACIONS | G87: =G78 -> 6825.79
D88: TOTAL PRESSUPOST EXECUCIÓ INSTAL·LACIÓ PdC-01 | G88: =SUM(G83:G87) -> 22881.81
G171: =G88 -> 22881.81

Sheet Plataforma
A2: =PU!B137 -> PLATAFORMA GESTIÓ I CONTROL
A4: CODI | B4: UT | C4: CONCEPTE/DENOMINACIO | D4: AMID. | E4: P.U. PEM | F4: PREU TOTAL
A6: =PU!B137 -> PLATAFORMA GESTIÓ I CONTROL
A7: P-001 | B7: =VLOOKUP($A7,PU!$B$3:$E$175,2,FALSE) -> UT | C7: =VLOOKUP($A7,PU!$B$3:$E$175,3,FALSE) -> INTEGRACIÓ, CONFIGURACIÓ I DONAR D'ALTA ELS NOUS PUNTS DE CONTROL A LA PLATAFORMA DE VISIÓ ARTIFICIAL DE MOBILITAT DE L'AJUNTAMENT DE BARCELONA. INCLOU DONAR D'ALTA TOT L'EQUIPAMENT NOU, ACCÉS AL SISTEMA, INCLOURE ELS NOUS EQUIPAMENTS AL MTO (MITJÀ TÈCNIC OPERATIU), MODIFICACIONS DE BASES DE DADES, INFORMES, … I QUALSEVOL ALTRA FEINA NECESSÀRIA FINS LA TOTAL IMPLEMENTACIÓ I POSADA EN FUNCIONAMENT, INCLOSES TOTES LES PROVES NECESSÀRIES I PERTINENTS, TANT EN ENTORN DE PREPRODUCCIÓ COM POSTERIOR EN PRODUCCIÓ. | D7: 1 | E7: =VLOOKUP($A7,PU!$B$3:$E$175,4,FALSE) -> 5600 | F7: =ROUND(D7*E7,2) -> 5600
A8: P-002 | B8: =VLOOKUP($A8,PU!$B$3:$E$175,2,FALSE) -> UT | C8: =VLOOKUP($A8,PU!$B$3:$E$175,3,FALSE) -> IMPLEMENTACIÓ DE LA FUNCIONALITAT D'EMMASCARAMENT DE MATRÍCULES, EN LA PRÒPIA CÀMERA DE LECTURA DE MATRÍCULES, EXCEPTE LA MATRÍCULA INFRACTORA O PRINCIPAL, PER LES CÀMERES QUE S'AFEGEIXIN A LA PLATAFORMA. PREU PER CÀMERA. | D8: 10 | E8: =VLOOKUP($A8,PU!$B$3:$E$175,4,FALSE) -> 71.43 | F8: =ROUND(D8*E8,2) -> 714.3
A9: P-003 | B9: =VLOOKUP($A9,PU!$B$3:$E$175,2,FALSE) -> UT | C9: =VLOOKUP($A9,PU!$B$3:$E$175,3,FALSE) -> IMPLEMENTACIÓ DE LA FUNCIONALITAT D'EMMASCARAMENT DE CARES DE PERSONES, EN EL PROCESSADOR PC DEL PUNT DE CONTROL, PER LES CÀMERES QUE S'AFEGEIXIN A LA PLATAFORMA. PREU PER PUNT DE CONTROL. | D9: 9 | E9: =VLOOKUP($A9,PU!$B$3:$E$175,4,FALSE) -> 138.66 | F9: =ROUND(D9*E9,2) -> 1247.94
A10: P-004 | B10: =VLOOKUP($A10,PU!$B$3:$E$175,2,FALSE) -> UT | C10: =VLOOKUP($A10,PU!$B$3:$E$175,3,FALSE) -> ADAPTACIÓ I MODIFICACIONS MÒDUL PLATAFORMA PER INTERGRACIÓ LLISTA EXCEPCIONS DEL SISTEMA DE CONTROL D'ACCÉS. | D10: 0 | E10: =VLOOKUP($A10,PU!$B$3:$E$175,4,FALSE) -> 6302.52 | F10: =ROUND(D10*E10,2) -> 0
A11: P-005 | B11: =VLOOKUP($A11,PU!$B$3:$E$175,2,FALSE) -> UT | C11: =VLOOKUP($A11,PU!$B$3:$E$175,3,FALSE) -> ADAPTACIÓ I MODIFICACIONS MÒDUL PLATAFORMA PER INTEGRAR LES DADES DE LES CÀMERES DE CONTROL D'ACCÉS PER UTILITZAR-LES COM DADES DE CÀMERES DE ZONA DE BAIXES EMISSIONS. PREU PER PUNT DE CONTROL. | D11: 1 | E11: =VLOOKUP($A11,PU!$B$3:$E$175,4,FALSE) -> 3781.51 | F11: =ROUND(D11*E11,2) -> 3781.51
A12: P-006 | B12: =VLOOKUP($A12,PU!$B$3:$E$175,2,FALSE) -> UT | C12: =VLOOKUP($A12,PU!$B$3:$E$175,3,FALSE) -> INTEGRACIÓ DE CÀMARA DE LM DE CONTROL D'ACCESSOS EN UN PUNT DE CONTROL EXISTENT DE ZBE. INCLOU DESENVOLUPAMENT PER APLICACIÓ DE POLITIQUES D'ACCÉS, CALENDARIS, HORARIS,… | D12: 1 | E12: =VLOOKUP($A12,PU!$B$3:$E$175,4,FALSE) -> 1900 | F12: =ROUND(D12*E12,2) -> 1900
A13: P-007 | B13: =VLOOKUP($A13,PU!$B$3:$E$175,2,FALSE) -> H | C13: =VLOOKUP($A13,PU!$B$3:$E$175,3,FALSE) -> CAP DE PROJECTE DESENVOLUPAMENT PLATAFORMA INFORMÀTICA. | D13: 0 | E13: =VLOOKUP($A13,PU!$B$3:$E$175,4,FALSE) -> 46.22 | F13: =ROUND(D13*E13,2) -> 0
A14: P-008 | B14: =VLOOKUP($A14,PU!$B$3:$E$175,2,FALSE) -> H | C14: =VLOOKUP($A14,PU!$B$3:$E$175,3,FALSE) -> TÈCNIC ESPECIALISTA PROGRAMADOR INFORMÀTIC. | D14: 0 | E14: =VLOOKUP($A14,PU!$B$3:$E$175,4,FALSE) -> 35.29 | F14: =ROUND(D14*E14,2) -> 0
A15: P-009 | B15: =VLOOKUP($A15,PU!$B$3:$E$175,2,FALSE) -> PAJ | C15: =VLOOKUP($A15,PU!$B$3:$E$175,3,FALSE) -> ACTUALITZACIÓ DEL CERTIFICAT VOLUNTARI DE LA PLATAFORMA DE VISIÓ ARTIFICIAL DE MOBILITAT DE L'AJUNTAMENT DE BARCELONA, AMB VALIDACIÓ AUTOMÀTICA, PER INCLOURE ELS NOUS DISPOSITIUS DE CONTROL D'ACCÉS. TREBALLS A REALITZAR PER ENTITAT CERTIFICADORA ACREDITADA I HOMOLOGADA. | D15: 1 | E15: =VLOOKUP($A15,PU!$B$3:$E$175,4,FALSE) -> 12605.04 | F15: =ROUND(D15*E15,2) -> 12605.04
A16: P-010 | B16: =VLOOKUP($A16,PU!$B$3:$E$175,2,FALSE) -> UT | C16: =VLOOKUP($A16,PU!$B$3:$E$175,3,FALSE) -> CERTIFICACIÓ VOLUNTARIA A CÀRREC D'UNA ENAC (Entidad Nacional de Acreditación) QUE ACREDITI LA FIABILITAT DE LECTURA I DE DETECCIÓ DE LA CÀMERA DE LECTURA DE MATRÍCULES EN CONDICIONS REALS DE FUNCIONAMENT. PREU PER CÀMERA LM. | D16: 10 | E16: =VLOOKUP($A16,PU!$B$3:$E$175,4,FALSE) -> 1187 | F16: =ROUND(D16*E16,2) -> 11870
A17: P-011 | B17: =VLOOKUP($A17,PU!$B$3:$E$175,2,FALSE) -> UT | C17: =VLOOKUP($A17,PU!$B$3:$E$175,3,FALSE) -> TREBALLS DE PARAMETRITZACIÓ I CONFIGURACIÓ DELS VIDEOS DE LES CÀMERES DE LES LPR. INCLOU TOTES LES FEINES NECESSARIES (SISTEMA DE GRAVACIÓ I ENVIAMENT, RECOPILACIÓ DE DADES, REVISIÓ PREVIA) PER ENTREGAR ELS VIDEOS A L'ENTITAT CERTIFICADORA I PODER REALITZAR LA CERTIFICACIÓ DE FIABILITAT DE LES CÀMERES. | D17: 1 | E17: =VLOOKUP($A17,PU!$B$3:$E$175,4,FALSE) -> 6718 | F17: =ROUND(D17*E17,2) -> 6718
A18: Subtotal PLATAFORMA GESTIÓ I CONTROL | F18: =SUM(F7:F17) -> 44436.79
C22: RESUM PRESSUPOST
C23: =PU!B137 -> PLATAFORMA GESTIÓ I CONTROL | F23: =F18 -> 44436.79
C24: TOTAL PRESSUPOST EXECUCIÓ PLATAFORMA GESTIÓ I CONTROL | F24: =SUM(F23) -> 44436.79

Sheet Ajuts i Varis
B2: =PU!B154 -> AJUTS I VARIS
B4: CODI | C4: U.M | D4: CONCEPTE/DENOMINACIO | E4: AMID. | F4: P.U.PEM | G4: PREU TOTAL
B6: =PU!B150 -> CONFIGURACIÓ, PROVES, POSADA EN OPERACIÓ, FORMACIÓ I DOCUMENTACIÓ
B7: V-001 | C7: =VLOOKUP($B7,PU!$B$3:$E$175,2,FALSE) -> UT | D7: =VLOOKUP($B7,PU!$B$3:$E$175,3,FALSE) -> CONFIGURACIONS, PROVES I POSADA EN EXPLOTACIÓ DE TOTS ELS EQUIPAMENTS I SISTEMES INSTAL·LATS. INCLOU TOTES LES GESTIONS AMB TOTES LES ÀREES, DEPARTAMENTS I EMPRESES IMPLICADES. | E7: 1 | F7: =VLOOKUP($B7,PU!$B$3:$E$175,4,FALSE) -> 2941.18 | G7: =ROUND($E7*F7,2) -> 2941.18
B8: V-002 | C8: =VLOOKUP($B8,PU!$B$3:$E$175,2,FALSE) -> PA | D8: =VLOOKUP($B8,PU!$B$3:$E$175,3,FALSE) -> PARTIDA ALÇADA DE COBRAMENT ÍNTEGRA PER LES FEINES D'ENGINYERIA I GESTIÓ D'OBRA, PREPARACIO DE DOCUMENTACIÓ I TRAMITACIÓ DE PERMISSOS, ELABORACIÓ DE MANUALS D'USUARI, INSTAL·LACIÓ I EXPLOTACIÓ, DE DOCUMENTACIÓ TÈCNICA (PRÈVIA, DURANT PROCÉS I FINAL), ACTUALITZACIÓ I GESTIÓ D'INVENTARIS DEL DEPARTAMENT D'ESPAI URBÀ I DE DOCUMENTACIÓ FINAL D'OBRA. | E8: 1 | F8: =VLOOKUP($B8,PU!$B$3:$E$175,4,FALSE) -> 7521.01 | G8: =ROUND($E8*F8,2) -> 7521.01
B9: Subtotal instal·lacions elèctriques. | G9: =SUM(G7:G8) -> 10462.19
B11: =PU!B154 -> AJUTS I VARIS
B12: AJ-001 | C12: =VLOOKUP($B12,PU!$B$3:$E$175,2,FALSE) -> PAJ | D12: =VLOOKUP($B12,PU!$B$3:$E$175,3,FALSE) -> PARTIDA ALÇADA A JUSTIFICAR PER AJUTS DE PALETA I SIMILARS, EN LES FEINES NECESSÀRIES PER A LA CORRECTE INSTAL∙LACIÓ DELS DIFERENTS EQUIPAMENTS (PER MUNTATGE DE QUADRES ELÈCTRICS I EQUIPAMENTS VARIS, DE CONDUCTES I ESTESA DE CABLEJATS (PETITES ORNAMENTACIONS, TREPANTS PASSAMURS, TAPAT DE FORATS I ACABATS GENERALS, …) | E12: 1 | F12: =VLOOKUP($B12,PU!$B$3:$E$175,4,FALSE) -> 6470.59 | G12: =ROUND($E12*F12,2) -> 6470.59
B13: AJ-002 | C13: =VLOOKUP($B13,PU!$B$3:$E$175,2,FALSE) -> PAJ | D13: =VLOOKUP($B13,PU!$B$3:$E$175,3,FALSE) -> PARTIDA ALÇADA D'IMPREVISTS A JUSTIFICAR EN REFERÈNCIA A LES INSTAL∙LACIONS (INTERFERÈNCIA AMB SERVEIS AFECTATS, EXCÉS D'AMIDAMENTS, ETC). | E13: 1 | F13: =VLOOKUP($B13,PU!$B$3:$E$175,4,FALSE) -> 3781.51 | G13: =ROUND($E13*F13,2) -> 3781.51
B14: AJ-003 | C14: =VLOOKUP($B14,PU!$B$3:$E$175,2,FALSE) -> PAJ | D14: =VLOOKUP($B14,PU!$B$3:$E$175,3,FALSE) -> DESPESES ACEFAT. TRAMITACIÓ I GESTIÓ DE PERMISOS EGIOS PROMOTORS MUNICIPALS PER A CONSTRUCCIÓ DE RAMALS, CANALITZACIONS, AVARIES, RAMALS ESPECIALS I PRÒRROGUES NO IMPUTABLES A L'ADJUDICATARI. INCLOU GESTIÓ, PETICIÓ DE SERVEIS AFECTATS FINS A 12HA I VISITA QUALITAT URBANA | E14: 1 | F14: =VLOOKUP($B14,PU!$B$3:$E$175,4,FALSE) -> 1848.74 | G14: =ROUND($E14*F14,2) -> 1848.74
B15: Subtotal Comunicacions | G15: =SUM(G12:G14) -> 12100.84
B16: TOTAL GENERAL | G16: =G9+G15 -> 22563.03
D19: RESUM PRESSUPOST
D20: =PU!B150 -> CONFIGURACIÓ, PROVES, POSADA EN OPERACIÓ, FORMACIÓ I DOCUMENTACIÓ | G20: =G9 -> 10462.19
D21: =PU!B154 -> AJUTS I VARIS | G21: =G15 -> 12100.84
D22: TOTAL PRESSUPOST CONFIGURACIÓ AJUTS I VARIS | G22: =SUM(G20:G21) -> 22563.03

Sheet RESUM
B4: ='Resum Amid.Ppals'!A4 -> PROJECTE EXECUTIU D’IMPLEMENTACIÓ D’UN SISTEMA DE REGULACIÓ DE TRÀNSIT MITJANÇANT CÀMERES ALS BARRIS DEL GÒTIC I CASC ANTIC DEL DISTRICTE DE CIUTAT VELLA
B6: CONCEPTE / DENOMINACIÓ | D6: PREU PEM | E6: BI+DG | F6: PREU UNITARI PEC | G6: IMPORT TOTAL
B8: TOTAL PRESSUPOST EXECUCIÓ INSTAL·LACIONS PdC | G8: =SUM(D10:D18) -> 203335.3
B9: Punt de Control - Adreça | C9: LPR
B10: =_xlfn.CONCAT('Resum Amid.Ppals'!A9," ",'Resum Amid.Ppals'!B9) -> PdC-01 Av. Portal de l'Àngel | C10: ='Resum Amid.Ppals'!C9 -> 1 | D10: ='PdC-01'!H79 -> 19376.68 | E10: =ROUND(D10*SUM($C$31:$C$32),2) -> 3681.57 | F10: =ROUND(SUM(D10:E10),2) -> 23058.25
B11: =_xlfn.CONCAT('Resum Amid.Ppals'!A10," ",'Resum Amid.Ppals'!B10) -> PdC-02 Magdalenes | C11: ='Resum Amid.Ppals'!C10 -> 1 | D11: ='PdC-02'!I84 -> 23038.22 | E11: =ROUND(D11*SUM($C$31:$C$32),2) -> 4377.26 | F11: =ROUND(SUM(D11:E11),2) -> 27415.48
B12: =_xlfn.CONCAT('Resum Amid.Ppals'!A11," ",'Resum Amid.Ppals'!B11) -> PdC-03 Jaume I | C12: ='Resum Amid.Ppals'!C11 -> 1 | D12: ='PdC-03'!G96 -> 27359.03 | E12: =ROUND(D12*SUM($C$31:$C$32),2) -> 5198.22 | F12: =ROUND(SUM(D12:E12),2) -> 32557.25
B13: =_xlfn.CONCAT('Resum Amid.Ppals'!A12," ",'Resum Amid.Ppals'!B12) -> PdC-04 Fusteria | C13: ='Resum Amid.Ppals'!C12 -> 1 | D13: ='PdC-04'!I57 -> 12753.91 | E13: =ROUND(D13*SUM($C$31:$C$32),2) -> 2423.24 | F13: =ROUND(SUM(D13:E13),2) -> 15177.15
B14: =_xlfn.CONCAT('Resum Amid.Ppals'!A13," ",'Resum Amid.Ppals'!B13) -> PdC-05 Lluís el Piadós | C14: ='Resum Amid.Ppals'!C13 -> 1 | D14: ='PdC-05'!G86 -> 22042.91 | E14: =ROUND(D14*SUM($C$31:$C$32),2) -> 4188.15 | F14: =ROUND(SUM(D14:E14),2) -> 26231.06
B15: =_xlfn.CONCAT('Resum Amid.Ppals'!A14," ",'Resum Amid.Ppals'!B14) -> PdC-06 Placeta Comerç | C15: ='Resum Amid.Ppals'!C14 -> 2 | D15: ='PdC-06'!G92 -> 32717.71 | E15: =ROUND(D15*SUM($C$31:$C$32),2) -> 6216.36 | F15: =ROUND(SUM(D15:E15),2) -> 38934.07
B16: =_xlfn.CONCAT('Resum Amid.Ppals'!A15," ",'Resum Amid.Ppals'!B15) -> PdC-07 Princesa | C16: ='Resum Amid.Ppals'!C15 -> 1 | D16: ='PdC-07'!G87 -> 21272.52 | E16: =ROUND(D16*SUM($C$31:$C$32),2) -> 4041.78 | F16: =ROUND(SUM(D16:E16),2) -> 25314.3
B17: =_xlfn.CONCAT('Resum Amid.Ppals'!A16," ",'Resum Amid.Ppals'!B16) -> PdC-08 Antic Sant Joan | C17: ='Resum Amid.Ppals'!C16 -> 1 | D17: ='PdC-08'!G87 -> 21892.51 | E17: =ROUND(D17*SUM($C$31:$C$32),2) -> 4159.58 | F17: =ROUND(SUM(D17:E17),2) -> 26052.09
B18: =_xlfn.CONCAT('Resum Amid.Ppals'!A17," ",'Resum Amid.Ppals'!B17) -> PdC-09 Pla de Palau | C18: ='Resum Amid.Ppals'!C17 -> 1 | D18: ='PdC-09'!G88 -> 22881.81 | E18: =ROUND(D18*SUM($C$31:$C$32),2) -> 4347.54 | F18: =ROUND(SUM(D18:E18),2) -> 27229.35
C19: =SUM(C10:C18) -> 10 | E19: SUBTOTAL | F19: =SUM(F10:F18) -> 241969
B20: TOTAL PLATAFORMA GESTIÓ I CONTROL | G20: =SUM(D21:D21) -> 44436.79
B21: =PU!B137 -> PLATAFORMA GESTIÓ I CONTROL | D21: =Plataforma!F24 -> 44436.79 | E21: =ROUND(D21*SUM($C$31:$C$32),2) -> 8442.99 | F21: =SUM(D21:E21) -> 52879.78
B23: TOTAL PRESSUPOST EXECUCIÓ ALTRES I VARIS | G23: =SUM(D24:D25) -> 22563.03
B24: =PU!B150 -> CONFIGURACIÓ, PROVES, POSADA EN OPERACIÓ, FORMACIÓ I DOCUMENTACIÓ | D24: ='Ajuts i Varis'!G20 -> 10462.19 | E24: =ROUND(D24*SUM($C$31:$C$32),2) -> 1987.82 | F24: =SUM(D24:E24) -> 12450.01
B25: =PU!B154 -> AJUTS I VARIS | D25: ='Ajuts i Varis'!G21 -> 12100.84 | E25: =ROUND(D25*SUM($C$31:$C$32),2) -> 2299.16 | F25: =SUM(D25:E25) -> 14400
E26: SUBTOTAL | F26: =SUM(F24:F25) -> 26850.01
B27: TOTAL PRESSUPOST SEGURETAT I SALUT | G27: =SUM(D28) -> 10727.55
B28: TOTAL SEGURETAT I SALUT | D28: =SiS!G14 -> 10727.55 | E28: =ROUND(D28*SUM($C$31:$C$32),2) -> 2038.23 | F28: =SUM(D28:E28) -> 12765.78
E29: TOTAL | F29: =F19+F21+F26+F28 -> 334464.57
B30: TOTAL PRESSUPOST EXECUCIÓ MATERIAL PEM | G30: =SUM(G8,G20,G23,G27) -> 281062.67
B31: DESPESES GENERAL | C31: 0.13 | G31: =ROUND(G30*C31,2) -> 36538.15
B32: BENEFICI INDUSTRIAL | C32: 0.06 | G32: =ROUND(G30*C32,2) -> 16863.76
B34: TOTAL PRESSUPOST EXECUCIÓ PEC | G34: =SUM(G30:G32) -> 334464.58
B35: IVA | C35: 0.21 | G35: =ROUND(G34*C35,2) -> 70237.56
B36: TOTAL PRESSUPOST LICITACIÓ | G36: =SUM(G34:G35) -> 404702.14

Sheet SiS
B2: =PU!B173 -> SEGURETAT I SALUT
B4: CODI | C4: U.M | D4: CONCEPTE/DENOMINACIO | E4: AMID. | F4: P.U.PEM | G4: PREU TOTAL
B6: =PU!B173 -> SEGURETAT I SALUT
B7: SS-01 | C7: =VLOOKUP($B7,PU!$B$3:$E$175,2,FALSE) -> PA | D7: =VLOOKUP($B7,PU!$B$3:$E$175,3,FALSE) -> PARTIDA ALÇADA DE COBRAMENT ÍNTEGRA PER LA SEGURETAT I SALUT DE L'OBRA; INCLOU LA SENYALITZACIÓ, ELS TANCAMENTS D'OBRA I TOT ALLÒ QUE DISPOSI LA IMPLANTACIÓ DEL PLA DE SEGURETAT I SALUT DESENVOLUPAT. PRESSUPOST EXECUCIÓ GENERAL. | E7: 1 | F7: =VLOOKUP($B7,PU!$B$3:$E$175,4,FALSE) -> 10727.55 | G7: =ROUND($E7*F7,2) -> 10727.55
B8: Subtotal instal·lacions elèctriques. | G8: =SUM(G7:G7) -> 10727.55
B9: TOTAL GENERAL | G9: =G8 -> 10727.55
D12: RESUM PRESSUPOST
D13: =PU!B173 -> SEGURETAT I SALUT | G13: =G8 -> 10727.55
D14: TOTAL PRESSUPOST EXECUCIÓ INSTAL·LACIÓ PdC-01 | G14: =SUM(G13:G13) -> 10727.55
