Workbook

Sheet Resum Amid.Ppals
A2: RESUM AMIDAMENTS PRINCIPALS
A4: PROJECTE EXECUTIU D’IMPLEMENTACIÓ D’UN SISTEMA DE REGULACIÓ DE TRÀNSIT MITJANÇANT CÀMERES ALS BARRIS DEL GÒTIC I CASC ANTIC DEL DISTRICTE DE CIUTAT VELLA
A7: Punt de Control | B7: Adreça | C7: Conjunt càmera LPR+entorn (ut) | D7: Columna 4m (ut) | E7: Canalització vorera (m) | F7: Pericó registre 70x70 | G7: Pericó registre 60x60 (ut) | H7: Pericó registre 40x40 (ut) | I7: Fonament armari (ut) | J7: Armari PdC (ut) | K7: Estesa FO (m) | L7: Estesa UTP (m)
A9: PdC-01 | B9: Av. Portal de l'Àngel | C9: 1 | D9: - | E9: 10 | G9: 1 | I9: 1 | J9: 1 | K9: - | L9: 70
A10: PdC-02 | B10: Magdalenes | C10: 1 | D10: - | E10: 32 | G10: 1 | I10: 1 | J10: 1 | K10: 60 | L10: -
A11: PdC-03 | B11: Jaume I | C11: 1 | D11: 1 | E11: 15 | G11: 2 | I11: 1 | J11: 1 | K11: 100 | L11: -
A12: PdC-04 | B12: Fusteria | C12: 1 | D12: 1 | E12: 0 | G12: - | I12: 1 | J12: - | K12: - | L12: 15
A13: PdC-05 | B13: Lluís el Piadós | C13: 1 | D13: 1 | E13: 10 | G13: 1 | I13: 1 | J13: 1 | K13: 200 | L13: -
A14: PdC-06 | B14: Placeta Comerç | C14: 2 | D14: 2 | E14: 40 | G14: 1 | I14: 1 | J14: 1 | K14: 330 | L14: -
A15: PdC-07 | B15: Princesa | C15: 1 | D15: 1 | E15: 23 | G15: 1 | I15: 1 | J15: 1 | K15: 90 | L15: -
A16: PdC-08 | B16: Antic Sant Joan | C16: 1 | D16: 1 | E16: 8 | G16: 1 | I16: 1 | J16: 1 | K16: 180 | L16: -
A17: PdC-09 | B17: Pla de Palau | C17: 1 | D17: 1 | E17: 8 | G17: 1 | I17: 1 | J17: 1 | K17: 30 | L17: -
C19: =SUM(C9:C17) -> 10 | D19: =SUM(D9:D17) -> 8 | E19: =SUM(E9:E17) -> 146 | F19: =SUM(F9:F17) -> 0 | G19: =SUM(G9:G17) -> 9 | H19: =SUM(H9:H17) -> 0 | I19: =SUM(I9:I17) -> 9 | J19: =SUM(J9:J17) -> 8 | ... L19: =SUM(L9:L17) -> 85

Sheet PU
B1: PREUS UNITARIS
B3: CODI | C3: U | D3: CONCEPTE/DENOMINACIO | E3: P.U. PEM
B5: EQUIPAMENT PUNT DE CONTROL
B6: E‐001 | C6: UT | D6: SUBMINISTRAMENT D'EQUIP COMPACTE DE RECONEIXEMENT DE MATRÍCULES, FORMAT PER CONJUNT DE CÀMERA LPR 2 CARRILS HD, CÀMERA DE CONTEXT A COLOR, IL∙LUMINADOR IR PER A ZONA D’INFRACCIONS I SISTEMA PROCÉS I EMMAGATZEMATGE SSD 60 GB. INCLOU LLICÈNCIA OCR, CARCASSA, BRAÇ I ADAPTACIÓ A SUPORT. | E6: 6405.04
B7: E‐002 | C7: UT | D7: INSTAL∙LACIÓ D'EQUIP COMPACTE DE RECONEIXEMENT DE MATRÍCULES, FORMAT PER CONJUNT DE CÀMERA LPR 2 CARRILS HD, CÀMERA DE CONTEXT A COLOR, IL∙LUMINADOR IR PER A ZONA D’INFRACCIONS I SISTEMA PROCÉS I EMMAGATZEMATGE SSD 60 GB. INCLOU LICÈNCIA OCR, CARCASSA, BRAÇ I ADAPTACIÓ A SUPORT. | E7: 307.27
B8: E‐003 | C8: UT | D8: SUBMINISTRAMENT D'UNITAT DE PROCÉS PEL PUNT DE CONTROL, CONSISTENT EN UN PC DE TIPUS INDUSTRIAL, RUGORITZAT, AMB PROCESSADOR I7, CPU QUAD CORE, BIOS, SISTEMA OPERATIU, WATCHDOG, ALIMENTACIÓ 9‐48V, CAPACITAT EMMAGATZEMATGE 2 TB | E8: 930.46
B9: E‐004 | C9: UT | D9: INSTAL∙LACIÓ, CONFIGURACIÓ I POSADA EN FUNCIONAMENT, D'UNITAT DE PROCÉS PEL PUNT DE CONTROL EN ARMARI PDC. | E9: 160.12
B10: E‐005 | C10: UT | D10: SUBMINISTRAMENT DE FONT D'ALIMENTACIÓ TIPUS INDUSTRIAL, PER MUNTATGE EN CARRIL DIN, PER ALIMENTAR FINS A 4 CÀMERES PUNT DE CONTROL. | E10: 138.48
B11: E‐006 | C11: UT | D11: INSTAL∙LACIÓ DE FONT D'ALIMENTACIÓ TIPUS INDUSTRIAL, PER MUNTATGE EN CARRIL DIN, PER ALIMENTAR FINS A 4 CÀMERES PUNT DE CONTROL. | E11: 30.29
B12: E‐007 | C12: UT | D12: SUBMINISTRAMENT DE FONT D'ALIMENTACIÓ TIPUS INDUSTRIAL, PER MUNTATGE EN CARRIL DIN, PER ALIMENTAR UNITAT DE PROCÈS (PC) | E12: 46.74
B13: E‐008 | C13: UT | D13: INSTAL·LACIÓ DE FONT D'ALIMENTACIÓ TIPUS INDUSTRIAL, PER MUNTATGE EN CARRIL DIN, PER ALIMENTAR UNITAT DE PROCÈS (PC) | E13: 12.12
B14: E‐009 | C14: UT | D14: SUBMINISTRAMENT DE SWITCH DE COMUNICACIÓ PER SISTEMA DE VISIÓARTIFICIAL, NO GESTIONABLE, COMPATIBLE AMB EL SISTEMA DE COMUNICACIONS DE L'AJUNTAMENT. | E14: 294.28
B15: E‐010 | C15: UT | D15: INSTAL∙LACIÓ I CONFIGURACIÓ DE SWITCH DE COMUNICACIÓ PER SISTEMA DE VISIÓ ARTIFICIAL, NO GESTIONABLE, COMPATIBLE AMB EL SISTEMA DE COMUNICACIONS DE L'AJUNTAMENT. | E15: 43.28
B16: E‐011 | C16: UT | D16: SUBMINISTRAMENT DE ROUTER 4G PER COMUNICACIONS SENSE FILS, COMPATIBLE AMB EL SISTEMA DE COMUNICACIONS DE L'AJUNTAMENT. INCLOENT ANTENA ANTIVANDÀLICA. | E16: 389.49
B17: E‐012 | C17: UT | D17: INSTAL∙LACIÓ I CONFIGURACIÓ DE ROUTER 4G I ANTENA ANTIVANDÀLICA PER COMUNICACIONS SENSE FILS, COMPATIBLE AMB EL SISTEMA DE COMUNICACIONS DE L'AJUNTAMENT. | E17: 51.93
... B39: E‐034 | C39: UT | D39: PRECINTAT DE CÀMERES I DEL PC DE CONTROL DEL PUNT DE CONTROL. INCLOU TOTS ELS MATERIALS (PRECINTES), MITJANS I RECURSOS NECESSARIS. PREU PER PUNT DE CONTROL. | E39: 259.66
B41: OBRA CIVIL
B42: O-001 | C42: UT | D42: FONAMENT DE FORMIGÓ PREFABRICAT PER A ARMARI REGULADOR AMB DOSIFICACIÓ DE 250 KG/m3 I ENCOFRAT CARA VISTA DE DIMENSIONS APROXIMADES 53 x 32,5 x 35 cm. AMB UN ENCASTAMENT DE 15 cm. I DOS FORATS DE 110 mm. DE DIÀMETRE. TOTALMENT EXECUTAT. | E42: 203.4
B43: O-002 | C43: UT | D43: FONAMENT DE FORMIGÓ PER A COLUMNA DE 4 METRES, AMB DOSIFICACIÓ DE 250 KG/m3, MITJANÇANT UN DAU DE 50 cm. DE COSTAT I 60 cm. DE PROFUNDITAT, INCLÒS COLZE DE CONNEXIÓ AMB TUBULAR. INCLOU DEMOLICIÓ PAVIMENT, EXCAVACIÓ I POSTERIOR REPOSICIÓ. TOTALMENT EXECUTAT. | E43: 95.21
B44: O-003 | C44: UT | D44: PERICÓ DE 70 x 70 cm. PREFABRICAT DE FORMIGÓ O CONSTRUÏT AMB MAONS GERO I FONS DEL MATEIX MATERIAL REBENT EL MARC I LA TAPA TRIANGULAR DE DOBLE FULLA CORRESPONENT, SENSE INCLOURE AQUESTS. INCLOU DEMOLICIÓ PAVIMENT, EXCAVACIÓ I POSTERIOR REPOSICIÓ. TOTALMENT EXECUTAT. | E44: 160.12
B45: O-004 | C45: UT | D45: SUBMINISTRAMENT MARC DE FERRO FOS DE 70 x 70 cm PER INSTAL·LACIÓ EN VORERA, AMB INSCRIPCIÓ. | E45: 47.61
B46: O-005 | C46: UT | D46: SUBMINISTRAMENT TAPA DE FERRO FOS DE 70 x 70 cm PER INSTAL·LACIÓ EN VORERA, AMB INSCRIPCIÓ. | E46: 90.89
B47: O-006 | C47: UT | D47: REPARACIÓ D'ESTRUCTURA INTERIOR DE PERICÓ EXISTENT DE 70 x 70 cm, AMB ADEQUACIÓ DE PARETS I LLISCAT. TOTALMENT EXECUTAT. | E47: 81.36
B48: O-007 | C48: UT | D48: PERICÓ DE 60 x 60 cm. PREFABRICAT DE FORMIGÓ O CONSTRUÏT AMB MAONS GERO I FONS DEL MATEIX MATERIAL REBENT EL MARC I LA TAPA CORRESPONENT, SENSE INCLOURE AQUESTS. INCLOU DEMOLICIÓ PAVIMENT, EXCAVACIÓ I POSTERIOR REPOSICIÓ. TOTALMENT EXECUTAT. | E48: 129.83
B49: O-008 | C49: UT | D49: SUBMINISTRAMENT MARC DE FERRO FOS DE 60 x 60 cm PER INSTAL·LACIÓ EN VORERA, AMB INSCRIPCIÓ. | E49: 34.62
B50: O-009 | C50: UT | D50: SUBMINISTRAMENT TAPA DE FERRO FOS DE 60 x 60 cm PER INSTAL·LACIÓ EN VORERA, AMB INSCRIPCIÓ. | E50: 69.25
B51: O-010 | C51: UT | D51: REPARACIÓ D'ESTRUCTURA INTERIOR DE PERICÓ EXISTENT DE 60 x 60 cm, AMB ADEQUACIÓ DE PARETS I LLISCAT. TOTALMENT EXECUTAT. | E51: 70.98
B52: O-011 | C52: UT | D52: PERICÓ DE 40 x 40 cm. PREFABRICAT DE FORMIGÓ O CONSTRUÏT AMB MAONS GERO I FONS DEL MATEIX MATERIAL REBENT EL MARC I LA TAPA CORRESPONENTS, SENSE INCLOURE AQUESTS. INCLOU DEMOLICIÓ PAVIMENT, EXCAVACIÓ I POSTERIOR REPOSICIÓ. TOTALMENT EXECUTAT. | E52: 99.54
B53: O-012 | C53: UT | D53: SUBMINISTRAMENT MARC DE FERRO FOS DE 40 x 40 cm PER INSTAL·LACIÓ EN VORERA, AMB INSCRIPCIÓ. | E53: 21.64
... B71: O-030 | C71: UT | D71: SENYALITZACIÓ OBRES, ZONES D'ABASSEGAMENT DE MATERIALS, MAQUINÀRIA, TALLS DE CARRIL I SIMILARS, NECESSARIS PER A L'EXECUCIÓ DE L'OBRA CIVIL A FER EN EL PUNT DE CONTROL. INCLOU TRAMITACIÓ PERMISOS I GESTIONS DAVANT ORGANISMES I ADMINISTRACIONS. | E71: 389.49
B73: INSTAL·LACIÓ ELÈCTRICA
B74: I-001 | C74: UT | D74: TREBALLS PER A LA REALITZACIÓ DE L'ALIMENTACIÓ DEL PUNT DE CONTROL, D'ACORD AMB EL QUE INDICA EL PLEC. | E74: 164.45
B75: I-002 | C75: UT | D75: SUBMINISTRAMENT D'EQUIPAMENTS ESPECÍFICS PER LA DISTRIBUCIÓ D'ENERGIA DEL PUNT DE CONTROL, CONSISTENTS EN PROTECCIONS ELÈCTRIQUES CONTRA SOBRETENSIONS TRANSITÒRIES (1 UT) I PERMANENTS (1 UT), DIFERENCIALS (FINS A 2 UT), MAGNETOTÈRMICS (FINS A 3 UT) I PRESA DE CORRENT TIPUS SCHUKO (1 UT). | E75: 257.93
B76: I-003 | C76: UT | D76: INSTAL·LACIÓ D'EQUIPAMENTS ESPECÍFICS PER LA DISTRIBUCIÓ D'ENERGIA DEL PUNT DE CONTROL. | E76: 70.11
B77: I-004 | C77: ML | D77: SUBMINISTRAMENT DE CABLE DE CONDUCTOR DE COURE AMB AÏLLAMENT DE PLÀSTIC, DE SECCIÓ 1x6 mm2 PER PRESES DE TERRA. | E77: 0.95
B78: I-005 | C78: ML | D78: INSTAL·LACIÓ DE CABLE DE CONDUCTOR DE COURE AMB AÏLLAMENT DE PLÀSTIC, DE SECCIÓ 1x6 mm2 PER PRESES DE TERRA. | E78: 0.78
B79: I-006 | C79: ML | D79: SUBMINISTRAMENT DE CABLE DE CONDUCTOR DE COURE EPTAFILAR NU, DE SECCIÓ 1x35 mm2. | E79: 3.89
B80: I-007 | C80: ML | D80: INSTAL·LACIÓ DE CABLE DE CONDUCTOR DE COURE EPTAFILAR NU, DE SECCIÓ 1x35 mm2. | E80: 0.78
B81: I-008 | C81: ML | D81: SUBMINISTRAMENT DE CABLE CONDUCTOR DE COURE RV-K 0,6/1KV DE 3x6 mm2 | E81: 2.42
B82: I-009 | C82: ML | D82: INSTAL·LACIÓ DE CABLE CONDUCTOR DE COURE RV-K 0,6/1KV DE 3x6 mm2 | E82: 0.78
...

Sheet PdC-01
B2: =_xlfn.CONCAT('Resum Amid.Ppals'!A9," ",'Resum Amid.Ppals'!B9) -> PdC-01 Av. Portal de l'Àngel
B4: CODI | C4: U.M | D4: CONCEPTE/DENOMINACIO | E4: AMID. | F4: P.U.PEM | H4: PREU TOTAL
B7: =PU!B5 -> EQUIPAMENT PUNT DE CONTROL
B8: E‐001 | C8: =VLOOKUP($B8,PU!$B$3:$E$175,2,FALSE) -> UT | D8: =VLOOKUP($B8,PU!$B$3:$E$175,3,FALSE) -> SUBMINISTRAMENT D'EQUIP COMPACTE DE RECONEIXEMENT DE MATRÍCULES, FORMAT PER CONJUNT DE CÀMERA LPR 2 CARRILS HD, CÀMERA DE CONTEXT A COLOR, IL∙LUMINADOR IR PER A ZONA D’INFRACCIONS I SISTEMA PROCÉS I EMMAGATZEMATGE SSD 60 GB. INCLOU LLICÈNCIA OCR, CARCASSA, BRAÇ I ADAPTACIÓ A SUPORT. | E8: 1 | F8: =VLOOKUP($B8,PU!$B$3:$E$175,4,FALSE) -> 6405.04 | H8: =ROUND($E8*F8,2) -> 6405.04
B9: E‐002 | C9: =VLOOKUP($B9,PU!$B$3:$E$175,2,FALSE) -> UT | D9: =VLOOKUP($B9,PU!$B$3:$E$175,3,FALSE) -> INSTAL∙LACIÓ D'EQUIP COMPACTE DE RECONEIXEMENT DE MATRÍCULES, FORMAT PER CONJUNT DE CÀMERA LPR 2 CARRILS HD, CÀMERA DE CONTEXT A COLOR, IL∙LUMINADOR IR PER A ZONA D’INFRACCIONS I SISTEMA PROCÉS I EMMAGATZEMATGE SSD 60 GB. INCLOU LICÈNCIA OCR, CARCASSA, BRAÇ I ADAPTACIÓ A SUPORT. | E9: 1 | F9: =VLOOKUP($B9,PU!$B$3:$E$175,4,FALSE) -> 307.27 | H9: =ROUND($E9*F9,2) -> 307.27
B10: E‐003 | C10: =VLOOKUP($B10,PU!$B$3:$E$175,2,FALSE) -> UT | D10: =VLOOKUP($B10,PU!$B$3:$E$175,3,FALSE) -> SUBMINISTRAMENT D'UNITAT DE PROCÉS PEL PUNT DE CONTROL, CONSISTENT EN UN PC DE TIPUS INDUSTRIAL, RUGORITZAT, AMB PROCESSADOR I7, CPU QUAD CORE, BIOS, SISTEMA OPERATIU, WATCHDOG, ALIMENTACIÓ 9‐48V, CAPACITAT EMMAGATZEMATGE 2 TB | E10: 1 | F10: =VLOOKUP($B10,PU!$B$3:$E$175,4,FALSE) -> 930.46 | H10: =ROUND($E10*F10,2) -> 930.46
B11: E‐004 | C11: =VLOOKUP($B11,PU!$B$3:$E$175,2,FALSE) -> UT | D11: =VLOOKUP($B11,PU!$B$3:$E$175,3,FALSE) -> INSTAL∙LACIÓ, CONFIGURACIÓ I POSADA EN FUNCIONAMENT, D'UNITAT DE PROCÉS PEL PUNT DE CONTROL EN ARMARI PDC. | E11: 1 | F11: =VLOOKUP($B11,PU!$B$3:$E$175,4,FALSE) -> 160.12 | H11: =ROUND($E11*F11,2) -> 160.12
B12: E‐005 | C12: =VLOOKUP($B12,PU!$B$3:$E$175,2,FALSE) -> UT | D12: =VLOOKUP($B12,PU!$B$3:$E$175,3,FALSE) -> SUBMINISTRAMENT DE FONT D'ALIMENTACIÓ TIPUS INDUSTRIAL, PER MUNTATGE EN CARRIL DIN, PER ALIMENTAR FINS A 4 CÀMERES PUNT DE CONTROL. | E12: 1 | F12: =VLOOKUP($B12,PU!$B$3:$E$175,4,FALSE) -> 138.48 | H12: =ROUND($E12*F12,2) -> 138.48
B13: E‐006 | C13: =VLOOKUP($B13,PU!$B$3:$E$175,2,FALSE) -> UT | D13: =VLOOKUP($B13,PU!$B$3:$E$175,3,FALSE) -> INSTAL∙LACIÓ DE FONT D'ALIMENTACIÓ TIPUS INDUSTRIAL, PER MUNTATGE EN CARRIL DIN, PER ALIMENTAR FINS A 4 CÀMERES PUNT DE CONTROL. | E13: 1 | F13: =VLOOKUP($B13,PU!$B$3:$E$175,4,FALSE) -> 30.29 | H13: =ROUND($E13*F13,2) -> 30.29
B14: E‐007 | C14: =VLOOKUP($B14,PU!$B$3:$E$175,2,FALSE) -> UT | D14: =VLOOKUP($B14,PU!$B$3:$E$175,3,FALSE) -> SUBMINISTRAMENT DE FONT D'ALIMENTACIÓ TIPUS INDUSTRIAL, PER MUNTATGE EN CARRIL DIN, PER ALIMENTAR UNITAT DE PROCÈS (PC) | E14: 1 | F14: =VLOOKUP($B14,PU!$B$3:$E$175,4,FALSE) -> 46.74 | H14: =ROUND($E14*F14,2) -> 46.74
B15: E‐008 | C15: =VLOOKUP($B15,PU!$B$3:$E$175,2,FALSE) -> UT | D15: =VLOOKUP($B15,PU!$B$3:$E$175,3,FALSE) -> INSTAL·LACIÓ DE FONT D'ALIMENTACIÓ TIPUS INDUSTRIAL, PER MUNTATGE EN CARRIL DIN, PER ALIMENTAR UNITAT DE PROCÈS (PC) | E15: 1 | F15: =VLOOKUP($B15,PU!$B$3:$E$175,4,FALSE) -> 12.12 | H15: =ROUND($E15*F15,2) -> 12.12
B16: E‐013 | C16: =VLOOKUP($B16,PU!$B$3:$E$175,2,FALSE) -> UT | D16: =VLOOKUP($B16,PU!$B$3:$E$175,3,FALSE) -> SUBMINISTRAMENT DE SAI PUNT DE CONTROL LECTURA DE MATRÍCULES, 1000 / 1000VA ‐ AP160N‐1K, FORMAT RACK 19", DE 1000VA / 900W, MONOFÀSIC AMB 3 BATERIES 12V/7,2 AH. | E16: 1 | F16: =VLOOKUP($B16,PU!$B$3:$E$175,4,FALSE) -> 392.09 | H16: =ROUND($E16*F16,2) -> 392.09
B17: E‐014 | C17: =VLOOKUP($B17,PU!$B$3:$E$175,2,FALSE) -> UT | D17: =VLOOKUP($B17,PU!$B$3:$E$175,3,FALSE) -> INSTAL∙LACIÓ DE SAI PUNT DE CONTROL LECTURA DE MATRÍCULES, 1000 / 1000VA ‐ AP160N‐1K, FORMAT RACK 19", DE 1000VA / 900W, MONOFÀSIC AMB 3 BATERIES 12V/7,2 AH. INSTAL∙LACIÓ, CONNEXIÓ I POSADA EN MARXA, INCLOU PETIT MATERIAL INSTAL∙LACIÓ, CABLEJAT I CONNEXIÓ I QUALSEVOL ALTRE NECESSARI PEL CORRECTE FUNCIONAMENT. | E17: 1 | F17: =VLOOKUP($B17,PU!$B$3:$E$175,4,FALSE) -> 30.29 | H17: =ROUND($E17*F17,2) -> 30.29
B18: E‐015 | C18: =VLOOKUP($B18,PU!$B$3:$E$175,2,FALSE) -> UT | D18: =VLOOKUP($B18,PU!$B$3:$E$175,3,FALSE) -> SUBMINISTRAMENT DE MÒDUL SNMP DE COMUNICACIONS PER SAI. INCLOU PETIT MATERIAL, CABLEJAT I QUALSEVOL ALTRE NECESSARI PEL CORRECTE FUNCIONAMENT. | E18: 1 | F18: =VLOOKUP($B18,PU!$B$3:$E$175,4,FALSE) -> 188.04 | H18: =ROUND($E18*F18,2) -> 188.04
B19: E‐016 | C19: =VLOOKUP($B19,PU!$B$3:$E$175,2,FALSE) -> UT | D19: =VLOOKUP($B19,PU!$B$3:$E$175,3,FALSE) -> INSTAL∙LACIÓ DE MÒDUL SNMP COMUNICACIONS PER SAI, CONNEXIÓ I POSADA EN MARXA. INCLOU PETIT MATERIAL INSTAL∙LACIÓ, CABLEJAT I CONNEXIÓ I QUALSEVOL ALTRE NECESSARI PEL CORRECTE FUNCIONAMENT. | E19: 1 | F19: =VLOOKUP($B19,PU!$B$3:$E$175,4,FALSE) -> 5.19 | H19: =ROUND($E19*F19,2) -> 5.19
... B26: E‐034 | C26: =VLOOKUP($B26,PU!$B$3:$E$175,2,FALSE) -> UT | D26: =VLOOKUP($B26,PU!$B$3:$E$175,3,FALSE) -> PRECINTAT DE CÀMERES I DEL PC DE CONTROL DEL PUNT DE CONTROL. INCLOU TOTS ELS MATERIALS (PRECINTES), MITJANS I RECURSOS NECESSARIS. PREU PER PUNT DE CONTROL. | E26: 1 | F26: =VLOOKUP($B26,PU!$B$3:$E$175,4,FALSE) -> 259.66 | H26: =ROUND($E26*F26,2) -> 259.66
B27: Subtotal PdC | H27: =SUM(H8:H26) -> 11328.45
B29: =PU!B41 -> OBRA CIVIL
B30: O-001 | C30: =VLOOKUP($B30,PU!$B$3:$E$175,2,FALSE) -> UT | D30: =VLOOKUP($B30,PU!$B$3:$E$175,3,FALSE) -> FONAMENT DE FORMIGÓ PREFABRICAT PER A ARMARI REGULADOR AMB DOSIFICACIÓ DE 250 KG/m3 I ENCOFRAT CARA VISTA DE DIMENSIONS APROXIMADES 53 x 32,5 x 35 cm. AMB UN ENCASTAMENT DE 15 cm. I DOS FORATS DE 110 mm. DE DIÀMETRE. TOTALMENT EXECUTAT. | E30: 1 | F30: =VLOOKUP($B30,PU!$B$3:$E$175,4,FALSE) -> 203.4 | H30: =ROUND($E30*F30,2) -> 203.4
B31: O-007 | C31: =VLOOKUP($B31,PU!$B$3:$E$175,2,FALSE) -> UT | D31: =VLOOKUP($B31,PU!$B$3:$E$175,3,FALSE) -> PERICÓ DE 60 x 60 cm. PREFABRICAT DE FORMIGÓ O CONSTRUÏT AMB MAONS GERO I FONS DEL MATEIX MATERIAL REBENT EL MARC I LA TAPA CORRESPONENT, SENSE INCLOURE AQUESTS. INCLOU DEMOLICIÓ PAVIMENT, EXCAVACIÓ I POSTERIOR REPOSICIÓ. TOTALMENT EXECUTAT. | E31: 1 | F31: =VLOOKUP($B31,PU!$B$3:$E$175,4,FALSE) -> 129.83 | H31: =ROUND($E31*F31,2) -> 129.83
B32: O-015 | C32: =VLOOKUP($B32,PU!$B$3:$E$175,2,FALSE) -> UT | D32: =VLOOKUP($B32,PU!$B$3:$E$175,3,FALSE) -> INTERCEPTAR CANALITZACIÓ EXISTENT / EMBOCADURA PERICÓ EXISTENT. | E32: 1 | F32: =VLOOKUP($B32,PU!$B$3:$E$175,4,FALSE) -> 160.12 | H32: =ROUND($E32*F32,2) -> 160.12
B33: O-016 | C33: =VLOOKUP($B33,PU!$B$3:$E$175,2,FALSE) -> ML | D33: =VLOOKUP($B33,PU!$B$3:$E$175,3,FALSE) -> COMPROVACIÓ I MANDRINATGE DE CANALITZACIÓ EXISTENT DEIXANT PASSAT FIL GUIA. | E33: 100 | F33: =VLOOKUP($B33,PU!$B$3:$E$175,4,FALSE) -> 2.16 | H33: =ROUND($E33*F33,2) -> 216
B34: O-018 | C34: =VLOOKUP($B34,PU!$B$3:$E$175,2,FALSE) -> ML | D34: =VLOOKUP($B34,PU!$B$3:$E$175,3,FALSE) -> CANALITZACIÓ EN VORERA INCLOENT SUBMINISTRAMENT I INSTAL∙LACIÓ DE 2 TUBS DE PE ø 110 mm DE DOBLE CAPA, LLIS A L'INTERIOR I CORRUGAT A L'EXTERIOR, INCLÒS EXCAVACIÓ EN RASA DE 40 x 60 cm. DE PROFUNDITAT, BASE I PROTECCIÓ DE FORMIGÓ HM20, EN VORERES DE PANOT INCLÒS LA SEVA REPOSICIÓ. TOTALMENT EXECUTADA D'ACORD AMB LES ORDENANCES MUNICIPALS I INDICACIONS PARTICULARS. | E34: 10 | F34: =VLOOKUP($B34,PU!$B$3:$E$175,4,FALSE) -> 73.57 | H34: =ROUND($E34*F34,2) -> 735.7
B35: O-022 | C35: =VLOOKUP($B35,PU!$B$3:$E$175,2,FALSE) -> ML | D35: =VLOOKUP($B35,PU!$B$3:$E$175,3,FALSE) -> SUPLEMENT PER REALITZACIÓ DE CANALITZACIÓ EN VORERA DE PAVIMENT ESPECIAL, TIPUS GRANIT, LLAMBORDES O SIMILARS | E35: 4 | F35: =VLOOKUP($B35,PU!$B$3:$E$175,4,FALSE) -> 25.97 | H35: =ROUND($E35*F35,2) -> 103.88
B36: O-023 | C36: =VLOOKUP($B36,PU!$B$3:$E$175,2,FALSE) -> ML | D36: =VLOOKUP($B36,PU!$B$3:$E$175,3,FALSE) -> REPARACIÓ TUBULAR EN VORERA, MITJANÇANT EXCAVACIÓ, SUBMINISTRAMENT I COL∙LOCACIÓ TUB DE PE DE DOBLE CAPA, LLIS A L'INTERIOR I CORRUGAT A L'EXTERIOR DEL MATEIX DIÀMETRE QUE L'EXISTENT, MANIGOT D'ACOBLAMENT, PAS DEL CABLE, COL∙LOCACIÓ DE MITJA CANYA, LLIGAT AMB FILFERROS I FORMIGONAT DEL CONJUNT I REPOSICIÓ DE PAVIMENT DE PANOT DE LES MATEIXES CARACTERÍSTIQUES A L'EXISTENT, PER A LLARGADES FINS A 2m. TOTALMENT EXECUTADA. | E36: 2 | F36: =VLOOKUP($B36,PU!$B$3:$E$175,4,FALSE) -> 134.16 | H36: =ROUND($E36*F36,2) -> 268.32
B37: O-025 | C37: =VLOOKUP($B37,PU!$B$3:$E$175,2,FALSE) -> M2 | D37: =VLOOKUP($B37,PU!$B$3:$E$175,3,FALSE) -> REPOSICIÓ DE PAVIMENT TIPUS AGLOMERAT ASFÀLTIC EN CALENT. INCLOU DEMOLICIÓ DE PAVIMENT DE FORMIGÓ, FINS A 30 cm DE GRUIX I POSTERIOR REPOSICIÓ DE PAVIMENT DE MESCLA BITUMINOSA EN CALENT DE 18 cm, AMB CAPA DE RODADURA DE TRÀNSIT DE 3 cm MESCLA BITUMINOSA. D'ACORD A LES CONDICIONS INDICADES PELS SERVEIS TÈCNICS MUNICIPALS. | E37: 0 | F37: =VLOOKUP($B37,PU!$B$3:$E$175,4,FALSE) -> 398.16 | H37: =ROUND($E37*F37,2) -> 0
B38: O-026 | C38: =VLOOKUP($B38,PU!$B$3:$E$175,2,FALSE) -> UT | D38: =VLOOKUP($B38,PU!$B$3:$E$175,3,FALSE) -> SUBMINISTRAMENT PLACA DE PRESA DE TERRA DE 500 x 500 x 3 mm I ACCESSORIS CONNEXIÓ. | E38: 1 | F38: =VLOOKUP($B38,PU!$B$3:$E$175,4,FALSE) -> 30.29 | H38: =ROUND($E38*F38,2) -> 30.29
B39: O-027 | C39: =VLOOKUP($B39,PU!$B$3:$E$175,2,FALSE) -> UT | D39: =VLOOKUP($B39,PU!$B$3:$E$175,3,FALSE) -> INSTAL∙LACIÓ PLACA DE PRESA DE TERRA DE 500 x 500 x 3 mm I ACCESSORIS CONNEXIÓ, EN PERICÓ DE REGISTRE. INCLOSA OBRA CIVIL NECESSÀRIA. | E39: 1 | F39: =VLOOKUP($B39,PU!$B$3:$E$175,4,FALSE) -> 129.83 | H39: =ROUND($E39*F39,2) -> 129.83
B40: O-028 | C40: =VLOOKUP($B40,PU!$B$3:$E$175,2,FALSE) -> UT | D40: =VLOOKUP($B40,PU!$B$3:$E$175,3,FALSE) -> OBTURACIÓ DE TUBULAR AMB CABLES EXISTENTS. | E40: 6 | F40: =VLOOKUP($B40,PU!$B$3:$E$175,4,FALSE) -> 2.6 | H40: =ROUND($E40*F40,2) -> 15.6
B41: O-029 | C41: =VLOOKUP($B41,PU!$B$3:$E$175,2,FALSE) -> M3 | D41: =VLOOKUP($B41,PU!$B$3:$E$175,3,FALSE) -> DEMOLICIÓ DE FORMIGÓ AMB MARTELL TRENCADOR, INCLÒS TALL D'ARMADURES AMB SOPLET, RETIRADA I TRANSPORT DE RESIDUS A DEIXALLERIA. TOTALMENT EXECUTADA. | E41: 1 | F41: =VLOOKUP($B41,PU!$B$3:$E$175,4,FALSE) -> 109.06 | H41: =ROUND($E41*F41,2) -> 109.06
B42: O-030 | C42: =VLOOKUP($B42,PU!$B$3:$E$175,2,FALSE) -> UT | D42: =VLOOKUP($B42,PU!$B$3:$E$175,3,FALSE) -> SENYALITZACIÓ OBRES, ZONES D'ABASSEGAMENT DE MATERIALS, MAQUINÀRIA, TALLS DE CARRIL I SIMILARS, NECESSARIS PER A L'EXECUCIÓ DE L'OBRA CIVIL A FER EN EL PUNT DE CONTROL. INCLOU TRAMITACIÓ PERMISOS I GESTIONS DAVANT ORGANISMES I ADMINISTRACIONS. | E42: 1 | F42: =VLOOKUP($B42,PU!$B$3:$E$175,4,FALSE) -> 389.49 | H42: =ROUND($E42*F42,2) -> 389.49
B43: Subtotal Obra Civil | H43: =SUM(H30:H42) -> 2491.52
B45: =PU!B73 -> INSTAL·LACIÓ ELÈCTRICA
B46: I-001 | C46: =VLOOKUP($B46,PU!$B$3:$E$175,2,FALSE) -> UT | D46: =VLOOKUP($B46,PU!$B$3:$E$175,3,FALSE) -> TREBALLS PER A LA REALITZACIÓ DE L'ALIMENTACIÓ DEL PUNT DE CONTROL, D'ACORD AMB EL QUE INDICA EL PLEC. | E46: 1 | F46: =VLOOKUP($B46,PU!$B$3:$E$175,4,FALSE) -> 164.45 | H46: =ROUND($E46*F46,2) -> 164.45
B47: I-002 | C47: =VLOOKUP($B47,PU!$B$3:$E$175,2,FALSE) -> UT | D47: =VLOOKUP($B47,PU!$B$3:$E$175,3,FALSE) -> SUBMINISTRAMENT D'EQUIPAMENTS ESPECÍFICS PER LA DISTRIBUCIÓ D'ENERGIA DEL PUNT DE CONTROL, CONSISTENTS EN PROTECCIONS ELÈCTRIQUES CONTRA SOBRETENSIONS TRANSITÒRIES (1 UT) I PERMANENTS (1 UT), DIFERENCIALS (FINS A 2 UT), MAGNETOTÈRMICS (FINS A 3 UT) I PRESA DE CORRENT TIPUS SCHUKO (1 UT). | E47: 1 | F47: =VLOOKUP($B47,PU!$B$3:$E$175,4,FALSE) -> 257.93 | H47: =ROUND($E47*F47,2) -> 257.93
B48: I-003 | C48: =VLOOKUP($B48,PU!$B$3:$E$175,2,FALSE) -> UT | D48: =VLOOKUP($B48,PU!$B$3:$E$175,3,FALSE) -> INSTAL·LACIÓ D'EQUIPAMENTS ESPECÍFICS PER LA DISTRIBUCIÓ D'ENERGIA DEL PUNT DE CONTROL. | E48: 1 | F48: =VLOOKUP($B48,PU!$B$3:$E$175,4,FALSE) -> 70.11 | H48: =ROUND($E48*F48,2) -> 70.11
B49: I-004 | C49: =VLOOKUP($B49,PU!$B$3:$E$175,2,FALSE) -> ML | D49: =VLOOKUP($B49,PU!$B$3:$E$175,3,FALSE) -> SUBMINISTRAMENT DE CABLE DE CONDUCTOR DE COURE AMB AÏLLAMENT DE PLÀSTIC, DE SECCIÓ 1x6 mm2 PER PRESES DE TERRA. | E49: 50 | F49: =VLOOKUP($B49,PU!$B$3:$E$175,4,FALSE) -> 0.95 | H49: =ROUND($E49*F49,2) -> 47.5
B50: I-005 | C50: =VLOOKUP($B50,PU!$B$3:$E$175,2,FALSE) -> ML | D50: =VLOOKUP($B50,PU!$B$3:$E$175,3,FALSE) -> INSTAL·LACIÓ DE CABLE DE CONDUCTOR DE COURE AMB AÏLLAMENT DE PLÀSTIC, DE SECCIÓ 1x6 mm2 PER PRESES DE TERRA. | E50: 50 | F50: =VLOOKUP($B50,PU!$B$3:$E$175,4,FALSE) -> 0.78 | H50: =ROUND($E50*F50,2) -> 39
B51: I-006 | C51: =VLOOKUP($B51,PU!$B$3:$E$175,2,FALSE) -> ML | D51: =VLOOKUP($B51,PU!$B$3:$E$175,3,FALSE) -> SUBMINISTRAMENT DE CABLE DE CONDUCTOR DE COURE EPTAFILAR NU, DE SECCIÓ 1x35 mm2. | E51: 5 | F51: =VLOOKUP($B51,PU!$B$3:$E$175,4,FALSE) -> 3.89 | H51: =ROUND($E51*F51,2) -> 19.45
B52: I-007 | C52: =VLOOKUP($B52,PU!$B$3:$E$175,2,FALSE) -> ML | D52: =VLOOKUP($B52,PU!$B$3:$E$175,3,FALSE) -> INSTAL·LACIÓ DE CABLE DE CONDUCTOR DE COURE EPTAFILAR NU, DE SECCIÓ 1x35 mm2. | E52: 5 | F52: =VLOOKUP($B52,PU!$B$3:$E$175,4,FALSE) -> 0.78 | H52: =ROUND($E52*F52,2) -> 3.9
...

Sheet PdC-02
B2: =_xlfn.CONCAT('Resum Amid.Ppals'!A10," ",'Resum Amid.Ppals'!B10) -> PdC-02 Magdalenes
B4: CODI | C4: U.M | D4: CONCEPTE/DENOMINACIO | E4: AMID. | F4: P.U.PEM | I4: PREU TOTAL
B6: =PU!B5 -> EQUIPAMENT PUNT DE CONTROL
B7: E‐001 | C7: =VLOOKUP($B7,PU!$B$3:$E$175,2,FALSE) -> UT | D7: =VLOOKUP($B7,PU!$B$3:$E$175,3,FALSE) -> SUBMINISTRAMENT D'EQUIP COMPACTE DE RECONEIXEMENT DE MATRÍCULES, FORMAT PER CONJUNT DE CÀMERA LPR 2 CARRILS HD, CÀMERA DE CONTEXT A COLOR, IL∙LUMINADOR IR PER A ZONA D’INFRACCIONS I SISTEMA PROCÉS I EMMAGATZEMATGE SSD 60 GB. INCLOU LLICÈNCIA OCR, CARCASSA, BRAÇ I ADAPTACIÓ A SUPORT. | E7: 1 | F7: =VLOOKUP($B7,PU!$B$3:$E$175,4,FALSE) -> 6405.04 | I7: =ROUND($E7*F7,2) -> 6405.04
B8: E‐002 | C8: =VLOOKUP($B8,PU!$B$3:$E$175,2,FALSE) -> UT | D8: =VLOOKUP($B8,PU!$B$3:$E$175,3,FALSE) -> INSTAL∙LACIÓ D'EQUIP COMPACTE DE RECONEIXEMENT DE MATRÍCULES, FORMAT PER CONJUNT DE CÀMERA LPR 2 CARRILS HD, CÀMERA DE CONTEXT A COLOR, IL∙LUMINADOR IR PER A ZONA D’INFRACCIONS I SISTEMA PROCÉS I EMMAGATZEMATGE SSD 60 GB. INCLOU LICÈNCIA OCR, CARCASSA, BRAÇ I ADAPTACIÓ A SUPORT. | E8: 1 | F8: =VLOOKUP($B8,PU!$B$3:$E$175,4,FALSE) -> 307.27 | I8: =ROUND($E8*F8,2) -> 307.27
B9: E‐003 | C9: =VLOOKUP($B9,PU!$B$3:$E$175,2,FALSE) -> UT | D9: =VLOOKUP($B9,PU!$B$3:$E$175,3,FALSE) -> SUBMINISTRAMENT D'UNITAT DE PROCÉS PEL PUNT DE CONTROL, CONSISTENT EN UN PC DE TIPUS INDUSTRIAL, RUGORITZAT, AMB PROCESSADOR I7, CPU QUAD CORE, BIOS, SISTEMA OPERATIU, WATCHDOG, ALIMENTACIÓ 9‐48V, CAPACITAT EMMAGATZEMATGE 2 TB | E9: 1 | F9: =VLOOKUP($B9,PU!$B$3:$E$175,4,FALSE) -> 930.46 | I9: =ROUND($E9*F9,2) -> 930.46
B10: E‐004 | C10: =VLOOKUP($B10,PU!$B$3:$E$175,2,FALSE) -> UT | D10: =VLOOKUP($B10,PU!$B$3:$E$175,3,FALSE) -> INSTAL∙LACIÓ, CONFIGURACIÓ I POSADA EN FUNCIONAMENT, D'UNITAT DE PROCÉS PEL PUNT DE CONTROL EN ARMARI PDC. | E10: 1 | F10: =VLOOKUP($B10,PU!$B$3:$E$175,4,FALSE) -> 160.12 | I10: =ROUND($E10*F10,2) -> 160.12
B11: E‐005 | C11: =VLOOKUP($B11,PU!$B$3:$E$175,2,FALSE) -> UT | D11: =VLOOKUP($B11,PU!$B$3:$E$175,3,FALSE) -> SUBMINISTRAMENT DE FONT D'ALIMENTACIÓ TIPUS INDUSTRIAL, PER MUNTATGE EN CARRIL DIN, PER ALIMENTAR FINS A 4 CÀMERES PUNT DE CONTROL. | E11: 1 | F11: =VLOOKUP($B11,PU!$B$3:$E$175,4,FALSE) -> 138.48 | I11: =ROUND($E11*F11,2) -> 138.48
B12: E‐006 | C12: =VLOOKUP($B12,PU!$B$3:$E$175,2,FALSE) -> UT | D12: =VLOOKUP($B12,PU!$B$3:$E$175,3,FALSE) -> INSTAL∙LACIÓ DE FONT D'ALIMENTACIÓ TIPUS INDUSTRIAL, PER MUNTATGE EN CARRIL DIN, PER ALIMENTAR FINS A 4 CÀMERES PUNT DE CONTROL. | E12: 1 | F12: =VLOOKUP($B12,PU!$B$3:$E$175,4,FALSE) -> 30.29 | I12: =ROUND($E12*F12,2) -> 30.29
B13: E‐007 | C13: =VLOOKUP($B13,PU!$B$3:$E$175,2,FALSE) -> UT | D13: =VLOOKUP($B13,PU!$B$3:$E$175,3,FALSE) -> SUBMINISTRAMENT DE FONT D'ALIMENTACIÓ TIPUS INDUSTRIAL, PER MUNTATGE EN CARRIL DIN, PER ALIMENTAR UNITAT DE PROCÈS (PC) | E13: 1 | F13: =VLOOKUP($B13,PU!$B$3:$E$175,4,FALSE) -> 46.74 | I13: =ROUND($E13*F13,2) -> 46.74
B14: E‐008 | C14: =VLOOKUP($B14,PU!$B$3:$E$175,2,FALSE) -> UT | D14: =VLOOKUP($B14,PU!$B$3:$E$175,3,FALSE) -> INSTAL·LACIÓ DE FONT D'ALIMENTACIÓ TIPUS INDUSTRIAL, PER MUNTATGE EN CARRIL DIN, PER ALIMENTAR UNITAT DE PROCÈS (PC) | E14: 1 | F14: =VLOOKUP($B14,PU!$B$3:$E$175,4,FALSE) -> 12.12 | I14: =ROUND($E14*F14,2) -> 12.12
B15: E‐013 | C15: =VLOOKUP($B15,PU!$B$3:$E$175,2,FALSE) -> UT | D15: =VLOOKUP($B15,PU!$B$3:$E$175,3,FALSE) -> SUBMINISTRAMENT DE SAI PUNT DE CONTROL LECTURA DE MATRÍCULES, 1000 / 1000VA ‐ AP160N‐1K, FORMAT RACK 19", DE 1000VA / 900W, MONOFÀSIC AMB 3 BATERIES 12V/7,2 AH. | E15: 1 | F15: =VLOOKUP($B15,PU!$B$3:$E$175,4,FALSE) -> 392.09 | I15: =ROUND($E15*F15,2) -> 392.09
B16: E‐014 | C16: =VLOOKUP($B16,PU!$B$3:$E$175,2,FALSE) -> UT | D16: =VLOOKUP($B16,PU!$B$3:$E$175,3,FALSE) -> INSTAL∙LACIÓ DE SAI PUNT DE CONTROL LECTURA DE MATRÍCULES, 1000 / 1000VA ‐ AP160N‐1K, FORMAT RACK 19", DE 1000VA / 900W, MONOFÀSIC AMB 3 BATERIES 12V/7,2 AH. INSTAL∙LACIÓ, CONNEXIÓ I POSADA EN MARXA, INCLOU PETIT MATERIAL INSTAL∙LACIÓ, CABLEJAT I CONNEXIÓ I QUALSEVOL ALTRE NECESSARI PEL CORRECTE FUNCIONAMENT. | E16: 1 | F16: =VLOOKUP($B16,PU!$B$3:$E$175,4,FALSE) -> 30.29 | I16: =ROUND($E16*F16,2) -> 30.29
B17: E‐015 | C17: =VLOOKUP($B17,PU!$B$3:$E$175,2,FALSE) -> UT | D17: =VLOOKUP($B17,PU!$B$3:$E$175,3,FALSE) -> SUBMINISTRAMENT DE MÒDUL SNMP DE COMUNICACIONS PER SAI. INCLOU PETIT MATERIAL, CABLEJAT I QUALSEVOL ALTRE NECESSARI PEL CORRECTE FUNCIONAMENT. | E17: 1 | F17: =VLOOKUP($B17,PU!$B$3:$E$175,4,FALSE) -> 188.04 | I17: =ROUND($E17*F17,2) -> 188.04
B18: E‐016 | C18: =VLOOKUP($B18,PU!$B$3:$E$175,2,FALSE) -> UT | D18: =VLOOKUP($B18,PU!$B$3:$E$175,3,FALSE) -> INSTAL∙LACIÓ DE MÒDUL SNMP COMUNICACIONS PER SAI, CONNEXIÓ I POSADA EN MARXA. INCLOU PETIT MATERIAL INSTAL∙LACIÓ, CABLEJAT I CONNEXIÓ I QUALSEVOL ALTRE NECESSARI PEL CORRECTE FUNCIONAMENT. | E18: 1 | F18: =VLOOKUP($B18,PU!$B$3:$E$175,4,FALSE) -> 5.19 | I18: =ROUND($E18*F18,2) -> 5.19
... B25: E‐034 | C25: =VLOOKUP($B25,PU!$B$3:$E$175,2,FALSE) -> UT | D25: =VLOOKUP($B25,PU!$B$3:$E$175,3,FALSE) -> PRECINTAT DE CÀMERES I DEL PC DE CONTROL DEL PUNT DE CONTROL. INCLOU TOTS ELS MATERIALS (PRECINTES), MITJANS I RECURSOS NECESSARIS. PREU PER PUNT DE CONTROL. | E25: 1 | F25: =VLOOKUP($B25,PU!$B$3:$E$175,4,FALSE) -> 259.66 | I25: =ROUND($E25*F25,2) -> 259.66
B26: Subtotal PdC | I26: =SUM(I7:I25) -> 11328.45
B28: =PU!B41 -> OBRA CIVIL
B29: O-001 | C29: =VLOOKUP($B29,PU!$B$3:$E$175,2,FALSE) -> UT | D29: =VLOOKUP($B29,PU!$B$3:$E$175,3,FALSE) -> FONAMENT DE FORMIGÓ PREFABRICAT PER A ARMARI REGULADOR AMB DOSIFICACIÓ DE 250 KG/m3 I ENCOFRAT CARA VISTA DE DIMENSIONS APROXIMADES 53 x 32,5 x 35 cm. AMB UN ENCASTAMENT DE 15 cm. I DOS FORATS DE 110 mm. DE DIÀMETRE. TOTALMENT EXECUTAT. | E29: 1 | F29: =VLOOKUP($B29,PU!$B$3:$E$175,4,FALSE) -> 203.4 | I29: =ROUND($E29*F29,2) -> 203.4
B30: O-007 | C30: =VLOOKUP($B30,PU!$B$3:$E$175,2,FALSE) -> UT | D30: =VLOOKUP($B30,PU!$B$3:$E$175,3,FALSE) -> PERICÓ DE 60 x 60 cm. PREFABRICAT DE FORMIGÓ O CONSTRUÏT AMB MAONS GERO I FONS DEL MATEIX MATERIAL REBENT EL MARC I LA TAPA CORRESPONENT, SENSE INCLOURE AQUESTS. INCLOU DEMOLICIÓ PAVIMENT, EXCAVACIÓ I POSTERIOR REPOSICIÓ. TOTALMENT EXECUTAT. | E30: 1 | F30: =VLOOKUP($B30,PU!$B$3:$E$175,4,FALSE) -> 129.83 | I30: =ROUND($E30*F30,2) -> 129.83
B31: O-008 | C31: =VLOOKUP($B31,PU!$B$3:$E$175,2,FALSE) -> UT | D31: =VLOOKUP($B31,PU!$B$3:$E$175,3,FALSE) -> SUBMINISTRAMENT MARC DE FERRO FOS DE 60 x 60 cm PER INSTAL·LACIÓ EN VORERA, AMB INSCRIPCIÓ. | E31: 1 | F31: =VLOOKUP($B31,PU!$B$3:$E$175,4,FALSE) -> 34.62 | I31: =ROUND($E31*F31,2) -> 34.62
B32: O-009 | C32: =VLOOKUP($B32,PU!$B$3:$E$175,2,FALSE) -> UT | D32: =VLOOKUP($B32,PU!$B$3:$E$175,3,FALSE) -> SUBMINISTRAMENT TAPA DE FERRO FOS DE 60 x 60 cm PER INSTAL·LACIÓ EN VORERA, AMB INSCRIPCIÓ. | E32: 1 | F32: =VLOOKUP($B32,PU!$B$3:$E$175,4,FALSE) -> 69.25 | I32: =ROUND($E32*F32,2) -> 69.25
B33: O-010 | C33: =VLOOKUP($B33,PU!$B$3:$E$175,2,FALSE) -> UT | D33: =VLOOKUP($B33,PU!$B$3:$E$175,3,FALSE) -> REPARACIÓ D'ESTRUCTURA INTERIOR DE PERICÓ EXISTENT DE 60 x 60 cm, AMB ADEQUACIÓ DE PARETS I LLISCAT. TOTALMENT EXECUTAT. | E33: 2 | F33: =VLOOKUP($B33,PU!$B$3:$E$175,4,FALSE) -> 70.98 | I33: =ROUND($E33*F33,2) -> 141.96
B34: O-015 | C34: =VLOOKUP($B34,PU!$B$3:$E$175,2,FALSE) -> UT | D34: =VLOOKUP($B34,PU!$B$3:$E$175,3,FALSE) -> INTERCEPTAR CANALITZACIÓ EXISTENT / EMBOCADURA PERICÓ EXISTENT. | E34: 2 | F34: =VLOOKUP($B34,PU!$B$3:$E$175,4,FALSE) -> 160.12 | I34: =ROUND($E34*F34,2) -> 320.24
B35: O-016 | C35: =VLOOKUP($B35,PU!$B$3:$E$175,2,FALSE) -> ML | D35: =VLOOKUP($B35,PU!$B$3:$E$175,3,FALSE) -> COMPROVACIÓ I MANDRINATGE DE CANALITZACIÓ EXISTENT DEIXANT PASSAT FIL GUIA. | E35: 60 | F35: =VLOOKUP($B35,PU!$B$3:$E$175,4,FALSE) -> 2.16 | I35: =ROUND($E35*F35,2) -> 129.6
B36: O-018 | C36: =VLOOKUP($B36,PU!$B$3:$E$175,2,FALSE) -> ML | D36: =VLOOKUP($B36,PU!$B$3:$E$175,3,FALSE) -> CANALITZACIÓ EN VORERA INCLOENT SUBMINISTRAMENT I INSTAL∙LACIÓ DE 2 TUBS DE PE ø 110 mm DE DOBLE CAPA, LLIS A L'INTERIOR I CORRUGAT A L'EXTERIOR, INCLÒS EXCAVACIÓ EN RASA DE 40 x 60 cm. DE PROFUNDITAT, BASE I PROTECCIÓ DE FORMIGÓ HM20, EN VORERES DE PANOT INCLÒS LA SEVA REPOSICIÓ. TOTALMENT EXECUTADA D'ACORD AMB LES ORDENANCES MUNICIPALS I INDICACIONS PARTICULARS. | E36: 32 | F36: =VLOOKUP($B36,PU!$B$3:$E$175,4,FALSE) -> 73.57 | I36: =ROUND($E36*F36,2) -> 2354.24
B37: O-022 | C37: =VLOOKUP($B37,PU!$B$3:$E$175,2,FALSE) -> ML | D37: =VLOOKUP($B37,PU!$B$3:$E$175,3,FALSE) -> SUPLEMENT PER REALITZACIÓ DE CANALITZACIÓ EN VORERA DE PAVIMENT ESPECIAL, TIPUS GRANIT, LLAMBORDES O SIMILARS | E37: 35 | F37: =VLOOKUP($B37,PU!$B$3:$E$175,4,FALSE) -> 25.97 | I37: =ROUND($E37*F37,2) -> 908.95
B38: O-023 | C38: =VLOOKUP($B38,PU!$B$3:$E$175,2,FALSE) -> ML | D38: =VLOOKUP($B38,PU!$B$3:$E$175,3,FALSE) -> REPARACIÓ TUBULAR EN VORERA, MITJANÇANT EXCAVACIÓ, SUBMINISTRAMENT I COL∙LOCACIÓ TUB DE PE DE DOBLE CAPA, LLIS A L'INTERIOR I CORRUGAT A L'EXTERIOR DEL MATEIX DIÀMETRE QUE L'EXISTENT, MANIGOT D'ACOBLAMENT, PAS DEL CABLE, COL∙LOCACIÓ DE MITJA CANYA, LLIGAT AMB FILFERROS I FORMIGONAT DEL CONJUNT I REPOSICIÓ DE PAVIMENT DE PANOT DE LES MATEIXES CARACTERÍSTIQUES A L'EXISTENT, PER A LLARGADES FINS A 2m. TOTALMENT EXECUTADA. | E38: 2 | F38: =VLOOKUP($B38,PU!$B$3:$E$175,4,FALSE) -> 134.16 | I38: =ROUND($E38*F38,2) -> 268.32
B39: O-026 | C39: =VLOOKUP($B39,PU!$B$3:$E$175,2,FALSE) -> UT | D39: =VLOOKUP($B39,PU!$B$3:$E$175,3,FALSE) -> SUBMINISTRAMENT PLACA DE PRESA DE TERRA DE 500 x 500 x 3 mm I ACCESSORIS CONNEXIÓ. | E39: 1 | F39: =VLOOKUP($B39,PU!$B$3:$E$175,4,FALSE) -> 30.29 | I39: =ROUND($E39*F39,2) -> 30.29
B40: O-027 | C40: =VLOOKUP($B40,PU!$B$3:$E$175,2,FALSE) -> UT | D40: =VLOOKUP($B40,PU!$B$3:$E$175,3,FALSE) -> INSTAL∙LACIÓ PLACA DE PRESA DE TERRA DE 500 x 500 x 3 mm I ACCESSORIS CONNEXIÓ, EN PERICÓ DE REGISTRE. INCLOSA OBRA CIVIL NECESSÀRIA. | E40: 1 | F40: =VLOOKUP($B40,PU!$B$3:$E$175,4,FALSE) -> 129.83 | I40: =ROUND($E40*F40,2) -> 129.83
... B43: O-030 | C43: =VLOOKUP($B43,PU!$B$3:$E$175,2,FALSE) -> UT | D43: =VLOOKUP($B43,PU!$B$3:$E$175,3,FALSE) -> SENYALITZACIÓ OBRES, ZONES D'ABASSEGAMENT DE MATERIALS, MAQUINÀRIA, TALLS DE CARRIL I SIMILARS, NECESSARIS PER A L'EXECUCIÓ DE L'OBRA CIVIL A FER EN EL PUNT DE CONTROL. INCLOU TRAMITACIÓ PERMISOS I GESTIONS DAVANT ORGANISMES I ADMINISTRACIONS. | E43: 1 | F43: =VLOOKUP($B43,PU!$B$3:$E$175,4,FALSE) -> 389.49 | I43: =ROUND($E43*F43,2) -> 389.49
B44: Subtotal Obra Civil | I44: =SUM(I29:I43) -> 5234.68
B46: =PU!B73 -> INSTAL·LACIÓ ELÈCTRICA
B47: I-001 | C47: =VLOOKUP($B47,PU!$B$3:$E$175,2,FALSE) -> UT | D47: =VLOOKUP($B47,PU!$B$3:$E$175,3,FALSE) -> TREBALLS PER A LA REALITZACIÓ DE L'ALIMENTACIÓ DEL PUNT DE CONTROL, D'ACORD AMB EL QUE INDICA EL PLEC. | E47: 1 | F47: =VLOOKUP($B47,PU!$B$3:$E$175,4,FALSE) -> 164.45 | I47: =ROUND($E47*F47,2) -> 164.45
B48: I-002 | C48: =VLOOKUP($B48,PU!$B$3:$E$175,2,FALSE) -> UT | D48: =VLOOKUP($B48,PU!$B$3:$E$175,3,FALSE) -> SUBMINISTRAMENT D'EQUIPAMENTS ESPECÍFICS PER LA DISTRIBUCIÓ D'ENERGIA DEL PUNT DE CONTROL, CONSISTENTS EN PROTECCIONS ELÈCTRIQUES CONTRA SOBRETENSIONS TRANSITÒRIES (1 UT) I PERMANENTS (1 UT), DIFERENCIALS (FINS A 2 UT), MAGNETOTÈRMICS (FINS A 3 UT) I PRESA DE CORRENT TIPUS SCHUKO (1 UT). | E48: 1 | F48: =VLOOKUP($B48,PU!$B$3:$E$175,4,FALSE) -> 257.93 | I48: =ROUND($E48*F48,2) -> 257.93
B49: I-003 | C49: =VLOOKUP($B49,PU!$B$3:$E$175,2,FALSE) -> UT | D49: =VLOOKUP($B49,PU!$B$3:$E$175,3,FALSE) -> INSTAL·LACIÓ D'EQUIPAMENTS ESPECÍFICS PER LA DISTRIBUCIÓ D'ENERGIA DEL PUNT DE CONTROL. | E49: 1 | F49: =VLOOKUP($B49,PU!$B$3:$E$175,4,FALSE) -> 70.11 | I49: =ROUND($E49*F49,2) -> 70.11
B50: I-004 | C50: =VLOOKUP($B50,PU!$B$3:$E$175,2,FALSE) -> ML | D50: =VLOOKUP($B50,PU!$B$3:$E$175,3,FALSE) -> SUBMINISTRAMENT DE CABLE DE CONDUCTOR DE COURE AMB AÏLLAMENT DE PLÀSTIC, DE SECCIÓ 1x6 mm2 PER PRESES DE TERRA. | E50: 10 | F50: =VLOOKUP($B50,PU!$B$3:$E$175,4,FALSE) -> 0.95 | I50: =ROUND($E50*F50,2) -> 9.5
B51: I-005 | C51: =VLOOKUP($B51,PU!$B$3:$E$175,2,FALSE) -> ML | D51: =VLOOKUP($B51,PU!$B$3:$E$175,3,FALSE) -> INSTAL·LACIÓ DE CABLE DE CONDUCTOR DE COURE AMB AÏLLAMENT DE PLÀSTIC, DE SECCIÓ 1x6 mm2 PER PRESES DE TERRA. | E51: 10 | F51: =VLOOKUP($B51,PU!$B$3:$E$175,4,FALSE) -> 0.78 | I51: =ROUND($E51*F51,2) -> 7.8
B52: I-006 | C52: =VLOOKUP($B52,PU!$B$3:$E$175,2,FALSE) -> ML | D52: =VLOOKUP($B52,PU!$B$3:$E$175,3,FALSE) -> SUBMINISTRAMENT DE CABLE DE CONDUCTOR DE COURE EPTAFILAR NU, DE SECCIÓ 1x35 mm2. | E52: 5 | F52: =VLOOKUP($B52,PU!$B$3:$E$175,4,FALSE) -> 3.89 | I52: =ROUND($E52*F52,2) -> 19.45
B53: I-007 | C53: =VLOOKUP($B53,PU!$B$3:$E$175,2,FALSE) -> ML | D53: =VLOOKUP($B53,PU!$B$3:$E$175,3,FALSE) -> INSTAL·LACIÓ DE CABLE DE CONDUCTOR DE COURE EPTAFILAR NU, DE SECCIÓ 1x35 mm2. | E53: 5 | F53: =VLOOKUP($B53,PU!$B$3:$E$175,4,FALSE) -> 0.78 | I53: =ROUND($E53*F53,2) -> 3.9
...

Sheet PdC-03
B2: =_xlfn.CONCAT('Resum Amid.Ppals'!A11," ",'Resum Amid.Ppals'!B11) -> PdC-03 Jaume I
B4: CODI | C4: U.M | D4: CONCEPTE/DENOMINACIO | E4: AMID. | F4: P.U.PEM | G4: PREU TOTAL
B6: =PU!B5 -> EQUIPAMENT PUNT DE CONTROL
B7: E‐001 | C7: =VLOOKUP($B7,PU!$B$3:$E$175,2,FALSE) -> UT | D7: =VLOOKUP($B7,PU!$B$3:$E$175,3,FALSE) -> SUBMINISTRAMENT D'EQUIP COMPACTE DE RECONEIXEMENT DE MATRÍCULES, FORMAT PER CONJUNT DE CÀMERA LPR 2 CARRILS HD, CÀMERA DE CONTEXT A COLOR, IL∙LUMINADOR IR PER A ZONA D’INFRACCIONS I SISTEMA PROCÉS I EMMAGATZEMATGE SSD 60 GB. INCLOU LLICÈNCIA OCR, CARCASSA, BRAÇ I ADAPTACIÓ A SUPORT. | E7: 1 | F7: =VLOOKUP($B7,PU!$B$3:$E$175,4,FALSE) -> 6405.04 | G7: =ROUND($E7*F7,2) -> 6405.04
B8: E‐002 | C8: =VLOOKUP($B8,PU!$B$3:$E$175,2,FALSE) -> UT | D8: =VLOOKUP($B8,PU!$B$3:$E$175,3,FALSE) -> INSTAL∙LACIÓ D'EQUIP COMPACTE DE RECONEIXEMENT DE MATRÍCULES, FORMAT PER CONJUNT DE CÀMERA LPR 2 CARRILS HD, CÀMERA DE CONTEXT A COLOR, IL∙LUMINADOR IR PER A ZONA D’INFRACCIONS I SISTEMA PROCÉS I EMMAGATZEMATGE SSD 60 GB. INCLOU LICÈNCIA OCR, CARCASSA, BRAÇ I ADAPTACIÓ A SUPORT. | E8: 1 | F8: =VLOOKUP($B8,PU!$B$3:$E$175,4,FALSE) -> 307.27 | G8: =ROUND($E8*F8,2) -> 307.27
B9: E‐003 | C9: =VLOOKUP($B9,PU!$B$3:$E$175,2,FALSE) -> UT | D9: =VLOOKUP($B9,PU!$B$3:$E$175,3,FALSE) -> SUBMINISTRAMENT D'UNITAT DE PROCÉS PEL PUNT DE CONTROL, CONSISTENT EN UN PC DE TIPUS INDUSTRIAL, RUGORITZAT, AMB PROCESSADOR I7, CPU QUAD CORE, BIOS, SISTEMA OPERATIU, WATCHDOG, ALIMENTACIÓ 9‐48V, CAPACITAT EMMAGATZEMATGE 2 TB | E9: 1 | F9: =VLOOKUP($B9,PU!$B$3:$E$175,4,FALSE) -> 930.46 | G9: =ROUND($E9*F9,2) -> 930.46
B10: E‐004 | C10: =VLOOKUP($B10,PU!$B$3:$E$175,2,FALSE) -> UT | D10: =VLOOKUP($B10,PU!$B$3:$E$175,3,FALSE) -> INSTAL∙LACIÓ, CONFIGURACIÓ I POSADA EN FUNCIONAMENT, D'UNITAT DE PROCÉS PEL PUNT DE CONTROL EN ARMARI PDC. | E10: 1 | F10: =VLOOKUP($B10,PU!$B$3:$E$175,4,FALSE) -> 160.12 | G10: =ROUND($E10*F10,2) -> 160.12
B11: E‐005 | C11: =VLOOKUP($B11,PU!$B$3:$E$175,2,FALSE) -> UT | D11: =VLOOKUP($B11,PU!$B$3:$E$175,3,FALSE) -> SUBMINISTRAMENT DE FONT D'ALIMENTACIÓ TIPUS INDUSTRIAL, PER MUNTATGE EN CARRIL DIN, PER ALIMENTAR FINS A 4 CÀMERES PUNT DE CONTROL. | E11: 1 | F11: =VLOOKUP($B11,PU!$B$3:$E$175,4,FALSE) -> 138.48 | G11: =ROUND($E11*F11,2) -> 138.48
B12: E‐006 | C12: =VLOOKUP($B12,PU!$B$3:$E$175,2,FALSE) -> UT | D12: =VLOOKUP($B12,PU!$B$3:$E$175,3,FALSE) -> INSTAL∙LACIÓ DE FONT D'ALIMENTACIÓ TIPUS INDUSTRIAL, PER MUNTATGE EN CARRIL DIN, PER ALIMENTAR FINS A 4 CÀMERES PUNT DE CONTROL. | E12: 1 | F12: =VLOOKUP($B12,PU!$B$3:$E$175,4,FALSE) -> 30.29 | G12: =ROUND($E12*F12,2) -> 30.29
B13: E‐007 | C13: =VLOOKUP($B13,PU!$B$3:$E$175,2,FALSE) -> UT | D13: =VLOOKUP($B13,PU!$B$3:$E$175,3,FALSE) -> SUBMINISTRAMENT DE FONT D'ALIMENTACIÓ TIPUS INDUSTRIAL, PER MUNTATGE EN CARRIL DIN, PER ALIMENTAR UNITAT DE PROCÈS (PC) | E13: 1 | F13: =VLOOKUP($B13,PU!$B$3:$E$175,4,FALSE) -> 46.74 | G13: =ROUND($E13*F13,2) -> 46.74
B14: E‐008 | C14: =VLOOKUP($B14,PU!$B$3:$E$175,2,FALSE) -> UT | D14: =VLOOKUP($B14,PU!$B$3:$E$175,3,FALSE) -> INSTAL·LACIÓ DE FONT D'ALIMENTACIÓ TIPUS INDUSTRIAL, PER MUNTATGE EN CARRIL DIN, PER ALIMENTAR UNITAT DE PROCÈS (PC) | E14: 1 | F14: =VLOOKUP($B14,PU!$B$3:$E$175,4,FALSE) -> 12.12 | G14: =ROUND($E14*F14,2) -> 12.12
B15: E‐011 | C15: =VLOOKUP($B15,PU!$B$3:$E$175,2,FALSE) -> UT | D15: =VLOOKUP($B15,PU!$B$3:$E$175,3,FALSE) -> SUBMINISTRAMENT DE ROUTER 4G PER COMUNICACIONS SENSE FILS, COMPATIBLE AMB EL SISTEMA DE COMUNICACIONS DE L'AJUNTAMENT. INCLOENT ANTENA ANTIVANDÀLICA. | E15: 1 | F15: =VLOOKUP($B15,PU!$B$3:$E$175,4,FALSE) -> 389.49 | G15: =ROUND($E15*F15,2) -> 389.49
B16: E‐012 | C16: =VLOOKUP($B16,PU!$B$3:$E$175,2,FALSE) -> UT | D16: =VLOOKUP($B16,PU!$B$3:$E$175,3,FALSE) -> INSTAL∙LACIÓ I CONFIGURACIÓ DE ROUTER 4G I ANTENA ANTIVANDÀLICA PER COMUNICACIONS SENSE FILS, COMPATIBLE AMB EL SISTEMA DE COMUNICACIONS DE L'AJUNTAMENT. | E16: 1 | F16: =VLOOKUP($B16,PU!$B$3:$E$175,4,FALSE) -> 51.93 | G16: =ROUND($E16*F16,2) -> 51.93
B17: E‐013 | C17: =VLOOKUP($B17,PU!$B$3:$E$175,2,FALSE) -> UT | D17: =VLOOKUP($B17,PU!$B$3:$E$175,3,FALSE) -> SUBMINISTRAMENT DE SAI PUNT DE CONTROL LECTURA DE MATRÍCULES, 1000 / 1000VA ‐ AP160N‐1K, FORMAT RACK 19", DE 1000VA / 900W, MONOFÀSIC AMB 3 BATERIES 12V/7,2 AH. | E17: 1 | F17: =VLOOKUP($B17,PU!$B$3:$E$175,4,FALSE) -> 392.09 | G17: =ROUND($E17*F17,2) -> 392.09
B18: E‐014 | C18: =VLOOKUP($B18,PU!$B$3:$E$175,2,FALSE) -> UT | D18: =VLOOKUP($B18,PU!$B$3:$E$175,3,FALSE) -> INSTAL∙LACIÓ DE SAI PUNT DE CONTROL LECTURA DE MATRÍCULES, 1000 / 1000VA ‐ AP160N‐1K, FORMAT RACK 19", DE 1000VA / 900W, MONOFÀSIC AMB 3 BATERIES 12V/7,2 AH. INSTAL∙LACIÓ, CONNEXIÓ I POSADA EN MARXA, INCLOU PETIT MATERIAL INSTAL∙LACIÓ, CABLEJAT I CONNEXIÓ I QUALSEVOL ALTRE NECESSARI PEL CORRECTE FUNCIONAMENT. | E18: 1 | F18: =VLOOKUP($B18,PU!$B$3:$E$175,4,FALSE) -> 30.29 | G18: =ROUND($E18*F18,2) -> 30.29
... B31: E‐034 | C31: =VLOOKUP($B31,PU!$B$3:$E$175,2,FALSE) -> UT | D31: =VLOOKUP($B31,PU!$B$3:$E$175,3,FALSE) -> PRECINTAT DE CÀMERES I DEL PC DE CONTROL DEL PUNT DE CONTROL. INCLOU TOTS ELS MATERIALS (PRECINTES), MITJANS I RECURSOS NECESSARIS. PREU PER PUNT DE CONTROL. | E31: 1 | F31: =VLOOKUP($B31,PU!$B$3:$E$175,4,FALSE) -> 259.66 | G31: =ROUND($E31*F31,2) -> 259.66
B32: Subtotal PdC | G32: =SUM(G7:G31) -> 12479.62
B34: =PU!B41 -> OBRA CIVIL
B35: O-001 | C35: =VLOOKUP($B35,PU!$B$3:$E$175,2,FALSE) -> UT | D35: =VLOOKUP($B35,PU!$B$3:$E$175,3,FALSE) -> FONAMENT DE FORMIGÓ PREFABRICAT PER A ARMARI REGULADOR AMB DOSIFICACIÓ DE 250 KG/m3 I ENCOFRAT CARA VISTA DE DIMENSIONS APROXIMADES 53 x 32,5 x 35 cm. AMB UN ENCASTAMENT DE 15 cm. I DOS FORATS DE 110 mm. DE DIÀMETRE. TOTALMENT EXECUTAT. | E35: 1 | F35: =VLOOKUP($B35,PU!$B$3:$E$175,4,FALSE) -> 203.4 | G35: =ROUND($E35*F35,2) -> 203.4
B36: O-002 | C36: =VLOOKUP($B36,PU!$B$3:$E$175,2,FALSE) -> UT | D36: =VLOOKUP($B36,PU!$B$3:$E$175,3,FALSE) -> FONAMENT DE FORMIGÓ PER A COLUMNA DE 4 METRES, AMB DOSIFICACIÓ DE 250 KG/m3, MITJANÇANT UN DAU DE 50 cm. DE COSTAT I 60 cm. DE PROFUNDITAT, INCLÒS COLZE DE CONNEXIÓ AMB TUBULAR. INCLOU DEMOLICIÓ PAVIMENT, EXCAVACIÓ I POSTERIOR REPOSICIÓ. TOTALMENT EXECUTAT. | E36: 1 | F36: =VLOOKUP($B36,PU!$B$3:$E$175,4,FALSE) -> 95.21 | G36: =ROUND($E36*F36,2) -> 95.21
B37: O-007 | C37: =VLOOKUP($B37,PU!$B$3:$E$175,2,FALSE) -> UT | D37: =VLOOKUP($B37,PU!$B$3:$E$175,3,FALSE) -> PERICÓ DE 60 x 60 cm. PREFABRICAT DE FORMIGÓ O CONSTRUÏT AMB MAONS GERO I FONS DEL MATEIX MATERIAL REBENT EL MARC I LA TAPA CORRESPONENT, SENSE INCLOURE AQUESTS. INCLOU DEMOLICIÓ PAVIMENT, EXCAVACIÓ I POSTERIOR REPOSICIÓ. TOTALMENT EXECUTAT. | E37: 2 | F37: =VLOOKUP($B37,PU!$B$3:$E$175,4,FALSE) -> 129.83 | G37: =ROUND($E37*F37,2) -> 259.66
B38: O-008 | C38: =VLOOKUP($B38,PU!$B$3:$E$175,2,FALSE) -> UT | D38: =VLOOKUP($B38,PU!$B$3:$E$175,3,FALSE) -> SUBMINISTRAMENT MARC DE FERRO FOS DE 60 x 60 cm PER INSTAL·LACIÓ EN VORERA, AMB INSCRIPCIÓ. | E38: 2 | F38: =VLOOKUP($B38,PU!$B$3:$E$175,4,FALSE) -> 34.62 | G38: =ROUND($E38*F38,2) -> 69.24
B39: O-009 | C39: =VLOOKUP($B39,PU!$B$3:$E$175,2,FALSE) -> UT | D39: =VLOOKUP($B39,PU!$B$3:$E$175,3,FALSE) -> SUBMINISTRAMENT TAPA DE FERRO FOS DE 60 x 60 cm PER INSTAL·LACIÓ EN VORERA, AMB INSCRIPCIÓ. | E39: 2 | F39: =VLOOKUP($B39,PU!$B$3:$E$175,4,FALSE) -> 69.25 | G39: =ROUND($E39*F39,2) -> 138.5
B40: O-010 | C40: =VLOOKUP($B40,PU!$B$3:$E$175,2,FALSE) -> UT | D40: =VLOOKUP($B40,PU!$B$3:$E$175,3,FALSE) -> REPARACIÓ D'ESTRUCTURA INTERIOR DE PERICÓ EXISTENT DE 60 x 60 cm, AMB ADEQUACIÓ DE PARETS I LLISCAT. TOTALMENT EXECUTAT. | E40: 2 | F40: =VLOOKUP($B40,PU!$B$3:$E$175,4,FALSE) -> 70.98 | G40: =ROUND($E40*F40,2) -> 141.96
B41: O-014 | C41: =VLOOKUP($B41,PU!$B$3:$E$175,2,FALSE) -> UT | D41: =VLOOKUP($B41,PU!$B$3:$E$175,3,FALSE) -> RECONVERSIÓ PERICÓ DE 40X40 A PERICÓ DE 60X60. INCLOU TREBALLS DE CONSTRUCCIÓ DE L'ESTRUCTURA AMB MAONS, FORMIGÓ I LA TAPA I MARC DE FERRO, AIXÍ COM ELS TREBALLS DE MÀ D'OBRA. | E41: 1 | F41: =VLOOKUP($B41,PU!$B$3:$E$175,4,FALSE) -> 181.76 | G41: =ROUND($E41*F41,2) -> 181.76
B42: O-015 | C42: =VLOOKUP($B42,PU!$B$3:$E$175,2,FALSE) -> UT | D42: =VLOOKUP($B42,PU!$B$3:$E$175,3,FALSE) -> INTERCEPTAR CANALITZACIÓ EXISTENT / EMBOCADURA PERICÓ EXISTENT. | E42: 2 | F42: =VLOOKUP($B42,PU!$B$3:$E$175,4,FALSE) -> 160.12 | G42: =ROUND($E42*F42,2) -> 320.24
B43: O-016 | C43: =VLOOKUP($B43,PU!$B$3:$E$175,2,FALSE) -> ML | D43: =VLOOKUP($B43,PU!$B$3:$E$175,3,FALSE) -> COMPROVACIÓ I MANDRINATGE DE CANALITZACIÓ EXISTENT DEIXANT PASSAT FIL GUIA. | E43: 180 | F43: =VLOOKUP($B43,PU!$B$3:$E$175,4,FALSE) -> 2.16 | G43: =ROUND($E43*F43,2) -> 388.8
B44: O-018 | C44: =VLOOKUP($B44,PU!$B$3:$E$175,2,FALSE) -> ML | D44: =VLOOKUP($B44,PU!$B$3:$E$175,3,FALSE) -> CANALITZACIÓ EN VORERA INCLOENT SUBMINISTRAMENT I INSTAL∙LACIÓ DE 2 TUBS DE PE ø 110 mm DE DOBLE CAPA, LLIS A L'INTERIOR I CORRUGAT A L'EXTERIOR, INCLÒS EXCAVACIÓ EN RASA DE 40 x 60 cm. DE PROFUNDITAT, BASE I PROTECCIÓ DE FORMIGÓ HM20, EN VORERES DE PANOT INCLÒS LA SEVA REPOSICIÓ. TOTALMENT EXECUTADA D'ACORD AMB LES ORDENANCES MUNICIPALS I INDICACIONS PARTICULARS. | E44: 15 | F44: =VLOOKUP($B44,PU!$B$3:$E$175,4,FALSE) -> 73.57 | G44: =ROUND($E44*F44,2) -> 1103.55
B45: O-021 | C45: =VLOOKUP($B45,PU!$B$3:$E$175,2,FALSE) -> ML | D45: =VLOOKUP($B45,PU!$B$3:$E$175,3,FALSE) -> SUPLEMENT PER REALITZACIÓ DE CANALITZACIÓ EN CALÇADA EN FESTIU. | E45: 2 | F45: =VLOOKUP($B45,PU!$B$3:$E$175,4,FALSE) -> 56.26 | G45: =ROUND($E45*F45,2) -> 112.52
B46: O-022 | C46: =VLOOKUP($B46,PU!$B$3:$E$175,2,FALSE) -> ML | D46: =VLOOKUP($B46,PU!$B$3:$E$175,3,FALSE) -> SUPLEMENT PER REALITZACIÓ DE CANALITZACIÓ EN VORERA DE PAVIMENT ESPECIAL, TIPUS GRANIT, LLAMBORDES O SIMILARS | E46: 15 | F46: =VLOOKUP($B46,PU!$B$3:$E$175,4,FALSE) -> 25.97 | G46: =ROUND($E46*F46,2) -> 389.55
... B54: O-030 | C54: =VLOOKUP($B54,PU!$B$3:$E$175,2,FALSE) -> UT | D54: =VLOOKUP($B54,PU!$B$3:$E$175,3,FALSE) -> SENYALITZACIÓ OBRES, ZONES D'ABASSEGAMENT DE MATERIALS, MAQUINÀRIA, TALLS DE CARRIL I SIMILARS, NECESSARIS PER A L'EXECUCIÓ DE L'OBRA CIVIL A FER EN EL PUNT DE CONTROL. INCLOU TRAMITACIÓ PERMISOS I GESTIONS DAVANT ORGANISMES I ADMINISTRACIONS. | E54: 1 | F54: =VLOOKUP($B54,PU!$B$3:$E$175,4,FALSE) -> 389.49 | G54: =ROUND($E54*F54,2) -> 389.49
B55: Subtotal Obra Civil | G55: =SUM(G35:G54) -> 7931.28
B57: =PU!B73 -> INSTAL·LACIÓ ELÈCTRICA
B58: I-001 | C58: =VLOOKUP($B58,PU!$B$3:$E$175,2,FALSE) -> UT | D58: =VLOOKUP($B58,PU!$B$3:$E$175,3,FALSE) -> TREBALLS PER A LA REALITZACIÓ DE L'ALIMENTACIÓ DEL PUNT DE CONTROL, D'ACORD AMB EL QUE INDICA EL PLEC. | E58: 1 | F58: =VLOOKUP($B58,PU!$B$3:$E$175,4,FALSE) -> 164.45 | G58: =ROUND($E58*F58,2) -> 164.45
B59: I-002 | C59: =VLOOKUP($B59,PU!$B$3:$E$175,2,FALSE) -> UT | D59: =VLOOKUP($B59,PU!$B$3:$E$175,3,FALSE) -> SUBMINISTRAMENT D'EQUIPAMENTS ESPECÍFICS PER LA DISTRIBUCIÓ D'ENERGIA DEL PUNT DE CONTROL, CONSISTENTS EN PROTECCIONS ELÈCTRIQUES CONTRA SOBRETENSIONS TRANSITÒRIES (1 UT) I PERMANENTS (1 UT), DIFERENCIALS (FINS A 2 UT), MAGNETOTÈRMICS (FINS A 3 UT) I PRESA DE CORRENT TIPUS SCHUKO (1 UT). | E59: 1 | F59: =VLOOKUP($B59,PU!$B$3:$E$175,4,FALSE) -> 257.93 | G59: =ROUND($E59*F59,2) -> 257.93
B60: I-003 | C60: =VLOOKUP($B60,PU!$B$3:$E$175,2,FALSE) -> UT | D60: =VLOOKUP($B60,PU!$B$3:$E$175,3,FALSE) -> INSTAL·LACIÓ D'EQUIPAMENTS ESPECÍFICS PER LA DISTRIBUCIÓ D'ENERGIA DEL PUNT DE CONTROL. | E60: 1 | F60: =VLOOKUP($B60,PU!$B$3:$E$175,4,FALSE) -> 70.11 | G60: =ROUND($E60*F60,2) -> 70.11
B61: I-004 | C61: =VLOOKUP($B61,PU!$B$3:$E$175,2,FALSE) -> ML | D61: =VLOOKUP($B61,PU!$B$3:$E$175,3,FALSE) -> SUBMINISTRAMENT DE CABLE DE CONDUCTOR DE COURE AMB AÏLLAMENT DE PLÀSTIC, DE SECCIÓ 1x6 mm2 PER PRESES DE TERRA. | E61: 20 | F61: =VLOOKUP($B61,PU!$B$3:$E$175,4,FALSE) -> 0.95 | G61: =ROUND($E61*F61,2) -> 19
B62: I-005 | C62: =VLOOKUP($B62,PU!$B$3:$E$175,2,FALSE) -> ML | D62: =VLOOKUP($B62,PU!$B$3:$E$175,3,FALSE) -> INSTAL·LACIÓ DE CABLE DE CONDUCTOR DE COURE AMB AÏLLAMENT DE PLÀSTIC, DE SECCIÓ 1x6 mm2 PER PRESES DE TERRA. | E62: 20 | F62: =VLOOKUP($B62,PU!$B$3:$E$175,4,FALSE) -> 0.78 | G62: =ROUND($E62*F62,2) -> 15.6
B63: I-006 | C63: =VLOOKUP($B63,PU!$B$3:$E$175,2,FALSE) -> ML | D63: =VLOOKUP($B63,PU!$B$3:$E$175,3,FALSE) -> SUBMINISTRAMENT DE CABLE DE CONDUCTOR DE COURE EPTAFILAR NU, DE SECCIÓ 1x35 mm2. | E63: 5 | F63: =VLOOKUP($B63,PU!$B$3:$E$175,4,FALSE) -> 3.89 | G63: =ROUND($E63*F63,2) -> 19.45
B64: I-007 | C64: =VLOOKUP($B64,PU!$B$3:$E$175,2,FALSE) -> ML | D64: =VLOOKUP($B64,PU!$B$3:$E$175,3,FALSE) -> INSTAL·LACIÓ DE CABLE DE CONDUCTOR DE COURE EPTAFILAR NU, DE SECCIÓ 1x35 mm2. | E64: 5 | F64: =VLOOKUP($B64,PU!$B$3:$E$175,4,FALSE) -> 0.78 | G64: =ROUND($E64*F64,2) -> 3.9
...

Sheet PdC-04
B2: =_xlfn.CONCAT('Resum Amid.Ppals'!A12," ",'Resum Amid.Ppals'!B12) -> PdC-04 Fusteria
B4: CODI | C4: U.M | D4: CONCEPTE/DENOMINACIO | E4: AMID. | F4: P.U.PEM | I4: PREU TOTAL
B6: =PU!B5 -> EQUIPAMENT PUNT DE CONTROL
B7: E‐001 | C7: =VLOOKUP($B7,PU!$B$3:$E$175,2,FALSE) -> UT | D7: =VLOOKUP($B7,PU!$B$3:$E$175,3,FALSE) -> SUBMINISTRAMENT D'EQUIP COMPACTE DE RECONEIXEMENT DE MATRÍCULES, FORMAT PER CONJUNT DE CÀMERA LPR 2 CARRILS HD, CÀMERA DE CONTEXT A COLOR, IL∙LUMINADOR IR PER A ZONA D’INFRACCIONS I SISTEMA PROCÉS I EMMAGATZEMATGE SSD 60 GB. INCLOU LLICÈNCIA OCR, CARCASSA, BRAÇ I ADAPTACIÓ A SUPORT. | E7: 1 | F7: =VLOOKUP($B7,PU!$B$3:$E$175,4,FALSE) -> 6405.04 | I7: =ROUND($E7*F7,2) -> 6405.04
B8: E‐002 | C8: =VLOOKUP($B8,PU!$B$3:$E$175,2,FALSE) -> UT | D8: =VLOOKUP($B8,PU!$B$3:$E$175,3,FALSE) -> INSTAL∙LACIÓ D'EQUIP COMPACTE DE RECONEIXEMENT DE MATRÍCULES, FORMAT PER CONJUNT DE CÀMERA LPR 2 CARRILS HD, CÀMERA DE CONTEXT A COLOR, IL∙LUMINADOR IR PER A ZONA D’INFRACCIONS I SISTEMA PROCÉS I EMMAGATZEMATGE SSD 60 GB. INCLOU LICÈNCIA OCR, CARCASSA, BRAÇ I ADAPTACIÓ A SUPORT. | E8: 1 | F8: =VLOOKUP($B8,PU!$B$3:$E$175,4,FALSE) -> 307.27 | I8: =ROUND($E8*F8,2) -> 307.27
B9: E‐003 | C9: =VLOOKUP($B9,PU!$B$3:$E$175,2,FALSE) -> UT | D9: =VLOOKUP($B9,PU!$B$3:$E$175,3,FALSE) -> SUBMINISTRAMENT D'UNITAT DE PROCÉS PEL PUNT DE CONTROL, CONSISTENT EN UN PC DE TIPUS INDUSTRIAL, RUGORITZAT, AMB PROCESSADOR I7, CPU QUAD CORE, BIOS, SISTEMA OPERATIU, WATCHDOG, ALIMENTACIÓ 9‐48V, CAPACITAT EMMAGATZEMATGE 2 TB | E9: 1 | F9: =VLOOKUP($B9,PU!$B$3:$E$175,4,FALSE) -> 930.46 | I9: =ROUND($E9*F9,2) -> 930.46
B10: E‐004 | C10: =VLOOKUP($B10,PU!$B$3:$E$175,2,FALSE) -> UT | D10: =VLOOKUP($B10,PU!$B$3:$E$175,3,FALSE) -> INSTAL∙LACIÓ, CONFIGURACIÓ I POSADA EN FUNCIONAMENT, D'UNITAT DE PROCÉS PEL PUNT DE CONTROL EN ARMARI PDC. | E10: 1 | F10: =VLOOKUP($B10,PU!$B$3:$E$175,4,FALSE) -> 160.12 | I10: =ROUND($E10*F10,2) -> 160.12
B11: E‐005 | C11: =VLOOKUP($B11,PU!$B$3:$E$175,2,FALSE) -> UT | D11: =VLOOKUP($B11,PU!$B$3:$E$175,3,FALSE) -> SUBMINISTRAMENT DE FONT D'ALIMENTACIÓ TIPUS INDUSTRIAL, PER MUNTATGE EN CARRIL DIN, PER ALIMENTAR FINS A 4 CÀMERES PUNT DE CONTROL. | E11: 1 | F11: =VLOOKUP($B11,PU!$B$3:$E$175,4,FALSE) -> 138.48 | I11: =ROUND($E11*F11,2) -> 138.48
B12: E‐006 | C12: =VLOOKUP($B12,PU!$B$3:$E$175,2,FALSE) -> UT | D12: =VLOOKUP($B12,PU!$B$3:$E$175,3,FALSE) -> INSTAL∙LACIÓ DE FONT D'ALIMENTACIÓ TIPUS INDUSTRIAL, PER MUNTATGE EN CARRIL DIN, PER ALIMENTAR FINS A 4 CÀMERES PUNT DE CONTROL. | E12: 1 | F12: =VLOOKUP($B12,PU!$B$3:$E$175,4,FALSE) -> 30.29 | I12: =ROUND($E12*F12,2) -> 30.29
B13: E‐007 | C13: =VLOOKUP($B13,PU!$B$3:$E$175,2,FALSE) -> UT | D13: =VLOOKUP($B13,PU!$B$3:$E$175,3,FALSE) -> SUBMINISTRAMENT DE FONT D'ALIMENTACIÓ TIPUS INDUSTRIAL, PER MUNTATGE EN CARRIL DIN, PER ALIMENTAR UNITAT DE PROCÈS (PC) | E13: 1 | F13: =VLOOKUP($B13,PU!$B$3:$E$175,4,FALSE) -> 46.74 | I13: =ROUND($E13*F13,2) -> 46.74
B14: E‐008 | C14: =VLOOKUP($B14,PU!$B$3:$E$175,2,FALSE) -> UT | D14: =VLOOKUP($B14,PU!$B$3:$E$175,3,FALSE) -> INSTAL·LACIÓ DE FONT D'ALIMENTACIÓ TIPUS INDUSTRIAL, PER MUNTATGE EN CARRIL DIN, PER ALIMENTAR UNITAT DE PROCÈS (PC) | E14: 1 | F14: =VLOOKUP($B14,PU!$B$3:$E$175,4,FALSE) -> 12.12 | I14: =ROUND($E14*F14,2) -> 12.12
B15: E‐025 | C15: =VLOOKUP($B15,PU!$B$3:$E$175,2,FALSE) -> UT | D15: =VLOOKUP($B15,PU!$B$3:$E$175,3,FALSE) -> TREBALLS PER SUBSTITUIR I ADEQUAR COLUMNES SEMAFÒRIQUES EXISTENTS, A EFECTES DE PODER‐HI INSTAL∙LAR LES NOVES CÀMERES. INCLOU DESCONNEXIÓ, DESMUNTATGE DE SEMÀFORS, CABLEJATS, I POSTERIOR CABLEJAT, MUNTATGE I CONNEXIÓ DELS SEMÀFORS A NOVA COLUMNA. | E15: 1 | F15: =VLOOKUP($B15,PU!$B$3:$E$175,4,FALSE) -> 367.85 | I15: =ROUND($E15*F15,2) -> 367.85
B16: E‐027 | C16: =VLOOKUP($B16,PU!$B$3:$E$175,2,FALSE) -> UT | D16: =VLOOKUP($B16,PU!$B$3:$E$175,3,FALSE) -> SUBMINISTRAMENT DE COLUMNA MODEL SEMÀFORS, METÀL·LICA DE 4 m ALÇADA LLIURE I 100 mm DE DIÀMETRE, AMB O SENSE PLETINA D'ANCORATGE INCLOSOS PERNS ANCORATGE O FIXACIONS. | E16: 1 | F16: =VLOOKUP($B16,PU!$B$3:$E$175,4,FALSE) -> 177.44 | I16: =ROUND($E16*F16,2) -> 177.44
B17: E‐028 | C17: =VLOOKUP($B17,PU!$B$3:$E$175,2,FALSE) -> UT | D17: =VLOOKUP($B17,PU!$B$3:$E$175,3,FALSE) -> INSTAL·LACIÓ DE COLUMNA MODEL SEMÀFORS, METÀL·LICA DE 4 m ALÇADA LLIURE I 100 mm DE DIÀMETRE, AMB O SENSE PLETINA D'ANCORATGE INCLOSOS PERNS ANCORATGE O FIXACIONS. | E17: 1 | F17: =VLOOKUP($B17,PU!$B$3:$E$175,4,FALSE) -> 73.57 | I17: =ROUND($E17*F17,2) -> 73.57
B18: E‐029 | C18: =VLOOKUP($B18,PU!$B$3:$E$175,2,FALSE) -> UT | D18: =VLOOKUP($B18,PU!$B$3:$E$175,3,FALSE) -> DESMUNTATGE DE COLUMNA DE SEMÀFORS, INCLÒS EL TRANSPORT A NOVA UBICACIÓ O MAGATZEM. INCLOSOS ELEMENTS SEMAFÒRICS I CABLEJATS. | E18: 1 | F18: =VLOOKUP($B18,PU!$B$3:$E$175,4,FALSE) -> 90.89 | I18: =ROUND($E18*F18,2) -> 90.89
... B21: E‐034 | C21: =VLOOKUP($B21,PU!$B$3:$E$175,2,FALSE) -> UT | D21: =VLOOKUP($B21,PU!$B$3:$E$175,3,FALSE) -> PRECINTAT DE CÀMERES I DEL PC DE CONTROL DEL PUNT DE CONTROL. INCLOU TOTS ELS MATERIALS (PRECINTES), MITJANS I RECURSOS NECESSARIS. PREU PER PUNT DE CONTROL. | E21: 1 | F21: =VLOOKUP($B21,PU!$B$3:$E$175,4,FALSE) -> 259.66 | I21: =ROUND($E21*F21,2) -> 259.66
B22: Subtotal PdC | I22: =SUM(I7:I21) -> 10241.99
B24: =PU!B41 -> OBRA CIVIL
B25: O-002 | C25: =VLOOKUP($B25,PU!$B$3:$E$175,2,FALSE) -> UT | D25: =VLOOKUP($B25,PU!$B$3:$E$175,3,FALSE) -> FONAMENT DE FORMIGÓ PER A COLUMNA DE 4 METRES, AMB DOSIFICACIÓ DE 250 KG/m3, MITJANÇANT UN DAU DE 50 cm. DE COSTAT I 60 cm. DE PROFUNDITAT, INCLÒS COLZE DE CONNEXIÓ AMB TUBULAR. INCLOU DEMOLICIÓ PAVIMENT, EXCAVACIÓ I POSTERIOR REPOSICIÓ. TOTALMENT EXECUTAT. | E25: 1 | F25: =VLOOKUP($B25,PU!$B$3:$E$175,4,FALSE) -> 95.21 | I25: =ROUND($E25*F25,2) -> 95.21
B26: O-010 | C26: =VLOOKUP($B26,PU!$B$3:$E$175,2,FALSE) -> UT | D26: =VLOOKUP($B26,PU!$B$3:$E$175,3,FALSE) -> REPARACIÓ D'ESTRUCTURA INTERIOR DE PERICÓ EXISTENT DE 60 x 60 cm, AMB ADEQUACIÓ DE PARETS I LLISCAT. TOTALMENT EXECUTAT. | E26: 1 | F26: =VLOOKUP($B26,PU!$B$3:$E$175,4,FALSE) -> 70.98 | I26: =ROUND($E26*F26,2) -> 70.98
B27: O-015 | C27: =VLOOKUP($B27,PU!$B$3:$E$175,2,FALSE) -> UT | D27: =VLOOKUP($B27,PU!$B$3:$E$175,3,FALSE) -> INTERCEPTAR CANALITZACIÓ EXISTENT / EMBOCADURA PERICÓ EXISTENT. | E27: 1 | F27: =VLOOKUP($B27,PU!$B$3:$E$175,4,FALSE) -> 160.12 | I27: =ROUND($E27*F27,2) -> 160.12
B28: O-016 | C28: =VLOOKUP($B28,PU!$B$3:$E$175,2,FALSE) -> ML | D28: =VLOOKUP($B28,PU!$B$3:$E$175,3,FALSE) -> COMPROVACIÓ I MANDRINATGE DE CANALITZACIÓ EXISTENT DEIXANT PASSAT FIL GUIA. | E28: 40 | F28: =VLOOKUP($B28,PU!$B$3:$E$175,4,FALSE) -> 2.16 | I28: =ROUND($E28*F28,2) -> 86.4
B29: O-023 | C29: =VLOOKUP($B29,PU!$B$3:$E$175,2,FALSE) -> ML | D29: =VLOOKUP($B29,PU!$B$3:$E$175,3,FALSE) -> REPARACIÓ TUBULAR EN VORERA, MITJANÇANT EXCAVACIÓ, SUBMINISTRAMENT I COL∙LOCACIÓ TUB DE PE DE DOBLE CAPA, LLIS A L'INTERIOR I CORRUGAT A L'EXTERIOR DEL MATEIX DIÀMETRE QUE L'EXISTENT, MANIGOT D'ACOBLAMENT, PAS DEL CABLE, COL∙LOCACIÓ DE MITJA CANYA, LLIGAT AMB FILFERROS I FORMIGONAT DEL CONJUNT I REPOSICIÓ DE PAVIMENT DE PANOT DE LES MATEIXES CARACTERÍSTIQUES A L'EXISTENT, PER A LLARGADES FINS A 2m. TOTALMENT EXECUTADA. | E29: 2 | F29: =VLOOKUP($B29,PU!$B$3:$E$175,4,FALSE) -> 134.16 | I29: =ROUND($E29*F29,2) -> 268.32
B30: O-028 | C30: =VLOOKUP($B30,PU!$B$3:$E$175,2,FALSE) -> UT | D30: =VLOOKUP($B30,PU!$B$3:$E$175,3,FALSE) -> OBTURACIÓ DE TUBULAR AMB CABLES EXISTENTS. | E30: 6 | F30: =VLOOKUP($B30,PU!$B$3:$E$175,4,FALSE) -> 2.6 | I30: =ROUND($E30*F30,2) -> 15.6
B31: O-030 | C31: =VLOOKUP($B31,PU!$B$3:$E$175,2,FALSE) -> UT | D31: =VLOOKUP($B31,PU!$B$3:$E$175,3,FALSE) -> SENYALITZACIÓ OBRES, ZONES D'ABASSEGAMENT DE MATERIALS, MAQUINÀRIA, TALLS DE CARRIL I SIMILARS, NECESSARIS PER A L'EXECUCIÓ DE L'OBRA CIVIL A FER EN EL PUNT DE CONTROL. INCLOU TRAMITACIÓ PERMISOS I GESTIONS DAVANT ORGANISMES I ADMINISTRACIONS. | E31: 1 | F31: =VLOOKUP($B31,PU!$B$3:$E$175,4,FALSE) -> 389.49 | I31: =ROUND($E31*F31,2) -> 389.49
B32: Subtotal Obra Civil | I32: =SUM(I25:I31) -> 1086.12
B34: =PU!B73 -> INSTAL·LACIÓ ELÈCTRICA
B35: =PU!B85 -> I-012 | C35: =VLOOKUP($B35,PU!$B$3:$E$175,2,FALSE) -> UT | D35: =VLOOKUP($B35,PU!$B$3:$E$175,3,FALSE) -> REALITZACIÓ D'UNA SORTIDA ELÈCTRICA, EN QUADRE ELÈCTRIC EXISTENT, CONSISTENT EN PROTECCIÓ MAGNETOTÈRMICA 6A 2P I TREBALLS DE CONNEXIÓ NECESSARIS, PER L'ALIMENTACIÓ D'UN CONJUNT DE CÀMERA. | E35: 1 | F35: =VLOOKUP($B35,PU!$B$3:$E$175,4,FALSE) -> 43.78 | I35: =ROUND($E35*F35,2) -> 43.78
B36: Subtotal instal·lacions elèctriques. | I36: =SUM(I35:I35) -> 43.78
B38: =PU!B92 -> SENYALITZACIÓ
B39: S-001 | C39: =VLOOKUP($B39,PU!$B$3:$E$175,2,FALSE) -> UT | D39: =VLOOKUP($B39,PU!$B$3:$E$175,3,FALSE) -> SUBMINISTRAMENT DE SENYAL DE "CÀMERA DE TRÀNSIT" B-53a SEGONS MANUAL DE SENYALITZACIÓ URBANA I PLEC DE SENYALITZACIÓ PER A LA CIUTAT DE BARCELONA. SENYAL D'ALUMINI DE DOBLE PESTANYA HI, NIVELL II DE 2 MM DE GRUIX, DE DIÀMETRE 40 o 60cm SEGONS NORMES. INCLÒS ELEMENTS DE SUSTENTACIÓ I FIXACIÓ. | E39: 1 | F39: =VLOOKUP($B39,PU!$B$3:$E$175,4,FALSE) -> 90.42 | I39: =ROUND($E39*F39,2) -> 90.42
B40: S-004 | C40: =VLOOKUP($B40,PU!$B$3:$E$175,2,FALSE) -> UT | D40: =VLOOKUP($B40,PU!$B$3:$E$175,3,FALSE) -> SUBMINISTRAMENT DE SENYAL DE "CONTROL FOTOGRÀFIC" B-55a SEGONS MANUAL DE SENYALITZACIÓ URBANA I PLEC DE SENYALITZACIÓ PER A LA CIUTAT DE BARCELONA. SENYAL D'ALUMINI DE DOBLE PESTANYA HI, NIVELL II DE 2 MM DE GRUIX, DE DIÀMETRE 60 CM SEGONS NORMES. INCLÒS ELEMENTS DE SUSTENTACIÓ I FIXACIÓ. | E40: 1 | F40: =VLOOKUP($B40,PU!$B$3:$E$175,4,FALSE) -> 107.23 | I40: =ROUND($E40*F40,2) -> 107.23
B41: S-007 | C41: =VLOOKUP($B41,PU!$B$3:$E$175,2,FALSE) -> UT | D41: =VLOOKUP($B41,PU!$B$3:$E$175,3,FALSE) -> INSTAL·LACIÓ DE SENYAL VERTICAL. | E41: 2 | F41: =VLOOKUP($B41,PU!$B$3:$E$175,4,FALSE) -> 38.95 | I41: =ROUND($E41*F41,2) -> 77.9
B42: Subtotal Senyalització | I42: =SUM(I39:I41) -> 275.55
B44: =PU!B105 -> COMUNICACIONS
B45: FO-07 | C45: =VLOOKUP($B45,PU!$B$3:$E$175,2,FALSE) -> ML | D45: =VLOOKUP($B45,PU!$B$3:$E$175,3,FALSE) -> SUBMINISTRAMENT I INSTAL·LACIÓ DE CABLATGE ESTRUCTURAT UTP CAT 6A PER EXTERIORS, INCLÚS CONNECTORS I CERTIFICACIÓ DEL PUNTS. | E45: 15 | F45: =VLOOKUP($B45,PU!$B$3:$E$175,4,FALSE) -> 1.82 | I45: =ROUND($E45*F45,2) -> 27.3
B46: FO-25 | C46: =VLOOKUP($B46,PU!$B$3:$E$175,2,FALSE) -> PAJ | D46: =VLOOKUP($B46,PU!$B$3:$E$175,3,FALSE) -> TREBALLS INTEGRACIÓ EN PDC EXISTENT PDC-4: FUSTERIA, ASSIGNACIÓ D'IPS ADICIONALS, A UN PDC EXISTENT, INTEGRACIÓ A LA XARXA I ALTA I BASES DE DADES DE L'AJUNTAMENT. | E46: 1 | F46: =VLOOKUP($B46,PU!$B$3:$E$175,4,FALSE) -> 1079.17 | I46: =ROUND($E46*F46,2) -> 1079.17
B47: Subtotal Comunicacions | I47: =SUM(I45:I46) -> 1106.47
B48: TOTAL GENERAL | I48: =I22+I32+I36+I42+I47 -> 12753.91
D51: RESUM PRESSUPOST
...

Sheet PdC-05
B2: =_xlfn.CONCAT('Resum Amid.Ppals'!A13," ",'Resum Amid.Ppals'!B13) -> PdC-05 Lluís el Piadós
B4: CODI | C4: U.M | D4: CONCEPTE/DENOMINACIO | E4: AMID. | F4: P.U.PEM | G4: PREU TOTAL
B6: =PU!B5 -> EQUIPAMENT PUNT DE CONTROL
B7: E‐001 | C7: =VLOOKUP($B7,PU!$B$3:$E$175,2,FALSE) -> UT | D7: =VLOOKUP($B7,PU!$B$3:$E$175,3,FALSE) -> SUBMINISTRAMENT D'EQUIP COMPACTE DE RECONEIXEMENT DE MATRÍCULES, FORMAT PER CONJUNT DE CÀMERA LPR 2 CARRILS HD, CÀMERA DE CONTEXT A COLOR, IL∙LUMINADOR IR PER A ZONA D’INFRACCIONS I SISTEMA PROCÉS I EMMAGATZEMATGE SSD 60 GB. INCLOU LLICÈNCIA OCR, CARCASSA, BRAÇ I ADAPTACIÓ A SUPORT. | E7: 1 | F7: =VLOOKUP($B7,PU!$B$3:$E$175,4,FALSE) -> 6405.04 | G7: =ROUND($E7*F7,2) -> 6405.04
B8: E‐002 | C8: =VLOOKUP($B8,PU!$B$3:$E$175,2,FALSE) -> UT | D8: =VLOOKUP($B8,PU!$B$3:$E$175,3,FALSE) -> INSTAL∙LACIÓ D'EQUIP COMPACTE DE RECONEIXEMENT DE MATRÍCULES, FORMAT PER CONJUNT DE CÀMERA LPR 2 CARRILS HD, CÀMERA DE CONTEXT A COLOR, IL∙LUMINADOR IR PER A ZONA D’INFRACCIONS I SISTEMA PROCÉS I EMMAGATZEMATGE SSD 60 GB. INCLOU LICÈNCIA OCR, CARCASSA, BRAÇ I ADAPTACIÓ A SUPORT. | E8: 1 | F8: =VLOOKUP($B8,PU!$B$3:$E$175,4,FALSE) -> 307.27 | G8: =ROUND($E8*F8,2) -> 307.27
B9: E‐003 | C9: =VLOOKUP($B9,PU!$B$3:$E$175,2,FALSE) -> UT | D9: =VLOOKUP($B9,PU!$B$3:$E$175,3,FALSE) -> SUBMINISTRAMENT D'UNITAT DE PROCÉS PEL PUNT DE CONTROL, CONSISTENT EN UN PC DE TIPUS INDUSTRIAL, RUGORITZAT, AMB PROCESSADOR I7, CPU QUAD CORE, BIOS, SISTEMA OPERATIU, WATCHDOG, ALIMENTACIÓ 9‐48V, CAPACITAT EMMAGATZEMATGE 2 TB | E9: 1 | F9: =VLOOKUP($B9,PU!$B$3:$E$175,4,FALSE) -> 930.46 | G9: =ROUND($E9*F9,2) -> 930.46
B10: E‐004 | C10: =VLOOKUP($B10,PU!$B$3:$E$175,2,FALSE) -> UT | D10: =VLOOKUP($B10,PU!$B$3:$E$175,3,FALSE) -> INSTAL∙LACIÓ, CONFIGURACIÓ I POSADA EN FUNCIONAMENT, D'UNITAT DE PROCÉS PEL PUNT DE CONTROL EN ARMARI PDC. | E10: 1 | F10: =VLOOKUP($B10,PU!$B$3:$E$175,4,FALSE) -> 160.12 | G10: =ROUND($E10*F10,2) -> 160.12
