Workbook

Sheet DADES
A2: TASQUES A CONTRACTAR | B2: HORES DE DEDICACIÓ | E2: Preu/hora sense IVA | G2: CONVENI
A3: Tasques afectes al contrcte | B3: Hores / ANY
A4: Entrada dades REC | B4: 900 | C4: LOT 1 | E4: =+LOT1_REC!T20 -> 15.875621 | G4: Grup professional 6 Nivell 3
A5: Entrada dades MDOwin | B5: 1500 | C5: LOT 2 | E5: =+LOT2_MDOwin!T20 -> 15.875621 | G5: Grup professional 6 Nivell 3
A6: Entrada dades SIDB | B6: 480 | C6: LOT 3 | E6: =+LOT3_SIDB!T20 -> 15.875621 | G6: Grup professional 6 Nivell 3
A7: Entrada dades Salut laboral MRT + amiant | B7: 192 | C7: LOT 4 | E7: =+'LOT4_MRT+amiant'!T20 -> 15.875621 | G7: Grup professional 6 Nivell 3
A8: Revisió i correcció Salut laboral MRT + amiant | B8: 50 | G8: Grup professional 6 Nivell 3
A9: Digitalització Salut laboral MRT + amiant | B9: 480 | G9: Grup professional 6 Nivell 3
A10: Entrada dades Salut Laboral -Atenció domiciliària | B10: 254 | C10: LOT 5 | E10: =+LOT5_SAD!T20 -> 15.875621 | G10: Grup professional 6 Nivell 3
A12: Persones mínimes necessàries
B14: anys
A15: DURADA DEL CONTRACTE | B15: 1
B17: mesos
A18: PRORROGA | B18: 1
B20: %
A21: MODIFICACIÓNS CONTRACTUALS | B21: 0.2

Sheet TOTAL
A2: TASQUES A CONTRACTAR | B2: HORES DE DEDICACIÓ | D2: CATEGORIA PROFESSIONAL | E2: CONVENI DE REFERÈNCIA | H2: COSTOS SALARIALS
A3: TASQUES afecte al contracte | B3: Hores / ANY | D3: Categoria professional | E3: Hores segons conveni | F3: Sou brut anual 2021 | H3: Previsió actualització sou | K3: Sou brut | L3: Seg. Social | M3: Costos laborals segons conveni
H4: 2022 | I4: 2023 | J4: 2024 | L4: 0.33
A5: =+DADES!A4 -> Entrada dades REC | B5: =+DADES!B4 -> 900 | D5: =+DADES!G4 -> Grup professional 6 Nivell 3 | E5: 1764 | F5: 14792.31 | H5: 0.02 | I5: 0.04 | J5: 0.03 | K5: =+(F5*B5/E5)*(1+H5)*(1+I5)*(1+J5) -> 8246.1392 | L5: =+K5*$L$4 -> 2721.226 | M5: =K5+L5 -> 10967.365
A6: =+DADES!A5 -> Entrada dades MDOwin | B6: =+DADES!B5 -> 1500 | D6: =+DADES!G5 -> Grup professional 6 Nivell 3 | E6: 1764 | F6: 14792.31 | H6: 0.02 | I6: 0.04 | J6: 0.03 | K6: =+(F6*B6/E6)*(1+H6)*(1+I6)*(1+J6) -> 13743.565 | L6: =+K6*$L$4 -> 4535.3766 | M6: =K6+L6 -> 18278.942
A7: =+DADES!A6 -> Entrada dades SIDB | B7: =+DADES!B6 -> 480 | D7: =+DADES!G6 -> Grup professional 6 Nivell 3 | E7: 1764 | F7: 14792.31 | H7: 0.02 | I7: 0.04 | J7: 0.03 | K7: =+(F7*B7/E7)*(1+H7)*(1+I7)*(1+J7) -> 4397.9409 | L7: =+K7*$L$4 -> 1451.3205 | M7: =K7+L7 -> 5849.2614
A8: =+DADES!A7 -> Entrada dades Salut laboral MRT + amiant | B8: =+DADES!B7 -> 192 | D8: =+DADES!G7 -> Grup professional 6 Nivell 3 | E8: 1764 | F8: 14792.31 | H8: 0.02 | I8: 0.04 | J8: 0.03 | K8: =+(F8*B8/E8)*(1+H8)*(1+I8)*(1+J8) -> 1759.1764 | L8: =+K8*$L$4 -> 580.5282 | M8: =K8+L8 -> 2339.7046
A9: =+DADES!A8 -> Revisió i correcció Salut laboral MRT + amiant | B9: =+DADES!B8 -> 50 | D9: =+DADES!G8 -> Grup professional 6 Nivell 3 | E9: 1764 | F9: 14792.31 | H9: 0.02 | I9: 0.04 | J9: 0.03 | K9: =+(F9*B9/E9)*(1+H9)*(1+I9)*(1+J9) -> 458.11885 | L9: =+K9*$L$4 -> 151.17922 | M9: =K9+L9 -> 609.29807
A10: =+DADES!A9 -> Digitalització Salut laboral MRT + amiant | B10: =+DADES!B9 -> 480 | D10: =+DADES!G9 -> Grup professional 6 Nivell 3 | E10: 1764 | F10: 14792.31 | H10: 0.02 | I10: 0.04 | J10: 0.03 | K10: =+(F10*B10/E10)*(1+H10)*(1+I10)*(1+J10) -> 4397.9409 | L10: =+K10*$L$4 -> 1451.3205 | M10: =K10+L10 -> 5849.2614
A11: =+DADES!A10 -> Entrada dades Salut Laboral -Atenció domiciliària | B11: =+DADES!B10 -> 254 | D11: =+DADES!G10 -> Grup professional 6 Nivell 3 | E11: 1764 | F11: 14792.31 | H11: 0.02 | I11: 0.04 | J11: 0.03 | K11: =+(F11*B11/E11)*(1+H11)*(1+I11)*(1+J11) -> 2327.2437 | L11: =+K11*$L$4 -> 767.99044 | M11: =K11+L11 -> 3095.2342
D13: COSTOS DIRECTES DE PERSONAL | K13: =SUM(M5:M12) -> 46989.067 | N13: BI pressupost anual | R13: =+K23+K25+K27 -> 61216.396
D15: DESPESES DIRECTES DE FUNCIONAMENT | F15: % | K15: =SUM(H16:H21) -> 4889.2347 | N15: IVA | Q15: 0.21 | R15: =(R13*Q15) -> 12855.443 | S15: =+R13*(1+Q15) -> 74071.839
D16: Absentisme | F16: 0.03 | G16: =+K13*F18 -> 939.78134 | H16: =F16*$K$13 -> 1409.672
D17: Provisió per Formació y riscos laborals | F17: 0.02 | G17: 450 | H17: =F17*$K$13 -> 939.78134 | N17: Total pressupost anual | R17: =+R15+R13 -> 74071.839
D18: Actualització de convenis | F18: 0.02 | G18: 445.59 | H18: =F18*$K$13 -> 939.78134
D19: Coordinador | G19: 445.59 | H19: 1600
D20: Assegurança responsabilitat civil
D21: Despeses gestoria
N22: Preu/hora del contracte (sense IVA) | T22: =((K23/SUM(B5:B11))*(1+H25+H27)) -> 15.875621
D23: TOTAL DESPESES DIRECTES | K23: =+K13+K15 -> 51878.302
D25: DESPESES INDIRECTES | H25: 0.1 | K25: =K23*H25 -> 5187.8302
D27: BENEFICI EMPRESARIAL | H27: 0.08 | K27: =K23*H27 -> 4150.2641

Sheet LOT1_REC
A2: TASQUES A CONTRACTAR | B2: HORES DE DEDICACIÓ | D2: CATEGORIA PROFESSIONAL | E2: CONVENI DE REFERÈNCIA | H2: COSTOS SALARIALS
A3: TASQUES afecte al contracte | B3: Hores / ANY | D3: Categoria professional | E3: Hores segons conveni | F3: Sou brut anual 2021 | H3: Previsió actualització sou | K3: Sou brut | L3: Seg. Social | M3: Costos laborals segons conveni
H4: 2022 | I4: 2023 | J4: 2024 | L4: =+TOTAL!L4 -> 0.33
A5: =+DADES!A4 -> Entrada dades REC | B5: =+DADES!B4 -> 900 | D5: =+DADES!G4 -> Grup professional 6 Nivell 3 | E5: 1764 | F5: 14792.31 | H5: 0.02 | I5: 0.04 | J5: 0.03 | K5: =+(F5*B5/E5)*(1+H5)*(1+I5)*(1+J5) -> 8246.1392 | L5: =+K5*$L$4 -> 2721.226 | M5: =K5+L5 -> 10967.365
D11: COSTOS DIRECTES DE PERSONAL | K11: =SUM(M5:M10) -> 10967.365 | N11: BI pressupost anual | R11: =+K21+K23+K25 -> 14288.059
D13: DESPESES DIRECTES DE FUNCIONAMENT | F13: % | K13: =SUM(H14:H19) -> 1141.1595 | N13: IVA | Q13: 0.21 | R13: =(R11*Q13) -> 3000.4924 | S13: =+R11*(1+Q13) -> 17288.552
D14: Absentisme | F14: 0.03 | G14: =+K11*F16 -> 219.3473 | H14: =F14*$K$11 -> 329.02096
D15: Provisió per Formació y riscos laborals | F15: 0.02 | G15: 450 | H15: =F15*$K$11 -> 219.3473 | N15: Total pressupost anual | R15: =+R13+R11 -> 17288.552
D16: Actualització de convenis | F16: 0.02 | G16: 445.59 | H16: =F16*$K$11 -> 219.3473
D17: Coordinador | G17: 445.59 | H17: =TOTAL!H19*SUM(B5:B9)/SUM(DADES!B4:B10) -> 373.44398
D18: Assegurança responsabilitat civil
D19: Despeses gestoria
N20: Preu/hora del lot (sense IVA) | T20: =((K21/SUM(B5:B9))*(1+H23+H25)) -> 15.875621
D21: TOTAL DESPESES DIRECTES | K21: =+K11+K13 -> 12108.525
D23: DESPESES INDIRECTES | H23: 0.1 | K23: =K21*H23 -> 1210.8525
D25: BENEFICI EMPRESARIAL | H25: 0.08 | K25: =K21*H25 -> 968.68198

Sheet LOT2_MDOwin
A2: TASQUES A CONTRACTAR | B2: HORES DE DEDICACIÓ | D2: CATEGORIA PROFESSIONAL | E2: CONVENI DE REFERÈNCIA | H2: COSTOS SALARIALS
A3: TASQUES afecte al contracte | B3: Hores / ANY | D3: Categoria professional | E3: Hores segons conveni | F3: Sou brut anual 2021 | H3: Previsió actualització sou | K3: Sou brut | L3: Seg. Social | M3: Costos laborals segons conveni
H4: 2022 | I4: 2023 | J4: 2024 | L4: =+TOTAL!L4 -> 0.33
A5: =+DADES!A5 -> Entrada dades MDOwin | B5: =+DADES!B5 -> 1500 | D5: =+DADES!G5 -> Grup professional 6 Nivell 3 | E5: 1764 | F5: 14792.31 | H5: 0.02 | I5: 0.04 | J5: 0.03 | K5: =+(F5*B5/E5)*(1+H5)*(1+I5)*(1+J5) -> 13743.565 | L5: =+K5*$L$4 -> 4535.3766 | M5: =K5+L5 -> 18278.942
D11: COSTOS DIRECTES DE PERSONAL | K11: =SUM(M5:M10) -> 18278.942 | N11: BI pressupost anual | R11: =+K21+K23+K25 -> 23813.432
D13: DESPESES DIRECTES DE FUNCIONAMENT | F13: % | K13: =SUM(H14:H19) -> 1901.9326 | N13: IVA | Q13: 0.21 | R13: =(R11*Q13) -> 5000.8207 | S13: =+R11*(1+Q13) -> 28814.253
D14: Absentisme | F14: 0.03 | G14: =+K11*F16 -> 365.57884 | H14: =F14*$K$11 -> 548.36826
D15: Provisió per Formació y riscos laborals | F15: 0.02 | G15: 450 | H15: =F15*$K$11 -> 365.57884 | N15: Total pressupost anual | R15: =+R13+R11 -> 28814.253
D16: Actualització de convenis | F16: 0.02 | G16: 445.59 | H16: =F16*$K$11 -> 365.57884
D17: Coordinador | G17: 445.59 | H17: =TOTAL!H19*SUM(B5:B9)/SUM(DADES!B4:B10) -> 622.40664
D18: Assegurança responsabilitat civil
D19: Despeses gestoria
N20: Preu/hora del contracte (sense IVA) | T20: =((K21/SUM(B5:B9))*(1+H23+H25)) -> 15.875621
D21: TOTAL DESPESES DIRECTES | K21: =+K11+K13 -> 20180.875
D23: DESPESES INDIRECTES | H23: 0.1 | K23: =K21*H23 -> 2018.0875
D25: BENEFICI EMPRESARIAL | H25: 0.08 | K25: =K21*H25 -> 1614.47

Sheet LOT3_SIDB
A2: TASQUES A CONTRACTAR | B2: HORES DE DEDICACIÓ | D2: CATEGORIA PROFESSIONAL | E2: CONVENI DE REFERÈNCIA | H2: COSTOS SALARIALS
A3: TASQUES afecte al contracte | B3: Hores / ANY | D3: Categoria professional | E3: Hores segons conveni | F3: Sou brut anual 2021 | H3: Previsió actualització sou | K3: Sou brut | L3: Seg. Social | M3: Costos laborals segons conveni
H4: 2022 | I4: 2023 | J4: 2024 | L4: =+TOTAL!L4 -> 0.33
A5: =+DADES!A6 -> Entrada dades SIDB | B5: =+DADES!B6 -> 480 | D5: =+DADES!G6 -> Grup professional 6 Nivell 3 | E5: 1764 | F5: 14792.31 | H5: 0.02 | I5: 0.04 | J5: 0.03 | K5: =+(F5*B5/E5)*(1+H5)*(1+I5)*(1+J5) -> 4397.9409 | L5: =+K5*$L$4 -> 1451.3205 | M5: =K5+L5 -> 5849.2614
D11: COSTOS DIRECTES DE PERSONAL | K11: =SUM(M5:M10) -> 5849.2614 | N11: BI pressupost anual | R11: =+K21+K23+K25 -> 7620.2982
D13: DESPESES DIRECTES DE FUNCIONAMENT | F13: % | K13: =SUM(H14:H19) -> 608.61843 | N13: IVA | Q13: 0.21 | R13: =(R11*Q13) -> 1600.2626 | S13: =+R11*(1+Q13) -> 9220.5609
D14: Absentisme | F14: 0.03 | G14: =+K11*F16 -> 116.98523 | H14: =F14*$K$11 -> 175.47784
D15: Provisió per Formació y riscos laborals | F15: 0.02 | G15: 450 | H15: =F15*$K$11 -> 116.98523 | N15: Total pressupost anual | R15: =+R13+R11 -> 9220.5609
D16: Actualització de convenis | F16: 0.02 | G16: 445.59 | H16: =F16*$K$11 -> 116.98523
D17: Coordinador | G17: 445.59 | H17: =TOTAL!H19*SUM(B5:B9)/SUM(DADES!B4:B10) -> 199.17012
D18: Assegurança responsabilitat civil
D19: Despeses gestoria
N20: Preu/hora del contracte (sense IVA) | T20: =((K21/SUM(B5:B9))*(1+H23+H25)) -> 15.875621
D21: TOTAL DESPESES DIRECTES | K21: =+K11+K13 -> 6457.8799
D23: DESPESES INDIRECTES | H23: 0.1 | K23: =K21*H23 -> 645.78799
D25: BENEFICI EMPRESARIAL | H25: 0.08 | K25: =K21*H25 -> 516.63039

Sheet LOT5_SAD
A2: TASQUES A CONTRACTAR | B2: HORES DE DEDICACIÓ | D2: CATEGORIA PROFESSIONAL | E2: CONVENI DE REFERÈNCIA | H2: COSTOS SALARIALS
A3: TASQUES afecte al contracte | B3: Hores / ANY | D3: Categoria professional | E3: Hores segons conveni | F3: Sou brut anual 2021 | H3: Previsió actualització sou | K3: Sou brut | L3: Seg. Social | M3: Costos laborals segons conveni
H4: 2022 | I4: 2023 | J4: 2024 | L4: =+TOTAL!L4 -> 0.33
A5: =+DADES!A10 -> Entrada dades Salut Laboral -Atenció domiciliària | B5: =+DADES!B10 -> 254 | D5: =+DADES!G10 -> Grup professional 6 Nivell 3 | E5: 1764 | F5: 14792.31 | H5: 0.02 | I5: 0.04 | J5: 0.03 | K5: =+(F5*B5/E5)*(1+H5)*(1+I5)*(1+J5) -> 2327.2437 | L5: =+K5*$L$4 -> 767.99044 | M5: =K5+L5 -> 3095.2342
D11: COSTOS DIRECTES DE PERSONAL | K11: =SUM(M5:M10) -> 3095.2342 | N11: BI pressupost anual | R11: =+K21+K23+K25 -> 4032.4078
D13: DESPESES DIRECTES DE FUNCIONAMENT | F13: % | K13: =SUM(H14:H19) -> 322.06058 | N13: IVA | Q13: 0.21 | R13: =(R11*Q13) -> 846.80564 | S13: =+R11*(1+Q13) -> 4879.2135
D14: Absentisme | F14: 0.03 | G14: =+K11*F16 -> 61.904684 | H14: =F14*$K$11 -> 92.857025
D15: Provisió per Formació y riscos laborals | F15: 0.02 | G15: 450 | H15: =F15*$K$11 -> 61.904684 | N15: Total pressupost anual | R15: =+R13+R11 -> 4879.2135
D16: Actualització de convenis | F16: 0.02 | G16: 445.59 | H16: =F16*$K$11 -> 61.904684
D17: Coordinador | G17: 445.59 | H17: =TOTAL!H19*SUM(B5:B8)/SUM(DADES!B4:B10) -> 105.39419
D18: Assegurança responsabilitat civil
D19: Despeses gestoria
N20: Preu/hora del contracte (sense IVA) | T20: =((K21/SUM(B5:B8))*(1+H23+H25)) -> 15.875621
D21: TOTAL DESPESES DIRECTES | K21: =+K11+K13 -> 3417.2948
D23: DESPESES INDIRECTES | H23: 0.1 | K23: =K21*H23 -> 341.72948
D25: BENEFICI EMPRESARIAL | H25: 0.08 | K25: =K21*H25 -> 273.38358

Sheet LOT4_MRT+amiant
A2: TASQUES A CONTRACTAR | B2: HORES DE DEDICACIÓ | D2: CATEGORIA PROFESSIONAL | E2: CONVENI DE REFERÈNCIA | H2: COSTOS SALARIALS
A3: TASQUES afecte al contracte | B3: Hores / ANY | D3: Categoria professional | E3: Hores segons conveni | F3: Sou brut anual 2021 | H3: Previsió actualització sou | K3: Sou brut | L3: Seg. Social | M3: Costos laborals segons conveni
H4: 2022 | I4: 2023 | J4: 2024 | L4: =+TOTAL!L4 -> 0.33
A5: =+DADES!A7 -> Entrada dades Salut laboral MRT + amiant | B5: =+DADES!B7 -> 192 | D5: =+DADES!G7 -> Grup professional 6 Nivell 3 | E5: 1764 | F5: 14792.31 | H5: 0.02 | I5: 0.04 | J5: 0.03 | K5: =+(F5*B5/E5)*(1+H5)*(1+I5)*(1+J5) -> 1759.1764 | L5: =+K5*$L$4 -> 580.5282 | M5: =K5+L5 -> 2339.7046
A6: =+DADES!A8 -> Revisió i correcció Salut laboral MRT + amiant | B6: =+DADES!B8 -> 50 | D6: =+DADES!G8 -> Grup professional 6 Nivell 3 | E6: 1764 | F6: 14792.31 | H6: 0.02 | I6: 0.04 | J6: 0.03 | K6: =+(F6*B6/E6)*(1+H6)*(1+I6)*(1+J6) -> 458.11885 | L6: =+K6*$L$4 -> 151.17922 | M6: =K6+L6 -> 609.29807
A7: =+DADES!A9 -> Digitalització Salut laboral MRT + amiant | B7: =+DADES!B9 -> 480 | D7: =+DADES!G9 -> Grup professional 6 Nivell 3 | E7: 1764 | F7: 14792.31 | H7: 0.02 | I7: 0.04 | J7: 0.03 | K7: =+(F7*B7/E7)*(1+H7)*(1+I7)*(1+J7) -> 4397.9409 | L7: =+K7*$L$4 -> 1451.3205 | M7: =K7+L7 -> 5849.2614
D11: COSTOS DIRECTES DE PERSONAL | K11: =SUM(M5:M10) -> 8798.2641 | N11: BI pressupost anual | R11: =+K21+K23+K25 -> 11462.199
D13: DESPESES DIRECTES DE FUNCIONAMENT | F13: % | K13: =SUM(H14:H19) -> 915.46355 | N13: IVA | Q13: 0.21 | R13: =(R11*Q13) -> 2407.0617 | S13: =+R11*(1+Q13) -> 13869.26
D14: Absentisme | F14: 0.03 | G14: =+K11*F16 -> 175.96528 | H14: =F14*$K$11 -> 263.94792
D15: Provisió per Formació y riscos laborals | F15: 0.02 | G15: 450 | H15: =F15*$K$11 -> 175.96528 | N15: Total pressupost anual | R15: =+R13+R11 -> 13869.26
D16: Actualització de convenis | F16: 0.02 | G16: 445.59 | H16: =F16*$K$11 -> 175.96528
D17: Coordinador | G17: 445.59 | H17: =TOTAL!H19*SUM(B5:B9)/SUM(DADES!B4:B10) -> 299.58506
D18: Assegurança responsabilitat civil
D19: Despeses gestoria
N20: Preu/hora del contracte (sense IVA) | T20: =((K21/SUM(B5:B9))*(1+H23+H25)) -> 15.875621
D21: TOTAL DESPESES DIRECTES | K21: =+K11+K13 -> 9713.7276
D23: DESPESES INDIRECTES | H23: 0.1 | K23: =K21*H23 -> 971.37276
D25: BENEFICI EMPRESARIAL | H25: 0.08 | K25: =K21*H25 -> 777.09821

Sheet Full1
C6: Any | D6: Lot | E6: C. Econ. | F6: C. Programa | G6: Import net | H6: % IVA | I6: Import IVA | J6: Import total
C7: 2023 | D7: Lot 1 | E7: 22706 | F7: 31120 | G7: 2381.34 | H7: 21 | I7: 500.08 | J7: =+G7+I7 -> 2881.42
C8: 2024 | D8: Lot 1 | E8: 22706 | F8: 31120 | G8: 11906.72 | H8: 21 | I8: 2500.41 | J8: =+G8+I8 -> 14407.13
D9: Lot 1 | G9: =+G7+G8 -> 14288.06 | H9: 21 | I9: =+I7+I8 -> 3000.49 | J9: =+J7+J8 -> 17288.55
C10: 2023 | D10: Lot 2 | E10: 22706 | F10: 31120 | G10: 3968.91 | H10: 21 | I10: 833.47 | J10: =+G10+I10 -> 4802.38
C11: 2024 | D11: Lot 2 | E11: 22706 | F11: 31120 | G11: 19844.52 | H11: 21 | I11: 4167.35 | J11: =+G11+I11 -> 24011.87
D12: Lot 2 | G12: =+G10+G11 -> 23813.43 | H12: 21 | I12: =+I10+I11 -> 5000.82 | J12: =+J10+J11 -> 28814.25
C13: 2023 | D13: Lot 3 | E13: 22706 | F13: 31130 | G13: 1270.05 | H13: 21 | I13: 266.71 | J13: =+G13+I13 -> 1536.76
C14: 2024 | D14: Lot 3 | E14: 22706 | F14: 31130 | G14: 6350.25 | H14: 21 | I14: 1333.55 | J14: =+G14+I14 -> 7683.8
D15: Lot 3 | G15: =+G13+G14 -> 7620.3 | H15: 21 | I15: =+I13+I14 -> 1600.26 | J15: =+J13+J14 -> 9220.56
C16: 2024 | D16: Lot 4 | E16: 22706 | F16: 31121 | G16: 11462.2 | H16: 21 | I16: 2407.06 | J16: =+G16+I16 -> 13869.26
D17: Lot 4 | G17: =+G16 -> 11462.2 | H17: 21 | I17: =+I16 -> 2407.06 | J17: =+J16 -> 13869.26
C18: 2024 | D18: Lot 5 | E18: 22706 | F18: 31121 | G18: 4032.41 | H18: 21 | I18: 846.81 | J18: =+G18+I18 -> 4879.22
D19: Lot 5 | G19: =+G18 -> 4032.41 | H19: 21 | I19: =+I18 -> 846.81 | J19: =+J18 -> 4879.22
C20: TOTALS | G20: =+G19+G17+G15+G12+G9 -> 61216.4 | H20: 21 | I20: =+I19+I17+I15+I12+I9 -> 12855.44 | J20: =+J19+J17+J15+J12+J9 -> 74071.84
