Workbook

Sheet EST. MITJANA REVISIÓ SALARIS
A1: LA VALORACIÓ DE COSTOS S'HA FET TENIM EN COMPTE LES ÚLTIMES TAULES SALARIALS APROVADES QUE SÓN DE 2018
B3: SUPOSITS | D3: INICI PRESTACIÓGENER 2020 EL CONTRACTE | H3: 4 ANUALITATS
B5: ANUALITAT | C5: Columna2 | D5: increment | E5: PAGAMENT | F5: COST | G5: diferencia | H5: SUPOSIT increment %
D6: 0 | E6: 1000 | F6: 1000 | G6: =+E6-F6 -> 0 | H6: 0
B7: 2019 | D7: =(F12-5000)/5/1000 -> 0.065823508 | E7: =+E6+E6*$D$7 -> 1065.8235 | F7: =+F6+F6*H7 -> 1010 | G7: =+E7-F7 -> 55.823508 | H7: 0.01
B8: 2020 | E8: =+E7 -> 1065.8235 | F8: =+F7+F7*H8 -> 1040.3 | G8: =+E8-F8 -> 25.523508 | H8: 0.03
B9: 2021 | E9: =+E7 -> 1065.8235 | F9: =+F8+F8*H9 -> 1071.509 | G9: =+E9-F9 -> -5.685492 | H9: 0.03
B10: 2022 | E10: =+E9 -> 1065.8235 | F10: =+F9+F9*H10 -> 1103.6543 | G10: =+E10-F10 -> -37.830762 | H10: 0.03
B11: 2023 | E11: =+E7 -> 1065.8235 | F11: =+F10+F10*H11 -> 1103.6543 | G11: =+E11-F11 -> -37.830762 | H11: 0
B12: total | E12: =SUM(E7:E11) -> 5329.1175 | F12: =SUM(F7:F11) -> 5329.1175 | G12: =+E12-F12 -> 0

Sheet Full1
O15: 5665.24 | P15: 7430.99
O16: 13830.84 | P16: 18173.32
O17: 13579.56 | P17: 17775.6
O18: 19599.24 | P18: 25753.4
O19: 20565.24 | P19: 27022.73
O20: 17205.64 | P20: 22608.47
O21: 11738.64 | P21: 15424.68
O22: 19599.24 | P22: 25753.4
O23: 19599.24 | P23: 25753.4
O24: 31110.12 | P24: 40878.84
O25: 13830.84 | P25: 18713.72
O26: 13830.84 | P26: 18713.72
... O30: 15521.04 | P30: 20394.65
O31: =SUM(O15:O30) -> 248477.96 | P31: =SUM(P15:P30) -> 327453.88 | Q31: =P31/O31-1 -> 0.31783873

Sheet Licitació KIT 1
F3: Preu unitari | G3: 2022 | H3: LICITACIÓ
E4: Subministrament i distribució auriculars | F4: =#REF!*(1+#REF!+#REF!) -> #REF! | G4: =F4*#REF! -> #REF! | H4: =SUM(G4:G4) -> #REF!
B5: P. 2022 | C5: 2023 | D5: 2024 | E5: Subministrament i distribució ratolins | F5: =#REF!*(1+#REF!+#REF!) -> #REF! | G5: =F5*#REF! -> #REF! | H5: =SUM(G5:G5) -> #REF!
B6: 3 | C6: 10 | D6: 7 | E6: Subministrament i distribució motxilles | F6: =#REF!*(1+#REF!+#REF!) -> #REF! | G6: =F6*#REF! -> #REF! | H6: =SUM(G6:G6) -> #REF!
B7: 5 | C7: 15 | D7: 10 | E7: Serigrafia motixilles | F7: =#REF!*(1+#REF!+#REF!) -> #REF! | G7: =F7*#REF! -> #REF! | H7: =SUM(G7:G7) -> #REF!
E8: Subtotal Despeses per preu unitari | G8: =SUM(G4:G7) -> #REF! | H8: =SUM(H4:H7) -> #REF!
E10: Preu base de licitació | G10: =G8 -> #REF! | H10: =H8 -> #REF!
E11: IVA 21% | G11: =G10*#REF! -> #REF! | H11: =H10*#REF! -> #REF!
E12: Preu total del contracte | G12: =SUM(G10:G11) -> #REF! | H12: =SUM(H10:H11) -> #REF!
G19: 2022 | H19: PER A TOT EL CONTRACTE
E20: Subministrament i distribució kit informàtic perifèric | G20: =G10*#REF! -> #REF! | H20: =SUM(G20:G20) -> #REF!
E21: TOTAL DE COSTOS DIRECTES | G21: =SUM(G20:G20) -> #REF! | H21: =SUM(H20:H20)+0.001 -> #REF!
E23: Despeses generals | G23: =G10*#REF! -> #REF! | H23: =SUM(G23:G23) -> #REF!
E24: Marge empresarial | G24: =G10*#REF! -> #REF! | H24: =SUM(G24:G24) -> #REF!
E26: TOTAL DE COSTOS INDIRECTES | G26: =SUM(G23:G24)+0.001 -> #REF! | H26: =SUM(H23:H24) -> #REF!
E28: TOTAL DE COSTOS DIRECTES I INDIRECTES ESTIMATS | G28: =ROUND(G21+G26,2) -> #REF! | H28: =ROUND(H21+H26,2) -> #REF!

Sheet KIT 2 AMB PACK
B1: KIT AMB PACK: MOTXILLA AMB SERIGRAFIA
B3: Subministrament de Kit material informàtic que inclou en el preu el servei de distribució | C3: TIPUS | D3: ESTIMACIONS CONSUM ANUAL APROXIMAT | E3: PREU UNITARI (IVA exclòs) | F3: SUMATORI ESTIMACIONS I PREUS UNITARIS | H3: PREU UNITARI OFERTAT (IVA exclòs) | I3: PREU TOTAL OFERTAT (IVA exclòs) | J3: URL O NÚMERO PÀGINA CATÀLEG 2022 | K3: Altres Característiques
B4: Auricular diadema plegable de color negre amb micròfon incorporat amb cable connexió jackpot | C4: Unitat | D4: 1600 | E4: 32.28 | F4: =D4*E4 -> 51648 | G4: =F4/$F$28 -> 0.42312238 | I4: =D4*H4 -> 0
B5: Ratolí ergonòmic amb cable color negre | C5: Unitat | D5: 1600 | E5: 4.73 | F5: =D5*E5 -> 7568 | G5: =F5/$F$28 -> 0.062000275
B6: Motxilles negres | C6: Unitat | D6: 1600 | E6: 29.51 | F6: =D6*E6 -> 47216 | G6: =F6/$F$28 -> 0.38681355 | I6: =D6*H6 -> 0
B7: Serigrafia logotip IMSS per motxilles negres | C7: Unitat | D7: 1600 | E7: 2 | F7: =D7*E7 -> 3200 | G7: =F7/$F$28 -> 0.026215761 | I7: =D7*H7 -> 0
B8: Motxilles negres amb rodes | C8: Unitat | D8: 25 | E8: 51.41 | F8: =D8*E8 -> 1285.25 | G8: =F8/$F$28 -> 0.010529315 | I8: =D8*H8 -> 0
B9: Serigrafia logotip IMSS per motxilles negres amb rodes | C9: Unitat | D9: 25 | E9: 2 | F9: =D9*E9 -> 50 | G9: =F9/$F$28 -> 0.00040962127 | I9: =D9*H9 -> 0
B11: Despeses de subministrament del kit material informàtic | F11: =SUM(F4:F9) -> 110967.25 | G11: =F11/$F$28 -> 0.90909091 | H11: =SUM(H4:H6) -> 0 | I11: =SUM(I4:I6) -> 0
B13: Personal de picking | D13: 1 | E13: 500
B14: Conductors per realitzar el lliurament del material | D14: 1 | E14: 500
B16: Despeses de personal per la distribució i lliurament del material informàtic
B18: Despeses de transport (renting furgoneta, benzina) | D18: 1 | E18: 650
B20: Despeses directes | F20: =F11 -> 110967.25 | G20: =F20/$F$28 -> 0.90909091
B22: Despeses infraestructura | C22: 0.06 | F22: =F20*C22 -> 6658.035 | G22: =F22/$F$28 -> 0.054545455
B24: Marge empresarial | C24: 0.04 | F24: =F20*C24 -> 4438.69 | G24: =F24/$F$28 -> 0.036363636
B26: Despeses indirectes | F26: =F22+F24 -> 11096.725 | G26: =F26/$F$28 -> 0.090909091
B28: Preu total (IVA exclòs) | F28: =F20+F22+F24 -> 122063.98 | G28: =F28/$F$28 -> 1 | H28: =H11 -> 0 | I28: =I11 -> 0
B29: IVA (21%) | C29: 0.21 | F29: =F28*C29 -> 25633.435 | H29: =H28*21/100 -> 0 | I29: =I28*21/100 -> 0
B30: Preu total (IVA inclòs) | F30: =SUM(F28,F29) -> 147697.41 | H30: =SUM(H28,H29) -> 0 | I30: =SUM(I28,I29) -> 0

Sheet Licitació KIT 2 CON PACK
C3: Preu unitari | D3: 2022 | E3: LICITACIÓ
B4: Subministrament i distribució auriculars | C4: ='KIT 2 AMB PACK'!E4*(1+'KIT 2 AMB PACK'!$C$22+'KIT 2 AMB PACK'!$C$24) -> 35.508 | D4: =C4*'KIT 2 AMB PACK'!D4 -> 56812.8 | E4: =SUM(D4:D4) -> 56812.8
B5: Subministrament i distribució ratolins | C5: ='KIT 2 AMB PACK'!E5*(1+'KIT 2 AMB PACK'!$C$22+'KIT 2 AMB PACK'!$C$24) -> 5.203 | D5: =C5*'KIT 2 AMB PACK'!D5 -> 8324.8 | E5: =SUM(D5:D5) -> 8324.8
B6: Subministrament i distribució motxilles amb serigrafia | C6: =('KIT 2 AMB PACK'!E6+'KIT 2 AMB PACK'!E7)*(1+'KIT 2 AMB PACK'!$C$22+'KIT 2 AMB PACK'!$C$24) -> 34.661 | D6: =C6*'KIT 2 AMB PACK'!D6 -> 55457.6 | E6: =SUM(D6:D6) -> 55457.6
B7: Subministrament i distribució motxilles amb rodes amb serigrafia | C7: =('KIT 2 AMB PACK'!E8+'KIT 2 AMB PACK'!E9)*(1+'KIT 2 AMB PACK'!$C$22+'KIT 2 AMB PACK'!$C$24) -> 58.751 | D7: =C7*'KIT 2 AMB PACK'!D8 -> 1468.775 | E7: =SUM(D7:D7) -> 1468.775
B8: Subtotal Despeses per preu unitari | D8: =SUM(D4:D6) -> 120595.2 | E8: =SUM(E4:E6) -> 120595.2
B10: Preu base de licitació | D10: =D8 -> 120595.2 | E10: =E8 -> 120595.2
B11: IVA 21% | D11: =D10*'KIT 2 AMB PACK'!C29 -> 25324.992 | E11: =E10*#REF! -> #REF!
B12: Preu total del contracte | D12: =SUM(D10:D11) -> 145920.19 | E12: =SUM(E10:E11) -> #REF!
D19: 2022 | E19: PER A TOT EL CONTRACTE
B20: Subministrament i distribució kit informàtic perifèric | D20: =D10*'KIT 2 AMB PACK'!G20 -> 109632 | E20: =SUM(D20:D20) -> 109632
B21: TOTAL DE COSTOS DIRECTES | D21: =SUM(D20:D20) -> 109632 | E21: =SUM(E20:E20)+0.001 -> 109632
B23: Despeses generals | D23: ='KIT 2 AMB PACK'!G22*'Licitació KIT 2 CON PACK'!D10 -> 6577.92 | E23: =SUM(D23:D23) -> 6577.92
B24: Marge empresarial | D24: ='KIT 2 AMB PACK'!G24*'Licitació KIT 2 CON PACK'!D10 -> 4385.28 | E24: =SUM(D24:D24) -> 4385.28
B26: TOTAL DE COSTOS INDIRECTES | D26: =SUM(D23:D24)+0.001 -> 10963.201 | E26: =SUM(E23:E24) -> 10963.2
B28: TOTAL DE COSTOS DIRECTES I INDIRECTES ESTIMATS | D28: =ROUND(D21+D26,2) -> 120595.2 | E28: =ROUND(E21+E26,2) -> 120595.2

Sheet taules salarials
C1: jornada anual
C2: 1701 | G2: suposit increment | I2: suposit increment | K2: suposit increment | M2: increment que representa | N2: suposit increment | P2: suposit increment | R2: increment que representa
C3: jornada efectiva | G3: 0.03 | I3: 0.03 | K3: 0.03 | M3: fins a 2020 | N3: 0.012 | P3: 0.012 | R3: fins a 2022
A4: cicle continuat | B4: 2018 | C4: 1677 | D4: 0.1 | E4: per hora | G4: 2018 | I4: 2019 | K4: 2020 | N4: 2021 | P4: 2022
B5: salari anual | C5: preu hora | D5: plus disponibilitat | G5: salari anual | I5: salari anual | K5: salari anual | N5: salari anual | P5: salari anual
A7: DIRECCIÓ | B7: 36942.36 | C7: 21.718025 | D7: 2.1718025 | G7: 38050.631 | I7: 39192.15 | K7: 40367.914 | M7: 0.092727 | N7: 40852.329 | P7: 41342.557 | R7: 0.1191098
A8: SOTSDIRECCIÓ.COMANDAMENTS INTERMEDIS | B8: 32635.26 | C8: 19.185926 | D8: 1.9185926 | G8: 33614.318 | I8: 34622.747 | K8: 35661.43 | N8: 36089.367 | P8: 36522.439
A9: LLICENCIATS | B9: 24844.96 | C9: 14.606091 | D9: 1.4606091 | G9: 25590.309 | I9: 26358.018 | K9: 27148.759 | N9: 27474.544 | P9: 27804.238
A10: DIPLOMATS | B10: 24035.76 | C10: 14.13037 | D10: 1.413037 | G10: 24756.833 | I10: 25499.538 | K10: 26264.524 | N10: 26579.698 | P10: 26898.655
A11: PERSONAL QUALIFICAT | B11: 19641.86 | C11: 11.547243 | D11: 1.1547243 | G11: 20231.116 | I11: 20838.049 | K11: 21463.191 | N11: 21720.749 | P11: 21981.398
A12: ADMINISTRACIÓ I SERVEIS | B12: 15334.76 | C12: 9.015144 | D12: 0.9015144 | G12: 15794.803 | I12: 16268.647 | K12: 16756.706 | N12: 16957.787 | P12: 17161.28
A14: COMPLEMENTS | B14: import per paga | C14: import anual | G14: import per paga | H14: import anual | I14: import per paga | J14: import anual | K14: import per paga | L14: import anual | N14: import per paga | O14: import anual | P14: import per paga | Q14: import anual
A15: VALORACIÓ I DIAGNÒSTIC | B15: 92.92 | C15: 1300.88 | G15: 95.7076 | H15: 1339.9064 | I15: 98.578828 | J15: 1380.1036 | K15: 101.53619 | L15: 1421.5067 | N15: 102.75463 | O15: 1438.5648 | P15: 103.98768 | Q15: 1455.8276
A16: COORDINACIÓ | B16: 92.92 | C16: 1300.88 | G16: 95.7076 | H16: 1339.9064 | I16: 98.578828 | J16: 1380.1036 | K16: 101.53619 | L16: 1421.5067 | N16: 102.75463 | O16: 1438.5648 | P16: 103.98768 | Q16: 1455.8276
C18: jornada anual | F18: 100 | G18: 3 | I18: 3.09 | K18: 3.0927 | N18: 1.2371124 | P18: 1.2148453 | Q18: 5.5446577 | T18: 0.074761644
C19: 1724 | Q19: 1.3861644 | R19: 4anys
C20: jornada efectiva
A21: cicle general | B21: 2018 | C21: 1700 | D21: 0.1 | E21: per hora | G21: 2018 | I21: 2019 | K21: 2020 | N21: 2021 | P21: 2022
B22: salari anual | C22: preu hora | D22: plus disponibilitat | G22: salari anual | I22: salari anual | K22: salari anual | N22: salari anual | P22: salari anual
A24: DIRECCIÓ | B24: 29513.4 | C24: 17.350617 | D24: 1.7350617 | G24: 30398.802 | I24: 31310.766 | K24: 32250.089 | M24: 0.092727 | N24: 32637.09 | P24: 33028.735 | R24: 0.1191098
A25: SOTSDIRECCIÓ.COMANDAMENTS INTERMEDIS | B25: 24917.34 | C25: 14.648642 | D25: 1.4648642 | G25: 25664.86 | I25: 26434.806 | K25: 27227.85 | N25: 27554.584 | P25: 27885.239
A26: LLICENCIATS | B26: 23023.84 | C26: 13.535473 | D26: 1.3535473 | G26: 23714.555 | I26: 24425.992 | K26: 25158.772 | N26: 25460.677 | P26: 25766.205
A27: DIPLOMATS | B27: 20639.22 | C27: 12.13358 | D27: 1.213358 | G27: 21258.397 | I27: 21896.148 | K27: 22553.033 | N27: 22823.669 | P27: 23097.553
A28: PERSONAL QUALIFICAT | B28: 18239.9 | C28: 10.723045 | D28: 1.0723045 | G28: 18787.097 | I28: 19350.71 | K28: 19931.231 | N28: 20170.406 | P28: 20412.451
A29: ADMINISTRACIÓ I SERVEIS | B29: 14554.4 | C29: 8.5563786 | D29: 0.85563786 | G29: 14991.032 | I29: 15440.763 | K29: 15903.986 | N29: 16094.834 | P29: 16287.972
A31: COMPLEMENTS | B31: import per paga | C31: import anual | G31: import per paga | H31: import anual | I31: import per paga | J31: import anual | K31: import per paga | L31: import anual | N31: import per paga | O31: import anual | P31: import per paga | Q31: import anual
A32: VALORACIÓ I DIAGNÒSTIC | B32: 289.06 | C32: 4046.84 | G32: 297.7318 | H32: 4168.2452 | I32: 306.66375 | J32: 4293.2926 | K32: 315.86367 | L32: 4422.0913 | N32: 319.65403 | O32: 4475.1564 | P32: 323.48988 | Q32: 4528.8583
A33: COORDINACIÓ | B33: 92.92 | C33: 1300.88 | G33: 95.7076 | H33: 1339.9064 | I33: 98.578828 | J33: 1380.1036 | K33: 101.53619 | L33: 1421.5067 | N33: 102.75463 | O33: 1438.5648 | P33: 103.98768 | Q33: 1455.8276
A34: NOCTURNITAT jornada laboral que es realitza entre les 22h i les 8h. | B34: %25 del salari diari | C34: suposit | D34: sí tota la jornada nocturna
C35: 6229.335 | D35: SOTSDIRECCIÓ.COMANDAMENTS INTERMEDIS
C36: 5755.96 | D36: LLICENCIATS
C37: 5159.805 | D37: DIPLOMATS
C38: 4559.975 | D38: PERSONAL QUALIFICAT
F39: 100 | G39: =$F$39*G3 -> 3 | I39: =($F$39+G39)*I3 -> 3.09 | K39: =($F$39+I39)*K3 -> 3.0927 | N39: =($F$39+K39)*N3 -> 1.2371124 | P39: =($F$39+N39)*P3 -> 1.2148453 | Q39: =SUM(K39:P39) -> 5.5446577 | T39: =(G39+I39+Q40)/100 -> 0.075685754
Q40: =Q39/3.75 -> 1.4785754 | R40: 3,75 anys

Sheet LOT 1 2022
B1: LOT 1
B3: Subministrament de Kit material informàtic que inclou en el preu el servei de distribució | C3: TIPUS | D3: ESTIMACIONS CONSUM ANUAL APROXIMAT | E3: PREU UNITARI (IVA exclòs) | F3: SUMATORI ESTIMACIONS I PREUS UNITARIS | H3: PREU UNITARI OFERTAT (IVA exclòs) | I3: PREU TOTAL OFERTAT (IVA exclòs) | J3: URL O NÚMERO PÀGINA CATÀLEG 2022 | K3: Altres Característiques | M3: Amagat | N3: Amagat 2
B4: Auricular diadema plegable de color negre amb micròfon incorporat amb cable connexió jackpot | C4: Unitat | D4: 1500 | E4: 32 | F4: =D4*E4 -> 48000 | G4: =F4/$F$17 -> 0.81177067 | I4: =D4*H4 -> 0 | M4: =E4*(1+C11+C13) -> 34.56 | N4: 34.56
B5: Ratolí ergonòmic amb cable color negre | C5: Unitat | D5: 1500 | E5: 4.5 | F5: =D5*E5 -> 6750 | G5: =F5/$F$17 -> 0.11415525 | M5: =E5*(1+C11+C13) -> 4.86 | N5: 4.86
B7: Despeses de subministrament del kit material informàtic | F7: =SUM(F4:F5) -> 54750 | G7: =F7/$F$17 -> 0.92592593 | H7: =SUM(H4:H5) -> 0 | I7: =SUM(I4:I5) -> 0
B9: Despeses directes | F9: =F7 -> 54750 | G9: =F9/$F$17 -> 0.92592593
B11: Despeses infraestructura | C11: 0.04 | F11: =F9*C11 -> 2190 | G11: =F11/$F$17 -> 0.037037037
B13: Marge empresarial | C13: 0.04 | F13: =F9*C13 -> 2190 | G13: =F13/$F$17 -> 0.037037037
B15: Despeses indirectes | F15: =F11+F13 -> 4380 | G15: =F15/$F$17 -> 0.074074074
B17: Preu total (IVA exclòs) | F17: =F9+F15 -> 59130 | G17: =F17/$F$17 -> 1 | H17: =H7 -> 0 | I17: =I7 -> 0
B18: IVA (21%) | C18: 0.21 | F18: =F17*C18 -> 12417.3 | H18: =H17*21/100 -> 0 | I18: =I17*21/100 -> 0
B19: Preu total (IVA inclòs) | F19: =SUM(F17,F18) -> 71547.3 | H19: =SUM(H17,H18) -> 0 | I19: =SUM(I17,I18) -> 0

Sheet LOT 1 2023
B1: LOT 1
B3: Subministrament de Kit material informàtic que inclou en el preu el servei de distribució | C3: TIPUS | D3: ESTIMACIONS CONSUM ANUAL APROXIMAT | E3: PREU UNITARI (IVA exclòs) | F3: SUMATORI ESTIMACIONS I PREUS UNITARIS | H3: PREU UNITARI OFERTAT (IVA exclòs) | I3: PREU TOTAL OFERTAT (IVA exclòs) | J3: URL O NÚMERO PÀGINA CATÀLEG 2022 | K3: Altres Característiques | M3: Amagat | N3: Amagat 2
B4: Auricular diadema plegable de color negre amb micròfon incorporat amb cable connexió jackpot | C4: Unitat | D4: 75 | E4: 32 | F4: =D4*E4 -> 2400 | G4: =F4/$F$17 -> 0.81177067 | I4: =D4*H4 -> 0 | M4: =E4*(1+C11+C13) -> 34.56 | N4: 34.56
B5: Ratolí ergonòmic amb cable color negre | C5: Unitat | D5: 75 | E5: 4.5 | F5: =D5*E5 -> 337.5 | G5: =F5/$F$17 -> 0.11415525 | M5: =E5*(1+C11+C13) -> 4.86 | N5: 4.86
B7: Despeses de subministrament del kit material informàtic | F7: =SUM(F4:F5) -> 2737.5 | G7: =F7/$F$17 -> 0.92592593 | H7: =SUM(H4:H5) -> 0 | I7: =SUM(I4:I5) -> 0
B9: Despeses directes | F9: =F7 -> 2737.5 | G9: =F9/$F$17 -> 0.92592593
B11: Despeses infraestructura | C11: 0.04 | F11: =F9*C11 -> 109.5 | G11: =F11/$F$17 -> 0.037037037
B13: Marge empresarial | C13: 0.04 | F13: =F9*C13 -> 109.5 | G13: =F13/$F$17 -> 0.037037037
B15: Despeses indirectes | F15: =F11+F13 -> 219 | G15: =F15/$F$17 -> 0.074074074
B17: Preu total (IVA exclòs) | F17: =F9+F15 -> 2956.5 | G17: =F17/$F$17 -> 1 | H17: =H7 -> 0 | I17: =I7 -> 0
B18: IVA (21%) | C18: 0.21 | F18: =F17*C18 -> 620.865 | H18: =H17*21/100 -> 0 | I18: =I17*21/100 -> 0
B19: Preu total (IVA inclòs) | F19: =SUM(F17,F18) -> 3577.365 | H19: =SUM(H17,H18) -> 0 | I19: =SUM(I17,I18) -> 0

Sheet LOT 1 2024
B1: LOT 1
B3: Subministrament de Kit material informàtic que inclou en el preu el servei de distribució | C3: TIPUS | D3: ESTIMACIONS CONSUM ANUAL APROXIMAT | E3: PREU UNITARI (IVA exclòs) | F3: SUMATORI ESTIMACIONS I PREUS UNITARIS | H3: PREU UNITARI OFERTAT (IVA exclòs) | I3: PREU TOTAL OFERTAT (IVA exclòs) | J3: URL O NÚMERO PÀGINA CATÀLEG 2022 | K3: Altres Característiques | M3: Amagat | N3: Amagat 2
B4: Auricular diadema plegable de color negre amb micròfon incorporat amb cable connexió jackpot | C4: Unitat | D4: 75 | E4: 32 | F4: =D4*E4 -> 2400 | G4: =F4/$F$17 -> 0.81177067 | I4: =D4*H4 -> 0 | M4: =E4*(1+C11+C13) -> 34.56 | N4: 34.56
B5: Ratolí ergonòmic amb cable color negre | C5: Unitat | D5: 75 | E5: 4.5 | F5: =D5*E5 -> 337.5 | G5: =F5/$F$17 -> 0.11415525 | M5: =E5*(1+C11+C13) -> 4.86 | N5: 4.86
B7: Despeses de subministrament del kit material informàtic | F7: =SUM(F4:F5) -> 2737.5 | G7: =F7/$F$17 -> 0.92592593 | H7: =SUM(H4:H5) -> 0 | I7: =SUM(I4:I5) -> 0
B9: Despeses directes | F9: =F7 -> 2737.5 | G9: =F9/$F$17 -> 0.92592593
B11: Despeses infraestructura | C11: 0.04 | F11: =F9*C11 -> 109.5 | G11: =F11/$F$17 -> 0.037037037
B13: Marge empresarial | C13: 0.04 | F13: =F9*C13 -> 109.5 | G13: =F13/$F$17 -> 0.037037037
B15: Despeses indirectes | F15: =F11+F13 -> 219 | G15: =F15/$F$17 -> 0.074074074
B17: Preu total (IVA exclòs) | F17: =F9+F15 -> 2956.5 | G17: =F17/$F$17 -> 1 | H17: =H7 -> 0 | I17: =I7 -> 0
B18: IVA (21%) | C18: 0.21 | F18: =F17*C18 -> 620.865 | H18: =H17*21/100 -> 0 | I18: =I17*21/100 -> 0
B19: Preu total (IVA inclòs) | F19: =SUM(F17,F18) -> 3577.365 | H19: =SUM(H17,H18) -> 0 | I19: =SUM(I17,I18) -> 0

Sheet LOT 1 2025
B1: LOT 1
B3: Subministrament de Kit material informàtic que inclou en el preu el servei de distribució | C3: TIPUS | D3: ESTIMACIONS CONSUM ANUAL APROXIMAT | E3: PREU UNITARI (IVA exclòs) | F3: SUMATORI ESTIMACIONS I PREUS UNITARIS | H3: PREU UNITARI OFERTAT (IVA exclòs) | I3: PREU TOTAL OFERTAT (IVA exclòs) | J3: URL O NÚMERO PÀGINA CATÀLEG 2022 | K3: Altres Característiques | M3: Amagat | N3: Amagat 2
B4: Auricular diadema plegable de color negre amb micròfon incorporat amb cable connexió jackpot | C4: Unitat | D4: 75 | E4: 32 | F4: =D4*E4 -> 2400 | G4: =F4/$F$17 -> 0.81177067 | I4: =D4*H4 -> 0 | M4: =E4*(1+C11+C13) -> 34.56 | N4: 34.56
B5: Ratolí ergonòmic amb cable color negre | C5: Unitat | D5: 75 | E5: 4.5 | F5: =D5*E5 -> 337.5 | G5: =F5/$F$17 -> 0.11415525 | M5: =E5*(1+C11+C13) -> 4.86 | N5: 4.86
B7: Despeses de subministrament del kit material informàtic | F7: =SUM(F4:F5) -> 2737.5 | G7: =F7/$F$17 -> 0.92592593 | H7: =SUM(H4:H5) -> 0 | I7: =SUM(I4:I5) -> 0
B9: Despeses directes | F9: =F7 -> 2737.5 | G9: =F9/$F$17 -> 0.92592593
B11: Despeses infraestructura | C11: 0.04 | F11: =F9*C11 -> 109.5 | G11: =F11/$F$17 -> 0.037037037
B13: Marge empresarial | C13: 0.04 | F13: =F9*C13 -> 109.5 | G13: =F13/$F$17 -> 0.037037037
B15: Despeses indirectes | F15: =F11+F13 -> 219 | G15: =F15/$F$17 -> 0.074074074
B17: Preu total (IVA exclòs) | F17: =F9+F15 -> 2956.5 | G17: =F17/$F$17 -> 1 | H17: =H7 -> 0 | I17: =I7 -> 0
B18: IVA (21%) | C18: 0.21 | F18: =F17*C18 -> 620.865 | H18: =H17*21/100 -> 0 | I18: =I17*21/100 -> 0
B19: Preu total (IVA inclòs) | F19: =SUM(F17,F18) -> 3577.365 | H19: =SUM(H17,H18) -> 0 | I19: =SUM(I17,I18) -> 0

Sheet LOT 1 2026
B1: LOT 1
B3: Subministrament de Kit material informàtic que inclou en el preu el servei de distribució | C3: TIPUS | D3: ESTIMACIONS CONSUM ANUAL APROXIMAT | E3: PREU UNITARI (IVA exclòs) | F3: SUMATORI ESTIMACIONS I PREUS UNITARIS | H3: PREU UNITARI OFERTAT (IVA exclòs) | I3: PREU TOTAL OFERTAT (IVA exclòs) | J3: URL O NÚMERO PÀGINA CATÀLEG 2022 | K3: Altres Característiques | M3: Amagat | N3: Amagat 2
B4: Auricular diadema plegable de color negre amb micròfon incorporat amb cable connexió jackpot | C4: Unitat | D4: 75 | E4: 32 | F4: =D4*E4 -> 2400 | G4: =F4/$F$17 -> 0.81177067 | I4: =D4*H4 -> 0 | M4: =E4*(1+C11+C13) -> 34.56 | N4: 34.56
B5: Ratolí ergonòmic amb cable color negre | C5: Unitat | D5: 75 | E5: 4.5 | F5: =D5*E5 -> 337.5 | G5: =F5/$F$17 -> 0.11415525 | M5: =E5*(1+C11+C13) -> 4.86 | N5: 4.86
B7: Despeses de subministrament del kit material informàtic | F7: =SUM(F4:F5) -> 2737.5 | G7: =F7/$F$17 -> 0.92592593 | H7: =SUM(H4:H5) -> 0 | I7: =SUM(I4:I5) -> 0
B9: Despeses directes | F9: =F7 -> 2737.5 | G9: =F9/$F$17 -> 0.92592593
B11: Despeses infraestructura | C11: 0.04 | F11: =F9*C11 -> 109.5 | G11: =F11/$F$17 -> 0.037037037
B13: Marge empresarial | C13: 0.04 | F13: =F9*C13 -> 109.5 | G13: =F13/$F$17 -> 0.037037037
B15: Despeses indirectes | F15: =F11+F13 -> 219 | G15: =F15/$F$17 -> 0.074074074
B17: Preu total (IVA exclòs) | F17: =F9+F15 -> 2956.5 | G17: =F17/$F$17 -> 1 | H17: =H7 -> 0 | I17: =I7 -> 0
B18: IVA (21%) | C18: 0.21 | F18: =F17*C18 -> 620.865 | H18: =H17*21/100 -> 0 | I18: =I17*21/100 -> 0
B19: Preu total (IVA inclòs) | F19: =SUM(F17,F18) -> 3577.365 | H19: =SUM(H17,H18) -> 0 | I19: =SUM(I17,I18) -> 0

Sheet LOT 2 2022
B1: LOT 2
B3: Subministrament de Kit material informàtic que inclou en el preu el servei de distribució | C3: TIPUS | D3: ESTIMACIONS CONSUM ANUAL APROXIMAT | E3: PREU UNITARI (IVA exclòs) | F3: SUMATORI ESTIMACIONS I PREUS UNITARIS | H3: PREU UNITARI OFERTAT (IVA exclòs) | I3: PREU TOTAL OFERTAT (IVA exclòs) | J3: URL O NÚMERO PÀGINA CATÀLEG 2022 | K3: Altres Característiques | M3: Amagat | N3: Amagat 2
B4: Motxilles | C4: Unitat | D4: 1470 | E4: 27 | F4: =D4*E4 -> 39690 | G4: =F4/$F$19 -> 0.83333333 | I4: =D4*H4 -> 0 | M4: =E4*(1+C13+C15) -> 29.16 | N4: 29.16 | P4: =E6*(1+C13+C15) -> 50.76 | Q4: 50.76
B5: Serigrafia logotip IMSS per motxilles | C5: Unitat | D5: 1470 | E5: 2 | F5: =D5*E5 -> 2940 | G5: =F5/$F$19 -> 0.061728395 | I5: =D5*H5 -> 0 | M5: =E5*(1+C13+C15) -> 2.16 | N5: 2.16 | P5: =E7*(1+C13+C15) -> 2.16 | Q5: 2.16
B6: Motxilles amb rodes | C6: Unitat | D6: 30 | E6: 47 | F6: =D6*E6 -> 1410 | G6: =F6/$F$19 -> 0.029604434 | I6: =D6*H6 -> 0 | M6: =M4+M5 -> 31.32 | N6: =N4+N5 -> 31.32 | P6: =P4+P5 -> 52.92 | Q6: =Q4+Q5 -> 52.92
B7: Serigrafia logotip IMSS per motxilles amb rodes | C7: Unitat | D7: 30 | E7: 2 | F7: =D7*E7 -> 60 | G7: =F7/$F$19 -> 0.0012597632 | I7: =D7*H7 -> 0
B9: Despeses de subministrament del kit material informàtic | F9: =SUM(F4:F7) -> 44100 | G9: =F9/$F$19 -> 0.92592593 | H9: =SUM(H4:H4) -> 0 | I9: =SUM(I4:I4) -> 0
B11: Despeses directes | F11: =F9 -> 44100 | G11: =F11/$F$19 -> 0.92592593
B13: Despeses infraestructura | C13: 0.04 | F13: =F11*C13 -> 1764 | G13: =F13/$F$19 -> 0.037037037
B15: Marge empresarial | C15: 0.04 | F15: =F11*C15 -> 1764 | G15: =F15/$F$19 -> 0.037037037
B17: Despeses indirectes | F17: =F13+F15 -> 3528 | G17: =F17/$F$19 -> 0.074074074
B19: Preu total (IVA exclòs) | F19: =F11+F17 -> 47628 | G19: =F19/$F$19 -> 1 | H19: =H9 -> 0 | I19: =I9 -> 0
B20: IVA (21%) | C20: 0.21 | F20: =F19*C20 -> 10001.88 | H20: =H19*21/100 -> 0 | I20: =I19*21/100 -> 0
B21: Preu total (IVA inclòs) | F21: =SUM(F19,F20) -> 57629.88 | H21: =SUM(H19,H20) -> 0 | I21: =SUM(I19,I20) -> 0

Sheet LOT 2 2023
B1: LOT 2
B3: Subministrament de Kit material informàtic que inclou en el preu el servei de distribució | C3: TIPUS | D3: ESTIMACIONS CONSUM ANUAL APROXIMAT | E3: PREU UNITARI (IVA exclòs) | F3: SUMATORI ESTIMACIONS I PREUS UNITARIS | H3: PREU UNITARI OFERTAT (IVA exclòs) | I3: PREU TOTAL OFERTAT (IVA exclòs) | J3: URL O NÚMERO PÀGINA CATÀLEG 2022 | K3: Altres Característiques | M3: Amagat | N3: Amagat 2
B4: Motxilles | C4: Unitat | D4: 70 | E4: 27 | F4: =D4*E4 -> 1890 | G4: =F4/$F$19 -> 0.76923077 | I4: =D4*H4 -> 0 | M4: =E4*(1+C13+C15) -> 29.16 | N4: 29.16 | P4: =E6*(1+C13+C15) -> 50.76 | Q4: 50.76
B5: Serigrafia logotip IMSS per motxilles | C5: Unitat | D5: 70 | E5: 2 | F5: =D5*E5 -> 140 | G5: =F5/$F$19 -> 0.056980057 | I5: =D5*H5 -> 0 | M5: =E5*(1+C13+C15) -> 2.16 | N5: 2.16 | P5: =E7*(1+C13+C15) -> 2.16 | Q5: 2.16
B6: Motxilles amb rodes | C6: Unitat | D6: 5 | E6: 47 | F6: =D6*E6 -> 235 | G6: =F6/$F$19 -> 0.095645096 | I6: =D6*H6 -> 0 | M6: =M4+M5 -> 31.32 | N6: =N4+N5 -> 31.32 | P6: =P4+P5 -> 52.92 | Q6: =Q4+Q5 -> 52.92
B7: Serigrafia logotip IMSS per motxilles amb rodes | C7: Unitat | D7: 5 | E7: 2 | F7: =D7*E7 -> 10 | G7: =F7/$F$19 -> 0.0040700041 | I7: =D7*H7 -> 0
B9: Despeses de subministrament del kit material informàtic | F9: =SUM(F4:F7) -> 2275 | G9: =F9/$F$19 -> 0.92592593 | H9: =SUM(H4:H4) -> 0 | I9: =SUM(I4:I4) -> 0
B11: Despeses directes | F11: =F9 -> 2275 | G11: =F11/$F$19 -> 0.92592593
B13: Despeses infraestructura | C13: 0.04 | F13: =F11*C13 -> 91 | G13: =F13/$F$19 -> 0.037037037
B15: Marge empresarial | C15: 0.04 | F15: =F11*C15 -> 91 | G15: =F15/$F$19 -> 0.037037037
B17: Despeses indirectes | F17: =F13+F15 -> 182 | G17: =F17/$F$19 -> 0.074074074
B19: Preu total (IVA exclòs) | F19: =F11+F17 -> 2457 | G19: =F19/$F$19 -> 1 | H19: =H9 -> 0 | I19: =I9 -> 0
B20: IVA (21%) | C20: 0.21 | F20: =F19*C20 -> 515.97 | H20: =H19*21/100 -> 0 | I20: =I19*21/100 -> 0
B21: Preu total (IVA inclòs) | F21: =SUM(F19,F20) -> 2972.97 | H21: =SUM(H19,H20) -> 0 | I21: =SUM(I19,I20) -> 0

Sheet LOT 2 2024
B1: LOT 2
B3: Subministrament de Kit material informàtic que inclou en el preu el servei de distribució | C3: TIPUS | D3: ESTIMACIONS CONSUM ANUAL APROXIMAT | E3: PREU UNITARI (IVA exclòs) | F3: SUMATORI ESTIMACIONS I PREUS UNITARIS | H3: PREU UNITARI OFERTAT (IVA exclòs) | I3: PREU TOTAL OFERTAT (IVA exclòs) | J3: URL O NÚMERO PÀGINA CATÀLEG 2022 | K3: Altres Característiques | M3: Amagat | N3: Amagat 2
B4: Motxilles | C4: Unitat | D4: 70 | E4: 27 | F4: =D4*E4 -> 1890 | G4: =F4/$F$19 -> 0.76923077 | I4: =D4*H4 -> 0 | M4: =E4*(1+C13+C15) -> 29.16 | N4: 29.16 | P4: =E6*(1+C13+C15) -> 50.76 | Q4: 50.76
B5: Serigrafia logotip IMSS per motxilles | C5: Unitat | D5: 70 | E5: 2 | F5: =D5*E5 -> 140 | G5: =F5/$F$19 -> 0.056980057 | I5: =D5*H5 -> 0 | M5: =E5*(1+C13+C15) -> 2.16 | N5: 2.16 | P5: =E7*(1+C13+C15) -> 2.16 | Q5: 2.16
B6: Motxilles amb rodes | C6: Unitat | D6: 5 | E6: 47 | F6: =D6*E6 -> 235 | G6: =F6/$F$19 -> 0.095645096 | I6: =D6*H6 -> 0 | M6: =M4+M5 -> 31.32 | N6: =N4+N5 -> 31.32 | P6: =P4+P5 -> 52.92 | Q6: =Q4+Q5 -> 52.92
B7: Serigrafia logotip IMSS per motxilles amb rodes | C7: Unitat | D7: 5 | E7: 2 | F7: =D7*E7 -> 10 | G7: =F7/$F$19 -> 0.0040700041 | I7: =D7*H7 -> 0
B9: Despeses de subministrament del kit material informàtic | F9: =SUM(F4:F7) -> 2275 | G9: =F9/$F$19 -> 0.92592593 | H9: =SUM(H4:H4) -> 0 | I9: =SUM(I4:I4) -> 0
B11: Despeses directes | F11: =F9 -> 2275 | G11: =F11/$F$19 -> 0.92592593
B13: Despeses infraestructura | C13: 0.04 | F13: =F11*C13 -> 91 | G13: =F13/$F$19 -> 0.037037037
B15: Marge empresarial | C15: 0.04 | F15: =F11*C15 -> 91 | G15: =F15/$F$19 -> 0.037037037
B17: Despeses indirectes | F17: =F13+F15 -> 182 | G17: =F17/$F$19 -> 0.074074074
B19: Preu total (IVA exclòs) | F19: =F11+F17 -> 2457 | G19: =F19/$F$19 -> 1 | H19: =H9 -> 0 | I19: =I9 -> 0
B20: IVA (21%) | C20: 0.21 | F20: =F19*C20 -> 515.97 | H20: =H19*21/100 -> 0 | I20: =I19*21/100 -> 0
B21: Preu total (IVA inclòs) | F21: =SUM(F19,F20) -> 2972.97 | H21: =SUM(H19,H20) -> 0 | I21: =SUM(I19,I20) -> 0

Sheet LOT 2 2025
B1: LOT 2
B3: Subministrament de Kit material informàtic que inclou en el preu el servei de distribució | C3: TIPUS | D3: ESTIMACIONS CONSUM ANUAL APROXIMAT | E3: PREU UNITARI (IVA exclòs) | F3: SUMATORI ESTIMACIONS I PREUS UNITARIS | H3: PREU UNITARI OFERTAT (IVA exclòs) | I3: PREU TOTAL OFERTAT (IVA exclòs) | J3: URL O NÚMERO PÀGINA CATÀLEG 2022 | K3: Altres Característiques | M3: Amagat | N3: Amagat 2
B4: Motxilles | C4: Unitat | D4: 70 | E4: 27 | F4: =D4*E4 -> 1890 | G4: =F4/$F$19 -> 0.76923077 | I4: =D4*H4 -> 0 | M4: =E4*(1+C13+C15) -> 29.16 | N4: 29.16 | P4: =E6*(1+C13+C15) -> 50.76 | Q4: 50.76
B5: Serigrafia logotip IMSS per motxilles | C5: Unitat | D5: 70 | E5: 2 | F5: =D5*E5 -> 140 | G5: =F5/$F$19 -> 0.056980057 | I5: =D5*H5 -> 0 | M5: =E5*(1+C13+C15) -> 2.16 | N5: 2.16 | P5: =E7*(1+C13+C15) -> 2.16 | Q5: 2.16
B6: Motxilles amb rodes | C6: Unitat | D6: 5 | E6: 47 | F6: =D6*E6 -> 235 | G6: =F6/$F$19 -> 0.095645096 | I6: =D6*H6 -> 0 | M6: =M4+M5 -> 31.32 | N6: =N4+N5 -> 31.32 | P6: =P4+P5 -> 52.92 | Q6: =Q4+Q5 -> 52.92
B7: Serigrafia logotip IMSS per motxilles amb rodes | C7: Unitat | D7: 5 | E7: 2 | F7: =D7*E7 -> 10 | G7: =F7/$F$19 -> 0.0040700041 | I7: =D7*H7 -> 0
B9: Despeses de subministrament del kit material informàtic | F9: =SUM(F4:F7) -> 2275 | G9: =F9/$F$19 -> 0.92592593 | H9: =SUM(H4:H4) -> 0 | I9: =SUM(I4:I4) -> 0
B11: Despeses directes | F11: =F9 -> 2275 | G11: =F11/$F$19 -> 0.92592593
B13: Despeses infraestructura | C13: 0.04 | F13: =F11*C13 -> 91 | G13: =F13/$F$19 -> 0.037037037
B15: Marge empresarial | C15: 0.04 | F15: =F11*C15 -> 91 | G15: =F15/$F$19 -> 0.037037037
B17: Despeses indirectes | F17: =F13+F15 -> 182 | G17: =F17/$F$19 -> 0.074074074
B19: Preu total (IVA exclòs) | F19: =F11+F17 -> 2457 | G19: =F19/$F$19 -> 1 | H19: =H9 -> 0 | I19: =I9 -> 0
B20: IVA (21%) | C20: 0.21 | F20: =F19*C20 -> 515.97 | H20: =H19*21/100 -> 0 | I20: =I19*21/100 -> 0
B21: Preu total (IVA inclòs) | F21: =SUM(F19,F20) -> 2972.97 | H21: =SUM(H19,H20) -> 0 | I21: =SUM(I19,I20) -> 0

Sheet LOT 2 2026
B1: LOT 2
B3: Subministrament de Kit material informàtic que inclou en el preu el servei de distribució | C3: TIPUS | D3: ESTIMACIONS CONSUM ANUAL APROXIMAT | E3: PREU UNITARI (IVA exclòs) | F3: SUMATORI ESTIMACIONS I PREUS UNITARIS | H3: PREU UNITARI OFERTAT (IVA exclòs) | I3: PREU TOTAL OFERTAT (IVA exclòs) | J3: URL O NÚMERO PÀGINA CATÀLEG 2022 | K3: Altres Característiques | M3: Amagat | N3: Amagat 2
B4: Motxilles | C4: Unitat | D4: 70 | E4: 27 | F4: =D4*E4 -> 1890 | G4: =F4/$F$19 -> 0.76923077 | I4: =D4*H4 -> 0 | M4: =E4*(1+C13+C15) -> 29.16 | N4: 29.16 | P4: =E6*(1+C13+C15) -> 50.76 | Q4: 50.76
B5: Serigrafia logotip IMSS per motxilles | C5: Unitat | D5: 70 | E5: 2 | F5: =D5*E5 -> 140 | G5: =F5/$F$19 -> 0.056980057 | I5: =D5*H5 -> 0 | M5: =E5*(1+C13+C15) -> 2.16 | N5: 2.16 | P5: =E7*(1+C13+C15) -> 2.16 | Q5: 2.16
B6: Motxilles amb rodes | C6: Unitat | D6: 5 | E6: 47 | F6: =D6*E6 -> 235 | G6: =F6/$F$19 -> 0.095645096 | I6: =D6*H6 -> 0 | M6: =M4+M5 -> 31.32 | N6: =N4+N5 -> 31.32 | P6: =P4+P5 -> 52.92 | Q6: =Q4+Q5 -> 52.92
B7: Serigrafia logotip IMSS per motxilles amb rodes | C7: Unitat | D7: 5 | E7: 2 | F7: =D7*E7 -> 10 | G7: =F7/$F$19 -> 0.0040700041 | I7: =D7*H7 -> 0
B9: Despeses de subministrament del kit material informàtic | F9: =SUM(F4:F7) -> 2275 | G9: =F9/$F$19 -> 0.92592593 | H9: =SUM(H4:H4) -> 0 | I9: =SUM(I4:I4) -> 0
B11: Despeses directes | F11: =F9 -> 2275 | G11: =F11/$F$19 -> 0.92592593
B13: Despeses infraestructura | C13: 0.04 | F13: =F11*C13 -> 91 | G13: =F13/$F$19 -> 0.037037037
B15: Marge empresarial | C15: 0.04 | F15: =F11*C15 -> 91 | G15: =F15/$F$19 -> 0.037037037
B17: Despeses indirectes | F17: =F13+F15 -> 182 | G17: =F17/$F$19 -> 0.074074074
B19: Preu total (IVA exclòs) | F19: =F11+F17 -> 2457 | G19: =F19/$F$19 -> 1 | H19: =H9 -> 0 | I19: =I9 -> 0
B20: IVA (21%) | C20: 0.21 | F20: =F19*C20 -> 515.97 | H20: =H19*21/100 -> 0 | I20: =I19*21/100 -> 0
B21: Preu total (IVA inclòs) | F21: =SUM(F19,F20) -> 2972.97 | H21: =SUM(H19,H20) -> 0 | I21: =SUM(I19,I20) -> 0

Sheet ANNEX4
B1: Cte SUBMINISTRAMENT i DISTRIBUCIO Kit INFORMÀTIC
B6: EXP P2400003 ANNEX-4 BIS
B8: Codi | C8: Descripció | D8: Quantitat estimada | E8: Preu u/t Sortida | F8: Import sortida | G8: Preu u/t Proveïdor | H8: Import Proveïdor
B9: Despeses per preu UNITARI
B11: Subministrament i distribució AURICULARS | C11: PREU UNITARI | D11: 1712 | E11: 36.85 | F11: =D11*E11 -> 63087.2 | H11: =G11*D11 -> 0
B12: Subministrament i distribució RATOLINS | C12: PREU UNITARI | D12: 1712 | E12: 8.25 | F12: =D12*E12 -> 14124 | H12: =G12*D12 -> 0
D14: Subtotal preu UNITARI | F14: =SUM(F11:F13) -> 77211.2 | G14: Subtotal preu unitari proveidor | H14: =SUM(H11:H13) -> 0
D18: IMPORT: | F18: =F14 -> 77211.2 | G18: IMPORT: | H18: =H14 -> 0
D19: IVA (%): | E19: 0.21 | F19: =E19*F18 -> 16214.352 | H19: =H18*E19 -> 0
D20: TOTAL: | F20: =SUM(F18:F19) -> 93425.552 | G20: TOTAL PROVEIDOR: | H20: =H18+H19 -> 0
C22: Barcelona, en la data de signatura
B24: Les quantitats indicades per l’IMSS com a preu global net així com cadascun dels preus unitaris nets determinats constitueixen la xifra màxima per sobre de la qual s'estimarà que les ofertes dels licitadors excedeixen el tipus de la licitació i, per tant, seran excloses.
B27: NOTA: Aquest document es presentarà en format PDF i degudament signat pel / per la representant legal de l'empresa licitadora

Sheet INFO KIT
D1: Possibles INFOs UTILS : Cte KIT INFORMÀTIC

Sheet Full4

Sheet ARTICLES_BenchMarking
A1: ACTUALITZACIÓ PREUS a DATA 20/Febrer/2023
A3: Info: | B3: https://www.onedirect.es/productos/epos/epos-adapt-165-ii
A41: Info: | B41: https://www.amazon.es/NGS-Crew-Red-Ordenador- Ambidiestro/dp/B08ZNBK4ZV/ref=sr_1_5?__mk_es_ES=%C3%85M%C3%85%C5%BD%C3%95%C3%91&crid=3QQUK6TTRGQ4P&keywords=raton%2Bnilox%2Bcon%2Bcable&qid=1648557960&sprefix=raton%2Bnilox%2Bcon%2Bcable%2Caps%2C97&sr=8-5&th=1
A76: Info: | B76: https://www.amazon.es/Targus-TSB96201GL-maletines-port%C3%A1til- Mochila/dp/B07JQJTRHY/ref=sr_1_10?__mk_es_ES=%C3%85M%C3%85%C5%BD%C3%95%C3%91&keywords=Targus%2BMochila%2Bportatil&qid=1648464511&refinements=p_36%3A1323856031&rnid=1323854031&s=electronics&sr
A152: Info: | B152: https://es.targus.com/products/15-6-ecosmart-mobile-tech-traveler-rolling-backpack-black-tbr040gl
W245: MITJANA | Y245: =AVERAGE(W248:X248) -> 100.7801
W248: =42.62*1.21 -> 51.5702 | X248: =149.99 -> 149.99
X249: -0.3 | Y249: Possible Oferta (-30 al -40%)
X250: =X248*0.7 -> 104.993 | Y250: =X248*0.6 -> 89.994 | Z250: Previsió | AA250: =AVERAGE(X250:Y250) -> 97.4935
X251: =120/X250-1 -> 0.14293334 | AA251: =120/AA250-1 -> 0.23085129

Sheet ACT_Oct23
A1: ACTUALITZACIÓ RATOLINS OCT/2023 BenchMarking
A3: RATOLINS amb CABLE, Mostra 1 | I3: RATOLINS amb CABLE, Mostra 2
B6: 9.99 | J6: 7.5
B7: 5.99 | J7: 5.99
C8: Traiem l' Outlier (preu més alt) | J8: 7.99
B9: 9.99 | J9: 4.99
B10: 7.5 | F10: Traiem l' Outlier (preu més alt)
A12: MITJANA | B12: =AVERAGE(B6:B11) -> 8.3675 | I12: MITJANA | J12: =AVERAGE(J6:J11) -> 6.6175
D14: MITJANA | F14: =AVERAGE(B12:J12) -> 7.4925 | H14: Preu anterior Cte.
D15: Preu ARRODONIT Cte | F15: 7.5 | H15: 5 | I15: Incr/ Decr | J15: =(F15-H15)/H15 -> 0.5
H16: (No inclou 10% C.I.)
A18: ACTUALITZACIÓ AURICULARS OCT/2023 BenchMarking
C20: Incr/Decr Preus Anteriors
B21: 45200 | D21: % | F21: Marca/Model
B23: 39.95 | C23: 0 | D23: 0 | F23: CLEYVER HC65 USB + JACK
A24: TOP 1 | B24: 31.95 | C24: 0 | D24: 0 | F24: SENNHEISER EPOS Adapt 165 II
B25: 27.99 | C25: -0.92735537 | D25: -0.032069163 | F25: Plantronics Blackwire 3220
B26: 33.48 | C26: 5.1659504 | D26: 0.18245184 | F26: SENNHEISER PC 5.2 CHAT
B28: =AVERAGE(B23:B26) -> 33.3425 | C28: 1.0596488 | D28: 0.037595669 | H28: Preu anterior Cte.
D29: Preu ARRODONIT Cte | F29: 33.5 | H29: 35.95 | I29: Incr/ Decr | J29: =(F29-H29)/H29 -> -0.068150209
H30: (No inclou 10% C.I.)
B39: Quantitat
B40: 1700
B48: Quantitat
B49: 1530
I55: =(69003-157883)/157883 -> -0.56294851

Sheet TMARE_Oct23 (2)
B1: Cte SUBMINISTRAMENT i DISTRIBUCIO Kit INFORMÀTIC
D2: T.MARE 1er ANY de CTE (2023) | S2: 0.3
I3: TOT el CTE (Quantitats varien per cada any, 2 anys Cte inicial) | S3: -30% / -40%
B4: Subministrament de Kit material informàtic que inclou en el preu el servei de distribució | C4: TIPUS | D4: Quantitat inicial | E4: Preu Estimat (CD) | F4: CD | G4: Preu (CD + CI) | H4: COST ESTIMAT (1er any) | I4: NOVES ESTIMACIONS | J4: PREU UNITARI (IVA exclòs) | K4: SUMATORI ESTIMACIONS I PREUS UNITARIS | L4: BENCHMARKING 20FEB23 | M4: CD | N4: REBAIXA FACTIBLE -30% | O4: CI (10%) | P4: Estimació CD+CI | Q4: Increment ACTUALITZACIÓ (Quantitat+Preu) | R4: Diferències | S4: Preu "REAL" ofertable | T4: PVP | U4: BAIXA Possible
B5: Auricular diadema plegable de color negre amb micròfon incorporat amb cable connexió jackpot | C5: Unitat | D5: 1550 | E5: =J5 -> 33.5 | F5: =D5*E5 -> 51925 | G5: =E5*1.1 -> 36.85 | H5: =G5*D5 -> 57117.5 | I5: =1700*90% -> 1530 | J5: =L5 -> 33.5 | K5: =I5*J5 -> 51255 | L5: 33.5 | M5: =L5*I5 -> 51255 | N5: =L5*0.7 -> 23.45 | O5: =ROUND(J5*1.1,2) -> 36.85 | P5: =I5*O5 -> 56380.5 | R5: =P5-K5 -> 5125.5 | S5: =T5*0.7 -> 25.2 | T5: 36 | U5: =(O5-S5)/O5 -> 0.31614654
B6: Ratolí ergonòmic amb cable color negre | C6: Unitat | D6: 1550 | E6: =J6 -> 7.5 | F6: =D6*E6 -> 11625 | G6: =E6*1.1 -> 8.25 | H6: =G6*D6 -> 12787.5 | I6: =1700*90% -> 1530 | J6: =L6 -> 7.5 | K6: =I6*J6 -> 11475 | L6: 7.5 | M6: =L6*I6 -> 11475 | N6: =L6*0.7 -> 5.25 | O6: =ROUND(J6*1.1,2) -> 8.25 | P6: =I6*O6 -> 12622.5 | R6: =P6-K6 -> 1147.5 | S6: =T6*0.7 -> 3.5 | T6: 5 | U6: =(O6-S6)/O6 -> 0.57575758
B7: Motxilles fosques | C7: Unitat | D7: 1550 | E7: =J7 -> 0 | F7: =D7*E7 -> 0 | G7: =E7*1.1 -> 0 | H7: =G7*D7 -> 0 | S7: =T7*0.7 -> 35 | T7: 50 | U7: =(O7-S7)/O7 -> #DIV/0!
B8: Motxilles fosques amb rodes | C8: Unitat | D8: 38 | E8: =J8 -> 0 | F8: =D8*E8 -> 0 | G8: =E8*1.1 -> 0 | H8: =G8*D8 -> 0 | S8: =T8*0.7 -> 105 | T8: 150 | U8: =(O8-S8)/O8 -> #DIV/0!
B10: Despeses de subministrament del kit material informàtic | E10: CD | F10: =SUM(F5:F8) -> 63550 | H10: =SUM(H5:H8) -> 69905 | K10: =SUM(K5:K8) -> 62730 | L10: Lot 1 | M10: =M5+M6 -> 62730 | O10: =O5+O6 -> 45.1 | P10: =P5+P6 -> 69003 | R10: =SUM(R5:R8) -> 6273
B11: Serigrafia motxilla logotip Ajuntament de Barcelona - IMSS | E11: CI | F11: =H10-F10 -> 6355 | G11: =F11/F10 -> 0.1 | L11: Lot 2 | M11: =M7+M8 -> 0 | O11: =O7+O8 -> 0 | P11: =P7+P8 -> 0
J12: Cte. KIT INFORMATIC (Oct/23)
B13: Despeses directes | C13: 0.9 | J13: =C13 -> 0.9 | K13: =K10 -> 62730 | L13: Costos DIRECTES | P13: =SUM(P5:P8) -> 69003
B14: Despeses infraestructura | C14: 0.05
B15: Marge empresarial | C15: 0.05
B16: Despeses indirectes | C16: =C14+C15 -> 0.1 | J16: =C16 -> 0.1 | K16: =K13*$C$16 -> 6273 | L16: Costos INDIRECTES
B20: TOTAL | J20: =K20/$K$24 -> 1 | K20: =K13+K16 -> 69003 | L20: TOTAL
P21: Diferència AJUST DECIMALS
P22: =P13-K20 -> 0
B24: Preu total (IVA exclòs) | H24: =H10 -> 69905 | K24: =K20 -> 69003
B25: IVA (21%) | C25: 0.21 | H25: =H24*C25 -> 14680.05 | K25: =K24*21/100 -> 14490.63
B26: Preu total (IVA inclòs) | H26: =H24+H25 -> 84585.05 | K26: =SUM(K24,K25) -> 83493.63
