Workbook
Name CostAuxiliarHora: #REF!
Name CostAuxiliarHora: #REF!
Name CostDireccióHora: #REF!
Name CostDireccióHora: #REF!
Name CostMenú: #REF!
Name CostMenú: #REF!
Name HoresSessió: #REF!
Name HoresSessió: #REF!
Name SessionsAnuals: #REF!
Name SessionsAnuals: #REF!

Sheet ANNEX 4 juliol
A1: Allotjaments individuals amb serveis col•lectius Mestres Casals i Martorell
F3: Pel període inicial del contracte: 1/7/2024 a 30/6/2026 | H3: 24 MESOS
A5: EXP ANNEX-4
A7: Codi | B7: Descripció | C7: Quantitat estimada | D7: Preu u/t Sortida | E7: Import sortida | F7: Preu u/t Proveïdor | G7: Import Proveïdor
A9: Despeses per preu global
B10: PREU GLOBAL | C10: 1 | E10: 326704.48 | F10: =G10 -> 0
C11: Subtotal preu global | E11: =SUM(E10:E10) -> 326704.48 | F11: Subtotal preu global proveidor | G11: =SUM(G10:G10) -> 0
A13: Borsa de treball | B13: PREU UNITARI
A14: Servei d ‘atenció psicològica (Llicenciat + compl.diagnostic i valoració) | C14: 200 | D14: =31.61 -> 31.61 | E14: 6322
A15: Treballadora familiar | C15: 480 | D15: 18.96 | E15: 9100.8
A16: Servei d'intervenció social per Urgències | C16: 200 | D16: 31.61 | E16: 6322
C17: SubtotalPreu unitari | E17: =SUM(E14:E16) -> 21744.8
A18: Despeses per PROVISIONS
A19: Activitats | E19: 12000 | G19: =E19 -> 12000
A20: Reserva per despeses d'atenció urgent i programa d'autonomia persona | E20: 8000 | G20: =E20 -> 8000
A21: Manteniment i renovació dels habitatges i reposició d'inventari | E21: 30182.4 | G21: =E21 -> 30182.4
C22: Subtotal de provisions | E22: =SUM(E19:E21) -> 50182.4 | F22: Subtotal provisions de proveidor | G22: =SUM(G19:G21) -> 50182.4
C24: IMPORT: | E24: =E11+E17+E22 -> 398631.68 | F24: IMPORT: | G24: =IF(G10="","",G10+G22)
C25: IVA (%): | D25: 0.1 | E25: 39863.16 | G25: =IF(G24="","",G24*D25)
C26: TOTAL: | E26: =SUM(E24:E25) -> 438494.84 | F26: TOTAL PROVEIDOR: | G26: =SUM(G24:G25) -> 0
B28: Barcelona, en la data de signatura
B30: Les quantitats indicades per l’IMSS com a preu global net així com cadascun dels preus unitaris nets determinats constitueixen la xifra màxima per sobre de la qual s'estimarà que les ofertes dels licitadors excedeixen el tipus de la licitació i, per tant, seran excloses.

Sheet 2.- Periodif x mesos (juliol)
A1: Allotjaments individuals amb serveis col•lectius Mestres Casals i Martorell
A5: EXECUCIÓ CONTRACTE
D7: Periode inicial del contracte: 1 de juliol 2024 a 30 de juny de 2026
H9: any de traspàs
E10: MESOS | F10: 6 | G10: 12 | H10: 6 | I10: 24 MESOS
F11: 2024 | G11: 2025 | H11: 2026 | I11: LICITACIÓ
D12: Despeses per preu global
D13: Subtotal Despeses per preu global | F13: =G13/2 -> 81676.12 | G13: 163352.24 | H13: =G13/2 -> 81676.12 | I13: =SUM(F13:H13) -> 326704.48
D16: Servei d ‘atenció psicològica (Llicenciat + compl.diagnostic i valoració) | F16: =G16/2 -> 1580.5 | G16: 3161 | H16: =G16/2 -> 1580.5 | I16: 12000
D17: Treballadora familiar | F17: =G17/2 -> 2275.2 | G17: 4550.4 | H17: =G17/2 -> 2275.2 | I17: 8000
D18: Servei d'intervenció social per Urgències | F18: =G18/2 -> 1580.5 | G18: 3161 | H18: =G18/2 -> 1580.5 | I18: 30182.4
D19: Subtotal Despeses Preu unitari | F19: =SUM(F16:F18) -> 5436.2 | G19: =SUM(G16:G18) -> 10872.4 | H19: =SUM(H16:H18) -> 5436.2 | I19: =SUM(F19:H19) -> 21744.8
D22: Provisions | F22: 2024 | G22: 2025 | H22: 2026
D23: Activitats | F23: =G23/2 -> 3000 | G23: 6000 | H23: =G23/2 -> 3000 | I23: =F23+G23+H23 -> 12000
D24: Reserva per despeses d'atenció urgent i programa d'autonomia persona | F24: 2000 | G24: 4000 | H24: 2000 | I24: =F24+G24+H24 -> 8000
A25: =ROUND(#REF!,4) -> #REF! | C25: =#REF! -> #REF! | D25: Manteniment i renovació dels habitatges i reposició d'inventari | F25: 7545.6 | G25: 15091.2 | H25: 7545.6 | I25: =F25+G25+H25 -> 30182.4
A26: =ROUND(#REF!,4) -> #REF! | C26: =#REF! -> #REF! | I26: =F26+G26+H26 -> 0
D27: Subtotal Despeses per preus unitaris | I27: =F27+G27+H27 -> 0
D28: Reserva per despeses d'atenció urgent i programa d'autonomia persona | F28: =G28/2 -> 2000 | G28: 4000 | H28: =G28/2 -> 2000 | I28: =F28+G28+H28 -> 8000
D29: Manteniment i renovació dels habitatges i reposició d'inventari | F29: =G29/2 -> 7545.6 | G29: 15091.2 | H29: =G29/2 -> 7545.6 | I29: =F29+G29+H29 -> 30182.4
D30: Subtotal provisions | F30: =F23+F28+F29 -> 12545.6 | G30: =G23+G28+G29 -> 25091.2 | H30: =H23+H28+H29 -> 12545.6 | I30: =I23+I28+I29 -> 50182.4
D32: Preu base de licitació | F32: =F13+F19+F30 -> 99657.92 | G32: =G13+G30+G19 -> 199315.84 | H32: =H13+H19+H30 -> 99657.92 | I32: =SUM(F32:H32) -> 398631.68
D33: IVA | E33: 0.1 | F33: 9965.79 | G33: 19931.58 | H33: 9965.79 | I33: 39863.16
D34: Preu total del contracte | F34: =SUM(F32:F33) -> 109623.71 | G34: =SUM(G32:G33) -> 219247.42 | H34: =SUM(H32:H33) -> 109623.71 | I34: =SUM(F34:H34) -> 438494.84
D36: (*) Any de traspàs
F40: 2024 | G40: 2025 | H40: 2026 | I40: PER A TOT EL CONTRACTE
D41: Cost de personal | F41: =G41/2 -> 50546.531 | G41: 101093.06 | H41: =G41/2 -> 50546.531 | I41: =SUM(F41:H41)-0.005 -> 202186.12
D42: Despeses de funcionament | F42: =G42/2 -> 19664.53 | G42: 39329.06 | H42: =G42/2 -> 19664.53 | I42: =SUM(F42:H42) -> 78658.12
D43: TOTAL DE COSTOS DIRECTES | E43: =I43/I61 -> 0.70452062 | F43: =SUM(F41:F42) -> 70211.061 | G43: =SUM(G41:G42) -> 140422.12 | H43: =SUM(H41:H42) -> 70211.061 | I43: =SUM(I41:I42) -> 280844.24
D45: Despeses generals | F45: =G45/2 -> 6173.5 | G45: 12347 | H45: =G45/2 -> 6173.5 | I45: =SUM(F45:H45) -> 24694
D46: Marge empresarial | F46: =G46/2 -> 5291.56 | G46: 10583.12 | H46: =G46/2 -> 5291.56 | I46: =SUM(F46:H46) -> 21166.24
D47: TOTAL DE COSTOS INDIRECTES | E47: =I47/I61 -> 0.11504414 | F47: =SUM(F45:F46)-0.00274 -> 11465.057 | G47: =SUM(G45:G46) -> 22930.12 | H47: =SUM(H45:H46)-0.00274 -> 11465.057 | I47: =SUM(I45:I46) -> 45860.24
D50: Servei d ‘atenció psicològica (Llicenciat + compl.diagnostic i valoració) | F50: =G50/2 -> 1580.5 | G50: 3161 | H50: =G50/2 -> 1580.5 | I50: =F50+G50+H50 -> 6322
D51: Treballadora familiar | F51: =G51/2 -> 2275.2 | G51: 4550.4 | H51: =G51/2 -> 2275.2 | I51: =F51+G51+H51 -> 9100.8
D52: Servei d'intervenció social per Urgències | F52: =G52/2 -> 1580.5 | G52: 3161 | H52: =G52/2 -> 1580.5 | I52: =SUM(F52:H52) -> 6322
F53: =SUM(F50:F52) -> 5436.2 | G53: =SUM(G50:G52) -> 10872.4 | H53: =SUM(H50:H52) -> 5436.2 | I53: =SUM(I50:I52) -> 21744.8
D55: PROVISIONS | F55: 2024 | G55: 2025 | H55: 2026 | I55: PER A TOT EL CONTRACTE
D56: Activitats | F56: =G56/2 -> 3000 | G56: 6000 | H56: =G56/2 -> 3000 | I56: =SUM(F56:H56) -> 12000
D57: Cobertura de necessitats derivades de l'atenció | F57: =G57/2 -> 2000 | G57: 4000 | H57: =G57/2 -> 2000 | I57: =F57+G57+H57 -> 8000
D58: Manteniment i renovació dels habitatges i reposició d'inventari | F58: =G58/2 -> 7545.6 | G58: 15091.2 | H58: =G58/2 -> 7545.6 | I58: =SUM(F58:H58) -> 30182.4
...

Sheet 2.- Licitació - Dir-Indir. 
A1: SIMULACIÓ DE POSSIBLE ESTRUCTURA DE COSTOS DE GESTIÓ DEL SERVEI:
A2: Allotjaments individuals amb serveis col•lectius Mestres Casals i Martorell
H5: 89485.54
A6: EXECUCIÓ CONTRACTE
D7: data inici: | E7: 01/06/20204 | K7: data finalització: | L7: 46842
G8: any de traspàs | J8: PRORROGA | K8: PRORROGA | L8: PRORROGA | M8: TOTAL
D9: meses | E9: 6 | F9: 12 | G9: 6 | J9: 6 | K9: 12 | L9: 6 | M9: PRORROGA
E10: 2024 | F10: 2025 | G10: 2026 | H10: LICITACIÓ | J10: 2026 | K10: 2027 | L10: 2028 | M10: TOTAL PRORROGA
C11: Despeses per preu global
C12: Preu del servei d'allotjament individual amb serveis col·lectius. | E12: =F12/12*E9 -> #REF! | F12: =#REF! -> #REF! | G12: =F12/12*G9-0.005 -> #REF! | H12: =E12+F12+G12 -> #REF! | J12: =E12+0.001 -> #REF! | K12: =F12 -> #REF! | L12: =G12 -> #REF! | M12: =SUM(J12:L12)+0.001 -> #REF!
C13: Subtotal Despeses per preu global | E13: =E12 -> #REF! | F13: =F12 -> #REF! | G13: =G12 -> #REF! | H13: =E13+F13+G13 -> #REF! | J13: =SUM(J12) -> #REF! | K13: =F13 -> #REF! | L13: =G13 -> #REF! | M13: =SUM(J13:L13) -> #REF!
C16: Provisions
C17: Atenció psicològica, Treballadora social, Urgències socials | E17: =F17/12*E9 -> #REF! | F17: =#REF! -> #REF! | G17: =F17/12*G9 -> #REF! | H17: =SUM(E17:G17) -> #REF! | J17: =F17/12*J9 -> #REF! | K17: =F17 -> #REF! | L17: =K17/12*L9 -> #REF! | M17: =SUM(J17:L17)+0.001 -> #REF!
C18: Despeses per preu unitari
A19: =ROUND(#REF!,4) -> #REF! | B19: =#REF! -> #REF! | H19: =SUM(E19:G19) -> 0 | M19: =SUM(J19:L19) -> 0
A20: =ROUND(#REF!,4) -> #REF! | B20: =#REF! -> #REF! | H20: =SUM(E20:G20) -> 0 | M20: =SUM(J20:L20) -> 0
C21: Subtotal Despeses per preus unitaris | H21: =SUM(H19:H20) -> 0 | M21: =SUM(M19:M20) -> 0
C22: Activitats | E22: =F22/12*E9 -> #REF! | F22: =#REF! -> #REF! | G22: =F22/12*G9 -> #REF! | H22: =SUM(E22:G22) -> #REF! | J22: =K22/12*J9 -> #REF! | K22: =F22 -> #REF! | L22: =K22/12*L9 -> #REF! | M22: =SUM(J22:L22) -> #REF!
C23: Provisió renovació inventari | E23: =F23/12*E9 -> #REF! | F23: =#REF! -> #REF! | G23: =F23/12*G9 -> #REF! | H23: =SUM(E23:G23) -> #REF! | J23: =K23/12*J9 -> #REF! | K23: =F23 -> #REF! | L23: =K23/12*6 -> #REF! | M23: =J23+K23+L23 -> #REF!
C24: Subtotal provisions | E24: =SUM(E17:E23) -> #REF! | F24: =SUM(F17:F23) -> #REF! | G24: =SUM(G17:G23) -> #REF! | H24: =SUM(H17:H23) -> #REF! | J24: =SUM(J17:J23) -> #REF! | K24: =SUM(K17:K23) -> #REF! | L24: =SUM(L17:L23) -> #REF! | M24: =SUM(M17:M23) -> #REF!
C26: Preu base de licitació | E26: =E13+E24 -> #REF! | F26: =F13+F24 -> #REF! | G26: =G13+G24 -> #REF! | H26: =SUM(E26:G26) -> #REF! | J26: =J13+J24 -> #REF! | K26: =F26 -> #REF! | L26: =L13+L24 -> #REF! | M26: =M13+M24 -> #REF!
C27: IVA | D27: 0.1 | E27: =E26*10%-0.004 -> #REF! | F27: 20003.71 | G27: =G26*10% -> #REF! | H27: =SUM(E27:G27)-0.003 -> #REF! | J27: =ROUND(J26*D27,2) -> #REF! | K27: =ROUND(K26*D27,2) -> #REF! | L27: =ROUND(L26*D27,2) -> #REF! | M27: =SUM(J27:L27) -> #REF!
C28: Preu total del contracte | E28: =SUM(E26:E27) -> #REF! | F28: =SUM(F26:F27) -> #REF! | G28: =SUM(G26:G27) -> #REF! | H28: =SUM(H26:H27) -> #REF! | J28: =SUM(J26:J27) -> #REF! | K28: =SUM(K26:K27) -> #REF! | L28: =SUM(L26:L27) -> #REF! | M28: =SUM(J28:L28) -> #REF!
C30: (*) Any de traspàs | K30: q.d
E31: 2024 | F31: 2025 | G31: 2026 | H31: PER A TOT EL CONTRACTE | J31: 2024 | K31: 2025 | L31: 2026 | M31: PRÒRROGA | N31: TOTAL CONTRACTE + PRÒRROGA
C32: Cost de personal | E32: =F32/12*6-0.005 -> 50546.526 | F32: ='2.- Periodif x mesos (juliol)'!$G$41 -> 101093.06 | G32: =F32/12*G9 -> 50546.531 | H32: =SUM(E32:G32) -> 202186.12 | J32: =E32 -> 50546.526 | K32: =F32 -> 101093.06 | L32: =G32 -> 50546.531 | M32: =H32 -> 202186.12 | N32: =H32+M32 -> 404372.24
C33: Despeses de funcionament | E33: =F33/12*E9-0.01 -> 19664.52 | F33: ='2.- Periodif x mesos (juliol)'!$G$42 -> 39329.06 | G33: =F33/12*G9-0.001 -> 19664.529 | H33: =SUM(E33:G33) -> 78658.109 | J33: =E33 -> 19664.52 | K33: =F33 -> 39329.06 | L33: =G33 -> 19664.529 | M33: =H33 -> 78658.109 | N33: =H33+M33 -> 157316.22
C34: TOTAL DE COSTOS DIRECTES | E34: ='2.- Periodif x mesos (juliol)'!$F$43 -> 70211.061 | F34: =SUM(F32:F33) -> 140422.12 | G34: ='2.- Periodif x mesos (juliol)'!$H$43 -> 70211.061 | H34: ='2.- Periodif x mesos (juliol)'!$I$43 -> 280844.24 | J34: =E34 -> 70211.061 | K34: =F34 -> 140422.12 | L34: =G34 -> 70211.061 | M34: =H34 -> 280844.24 | N34: =H34+M34 -> 561688.48
C35: Despeses generals | E35: =F35/12*E9 -> #REF! | F35: =#REF! -> #REF! | G35: =F35*$G$9/$F$9 -> #REF! | H35: =SUM(E35:G35)+0.001 -> #REF! | J35: =K35/12*J9 -> #REF! | K35: =F35 -> #REF! | L35: =G35 -> #REF! | M35: =H35 -> #REF! | N35: =H35+M35 -> #REF!
C36: Marge empresarial | E36: =F36*$E$9/$F$9 -> #REF! | F36: =#REF! -> #REF! | G36: =F36*$G$9/$F$9 -> #REF! | H36: =SUM(E36:G36) -> #REF! | J36: =E36 -> #REF! | K36: =F36 -> #REF! | L36: =G36 -> #REF! | M36: =H36 -> #REF! | N36: =H36+M36 -> #REF!
C37: TOTAL DE COSTOS INDIRECTES | E37: =SUM(E35:E36)-0.00274 -> #REF! | F37: =SUM(F35:F36)-0.00548 -> #REF! | G37: =SUM(G35:G36)-0.00274 -> #REF! | H37: =E37+F37+G37 -> #REF! | J37: =E37 -> #REF! | K37: =F37 -> #REF! | L37: =G37 -> #REF! | M37: =H37 -> #REF! | N37: =H37+M37 -> #REF!
C39: PROVISIONS | E39: 2024 | F39: 2025 | G39: 2026 | H39: PER A TOT EL CONTRACTE | J39: =E39 -> 2024 | K39: =F39 -> 2025 | L39: =G39 -> 2026 | M39: PRORRÒGA
C40: Treballadors | E40: =F40/12*E9 -> #REF! | F40: =$F$17 -> #REF! | G40: =F40/12*G9 -> #REF! | H40: =SUM(E40:G40) -> #REF! | J40: =E40 -> #REF! | K40: =F40 -> #REF! | L40: =G40 -> #REF! | M40: =H40 -> #REF! | N40: =H40+M40 -> #REF!
C41: Activitats | E41: =F41/12*E9 -> #REF! | F41: =F22 -> #REF! | G41: =F41/12*6 -> #REF! | H41: =SUM(E41:G41) -> #REF! | J41: =E41 -> #REF! | K41: =F41 -> #REF! | L41: =G41 -> #REF! | M41: =H41 -> #REF! | N41: =H41+M41 -> #REF!
C42: Manteniment | E42: =F42/12*E9 -> 7545.6 | F42: ='2.- Periodif x mesos (juliol)'!$G$58 -> 15091.2 | G42: =F42/12*G9 -> 7545.6 | H42: =SUM(E42:G42) -> 30182.4 | J42: =E42 -> 7545.6 | K42: =F42 -> 15091.2 | L42: =G42 -> 7545.6 | M42: =H42 -> 30182.4 | N42: =H42+M42 -> 60364.8
C43: TOTAL PROVISIONS | E43: =SUM(E40:E42) -> #REF! | F43: =SUM(F40:F42) -> #REF! | G43: =SUM(G40:G42) -> #REF! | H43: =SUM(H40:H42) -> #REF! | J43: =E43 -> #REF! | K43: =F43 -> #REF! | L43: =G43 -> #REF! | M43: =H43 -> #REF! | N43: =H43+M43 -> #REF!
C45: TOTAL DE COSTOS DIRECTES I INDIRECTES ESTIMATS | E45: =E34+E37+E43 -> #REF! | F45: =F34+F37+F43-0.005001 -> #REF! | G45: =E45 -> #REF! | H45: =E45+F45+G45 -> #REF! | J45: =$E$45 -> #REF! | K45: =K34+K37+K43-0.005001 -> #REF! | L45: =L34+L37+L43 -> #REF! | M45: =SUM(J45:L45) -> #REF! | N45: =SUM(J45:M45) -> #REF!
J48: q.d

Sheet 3 PBL-VEC (juliol)
A1: SIMULACIÓ DE POSSIBLE ESTRUCTURA DE COSTOS DE GESTIÓ DEL SERVEI:v Allotjaments individuals amb serveis col•lectius Mestres Casals i Martorell
A4: Periode: 1 de juliol de 2024 al 30 de juny de 2026
A8: PBL | K8: VEC
A10: Any | B10: mesos | C10: Orgànic. | D10: Econòmic | E10: Programa | F10: Import net | G10: % IVA | H10: Import IVA | I10: Import total | K10: Any | L10: VE prestació | M10: VE de les prorrogues | N10: SUMA
A11: 2024 | B11: 6 | C11: 103 | D11: 22732 | E11: 23162 | F11: ='2.- Periodif x mesos (juliol)'!F61 -> 99657.919 | G11: 0.1 | H11: ='2.- Periodif x mesos (juliol)'!F33 -> 9965.79 | I11: =F11+H11 -> 109623.71 | K11: 2024 | L11: =F11 -> 99657.919 | N11: =L11 -> 99657.919
A12: 2025 | B12: 12 | C12: 103 | D12: 22732 | E12: 23162 | F12: ='2.- Periodif x mesos (juliol)'!G61 -> 199315.84 | G12: 0.1 | H12: ='2.- Periodif x mesos (juliol)'!G33 -> 19931.58 | I12: =F12+H12 -> 219247.42 | K12: 2025 | L12: =F12 -> 199315.84 | N12: =L12 -> 199315.84
A13: 2026 | B13: 6 | C13: 103 | D13: 22732 | E13: 23162 | F13: ='2.- Periodif x mesos (juliol)'!H61 -> 99657.919 | G13: 0.1 | H13: ='2.- Periodif x mesos (juliol)'!H33 -> 9965.79 | I13: =F13+H13 -> 109623.71 | K13: 2026 | L13: =F13 -> 99657.919 | M13: =F11 -> 99657.919 | N13: =L13+M13 -> 199315.84
A14: Total | F14: =SUM(F11:F13) -> 398631.68 | H14: =SUM(H11:H13) -> 39863.16 | I14: =SUM(I11:I13) -> 438494.84 | K14: 2027 | M14: =F12 -> 199315.84 | N14: =M14 -> 199315.84
K15: 2028 | M15: =F13 -> 99657.919 | N15: =M15 -> 99657.919
K16: Total | L16: =SUM(L11:L15)-0.001 -> 398631.68 | M16: =SUM(M13:M15)-0.001 -> 398631.68 | N16: =SUM(N11:N15) -> 797263.36

Sheet Full1
O15: 5665.24 | P15: 7430.99
O16: 13830.84 | P16: 18173.32
O17: 13579.56 | P17: 17775.6
O18: 19599.24 | P18: 25753.4
O19: 20565.24 | P19: 27022.73
O20: 17205.64 | P20: 22608.47
O21: 11738.64 | P21: 15424.68
O22: 19599.24 | P22: 25753.4
O23: 19599.24 | P23: 25753.4
O24: 31110.12 | P24: 40878.84
O25: 13830.84 | P25: 18713.72
O26: 13830.84 | P26: 18713.72
... O30: 15521.04 | P30: 20394.65
O31: =SUM(O15:O30) -> 248477.96 | P31: =SUM(P15:P30) -> 327453.88 | Q31: =P31/O31-1 -> 0.31783873

Sheet ANNEX 4 (juny)
A5: EXP 20230201 ANNEX-3 BIS
A7: Codi | B7: Descripció | C7: Quantitat estimada | D7: Preu u/t Sortida | E7: Import sortida | F7: Preu u/t Proveïdor | G7: Import Proveïdor
A9: Despeses per preu global | J9: 0.1
A10: Gestió del Servei d'Allotjament temporals Mestres Casals i Martorell | B10: PREU GLOBAL | C10: 1 | E10: 326704.48 | G10: =F10 -> 0 | J10: 0
C11: Subtotal preu global | E11: =SUM(E10:E10) -> 326704.48 | F11: Subtotal preu global proveidor | G11: =G10 -> 0
A13: Borsa d'hores | B13: PREU UNITARI
A14: Servei d'atenció psicològica | C14: 200 | D14: =31.61 -> 31.61 | E14: 6322 | G14: =F14*C14 -> 0
A15: Treballador familiar | C15: 480 | D15: 18.96 | E15: 9100.8 | G15: =F15*C15 -> 0
A16: Servei d'intervenció social per Urgències | C16: 200 | D16: 31.61 | E16: 6322 | G16: =F16*C16 -> 0
C17: Subtotal Preu unitari | E17: =SUM(E14:E16) -> 21744.8 | F17: Subtotal preus unitaris proveidor | G17: =SUM(G14:G16) -> 0
A18: Despeses per PROVISIONS
A19: Provisió per a activitats comunitàries | E19: 12000 | G19: =E19 -> 12000
A20: Provisió per a despeses d'atenció urgent i programa d'autonomia personal | E20: 8000 | G20: =E20 -> 8000
A21: Provisió per a manteniment i renovació dels habitatges i reposició d'inventari | E21: 30182.4 | G21: =E21 -> 30182.4
C22: Subtotal de provisions | E22: =SUM(E19:E21) -> 50182.4 | F22: Subtotal provisions de proveidor | G22: =SUM(G19:G21) -> 50182.4
C24: IMPORT: | E24: =E11+E17+E22 -> 398631.68 | F24: IMPORT: | G24: =G11+G17+G22 -> 50182.4
C25: IVA (%): | D25: 0.1 | E25: 39863.17 | F25: 0 | G25: =$G$24*F25 -> 0
C26: TOTAL: | E26: =SUM(E24:E25) -> 438494.85 | F26: TOTAL PROVEIDOR: | G26: =SUM(G24:G25) -> 50182.4
A28: Barcelona, en la data de signatura
A30: Les quantitats indicades per l’IMSS com a preu global net així com cadascun dels preus unitaris nets determinats constitueixen la xifra màxima per sobre de la qual s'estimarà que les ofertes dels licitadors excedeixen el tipus de la licitació i, per tant, seran excloses.
C34: Nota: Aquest document s'ha de convertir en pdf i s'ha de signar pel representant legal de la licitadora.
