Workbook

Sheet Annex4 bis lot 2
C3: GESTIÓ DELS HABITATGES AMB SERVEIS PER A PERSONES GRANS I DELS SERVEIS DE SUPORT I ATENCIÓ PERSONAL | H3: Per al període inicial del contracte: | M3: 0.04
I4: 36 MESOS | M4: 0
C5: EXP 015_P2400043 ANNEX-4 BIS. LOT 2
C7: Codi | D7: Descripció | E7: Quantitat estimada hores/ 3 anys | F7: Preu u/t Sortida | G7: Import sortida | H7: Preu u/t Proveïdor | I7: Import Proveïdor
C8: Despeses per preu GLOBAL
C9: 'Gestió global de la Gestió dels Habitatges amb Serveis per a persones grans | D9: PREU GLOBAL | E9: 1 | F9: ='Execució 5 lots'!$K$28 -> 2021423.1 | G9: ='Execució 5 lots'!$K$28 -> 2021423.1 | I9: =H9*E9 -> 0
E10: Subtotal preu global | G10: =SUM(G9) -> 2021423.1 | H10: Subtotal preu global proveidor | I10: =SUM(I9) -> 0
C11: Despeses per preu UNITARI
C12: Prestació de serveis complementaris d'auxiliar de geriatria | D12: PREU UNITARI | E12: ='[1]Licitació 2025'!D13*3 -> 519 | F12: ='[1]Licitació 2025'!C13 -> 23.84 | G12: ='Execució 5 lots'!$K$32 -> 12372.96 | I12: =E12*H12 -> 0
E13: Subtotal de provisions | G13: =SUM(G12) -> 12372.96 | H13: Subtotal preu unitari de proveidor | I13: =SUM(I12) -> 0
E15: IMPORT: | G15: =G9+G12 -> 2033796.1 | H15: IMPORT: | I15: =I10+I13 -> 0
E16: IVA (%): | F16: 0.04 | G16: 81351.84 | H16: 0.04 | I16: =+I15*H16 -> 0
E17: TOTAL: | G17: =SUM(G15:G16) -> 2115147.9 | H17: TOTAL PROVEIDOR: | I17: =IF(I10+I13=0,0,I15+I16) -> 0
C18: * El present annex s'ha de presentar en format pdf i degudament signat
D20: Barcelona, en la data de signatura
D21: Les quantitats indicades per l’IMSS com a preu global net així com del preu unitari net determinat constitueixen la xifra màxima per sobre de la qual s'estimarà que les ofertes de les licitadores excedeixen el tipus de la licitació i, per tant, seran excloses.

Sheet Full1
A2: LOT 1 | B2: 749654.38 | C2: 750000 | G2: =B2-G3 -> 290.25294
A3: lot 2 | B3: 668337.99 | G3: 749364.13
A4: Lot 3 | B4: 592822.37
A5: LOT 4 | B5: 716398.67 | M5: =24.18 -> 24.18 | N5: 23.84 | O5: =(M5-N5)/M5 -> 0.014061208
A6: Lot 5 | B6: 610171.76
B7: =SUM(B2:B6) -> 3337385.2
B8: =B7*3 -> 10012156 | C8: 10381644 | D8: 10412044 | E8: =D8-C8 -> 30400.42
F9: 8540 | G9: 24.18 | H9: =G9*F9 -> 206497.2
F10: =F9/2 -> 4270 | G10: 23.84 | H10: =F10*G10 -> 101796.8 | J10: =H9-H10 -> 104700.4 | M10: =N5*O5 -> 0.33521919
C11: =C8-J10 -> 10276944 | H11: =H9-H10 -> 104700.4 | M11: =N5+M10 -> 24.175219
C12: =(C11-B8)/C11 -> 0.025765256 | H12: =H11*10% -> 10470.04
D15: 10412044 | E15: =D15-C8 -> 30400.419 | G15: =E15*4% -> 1216.0167 | I15: =E15-G15 -> 29184.402
E17: =(C8-D15)/C8 -> -0.0029282856
G19: =C8+E15 -> 10412044
B26: pressupost total de 10.438.883,19 € IVA inclòs, en lloc dels 10.381.644,00 € proposats
B31: =(10381644-10438883.19)/10381644 -> -0.0055134996 | D31: =10381644*B31 -> -57239.19
D32: =D31*-1 -> 57239.19 | H32: =C8 -> 10381644 | I32: 10441863
D33: =D32+10381644 -> 10438883
H35: =(H32-I32) -> -60218.65 | I35: =H35*-1 -> 60218.65
H36: =I35/H32 -> 0.0058004927

Sheet Full2
B3: 3753903.3 | C3: 3750932.5 | E3: =(B3-C3)/B3 -> 0.00079139492
B5: 3356019.8 | C5: 3344072.6 | E5: =(B5-C5)/B5 -> 0.0035599314
B7: ='[2]VEC 2025'!$G$12 -> 2975372.6 | C7: 2898018.5 | E7: =(C7-B7)/C7 -> -0.026692059
B9: 3583678.4 | C9: 3571799 | E9: =(C9-B9)/C9 -> -0.0033258814

Sheet pbl 5 lots
D2: 1 D'OCTUBRE 2025 | G2: 30 SEPTEMBRE 2028
C4: LOT 1
C5: Any | D5: Mesos | E5: C. Orgànic | F5: C. Econòmic | G5: Programa | H5: Import net € | I5: % IVA | J5: Import IVA | K5: Import total
C6: 2025 | D6: 3 | E6: 0103 | F6: 22732 | G6: 23143 | H6: ='Execució 5 lots'!$G$16 -> 187413.59 | I6: 4 | J6: =H6*0.04 -> 7496.5436 | K6: =ROUND(H6+J6,2) -> 194910.13
C7: 2026 | D7: 12 | E7: 0103 | F7: 22732 | G7: 23143 | H7: ='Execució 5 lots'!$H$16 -> 749654.38 | I7: 4 | J7: =H7*0.04 -> 29986.175 | K7: =ROUND(H7+J7,2) -> 779640.56
C8: 2027 | D8: 12 | E8: 0103 | F8: 22732 | G8: 23143 | H8: ='Execució 5 lots'!$H$16 -> 749654.38 | I8: 4 | J8: =H8*0.04 -> 29986.175 | K8: =ROUND(H8+J8,2) -> 779640.56
C9: 2028 | D9: 9 | E9: 0103 | F9: 22732 | G9: 23143 | H9: ='Execució 5 lots'!$J$16 -> 562240.79 | I9: 4 | J9: =H9*0.04 -> 22489.632 | K9: =ROUND(H9+J9,2) -> 584730.42
H10: =SUM(H6:H9) -> 2248963.1 | J10: =ROUND(SUM(J6:J9),2) -> 89958.53 | K10: =ROUND(SUM(K6:K9),2) -> 2338921.7
C17: LOT 2
C18: Any | D18: mesos | E18: C. Orgànic | F18: C. Econòmic | G18: Programa | H18: Import net € | I18: % IVA | J18: Import IVA | K18: Import total
C19: 2025 | D19: 3 | E19: 0103 | F19: 22732 | G19: 23143 | H19: ='Execució 5 lots'!$G$35 -> 169483.02 | I19: 4 | J19: =H19*4% -> 6779.3208 | K19: =H19+J19 -> 176262.34
C20: 2026 | D20: 12 | E20: 0103 | F20: 22732 | G20: 23143 | H20: ='Execució 5 lots'!$H$35 -> 677932.02 | I20: 4 | J20: =H20*4%-0.001 -> 27117.28 | K20: 705049.3
C21: 2027 | D21: 12 | E21: 0103 | F21: 22732 | G21: 23143 | H21: ='Execució 5 lots'!$H$35 -> 677932.02 | I21: 4 | J21: =H21*4%-0.001 -> 27117.28 | K21: 705049.3
C22: 2028 | D22: 9 | E22: 0103 | F22: 22732 | G22: 23143 | H22: ='Execució 5 lots'!$J$35 -> 508449.01 | I22: 4 | J22: =H22*4%-0.001 -> 20337.959 | K22: =SUM(H22+J22) -> 528786.97
H23: =SUM(H19:H22) -> 2033796.1 | J23: =SUM(J19:J22) -> 81351.84 | K23: =SUM(H23:J23) -> 2115147.9
C28: LOT 3
C29: Any | D29: mesos | E29: C. Orgànic | F29: C. Econòmic | G29: Programa | H29: Import net € | I29: % IVA | J29: Import IVA | K29: Import total
C30: 2025 | D30: 3 | E30: 0103 | F30: 22732 | G30: 23143 | H30: 148656.34 | I30: 4 | J30: 5946.26 | K30: =H30+J30 -> 154602.6
C31: 2026 | D31: 12 | E31: 0103 | F31: 22732 | G31: 23143 | H31: 594625.37 | I31: 4 | J31: ='Execució 5 lots'!$I$55 -> 23785.01 | K31: =H31+J31 -> 618410.38
C32: 2027 | D32: 12 | E32: 0103 | F32: 22732 | G32: 23143 | H32: 594625.37 | I32: 4 | J32: ='Execució 5 lots'!$I$55 -> 23785.01 | K32: =H32+J32 -> 618410.38
C33: 2028 | D33: 9 | E33: 0103 | F33: 22732 | G33: 23143 | H33: 445969.04 | I33: 4 | J33: 17838.76 | K33: =H33+J33 -> 463807.8
H34: =SUM(H30:H33) -> 1783876.1 | J34: =SUM(J30:J33) -> 71355.04 | K34: =SUM(K30:K33)+0.002 -> 1855231.2
C40: LOT 4
C41: Any | D41: mesos | E41: C. Orgànic | F41: C. Econòmic | G41: Programa | H41: Import net € | I41: % IVA | J41: Import IVA | K41: Import total
C42: 2025 | D42: 3 | E42: 0103 | F42: 22732 | G42: 23143 | H42: ='Execució 5 lots'!$G$73 -> 179099.81 | I42: 4 | J42: 7163.99 | K42: =H42+J42 -> 186263.8
C43: 2026 | D43: 12 | E43: 0103 | F43: 22732 | G43: 23143 | H43: ='Execució 5 lots'!$H$73 -> 716398.64 | I43: 4 | J43: 28655.95 | K43: =H43+J43 -> 745054.59
C44: 2027 | D44: 12 | E44: 0103 | F44: 22732 | G44: 23143 | H44: ='Execució 5 lots'!$H$73 -> 716398.64 | I44: 4 | J44: 28655.95 | K44: =H44+J44 -> 745054.59
C45: 2028 | D45: 9 | E45: 0103 | F45: 22732 | G45: 23143 | H45: ='Execució 5 lots'!$J$73 -> 537298.82 | I45: 4 | J45: 21491.95 | K45: =H45+J45 -> 558790.77
H46: =SUM(H42:H45) -> 2149195.9 | J46: =SUM(J42:J45) -> 85967.84 | K46: =H46+J46 -> 2235163.8
C52: LOT 5
C53: Any | D53: mesos | E53: C. Orgànic | F53: C. Econòmic | G53: Programa | H53: Import net € | I53: % IVA | J53: Import IVA | K53: Import total
C54: 2025 | D54: 3 | E54: 0103 | F54: 22732 | G54: 23143 | H54: 152014.4 | I54: 4 | J54: 6080.58 | K54: =H54+J54 -> 158094.98
C55: 2026 | D55: 12 | E55: 0103 | F55: 22732 | G55: 23143 | H55: 608057.61 | I55: 4 | J55: 24322.3 | K55: =H55+J55 -> 632379.91
C56: 2027 | D56: 12 | E56: 0103 | F56: 22732 | G56: 23143 | H56: 608057.61 | I56: 4 | J56: 24322.3 | K56: =H56+J56 -> 632379.91
C57: 2028 | D57: 9 | E57: 0103 | F57: 22732 | G57: 23143 | H57: ='Execució 5 lots'!$J$93 -> 456043.21 | I57: 4 | J57: 18241.73 | K57: =H57+J57 -> 474284.94
H58: =SUM(H54:H57) -> 1824172.8 | J58: =SUM(J54:J57) -> 72966.91 | K58: =SUM(K54:K57) -> 1897139.7
C62: TOTAL 5 LOTS
C64: Any | D64: mesos | E64: C. Orgànic | F64: C. Econòmic | G64: Programa | H64: Import net € | I64: % IVA | J64: Import IVA | K64: Import total
C65: 2025 | D65: 3 | E65: 0103 | F65: 22732 | G65: 23143 | H65: =H6+H19+H30+H42+H54 -> 836667.16 | I65: 4 | J65: 33466.69 | K65: =H65+J65 -> 870133.85
C66: 2026 | D66: 12 | E66: 0103 | F66: 22732 | G66: 23143 | H66: =H7+H20+H31+H43+H55 -> 3346668 | I66: 4 | J66: ='Execució 5 lots'!$H$115 -> 133866.72 | K66: =H66+J66 -> 3480534.7
...

Sheet CD+CI 5 lots
D2: 3 | E2: 12 | F2: 12 | G2: 9
B3: LOT 1 QUADRE DE DESPESES DIRECTES I INDIRECTES
C4: % | D4: 2025 | E4: 2026 | F4: 2027 | G4: 2028 | H4: TOTAL CONTRACTE
B5: Costos salarials | C5: =H5/H8 -> 0.71816645 | D5: 120968.51 | E5: 483874.05 | F5: 483874.05 | G5: 362905.54 | H5: =SUM(D5:G5) -> 1451622.1
B6: Costos Seguretat Social | C6: =H6/H8 -> 0.22549086 | D6: 37981.84 | E6: 151927.43 | F6: 151927.43 | G6: 113945.56 | H6: =SUM(D6:G6) -> 455782.26
B7: Costos de Funcionament | C7: =H7/H8 -> 0.056342687 | D7: 9490.41 | E7: 37961.62 | F7: 37961.62 | G7: 28471.22 | H7: =SUM(D7:G7) -> 113884.87
B8: Costos directes | C8: =H8/H12 -> 0.89876497 | D8: =SUM(D5:D7) -> 168440.76 | E8: =E5+E6+E7 -> 673763.1 | F8: =SUM(F5:F7) -> 673763.1 | G8: =SUM(G5:G7) -> 505322.32 | H8: =SUM(D8:G8) -> 2021289.3
B9: Despeses generals de gestió | C9: =H9/H11 -> 0.62007676 | D9: 11764.61 | E9: 47058.42 | F9: 47058.42 | G9: 35293.82 | H9: =SUM(D9:G9) -> 141175.27
B10: Marge empresarial | C10: =H10/H11 -> 0.37992324 | D10: 7208.22 | E10: 28832.86 | F10: 28832.86 | G10: 21624.65 | H10: =SUM(D10:G10) -> 86498.59
B11: Costos indirectes | C11: =H11/H12 -> 0.10123503 | D11: =SUM(D9:D10) -> 18972.83 | E11: =SUM(E9:E10) -> 75891.28 | F11: 75891.28 | G11: =SUM(G9:G10) -> 56918.47 | H11: =SUM(H9:H10) -> 227673.86
B12: Costos totals | D12: =D8+D11 -> 187413.59 | E12: 749654.38 | F12: 749654.38 | G12: =G8+G11 -> 562240.79 | H12: =H8+H11 -> 2248963.1
B17: LOT 2 QUADRE DE DESPESES DIRECTES I INDIRECTES
C18: % | D18: 2025 | E18: 2026 | F18: 2027 | G18: 2028 | H18: TOTAL
B19: Costos Salarials | C19: =H19/H22 -> 0.70634077 | D19: 107581.43 | E19: 430325.71 | F19: 430325.71 | G19: 322744.28 | H19: =SUM(D19:G19) -> 1290977.1
B20: Costos Seguretat Social | C20: =H20/H22 -> 0.22421702 | D20: 34150.06 | E20: 136600.28 | F20: 136600.28 | G20: 102450.22 | H20: =SUM(D20:G20) -> 409800.84
B21: Costos de Funcionament | C21: =H21/H22 -> 0.069442215 | D21: 10576.61 | E21: 42306.45 | F21: 42306.45 | G21: 31729.84 | H21: =SUM(D21:G21) -> 126919.35
B22: Costos directes | C22: =H22/H26 -> 0.89866302 | D22: =SUM(D19:D21) -> 152308.1 | E22: =SUM(E19:E21) -> 609232.44 | F22: ='[1]Licitació 2025'!I29 -> 609232.44 | G22: =SUM(G19:G21) -> 456924.34 | H22: =SUM(H19:H21) -> 1827697.3
B23: Despeses generals de gestió | C23: =H23/H25 -> 0.62045896 | D23: =E23/12*3 -> 10656.318 | E23: ='[1]Licitació 2025'!H30 -> 42625.271 | F23: ='[1]Licitació 2025'!I30 -> 42625.271 | G23: 31968.96 | H23: =SUM(D23:G23) -> 127875.82
B24: Marge empresarial | C24: =H24/H25 -> 0.37954104 | D24: =E24/12*3 -> 6518.5771 | E24: ='[1]Licitació 2025'!H31 -> 26074.308 | F24: ='[1]Licitació 2025'!I31 -> 26074.308 | G24: =F24/12*9 -> 19555.731 | H24: =SUM(D24:G24)+0.01 -> 78222.935
B25: Costos indirectes | C25: =H25/H26 -> 0.10133698 | D25: =SUM(D23:D24)+0.01 -> 17174.905 | E25: ='[1]Licitació 2025'!H32 -> 68699.579 | F25: ='[1]Licitació 2025'!I32 -> 68699.58 | G25: =SUM(G23:G24) -> 51524.691 | H25: =SUM(H23:H24) -> 206098.75
B26: Costos totals | D26: =D22+D25 -> 169483 | E26: ='[1]Licitació 2025'!H33 -> 677932.02 | F26: ='[1]Licitació 2025'!I33 -> 677932.02 | G26: =G22+G25 -> 508449.03 | H26: =SUM(D26:G26) -> 2033796.1
B32: LOT 3 QUADRE DE DESPESES DIRECTES I INDIRECTES
C33: % | D33: 2025 | E33: 2026 | F33: 2027 | G33: 2028 | H33: TOTAL CONTRACTE
B34: Costos Salarials | C34: =H34/H37 -> 0.70724554 | D34: 94479.27 | E34: 377917.1 | F34: 377917.1 | G34: 283437.83 | H34: =SUM(D34:G34) -> 1133751.3
B35: Costos Seguretat Social | C35: =H35/H37 -> 0.22206085 | D35: 29664.6 | E35: 118658.35 | F35: 118658.35 | G35: 88993.76 | H35: =SUM(D35:G35) -> 355975.06
B36: Costos de Funcionament | C36: =H36/H37 -> 0.070693619 | D36: 9443.8 | E36: 37775.18 | F36: 37775.18 | G36: 28331.38 | H36: =SUM(D36:G36) -> 113325.54
B37: Costos directes | C37: =H37/H41 -> 0.89863409 | D37: =SUM(D34:D36) -> 133587.67 | E37: =SUM(E34:E36) -> 534350.63 | F37: =SUM(F34:F36) -> 534350.63 | G37: =SUM(G34:G36) -> 400762.97 | H37: =SUM(H34:H36) -> 1603051.9
B38: Despeses generals de gestió | C38: =H38/H40 -> 0.62056726 | D38: 9351.13 | E38: 37404.53 | F38: 37404.53 | G38: 28053.4 | H38: =SUM(D38:G38) -> 112213.59
B39: Marge empresarial | C39: =H39/H40 -> 0.37943274 | D39: 5717.55 | E39: 22870.21 | F39: 22870.21 | G39: 17152.66 | H39: =SUM(D39:G39) -> 68610.63
B40: Costos indirectes | C40: =H40/H41 -> 0.10136591 | D40: =SUM(D38:D39) -> 15068.68 | E40: =SUM(E38:E39) -> 60274.74 | F40: =SUM(F38:F39) -> 60274.74 | G40: =SUM(G38:G39) -> 45206.06 | H40: =SUM(H38:H39) -> 180824.22
B41: Costos totals | D41: =D37+D40 -> 148656.35 | E41: =E37+E40 -> 594625.37 | F41: =F37+F40 -> 594625.37 | G41: =G37+G40 -> 445969.03 | H41: =SUM(D41:G41) -> 1783876.1
B46: LOT 4 QUADRE DE DESPESES DIRECTES I INDIRECTES
C47: % | D47: 2025 | E47: 2026 | F47: 2027 | G47: 2028 | H47: TOTAL
B48: Costos Salarials | C48: =H48/H51 -> 0.71968229 | D48: 116121.61 | E48: 464485.92 | F48: 464485.92 | G48: 348364.41 | H48: =SUM(D48:G48) -> 1393457.9
B49: Costos Seguretat Social | C49: =H49/H51 -> 0.22596617 | D49: 36459.99 | E49: 145839.51 | F49: 145839.51 | G49: 109379.51 | H49: =SUM(D49:G49) -> 437518.52
B50: Costos de Funcionament | C50: =H50/H51 -> 0.054351539 | D50: 8769.6 | E50: 35078.74 | F50: 35078.74 | G50: 26309.05 | H50: =SUM(D50:G50) -> 105236.13
B51: Costos directes | C51: =H51/H55 -> 0.90090089 | D51: =SUM(D48:D50) -> 161351.2 | E51: =SUM(E48:E50) -> 645404.17 | F51: =SUM(F48:F50) -> 645404.17 | G51: =SUM(G48:G50) -> 484052.97 | H51: =SUM(H48:H50) -> 1936212.5
B52: Despeses generals de gestió | C52: =H52/H54 -> 0.63636354 | D52: 11294.57 | E52: 45178.29 | F52: 45178.29 | G52: 33883.72 | H52: =SUM(D52:G52) -> 135534.87
B53: Marge empresarial | C53: =H53/H54 -> 0.36363646 | D53: 6454.04 | E53: 25816.18 | F53: 25816.18 | G53: 19362.13 | H53: =SUM(D53:G53) -> 77448.53
B54: Costos indirectes | C54: =H54/H55 -> 0.099099109 | D54: 17748.61 | E54: =SUM(E52:E53) -> 70994.47 | F54: =SUM(F52:F53) -> 70994.47 | G54: =SUM(G52:G53) -> 53245.85 | H54: =SUM(H52:H53) -> 212983.4
...

Sheet Execució 5 lots
E2: LOT 1
E4: EXECUCIÓ CONTRACTE
E6: Mesos | G6: 3 | H6: 12 | I6: 12 | J6: 9 | K6: =SUM(G6:J6) -> 36
G7: 2025 | H7: 2026 | I7: 2027 | J7: 2028 | K7: LICITACIÓ
E8: Despeses per preu global
E9: Gestió global dels Habitatges amb Serveis per a persones grans | G9: 186305.03 | H9: 745220.14 | I9: 745220.14 | J9: 558915.11 | K9: =SUM(G9:J9) -> 2235660.4
E10: Subtotal Despeses per preu global | G10: =ROUND(SUM(G9),2) -> 186305.03 | H10: =SUM(H9) -> 745220.14 | I10: =SUM(I9) -> 745220.14 | J10: =ROUND(SUM(J9),2) -> 558915.11 | K10: =SUM(K9) -> 2235660.4
B12: Preu hora | C12: Hores anuals | E12: Despeses per preu unitari
B13: 23.84 | C13: 186 | E13: Prestació de serveis complementaris d'auxiliar de geriatria | G13: 1108.56 | H13: 4434.24 | I13: 4434.24 | J13: =I13/12*J6 -> 3325.68 | K13: =SUM(G13:J13) -> 13302.72
E14: Subtotal Despeses per preu unitari | G14: =ROUND(SUM(G13),2) -> 1108.56 | H14: =SUM(H13) -> 4434.24 | I14: =ROUND(SUM(I13),2) -> 4434.24 | J14: =ROUND(SUM(J13),2) -> 3325.68 | K14: =ROUND(SUM(G14:J14),2) -> 13302.72
B15: HORES TOTALS
B16: =C13*3 -> 558 | E16: Preu base de licitació | G16: =G9+G13 -> 187413.59 | H16: =H9+H13 -> 749654.38 | I16: =I10+I14 -> 749654.38 | J16: =J9+J14 -> 562240.79 | K16: =SUM(G16:J16) -> 2248963.1
E17: IVA | F17: 0.04 | G17: 7496.54 | H17: 29986.18 | I17: 29986.18 | J17: 22489.63 | K17: 89958.53
E18: Preu total del contracte | G18: =G16+G17 -> 194910.13 | H18: =H16+H17 -> 779640.56 | I18: =I16+I17 -> 779640.56 | J18: =J16+J17 -> 584730.42 | K18: =SUM(G18:J18) -> 2338921.7
E21: LOT 2
E23: EXECUCIÓ CONTRACTE
E25: Mesos | G25: 3 | H25: 12 | I25: 12 | J25: 9 | K25: =SUM(G25:J25) -> 36
G26: 2025 | H26: 2026 | I26: 2027 | J26: 2028 | K26: LICITACIÓ
E27: Despeses per preu global
E28: Gestió global dels Habitatges amb Serveis per a persones grans | G28: 168451.94 | H28: 673807.7 | I28: 673807.7 | J28: 505355.77 | K28: =SUM(G28:J28) -> 2021423.1
E29: Subtotal Despeses per preu global | G29: =SUM(G28) -> 168451.94 | H29: =SUM(H28) -> 673807.7 | I29: =SUM(I28) -> 673807.7 | J29: =SUM(J28) -> 505355.77 | K29: =SUM(G29:J29) -> 2021423.1
B31: Preu hora | C31: Hores anuals | E31: Despeses per preu unitari
B32: 23.84 | C32: 173 | E32: Prestació de serveis complementaris d'auxiliar de geriatria | G32: =H32/12*G25 -> 1031.08 | H32: =B32*C32 -> 4124.32 | I32: 4124.32 | J32: =I32/12*J25 -> 3093.24 | K32: =SUM(G32:J32) -> 12372.96
E33: Subtotal Despeses per provisions | G33: =SUM(G32) -> 1031.08 | H33: 4124.32 | I33: 4124.32 | J33: =SUM(J32) -> 3093.24 | K33: 12372.96
B34: Hores totals
B35: =C32*3 -> 519 | E35: Preu base de licitació | G35: =G28+G32 -> 169483.02 | H35: 677932.02 | I35: 677932.02 | J35: =J28+J33 -> 508449.01 | K35: =SUM(G35:J35) -> 2033796.1
E36: IVA | F36: 0.04 | G36: 6779.32 | H36: 27117.28 | I36: 27117.28 | J36: 20337.96 | K36: =SUM(G36:J36) -> 81351.84
E37: Preu total del contracte | G37: =SUM(G35:G36) -> 176262.34 | H37: 705049.3 | I37: 705049.3 | J37: =SUM(J35:J36) -> 528786.97 | K37: =SUM(K35:K36) -> 2115147.9
E40: LOT 3
E42: EXECUCIÓ CONTRACTE
E44: Mesos | G44: 3 | H44: 12 | I44: 12 | J44: 9 | K44: =SUM(G44:J44) -> 36
G45: 2025 | H45: 2026 | I45: 2027 | J45: 2028 | K45: LICITACIÓ
E46: Despeses per preu global
E47: Gestió global dels Habitatges amb Serveis per a persones grans | G47: 147720.62 | H47: 590882.49 | I47: 590882.49 | J47: 443161.88 | K47: =SUM(G47:J47) -> 1772647.5
E48: Subtotal Despeses per preu global | G48: =SUM(G47) -> 147720.62 | H48: =SUM(H47) -> 590882.49 | I48: =SUM(I47) -> 590882.49 | J48: =SUM(J47) -> 443161.88 | K48: =SUM(G48:J48) -> 1772647.5
B50: Preu hora | C50: Hores anuals | E50: Despeses per preu unitari
B51: 23.84 | C51: 157 | E51: Prestació de serveis complementaris d'auxiliar de geriatria | G51: =H51/12*G44 -> 935.72 | H51: =C51*B51 -> 3742.88 | I51: 3742.88 | J51: =I51/12*J44 -> 2807.16 | K51: =SUM(G51:J51) -> 11228.64
E52: Subtotal Despeses per provisions | G52: =SUM(G51) -> 935.72 | H52: 3742.88 | I52: 3742.88 | J52: =SUM(J51) -> 2807.16 | K52: =SUM(G52:J52) -> 11228.64
E54: Preu base de licitació | G54: =G48+G52 -> 148656.34 | H54: 594625.37 | I54: 594625.37 | J54: =J48+J52 -> 445969.04 | K54: =SUM(G54:J54) -> 1783876.1
B55: Hores totals | E55: IVA | F55: 0.04 | G55: 5946.26 | H55: 23785.01 | I55: 23785.01 | J55: 17838.76 | K55: =SUM(G55:J55) -> 71355.04
...

Sheet VEC 5 Lots
B2: LOT 1
B4: Any | C4: Pressupost net prestació | D4: Pressupost net eventual pròrrogues | E4: Pressupost net modificat amb increment de cost | F4: TOTALS
B5: 2025 | C5: ='Execució 5 lots'!$G$16 -> 187413.59 | F5: =SUM(C5:E5) -> 187413.59
B6: 2026 | C6: ='Execució 5 lots'!$H$16 -> 749654.38 | F6: =SUM(C6:E6) -> 749654.38
B7: 2027 | C7: ='Execució 5 lots'!$H$16 -> 749654.38 | F7: =SUM(C7:E7) -> 749654.38
B8: 2028 | C8: ='Execució 5 lots'!$J$16 -> 562240.79 | D8: =C5 -> 187413.59 | F8: =SUM(C8:E8) -> 749654.38
B9: 2029 | D9: 749654.38 | F9: =SUM(C9:E9) -> 749654.38
B10: 2030 | D10: =$C$8 -> 562240.79 | F10: =SUM(C10:E10) -> 562240.79
B11: Modificació | E11: 2660.54 | F11: =SUM(C11:E11) -> 2660.54
B12: TOTAL CONTRACTE | C12: =SUM(C5:C11) -> 2248963.1 | D12: =SUM(D8:D11) -> 1499308.8 | E12: 2660.544 | F12: =SUM(F5:F11) -> 3750932.4
B16: LOT 2
B17: Any | C17: Pressupost net prestació | D17: Pressupost net eventual pròrrogues | E17: Pressupost net modificat amb increment de cost | F17: TOTALS
B18: 2025 | C18: ='Execució 5 lots'!$G$35 -> 169483.02 | F18: =SUM(C18:E18) -> 169483.02
B19: 2026 | C19: ='Execució 5 lots'!$H$35 -> 677932.02 | F19: =SUM(C19:E19) -> 677932.02
B20: 2027 | C20: ='Execució 5 lots'!$H$35 -> 677932.02 | F20: =SUM(C20:E20) -> 677932.02
B21: 2028 | C21: ='Execució 5 lots'!$J$35 -> 508449.01 | D21: =$C$18 -> 169483.02 | F21: =SUM(C21:E21) -> 677932.03
B22: 2029 | D22: ='Execució 5 lots'!$H$35 -> 677932.02 | F22: =SUM(C22:E22) -> 677932.02
B23: 2030 | D23: ='Execució 5 lots'!$J$35 -> 508449.01 | F23: =SUM(C23:E23) -> 508449.01
B24: Modificació | E24: 2474.59 | F24: =SUM(C24:E24) -> 2474.59
B25: TOTAL CONTRACTE | C25: =SUM(C18:C24) -> 2033796.1 | D25: =SUM(D21:D24) -> 1355864.1 | E25: 2474.59 | F25: =SUM(F18:F24) -> 3392134.7
B30: LOT 3
B31: Any | C31: Pressupost net prestació | D31: Pressupost net eventual pròrrogues | E31: Pressupost net modificat amb increment de cost | F31: TOTALS
B32: 2025 | C32: 148656.34 | F32: =SUM(C32:E32) -> 148656.34
B33: 2026 | C33: ='Execució 5 lots'!$H$54 -> 594625.37 | F33: =SUM(C33:E33) -> 594625.37
B34: 2027 | C34: ='Execució 5 lots'!$H$54 -> 594625.37 | F34: =SUM(C34:E34) -> 594625.37
B35: 2028 | C35: ='Execució 5 lots'!$J$54 -> 445969.04 | D35: 148656.34 | F35: =SUM(C35:E35) -> 594625.38
B36: 2029 | D36: ='Execució 5 lots'!$H$54 -> 594625.37 | F36: =SUM(C36:E36) -> 594625.37
B37: 2030 | D37: ='Execució 5 lots'!$J$54 -> 445969.04 | F37: =SUM(C37:E37) -> 445969.04
B38: Modificació | E38: 2245.73 | F38: =SUM(C38:E38) -> 2245.73
B39: TOTAL CONTRACTE | C39: =SUM(C32:C38) -> 1783876.1 | D39: =SUM(D35:D38) -> 1189250.8 | E39: =SUM(E38) -> 2245.73 | F39: =SUM(F32:F38) -> 2975372.6
B43: LOT 4
B44: Any | C44: Pressupost net prestació | D44: Pressupost net eventual pròrrogues | E44: Pressupost net modificat amb increment de cost | F44: TOTALS
B45: 2025 | C45: 179099.81 | F45: =SUM(C45:E45) -> 179099.81
B46: 2026 | C46: ='Execució 5 lots'!$H$73 -> 716398.64 | F46: =SUM(C46:E46) -> 716398.64
B47: 2027 | C47: 716398.64 | F47: =SUM(C47:E47) -> 716398.64
B48: 2028 | C48: ='Execució 5 lots'!$J$73 -> 537298.82 | D48: 179099.81 | F48: =SUM(C48:E48) -> 716398.63
B49: 2029 | D49: =$C$46 -> 716398.64 | F49: =SUM(C49:E49) -> 716398.64
B50: 2030 | D50: =$C$48 -> 537298.82 | F50: =SUM(C50:E50) -> 537298.82
B51: Modificació | E51: 2660.54 | F51: =SUM(C51:E51) -> 2660.54
B52: TOTAL CONTRACTE | C52: =SUM(C45:C51) -> 2149195.9 | D52: =SUM(D45:D51) -> 1432797.3 | E52: 2660.54 | F52: =SUM(F45:F51) -> 3584653.7
...
