Workbook

Sheet Amidament
B2: PR.01 – AMIDAMENTS DEL PROJECTE
B4: Partida | C4: Descripció | H4: Amidament | I4: Preu unitari | J4: Import
B5: 1 | C5: Raspatllat, alicació de dissolvent quan calgui, preparació de la base i pintat de biga de perfil d'acer amb esmalt sintètic del mateix color que l’existent. Aplicació de dues capes d'imprimació antioxidant i dues d'acabat.
B6: m2
B7: Descripció | D7: unitats | E7: Longitud | F7: Perímetre | G7: Parcial
B8: IPN100 replans esq. | D8: =4*4 -> 16 | E8: 1.25 | F8: 0.33 | G8: =+D8*E8*F8 -> 6.6
B9: IPN100 replans dreta | D9: =2*2 -> 4 | E9: 1.25 | F9: 0.33 | G9: =+D9*E9*F9 -> 1.65
B10: IPN100 sota passera | D10: 4 | E10: 1.4 | F10: 0.33 | G10: =+D10*E10*F10 -> 1.848
B11: UPN100 sota passer | D11: 1 | E11: 3.5 | F11: 0.22 | G11: =+D11*E11*F11 -> 0.77
B12: Replà sota passera | D12: 1 | E12: 3.3 | F12: 0.33 | G12: =+D12*E12*F12 -> 1.089
D13: 2 | E13: 2.3 | F13: 0.33 | G13: =+D13*E13*F13 -> 1.518
D14: 1 | E14: 1.3 | F14: 0.33 | G14: =+D14*E14*F14 -> 0.429
B15: “Puntes” de la paret | D15: 4 | E15: 2.54 | F15: 0.4 | G15: =+D15*E15*F15 -> 4.064
D16: 3 | E16: 1.3 | F16: 0.4 | G16: =+D16*E16*F16 -> 1.56
B17: Total = | H17: =SUM(G8:G16) -> 19.528 | J17: =H17*I17 -> 0
B19: 2 | C19: Raspatllat, alicació de dissolvent quan calgui, preparació de la base i pintat de barana formada malla de filferro subjectada per perfils laminats d'acer amb esmalt sintètic del mateix color que l’existent. Aplicació de dues capes d'imprimació antioxidant i dues d'acabat.
B20: m2
B21: Descripció | D21: unitats | E21: longitud | F21: alçada | G21: Parcial
B22: Baixades entre plant. | D22: 4 | E22: 5.6 | F22: 1.6 | G22: =+D22*E22*F22 -> 35.84
B23: Replans esquerra | D23: 4 | E23: =2.5+1.55 -> 4.05 | F23: 1.85 | G23: =+D23*E23*F23 -> 29.97
B24: Replans dreta | D24: 2 | E24: 1.25 | F24: 1.85 | G24: =+D24*E24*F24 -> 4.625
B25: Barana repls. dreta | D25: 2 | E25: 2.5 | F25: 0.95 | G25: =+D25*E25*F25 -> 4.75
B26: Barana planta suprior | D26: 1 | E26: =7.4+1 -> 8.4 | F26: 0.95 | G26: =+D26*E26*F26 -> 7.98
B27: Barana final passera | D27: 1 | E27: 4.15 | F27: 0.9 | G27: =+D27*E27*F27 -> 3.735
B28: Total = | H28: =SUM(G22:G27) -> 86.9 | J28: =H28*I28 -> 0
B30: 3 | C30: Raspatllat, alicació de dissolvent quan calgui, preparació de la base i pintat de tub d'acer de petita secció, massís o buit, amb esmalt sintètic del mateix color que l’existent. Aplicació de dues capes d'imprimació antioxidant i dues d'acabat.
B31: ml
B32: Descripció | D32: unitats | E32: longitud | G32: Parcial
B33: Passamans rodons | D33: 4 | E33: 8.6 | G33: =+D33*E33 -> 34.4
B34: Arcs #35x35 mm | D34: =8*4 -> 32 | E34: 3.55 | G34: =+D34*E34 -> 113.6
B35: Total = | H35: =SUM(G33:G34) -> 148 | J35: =H35*I35 -> 0
B37: 4 | C37: Raspatllat, alicació de dissolvent quan calgui, preparació de la base i pintat de superfície de xapa d'acer amb esmalt sintètic del mateix color que l’existent. Aplicació de dues capes d'imprimació antioxidant i dues d'acabat.
B38: m2
B39: Descripció (VERT) | D39: unitats | E39: longitud | F39: alçada | G39: Parcial
B40: Paret central escala (1 cara) | D40: 3 | E40: =2*(7.4+0.09) -> 14.98 | F40: 4.75 | G40: =+D40*E40*F40 -> 213.465
B41: Paret central p.Sot. (1 cara) | D41: 1 | E41: =2*(7.4+0.09) -> 14.98 | F41: 3.5 | G41: =+D41*E41*F41 -> 52.43
B42: Barana xapa passera (2 cares) | D42: =1*2 -> 2 | E42: =+(0.85+17.5) -> 18.35 | F42: =+(1.25+0.2) -> 1.45 | G42: =+D42*E42*F42 -> 53.215
B44: Descripció (HOR) | D44: unitats | E44: longitud | F44: amplada | G44: Parcial
B45: Replans esquerra (2 cares) | D45: =4*2 -> 8 | E45: 2.54 | F45: 1.34 | G45: =+D45*E45*F45 -> 27.2288
B46: Replans dreta (2 cares) | D46: =2*2 -> 4 | E46: 1.25 | F46: 1.34 | G46: =+D46*E46*F46 -> 6.7
...

Sheet Pressupost
B2: PR.02 – PRESSUPOST DEL PROJECTE
B4: Partida | C4: Descripció | H4: Import
B5: 1 | C5: Raspatllat, alicació de dissolvent quan calgui, preparació de la base i pintat de biga de perfil d'acer amb esmalt sintètic del mateix color que l’existent. Aplicació de dues capes d'imprimació antioxidant i dues d'acabat.
B6: m2
F7: Amidament | G7: Preu unitari
F8: =+Amidament!H17 -> 19.528 | G8: 18.85 | H8: =+F8*G8 -> 368.1028
B10: 2 | C10: Raspatllat, alicació de dissolvent quan calgui, preparació de la base i pintat de barana formada malla de filferro subjectada per perfils laminats d'acer amb esmalt sintètic del mateix color que l’existent. Aplicació de dues capes d'imprimació antioxidant i dues d'acabat.
B11: m2
F12: Amidament | G12: Preu unitari
F13: =+Amidament!H28 -> 86.9 | G13: 20.4 | H13: =+F13*G13 -> 1772.76
B15: 3 | C15: Raspatllat, alicació de dissolvent quan calgui, preparació de la base i pintat de tub d'acer de petita secció, massís o buit, amb esmalt sintètic del mateix color que l’existent. Aplicació de dues capes d'imprimació antioxidant i dues d'acabat.
B16: ml
F17: Amidament | G17: Preu unitari
F18: =+Amidament!H35 -> 148 | G18: 17.04 | H18: =+F18*G18 -> 2521.92
B20: 4 | C20: Raspatllat, alicació de dissolvent quan calgui, preparació de la base i pintat de superfície de xapa d'acer amb esmalt sintètic del mateix color que l’existent. Aplicació de dues capes d'imprimació antioxidant i dues d'acabat.
B21: m2
F22: Amidament | G22: Preu unitari
F23: =+Amidament!H55 -> 509.8948 | G23: 18.12 | H23: =+F23*G23 -> 9239.2938
B25: 5 | C25: Subministrament i col·locació planxes llises d’acer lamint de 5 mm de gruix, fixades amb punts de soldadura sobre tubs estructurals d’acer existents. S’inclou el tall previ de les xapes existents (rovellades), la seva retirada retallant les soldadures i el repàs de soldadures de les noves xapes per amagar totalment la línia del tall.
B26: m2
F27: Amidament | G27: Preu unitari
F28: =+Amidament!H61 -> 7.4 | G28: 16.75 | H28: =+F28*G28 -> 123.95
B30: Total del Pressupost d’Execució Material = ADEQUACIÓ I PINTURA D’ESCALA D’EMERGÈNCIA . | H30: =SUM(H6:H29) -> 14026.027

Sheet Resum
B3: PR.03 – RESUM DE PRESSUPOST
B5: Pressupost d’Execució Material – PEM | E5: =+Pressupost!H30 -> 14026.027
B6: 13,00 % Despeses Generals . . . . | C6: =0.13*E5 -> 1823.3835
B7: 6,00 % Benefici Industrial . . . . . | C7: =0.06*E5 -> 841.56159
C8: DG + BI | D8: =+C6+C7 -> 2664.945
B9: Pressupost de Contractació – PEC | E9: =+E5+D8 -> 16690.972
B10: 21,00 % IVA . . . . . . . | C10: =0.21*E9 -> 3505.104
C11: Total PEC + IVA | E11: =+E9+C10 -> 20196.076
