Workbook

Sheet Resum preus
A1: previsió 2024
C2: PEC | D2: IVA | E2: Unitats | F2: Preu (I.e) | G2: IVA
B3: 25m2 (baix) | C3: ='25m2(baix)'!H59 -> 0 | D3: =C3*1.21 -> 0 | E3: 10 | F3: =C3*E3 -> 0 | G3: =F3*1.21 -> 0
B4: 25m2 (alt) | C4: ='25m2 (alt)'!H61 -> 0 | D4: =C4*1.21 -> 0 | E4: 6 | F4: =C4*E4 -> 0 | G4: =F4*1.21 -> 0
B5: 50m2 (baix) | C5: ='50m2 (baix)'!H59 -> 0 | D5: =C5*1.21 -> 0 | E5: 0 | F5: =C5*E5 -> 0 | G5: =F5*1.21 -> 0
B6: 50m2 (alt) | C6: ='50m2 (alt)'!H61 -> 0 | D6: =C6*1.21 -> 0 | E6: 6 | F6: =C6*E6 -> 0 | G6: =F6*1.21 -> 0
B7: 60m2 (alt) | C7: ='60m2 (alt)'!H61 -> 0 | D7: =C7*1.21 -> 0 | E7: 3 | F7: =C7*E7 -> 0 | G7: =F7*1.21 -> 0
A11: previsió 2025
C12: PEC | D12: IVA | E12: Unitats | F12: Preu (I.e) | G12: IVA
B13: 25m2 (baix) | C13: =C3 -> 0 | D13: =C13*1.21 -> 0 | E13: 12 | F13: =C13*E13 -> 0 | G13: =F13*1.21 -> 0
B14: 25m2 (alt) | C14: =C4 -> 0 | D14: =C14*1.21 -> 0 | E14: 0 | F14: =C14*E14 -> 0 | G14: =F14*1.21 -> 0
B15: 50m2 (baix) | C15: =C5 -> 0 | D15: =C15*1.21 -> 0 | E15: 0 | F15: =C15*E15 -> 0 | G15: =F15*1.21 -> 0
B16: 50m2 (alt) | C16: =C6 -> 0 | D16: =C16*1.21 -> 0 | E16: 3 | F16: =C16*E16 -> 0 | G16: =F16*1.21 -> 0
B17: 60m2 (alt) | C17: =C7 -> 0 | D17: =C17*1.21 -> 0 | E17: 2 | F17: =C17*E17 -> 0 | G17: =F17*1.21 -> 0

Sheet 25m2(baix)
B2: Codi | C2: Nat | D2: Ut | E2: Resum | F2: CanPres | G2: Pres | H2: ImpPres
B3: 1 | C3: Capitulo | E3: Mòdul 25m2
B4: 01.01 | C4: Partida | D4: u | E4: Retirada d'instal·lació elèctrica existent | F4: 1 | H4: =F4*G4 -> 0
E5: Retirada de canal, accessoris, lluminàries i cablejat a abocador autoritzat.
B6: 01.02 | C6: Partida | D6: m2 | E6: Retirada de paviment vinílic existent si s'escau | F6: 25 | H6: =F6*G6 -> 0
E7: Retirada de paviment vinílic existent i restes de cola. Inclou transport, neteja, retirada de residus a peu de càrrega i p.p de mitjans auxiliars.
B8: 01.03 | C8: Partida | D8: m2 | E8: Retirada d'envà existent, si s'escau. | F8: 9.9 | H8: =F8*G8 -> 0
E9: Retirada d'envà de guix laminat existent. Inclou transport, neteja, retirada de residus a peu de càrrega i p.p de mitjans auxiliars. Inclou sòcol.
B10: 01.04 | C10: Partida | D10: m2 | E10: Subministrament i col·locació de paviment linolium marmoleum modular de FORBO, en lames de 100x25 cm, 2,5mm de gruix, t3573 trace of nature. | F10: 25 | H10: =F10*G10 -> 0
E11: Paviment vinílic model sèrie Flex Allura de la casa FORBO, en lames de 100x20 cm, gruix de 5mm. Col·locat amb adhesiu/sold.en calent. Mateix color 61253FL5 que l'instal·lat a mòduls existents. Inclou pletina d'alumini de canvi de paviment (terratzo passadís i vinílic mòduls) de 30mm d'ample, encolada.
B12: 01.04.01 | C12: Partida | D12: ml | E12: Subministrament i col·locació de sòcol, de PVC de 7cm d’alçada, en color gris, igual a l’existent. | F12: 1 | H12: =F12*G12 -> 0
E13: Subministrament i col·locació de sòcol, en cas que fos necessari en alguna zona. El nou sòcol, serà igual a l’existent de PVC de 7cm d’alçada, en color gris.
B14: 01.05 | C14: Partida | D14: u | E14: Raspallat de porta fusta existent | F14: 3 | H14: =F14*G14 -> 0
E15: Raspallat de porta fusta existent amb xapa metàl·lica a la part inferior. Porta entre mòduls o en entrada per a anivellar amb nou acabat de sòl. *NOTA: Preu per unitat de porta.
B16: 01.06 | C16: Partida | D16: u | E16: Pintat de paraments verticals | F16: 1 | H16: =F16*G16 -> 0
E17: Pintat de paraments verticals fins a forjat, amb pintura plàstica amb acabat llis, amb una capa segelladora i dues d'acabat. Inclou mitjans auxiliars.
B18: 01.07 | C18: Partida | D18: u | E18: Pintat de portes i component de fusta | F18: 1 | H18: =F18*G18 -> 0
E19: Pintat de portes i parament horitzontal de fusta sota finestra, a l'esmalt sintètic, amb una capa segelladora i dues d'acabat.
B20: 01.08 | C20: Partida | D20: m | E20: Canal PVC de doble tapa UNEX 93 en U23X blanc | F20: 15 | H20: =F20*G20 -> 0
E21: Subministrament i col·locació de canal de pvc blanca de doble tapa fins a punts de xarxa indicats en plànol. Ref 93074-2 de 150x50mm amb envà separador. Inclou accessoris de muntatge.
B22: 01.09 | C22: Partida | D22: u | E22: Cablejat elèctric noves línies, lliure d'halògens | F22: 1 | H22: =F22*G22 -> 0
E23: Subministraments i instal·lació cablejat elèctric, lliure d'halògens, de les noves línies en canal i connexionat d'aquets a quadre elèctric existent aprofitant les proteccions actuals d'acord amb reglament electrotècnic per a baixa tensió. *Amidament per mòdul: - 36 ml de cable 3x2,5 -62 ml de cablecillo unipolar - 18 ml de tub rigid
B24: 01.10 | C24: Partida | D24: u | E24: Endolls schuko SIMON K45 de superfície per integrar a canal | F24: 12 | H24: =F24*G24 -> 0
E25: Caixa de 2 elements Schuko, muntada superficialment per integrar a canal.
B26: 01.11 | C26: Partida | D26: u | E26: Embellidor per a toma RJ45 de dades | F26: 6 | H26: =F26*G26 -> 0
E27: Embellidor per a toma RJ45, muntada superficialment per integrar a canal.
B28: 01.12 | C28: Partida | D28: u | E28: LED Pantalla ROBLAN LPT12030BF blanc | F28: 6 | H28: =F28*G28 -> 0
E29: Subministrament i col·locació de LED Pantalla 1200 x 300 mm 40W 220-240V 3800Lm 4000K blanc UGR<19 connectat i funcionant.
B30: 01.13 | C30: Partida | D30: u | E30: Armari rack BARPA SERIES CRUX 1 | F30: 1 | H30: =F30*G30 -> 0
E31: Armari rac metàl·lic mural per a sistemes de transmissió de veu, dades i imatge, amb bastidor tipus rack 19", de 12 unitats d'altura, de 600x600 mm (amplària x profunditat), porta de vidre de seguretat i pany amb clau, fixat al parament.
B32: 01.14 | C32: Partida | D32: u | E32: Pressa BARPA CAT6A STP 1.0 | F32: 6 | H32: =F32*G32 -> 0
E33: Subministrament i instal.lació BARPA CAT6A STP 1.0
B34: 01.15 | C34: Partida | D34: m | E34: Cablejat per internet de cables BARPA CAT6A U/UTP - LSZH - 23 AWG - 0,565 mm | F34: 80 | H34: =F34*G34 -> 0
E35: Subministraments i instal·lació de cablejat per internet de 6 cables
B36: 01.16 | C36: Partida | D36: u | E36: Subministrament i col·locació de BARPA EMPTY PATCH PANEL 24P 1U | F36: 1 | H36: =F36*G36 -> 0
E37: Panell integrat fix, equipat amb 24 connectors RJ45 compatibles amb 6 a 6A, U/UTP i STP, per a muntar sobre bastidor rack 19", d'1 unitat d'alçària, amb organitzador de cables, fixat mecànicament.
B38: 01.17 | C38: Partida | D38: u | E38: Panell d'endolls schuko per a rack BARPA 19" | F38: 1 | H38: =F38*G38 -> 0
E39: Subministrament i col·locació de panell d'endolls per a instal·lar en armari rack.
B40: 01.18 | C40: Partida | D40: u | E40: Passa cables per a rac BARPA 1U PLASTIC de 5 anells de 19" | F40: 1 | H40: =F40*G40 -> 0
E41: Subministrament i col·locació de passa cables negre per a armari rack 19".
B42: 01.19 | C42: Partida | D42: u | E42: Certificació punt d'informàtica | F42: 6 | H42: =F42*G42 -> 0
E43: Certificació punt d'informàtica
B44: 01.21 | C44: Partida | D44: u | E44: Neteja final d'obra | F44: 1 | H44: =F44*G44 -> 0
E45: Neteja final d'obra realitzada per empresa especialitzada amb productes neutres no agressius.
B46: 01.22 | C46: Partida | D46: u | E46: Ajudes a Electricitat, veu i dades | F46: 1 | H46: =F46*G46 -> 0
E47: Ajudes d'obra de paleta als industrials d'electricitat, veu i dades, fins i tot mà d'obra càrrega i descàrrega, materials, rebuts, obertura de buit per a localitzar cablejat existent, rematades i mitjans auxiliars per a treballs en altura.
B48: 01.23 | C48: Partida | D48: u | E48: Xapes d'acer en canvi de paviment | F48: 3 | H48: =F48*G48 -> 0
E49: Subministrament i col·locació de xapes d'acer en canvi de paviment, acabat mate de canvi de paviment (terratzo passadís i vinílic mòduls) de 30mm d'ample, encolada.
B50: 01.24 | C50: Partida | D50: u | E50: Treballs cartó-guix | F50: 1 | H50: =F50*G50 -> 0
E51: Treballs de reparació de cartó-guix.
E52: total unitari | H52: =SUM(H4:H51) -> 0
E53: Total 01
E55: Total 37.02.01 | H55: =H52 -> 0
E57: 13% D.G. | H57: =H55*0.13 -> 0
E58: 6 % B.I. | H58: =H55*0.06 -> 0
E59: Total P.E.C | H59: =H55+H57+H58 -> 0
E60: IVA 21% | H60: =H59*0.21 -> 0
E61: TOTAL AMB IVA | H61: =H59+H60 -> 0

Sheet 25m2 (alt)
B2: Codi | C2: Nat | D2: Ut | E2: Resum | F2: CanPres | G2: Pres | H2: ImpPres
B3: 1 | C3: Capitulo | E3: Mòdul 25m2 (alt)
B4: 01.01 | C4: Partida | D4: u | E4: Retirada d'instal·lació elèctrica existent | F4: 1 | H4: =F4*G4 -> 0
E5: Retirada de canal, accessoris, lluminàries i cablejat a abocador autoritzat.
B6: 01.02 | C6: Partida | D6: m2 | E6: Retirada de paviment vinílic existent | F6: 25 | H6: =F6*G6 -> 0
E7: Retirada de paviment vinílic existent i restes de cola. Inclou transport, neteja, retirada de residus a peu de càrrega i p.p de mitjans auxiliars.
B8: 01.03 | C8: Partida | D8: m2 | E8: Retirada d'envà existent | F8: 9.9 | H8: =F8*G8 -> 0
E9: Retirada d'envà de guix laminat existent. Inclou transport, neteja, retirada de residus a peu de càrrega i p.p de mitjans auxiliars. Mesurada la superfície segons plànols. Inclou sòcol.
B10: 01.04 | C10: Partida | D10: m2 | E10: Subministrament i col·locació de paviment linolium marmoleum modular de FORBO, en lames de 100x25 cm, 2,5mm de gruix, t3573 trace of nature. | F10: 25 | H10: =F10*G10 -> 0
E11: Paviment vinílic model sèrie Flex Allura de la casa FORBO, en lames de 100x20 cm, gruix de 5mm. Col·locat amb adhesiu/sold.en calent. Mateix color 61253FL5 que l'instal·lat a mòduls existents. Inclou platina d'alumini de canvi de paviment (terratzo passadís i vinílic mòduls) de 30mm d'ample, encolada.
B12: 01.04.01 | C12: Partida | D12: ml | E12: Subministrament i col·locació de sòcol, de PVC de 7cm d’alçada, en color gris, igual a l’existent. | F12: 1 | H12: =F12*G12 -> 0
E13: Subministrament i col·locació de sòcol, en cas que fos necessari en alguna zona. El nou sòcol, serà igual a l’existent de PVC de 7cm d’alçada, en color gris.
B14: 01.05 | C14: Partida | D14: u | E14: Raspallat de porta fusta existent | F14: 3 | H14: =F14*G14 -> 0
E15: Raspallat de porta fusta existent amb xapa metàl·lica a la part inferior. Porta entre mòduls o en entrada per a anivellar amb nou acabat de sòl. *NOTA: Preu per unitat de porta.
B16: 01.06 | C16: Partida | D16: u | E16: Pintat de paraments verticals | F16: 1 | H16: =F16*G16 -> 0
E17: Pintat de paraments verticals fins a forjat, amb pintura plàstica amb acabat llis, amb una capa segelladora i dues d'acabat. Inclou mitjans auxiliars.
B18: 01.07 | C18: Partida | D18: u | E18: Pintat de portes i component de fusta | F18: 1 | H18: =F18*G18 -> 0
E19: Pintat de portes i parament horitzontal de fusta sota finestra, a l'esmalt sintètic, amb una capa segelladora i dues d'acabat.
B20: 01.08 | C20: Partida | D20: m | E20: Canal PVC de doble tapa UNEX 93 en U23X blanc | F20: 15 | H20: =F20*G20 -> 0
E21: Subministrament i col·locació de canal de pvc blanca de doble tapa fins a punts de xarxa indicats en plànol. Ref 93074-2 de 150x50mm amb envà separador. Inclou accessoris de muntatge.
B22: 01.09 | C22: Partida | D22: u | E22: Cablejat elèctric noves línies, lliure d'halògens | F22: 1 | H22: =F22*G22 -> 0
E23: Subministraments i instal·lació cablejat elèctric, lliure d'halògens, de les noves línies en canal i connexionat d'aquets a quadre elèctric existent aprofitant les proteccions actuals d'acord amb reglament electrotècnic per a baixa tensió. *Amidament per mòdul: - 36 ml de cable 3x2,5 -62 ml de cablecillo unipolar - 18 ml de tub rigid
B24: 01.10 | C24: Partida | D24: u | E24: Endolls schuko SIMON K45 de superfície per integrar a canal | F24: 12 | H24: =F24*G24 -> 0
E25: Caixa de 2 elements Schuko, muntada superficialment per integrar a canal.
B26: 01.11 | C26: Partida | D26: u | E26: Embellidor per a toma RJ45 de dades | F26: 6 | H26: =F26*G26 -> 0
E27: Embellidor per a toma RJ45, muntada superficialment per integrar a canal.
B28: 01.12 | C28: Partida | D28: u | E28: LED Pantalla ROBLAN LPT12030BF blanc | F28: 6 | H28: =F28*G28 -> 0
E29: Subministrament i col·locació de LED Pantalla 1200 x 300 mm 40W 220-240V 3800Lm 4000K blanc UGR<19 connectat i funcionant.
B30: 01.13 | C30: Partida | D30: u | E30: Armari rack BARPA SERIES CRUX 1 | F30: 1 | H30: =F30*G30 -> 0
E31: Armari rac metàl·lic mural per a sistemes de transmissió de veu, dades i imatge, amb bastidor tipus rack 19", de 12 unitats d'altura, de 600x600 mm (amplària x profunditat), porta de vidre de seguretat i pany amb clau, fixat al parament.
B32: 01.14 | C32: Partida | D32: u | E32: Pressa BARPA CAT6A STP 1.0 | F32: 6 | H32: =F32*G32 -> 0
E33: Subministrament i instal.lació BARPA CAT6A STP 1.0
B34: 01.15 | C34: Partida | D34: m | E34: Cablejat per internet de cables BARPA CAT6A U/UTP - LSZH - 23 AWG - 0,565 mm | F34: 80 | H34: =F34*G34 -> 0
E35: Subministraments i instal·lació de cablejat per internet de 6 cables
B36: 01.16 | C36: Partida | D36: u | E36: Subministrament i col·locació de BARPA EMPTY PATCH PANEL 24P 1U | F36: 1 | H36: =F36*G36 -> 0
E37: Panell integrat fix, equipat amb 24 connectors RJ45 compatibles amb 6 a 6A, U/UTP i STP, per a muntar sobre bastidor rack 19", d'1 unitat d'alçària, amb organitzador de cables, fixat mecànicament.
B38: 01.17 | C38: Partida | D38: u | E38: Panell d'endolls schuko per a rack BARPA 19" | F38: 1 | H38: =F38*G38 -> 0
E39: Subministrament i col·locació de panell d'endolls per a instal·lar en armari rack.
B40: 01.18 | C40: Partida | D40: u | E40: Passa cables per a rac BARPA 1U PLASTIC de 5 anells de 19" | F40: 1 | H40: =F40*G40 -> 0
E41: Subministrament i col·locació de passa cables negre per a armari rack 19".
B42: 01.19 | C42: Partida | D42: u | E42: Certificació punt d'informàtica | F42: 6 | H42: =F42*G42 -> 0
E43: Certificació punt d'informàtica
B44: 01.20 | C44: Partida | E44: Suportació de llumeneres | F44: 12 | H44: =F44*G44 -> 0
E45: Suplement per a instal.lació de llums penjats del sostre mitjançant tirants d'acer.
B46: 01.21 | C46: Partida | D46: u | E46: Neteja final d'obra | F46: 1 | H46: =F46*G46 -> 0
E47: Neteja final d'obra realitzada per empresa especialitzada amb productes neutres no agressius.
B48: 01.22 | C48: Partida | D48: u | E48: Ajudes a Electricitat, veu i dades | F48: 1 | H48: =F48*G48 -> 0
E49: Ajudes d'obra de paleta als industrials d'electricitat, veu i dades, fins i tot mà d'obra càrrega i descàrrega, materials, rebuts, obertura de buit per a localitzar cablejat existent, rematades i mitjans auxiliars per a treballs en altura.
B50: 01.23 | C50: Partida | D50: u | E50: Xapes d'acer en canvi de paviment | F50: 3 | H50: =F50*G50 -> 0
E51: Subministrament i col·locació de xapes d'acer en canvi de paviment, acabat mate de canvi de paviment (terratzo passadís i vinílic mòduls) de 30mm d'ample, encolada.
B52: 01.24 | C52: Partida | D52: u | E52: Treballs cartó-guix | F52: 1 | H52: =F52*G52 -> 0
E53: Treballs de reparació de cartó-guix.
E54: total unitari | H54: =SUM(H4:H53) -> 0
E55: Total 01
E57: Total 37.02.01 | H57: =H54 -> 0
E59: 13% D.G. | H59: =H57*0.13 -> 0
E60: 6 % B.I. | H60: =H57*0.06 -> 0
E61: Total P.E.C | H61: =H57+H59+H60 -> 0
E62: IVA 21% | H62: =H61*0.21 -> 0
E63: TOTAL AMB IVA | H63: =H61+H62 -> 0

Sheet 50m2 (baix)
B2: Codi | C2: Nat | D2: Ut | E2: Resum | F2: CanPres | G2: Pres | H2: ImpPres
B3: 1 | C3: Capitulo | E3: Mòdul 50m2 (baix)
B4: 01.01 | C4: Partida | D4: u | E4: Retirada d'instal·lació elèctrica existent | F4: 1 | H4: =F4*G4 -> 0
E5: Retirada de canal, accessoris, lluminàries i cablejat a abocador autoritzat.
B6: 01.02 | C6: Partida | D6: m2 | E6: Retirada de paviment vinílic existent | F6: 50 | H6: =F6*G6 -> 0
E7: Retirada de paviment vinílic existent i restes de cola. Inclou transport, neteja, retirada de residus a peu de càrrega i p.p de mitjans auxiliars.
B8: 01.03 | C8: Partida | D8: m2 | E8: Retirada d'envà existent | F8: 19.8 | H8: =F8*G8 -> 0
E9: Retirada d'envà de guix laminat existent. Inclou transport, neteja, retirada de residus a peu de càrrega i p.p de mitjans auxiliars. Mesurada la superfície segons plànols. Inclou sòcol.
B10: 01.04 | C10: Partida | D10: m2 | E10: Subministrament i col·locació de paviment linolium marmoleum modular de FORBO, en lames de 100x25 cm, 2,5mm de gruix, t3573 trace of nature. | F10: 50 | H10: =F10*G10 -> 0
E11: Paviment vinílic model sèrie Flex Allura de la casa FORBO, en lames de 100x20 cm, gruix de 5mm. Col·locat amb adhesiu/sold.en calent. Mateix color 61253FL5 que l'instal·lat a mòduls existents. Inclou platina d'alumini de canvi de paviment (terratzo passadís i vinílic mòduls) de 30mm d'ample, encolada.
B12: 01.04.01 | C12: Partida | D12: ml | E12: Subministrament i col·locació de sòcol, de PVC de 7cm d’alçada, en color gris, igual a l’existent. | F12: 1 | H12: =F12*G12 -> 0
E13: Subministrament i col·locació de sòcol, en cas que fos necessari en alguna zona. El nou sòcol, serà igual a l’existent de PVC de 7cm d’alçada, en color gris.
B14: 01.05 | C14: Partida | D14: u | E14: Raspallat de porta fusta existent | F14: 6 | H14: =F14*G14 -> 0
E15: Raspallat de porta fusta existent amb xapa metàl·lica a la part inferior. Porta entre mòduls o en entrada per a anivellar amb nou acabat de sòl. *NOTA: Preu per unitat de porta.
B16: 01.06 | C16: Partida | D16: u | E16: Pintat de paraments verticals | F16: 1 | H16: =F16*G16 -> 0
E17: Pintat de paraments verticals fins a forjat, amb pintura plàstica amb acabat llis, amb una capa segelladora i dues d'acabat. Inclou mitjans auxiliars.
B18: 01.07 | C18: Partida | D18: u | E18: Pintat de portes i component de fusta | F18: 1 | H18: =F18*G18 -> 0
E19: Pintat de portes i parament horitzontal de fusta sota finestra, a l'esmalt sintètic, amb una capa segelladora i dues d'acabat.
B20: 01.08 | C20: Partida | D20: m | E20: Canal PVC de doble tapa UNEX 93 en U23X blanc | F20: 28 | H20: =F20*G20 -> 0
E21: Subministrament i col·locació de canal de pvc blanca de doble tapa fins a punts de xarxa indicats en plànol. Ref 93074-2 de 150x50mm amb envà separador. Inclou accessoris de muntatge.
B22: 01.09 | C22: Partida | D22: u | E22: Cablejat elèctric noves línies, lliure d'halògens | F22: 1 | H22: =F22*G22 -> 0
E23: Subministraments i instal·lació cablejat elèctric, lliure d'halògens, de les noves línies en canal i connexionat d'aquets a quadre elèctric existent aprofitant les proteccions actuals d'acord amb reglament electrotècnic per a baixa tensió. *Amidament per mòdul: - 36 ml de cable 3x2,5 -62 ml de cablecillo unipolar - 18 ml de tub rigid
B24: 01.10 | C24: Partida | D24: u | E24: Endolls schuko SIMON K45 de superfície per integrar a canal | F24: 24 | H24: =F24*G24 -> 0
E25: Caixa de 2 elements Schuko, muntada superficialment per integrar a canal.
B26: 01.11 | C26: Partida | D26: u | E26: Embellidor per a toma RJ45 de dades | F26: 12 | H26: =F26*G26 -> 0
E27: Embellidor per a toma RJ45, muntada superficialment per integrar a canal.
B28: 01.12 | C28: Partida | D28: u | E28: LED Pantalla ROBLAN LPT12030BF blanc | F28: 12 | H28: =F28*G28 -> 0
E29: Subministrament i col·locació de LED Pantalla 1200 x 300 mm 40W 220-240V 3800Lm 4000K blanc UGR<19 connectat i funcionant.
B30: 01.13 | C30: Partida | D30: u | E30: Armari rack BARPA SERIES CRUX 1 | F30: 1 | H30: =F30*G30 -> 0
E31: Armari rac metàl·lic mural per a sistemes de transmissió de veu, dades i imatge, amb bastidor tipus rack 19", de 12 unitats d'altura, de 600x600 mm (amplària x profunditat), porta de vidre de seguretat i pany amb clau, fixat al parament.
B32: 01.14 | C32: Partida | D32: u | E32: Pressa BARPA CAT6A STP 1.0 | F32: 12 | H32: =F32*G32 -> 0
E33: Subministrament i instal.lació BARPA CAT6A STP 1.0
B34: 01.15 | C34: Partida | D34: m | E34: Cablejat per internet de cables BARPA CAT6A U/UTP - LSZH - 23 AWG - 0,565 mm | F34: 160 | H34: =F34*G34 -> 0
E35: Subministraments i instal·lació de cablejat per internet de 6 cables
B36: 01.16 | C36: Partida | D36: u | E36: Subministrament i col·locació de BARPA EMPTY PATCH PANEL 24P 1U | F36: 1 | H36: =F36*G36 -> 0
E37: Panell integrat fix, equipat amb 24 connectors RJ45 compatibles amb 6 a 6A, U/UTP i STP, per a muntar sobre bastidor rack 19", d'1 unitat d'alçària, amb organitzador de cables, fixat mecànicament.
B38: 01.17 | C38: Partida | D38: u | E38: Panell d'endolls schuko per a rack BARPA 19" | F38: 1 | H38: =F38*G38 -> 0
E39: Subministrament i col·locació de panell d'endolls per a instal·lar en armari rack.
B40: 01.18 | C40: Partida | D40: u | E40: Passa cables per a rac BARPA 1U PLASTIC de 5 anells de 19" | F40: 1 | H40: =F40*G40 -> 0
E41: Subministrament i col·locació de passa cables negre per a armari rack 19".
B42: 01.19 | C42: Partida | D42: u | E42: Certificació punt d'informàtica | F42: 12 | H42: =F42*G42 -> 0
E43: Certificació punt d'informàtica
B44: 01.21 | C44: Partida | D44: u | E44: Neteja final d'obra | F44: 1 | H44: =F44*G44 -> 0
E45: Neteja final d'obra realitzada per empresa especialitzada amb productes neutres no agressius.
B46: 01.22 | C46: Partida | D46: u | E46: Ajudes a Electricitat, veu i dades | F46: 1 | H46: =F46*G46 -> 0
E47: Ajudes d'obra de paleta als industrials d'electricitat, veu i dades, fins i tot mà d'obra càrrega i descàrrega, materials, rebuts, obertura de buit per a localitzar cablejat existent, rematades i mitjans auxiliars per a treballs en altura.
B48: 01.23 | C48: Partida | D48: u | E48: Xapes d'acer en canvi de paviment | F48: 6 | H48: =F48*G48 -> 0
E49: Subministrament i col·locacióde xapes d'acer en canvi de paviment, acabat mate de canvi de paviment (terratzo passadís i vinílic mòduls) de 30mm d'ample, encolada.
B50: 01.24 | C50: Partida | D50: u | E50: Treballs cartó-guix | F50: 1 | H50: =F50*G50 -> 0
E51: Treballs de reparació de cartó-guix.
E52: total unitari | H52: =SUM(H4:H51) -> 0
E53: Total 01
E55: Total 37.02.01 | H55: =H52 -> 0
E57: 13% D.G. | H57: =H55*0.13 -> 0
E58: 6 % B.I. | H58: =H55*0.06 -> 0
E59: Total P.E.C | H59: =H55+H57+H58 -> 0
E60: IVA 21% | H60: =H59*0.21 -> 0
E61: TOTAL AMB IVA | H61: =H59+H60 -> 0

Sheet 50m2 (alt)
B2: Codi | C2: Nat | D2: Ut | E2: Resum | F2: CanPres | G2: Pres | H2: ImpPres
B3: 1 | C3: Capitulo | E3: Mòdul 50m2 (alt)
B4: 01.01 | C4: Partida | D4: u | E4: Retirada d'instal·lació elèctrica existent | F4: 1 | H4: =F4*G4 -> 0
E5: Retirada de canal, accessoris, lluminàries i cablejat a abocador autoritzat.
B6: 01.02 | C6: Partida | D6: m2 | E6: Retirada de paviment vinílic existent | F6: 50 | H6: =F6*G6 -> 0
E7: Retirada de paviment vinílic existent i restes de cola. Inclou transport, neteja, retirada de residus a peu de càrrega i p.p de mitjans auxiliars.
B8: 01.03 | C8: Partida | D8: m2 | E8: Retirada d'envà existent | F8: 19.8 | H8: =F8*G8 -> 0
E9: Retirada d'envà de guix laminat existent. Inclou transport, neteja, retirada de residus a peu de càrrega i p.p de mitjans auxiliars. Mesurada la superfície segons plànols. Inclou sòcol.
B10: 01.04 | C10: Partida | D10: m2 | E10: Subministrament i col·locació de paviment linolium marmoleum modular de FORBO, en lames de 100x25 cm, 2,5mm de gruix, t3573 trace of nature. | F10: 50 | H10: =F10*G10 -> 0
E11: Paviment vinílic model sèrie Flex Allura de la casa FORBO, en lames de 100x20 cm, gruix de 5mm. Col·locat amb adhesiu/sold.en calent. Mateix color 61253FL5 que l'instal·lat a mòduls existents. Inclou platina d'alumini de canvi de paviment (terratzo passadís i vinílic mòduls) de 30mm d'ample, encolada.
B12: 01.04.01 | C12: Partida | D12: ml | E12: Subministrament i col·locació de sòcol, de PVC de 7cm d’alçada, en color gris, igual a l’existent. | F12: 1 | H12: =F12*G12 -> 0
E13: Subministrament i col·locació de sòcol, en cas que fos necessari en alguna zona. El nou sòcol, serà igual a l’existent de PVC de 7cm d’alçada, en color gris.
B14: 01.05 | C14: Partida | D14: u | E14: Raspallat de porta fusta existent | F14: 6 | H14: =F14*G14 -> 0
E15: Raspallat de porta fusta existent amb xapa metàl·lica a la part inferior. Porta entre mòduls o en entrada per a anivellar amb nou acabat de sòl. *NOTA: Preu per unitat de porta.
B16: 01.06 | C16: Partida | D16: u | E16: Pintat de paraments verticals | F16: 1 | H16: =F16*G16 -> 0
E17: Pintat de paraments verticals fins a forjat, amb pintura plàstica amb acabat llis, amb una capa segelladora i dues d'acabat. Inclou mitjans auxiliars.
B18: 01.07 | C18: Partida | D18: u | E18: Pintat de portes i component de fusta | F18: 1 | H18: =F18*G18 -> 0
E19: Pintat de portes i parament horitzontal de fusta sota finestra, a l'esmalt sintètic, amb una capa segelladora i dues d'acabat.
B20: 01.08 | C20: Partida | D20: m | E20: Canal PVC de doble tapa UNEX 93 en U23X blanc | F20: 28 | H20: =F20*G20 -> 0
E21: Subministrament i col·locació de canal de pvc blanca de doble tapa fins a punts de xarxa indicats en plànol. Ref 93074-2 de 150x50mm amb envà separador. Inclou accessoris de muntatge.
B22: 01.09 | C22: Partida | D22: u | E22: Cablejat elèctric noves línies, lliure d'halògens | F22: 1 | H22: =F22*G22 -> 0
E23: Subministraments i instal·lació cablejat elèctric, lliure d'halògens, de les noves línies en canal i connexionat d'aquets a quadre elèctric existent aprofitant les proteccions actuals d'acord amb reglament electrotècnic per a baixa tensió. *Amidament per mòdul: - 36 ml de cable 3x2,5 -62 ml de cablecillo unipolar - 18 ml de tub rigid
B24: 01.10 | C24: Partida | D24: u | E24: Endolls schuko SIMON K45 de superfície per integrar a canal | F24: 24 | H24: =F24*G24 -> 0
E25: Caixa de 2 elements Schuko, muntada superficialment per integrar a canal.
B26: 01.11 | C26: Partida | D26: u | E26: Embellidor per a toma RJ45 de dades | F26: 12 | H26: =F26*G26 -> 0
E27: Embellidor per a toma RJ45, muntada superficialment per integrar a canal.
B28: 01.12 | C28: Partida | D28: u | E28: LED Pantalla ROBLAN LPT12030BF blanc | F28: 12 | H28: =F28*G28 -> 0
E29: Subministrament i col·locació de LED Pantalla 1200 x 300 mm 40W 220-240V 3800Lm 4000K blanc UGR<19 connectat i funcionant.
B30: 01.13 | C30: Partida | D30: u | E30: Armari rack BARPA SERIES CRUX 1 | F30: 1 | H30: =F30*G30 -> 0
E31: Armari rac metàl·lic mural per a sistemes de transmissió de veu, dades i imatge, amb bastidor tipus rack 19", de 12 unitats d'altura, de 600x600 mm (amplària x profunditat), porta de vidre de seguretat i pany amb clau, fixat al parament.
B32: 01.14 | C32: Partida | D32: u | E32: Pressa BARPA CAT6A STP 1.0 | F32: 12 | H32: =F32*G32 -> 0
E33: Subministrament i instal.lació BARPA CAT6A STP 1.0
B34: 01.15 | C34: Partida | D34: m | E34: Cablejat per internet de cables BARPA CAT6A U/UTP - LSZH - 23 AWG - 0,565 mm | F34: 160 | H34: =F34*G34 -> 0
E35: Subministraments i instal·lació de cablejat per internet de 6 cables
B36: 01.16 | C36: Partida | D36: u | E36: Subministrament i col·locació de BARPA EMPTY PATCH PANEL 24P 1U | F36: 1 | H36: =F36*G36 -> 0
E37: Panell integrat fix, equipat amb 24 connectors RJ45 compatibles amb 6 a 6A, U/UTP i STP, per a muntar sobre bastidor rack 19", d'1 unitat d'alçària, amb organitzador de cables, fixat mecànicament.
B38: 01.17 | C38: Partida | D38: u | E38: Panell d'endolls schuko per a rack BARPA 19" | F38: 1 | H38: =F38*G38 -> 0
E39: Subministrament i col·locació de panell d'endolls per a instal·lar en armari rack.
B40: 01.18 | C40: Partida | D40: u | E40: Passa cables per a rac BARPA 1U PLASTIC de 5 anells de 19" | F40: 1 | H40: =F40*G40 -> 0
E41: Subministrament i col·locació de passa cables negre per a armari rack 19".
B42: 01.19 | C42: Partida | D42: u | E42: Certificació punt d'informàtica | F42: 12 | H42: =F42*G42 -> 0
E43: Certificació punt d'informàtica
B44: 01.20 | C44: Partida | E44: Suportació de llumeneres | F44: 24 | H44: =F44*G44 -> 0
E45: Suplement per a instal.lació de llums penjats del sostre mitjançant tirants d'acer.
B46: 01.21 | C46: Partida | D46: u | E46: Neteja final d'obra | F46: 1 | H46: =F46*G46 -> 0
E47: Neteja final d'obra realitzada per empresa especialitzada amb productes neutres no agressius.
B48: 01.22 | C48: Partida | D48: u | E48: Ajudes a Electricitat, veu i dades | F48: 1 | H48: =F48*G48 -> 0
E49: Ajudes d'obra de paleta als industrials d'electricitat, veu i dades, fins i tot mà d'obra càrrega i descàrrega, materials, rebuts, obertura de buit per a localitzar cablejat existent, rematades i mitjans auxiliars per a treballs en altura.
B50: 01.23 | C50: Partida | D50: u | E50: Xapes d'acer en canvi de paviment | F50: 6 | H50: =F50*G50 -> 0
E51: Subministrament i col·locació de xapes d'acer en canvi de paviment, acabat mate de canvi de paviment (terratzo passadís i vinílic mòduls) de 30mm d'ample, encolada.
B52: 01.24 | C52: Partida | D52: u | E52: Treballs cartó-guix | F52: 1 | H52: =F52*G52 -> 0
E53: Treballs de reparació de cartó-guix.
E54: total unitari | H54: =SUM(H4:H53) -> 0
E55: Total 01
E57: Total 37.02.01 | H57: =H54 -> 0
E59: 13% D.G. | H59: =H57*0.13 -> 0
E60: 6 % B.I. | H60: =H57*0.06 -> 0
E61: Total P.E.C | H61: =H57+H59+H60 -> 0
E62: IVA 21% | H62: =H61*0.21 -> 0
E63: TOTAL AMB IVA | H63: =H61+H62 -> 0

Sheet 60m2 (alt)
B2: Codi | C2: Nat | D2: Ut | E2: Resum | F2: CanPres | G2: Pres | H2: ImpPres
B3: 1 | C3: Capitulo | E3: Mòdul 50m2 (alt)
B4: 01.01 | C4: Partida | D4: u | E4: Retirada d'instal·lació elèctrica existent | F4: 1 | H4: =F4*G4 -> 0
E5: Retirada de canal, accessoris, lluminàries i cablejat a abocador autoritzat.
B6: 01.03 | C6: Partida | D6: m2 | E6: Retirada d'envà existent | F6: 0 | H6: =F6*G6 -> 0
E7: Retirada d'envà de guix laminat existent. Inclou transport, neteja, retirada de residus a peu de càrrega i p.p de mitjans auxiliars. Mesurada la superfície segons plànols. Inclou sòcol.
B8: 01.04 | C8: Partida | D8: m2 | E8: Subministrament i col·locació de paviment linolium marmoleum modular de FORBO, en lames de 100x25 cm, 2,5mm de gruix, t3573 trace of nature. | F8: 60 | H8: =F8*G8 -> 0
E9: Paviment vinílic model sèrie Flex Allura de la casa FORBO, en lames de 100x20 cm, gruix de 5mm. Col·locat amb adhesiu/sold.en calent. Mateix color 61253FL5 que l'instal·lat a mòduls existents. Inclou platina d'alumini de canvi de paviment (terratzo passadís i vinílic mòduls) de 30mm d'ample, encolada.
B10: 01.04.01 | C10: Partida | D10: ml | E10: Subministrament i col·locació de sòcol, de PVC de 7cm d’alçada, en color gris, igual a l’existent. | F10: 1 | H10: =F10*G10 -> 0
E11: Subministrament i col·locació de sòcol, en cas que fos necessari en alguna zona. El nou sòcol, serà igual a l’existent de PVC de 7cm d’alçada, en color gris.
B12: 01.05 | C12: Partida | D12: u | E12: Raspallat de porta fusta existent | F12: 2 | H12: =F12*G12 -> 0
E13: Raspallat de porta fusta existent amb xapa metàl·lica a la part inferior. Porta entre mòduls o en entrada per a anivellar amb nou acabat de sòl. *NOTA: Preu per unitat de porta.
B14: 01.06 | C14: Partida | D14: u | E14: Pintat de paraments verticals | F14: 1 | H14: =F14*G14 -> 0
E15: Pintat de paraments verticals fins a forjat, amb pintura plàstica amb acabat llis, amb una capa segelladora i dues d'acabat. Inclou mitjans auxiliars.
B16: 01.07 | C16: Partida | D16: u | E16: Pintat de portes i component de fusta | F16: 1 | H16: =F16*G16 -> 0
E17: Pintat de portes i parament horitzontal de fusta sota finestra, a l'esmalt sintètic, amb una capa segelladora i dues d'acabat.
B18: 01.08 | C18: Partida | D18: m | E18: Canal PVC de doble tapa UNEX 93 en U23X blanc. | F18: 35 | H18: =F18*G18 -> 0
E19: Subministrament i col·locació de canal de pvc blanca de doble tapa fins a punts de xarxa indicats en plànol. Ref 93074-2 de 150x50mm amb envà separador. Inclou accessoris de muntatge.
B20: 01.09 | C20: Partida | D20: u | E20: Cablejat elèctric noves línies, lliure d'halògens | F20: 1 | H20: =F20*G20 -> 0
E21: Subministraments i instal·lació cablejat elèctric, lliure d'halògens, de les noves línies en canal i connexionat d'aquets a quadre elèctric existent aprofitant les proteccions actuals d'acord amb reglament electrotècnic per a baixa tensió. *Amidament per mòdul: - 36 ml de cable 3x2,5 -62 ml de cablecillo unipolar - 18 ml de tub rigid
B22: 01.10 | C22: Partida | D22: u | E22: Endolls schuko SIMON K45 de superfície per integrar a canal | F22: 28 | H22: =F22*G22 -> 0
E23: Caixa de 2 elements Schuko, muntada superficialment per integrar a canal.
B24: 01.11 | C24: Partida | D24: u | E24: Embellidor per a toma RJ45 de dades | F24: 12 | H24: =F24*G24 -> 0
E25: Embellidor per a toma RJ45, muntada superficialment per integrar a canal.
B26: 01.12 | C26: Partida | D26: u | E26: LED Pantalla ROBLAN LPT12030BF blanc | F26: 12 | H26: =F26*G26 -> 0
E27: Subministrament i col·locació de LED Pantalla 1200 x 300 mm 40W 220-240V 3800Lm 4000K blanc UGR<19 connectat i funcionant.
B28: 01.13 | C28: Partida | D28: u | E28: Armari rack BARPA SERIES CRUX 1 | F28: 1 | H28: =F28*G28 -> 0
E29: Armari rac metàl·lic mural per a sistemes de transmissió de veu, dades i imatge, amb bastidor tipus rack 19", de 12 unitats d'altura, de 600x600 mm (amplària x profunditat), porta de vidre de seguretat i pany amb clau, fixat al parament.
B30: 01.14 | C30: Partida | D30: u | E30: Pressa BARPA CAT6A STP 1.0 | F30: 12 | H30: =F30*G30 -> 0
E31: Subministrament i instal.lació BARPA CAT6A STP 1.0
B32: 01.15 | C32: Partida | D32: m | E32: Cablejat per internet de cables BARPA CAT6A U/UTP - LSZH - 23 AWG - 0,565 mm | F32: 160 | H32: =F32*G32 -> 0
E33: Subministraments i instal·lació de cablejat per internet de 6 cables
B34: 01.16 | C34: Partida | D34: u | E34: Subministrament i col·locació de BARPA EMPTY PATCH PANEL 24P 1U | F34: 1 | H34: =F34*G34 -> 0
E35: Panell integrat fix, equipat amb 24 connectors RJ45 compatibles amb 6 a 6A, U/UTP i STP, per a muntar sobre bastidor rack 19", d'1 unitat d'alçària, amb organitzador de cables, fixat mecànicament.
B36: 01.17 | C36: Partida | D36: u | E36: Panell d'endolls schuko per a rack BARPA 19" | F36: 1 | H36: =F36*G36 -> 0
E37: Subministrament i col·locació de panell d'endolls per a instal·lar en armari rack.
B38: 01.18 | C38: Partida | D38: u | E38: Passa cables per a rac BARPA 1U PLASTIC de 5 anells de 19" | F38: 1 | H38: =F38*G38 -> 0
E39: Subministrament i col·locació de passa cables negre per a armari rack 19".
B40: 01.18.01 | C40: Partida | D40: u | E40: Modificació i allargament de cablejat de xarxa | F40: 15 | H40: =F40*G40 -> 0
E41: Modificació i allargament de cablejat de xarxa des del quadre actual al nou rack.
B42: 01.19 | C42: Partida | D42: u | E42: Certificació punt d'informàtica | F42: 12 | H42: =F42*G42 -> 0
E43: Certificació punt d'informàtica
B44: 01.20 | C44: Partida | E44: Suportació de llumeneres | F44: 24 | H44: =F44*G44 -> 0
E45: Suplement per a instal.lació de llums penjats del sostre mitjançant tirants d'acer.
B46: 01.21 | C46: Partida | D46: u | E46: Neteja final d'obra | F46: 1 | H46: =F46*G46 -> 0
E47: Neteja final d'obra realitzada per empresa especialitzada amb productes neutres no agressius.
B48: 01.22 | C48: Partida | D48: u | E48: Ajudes a Electricitat, veu i dades | F48: 1 | H48: =F48*G48 -> 0
E49: Ajudes d'obra de paleta als industrials d'electricitat, veu i dades, fins i tot mà d'obra càrrega i descàrrega, materials, rebuts, obertura de buit per a localitzar cablejat existent, rematades i mitjans auxiliars per a treballs en altura.
B50: 01.23 | C50: Partida | D50: u | E50: Xapes d'acer en canvi de paviment | F50: 3 | H50: =F50*G50 -> 0
E51: Subministrament i col·locació de xapes d'acer en canvi de paviment, acabat mate de canvi de paviment (terratzo passadís i vinílic mòduls) de 30mm d'ample, encolada.
B52: 01.24 | C52: Partida | D52: u | E52: Treballs cartó-guix | F52: 1 | H52: =F52*G52 -> 0
E53: Treballs de reparació de cartó-guix.
E54: total unitari | H54: =SUM(H4:H53) -> 0
E55: Total 01
E57: Total 37.02.01 | H57: =H54 -> 0
E59: 13% D.G. | H59: =H57*0.13 -> 0
E60: 6 % B.I. | H60: =H57*0.06 -> 0
E61: Total P.E.C | H61: =H57+H59+H60 -> 0
E62: IVA 21% | H62: =H61*0.21 -> 0
E63: TOTAL AMB IVA | H63: =H61+H62 -> 0
