Workbook
Name _1Àrea_d_impressió: '01 PASSERES FUSTA'!$A$1:$N$82
Name _1Àrea_d_impressió: '02 FAÇANES PEDRA'!$A$1:$N$73
Name _1Àrea_d_impressió: '03 MITJANS DE PROTECCIÓ'!$A$1:$N$128
Name _3Àrea_d_impressió: 'llista capítols'!$A$1:$M$42

Sheet 01 PASSERES FUSTA
I3: Projecte : | J3: REPARACIÓ PASSERES DE FUSTA
G4: AMIDAMENTS | J4: EDIFICI INCUBADORA GLÒRIES
I5: Data : | L5: ='llista capítols'!$L$5 -> DESEMBRE 2024
B8: CODI / UT | D8: TEXTE PARTIDA | F8: DESCRIPCIÓ AMIDAMENT | H8: UTS. | I8: LONGITUD | J8: AMPLADA | K8: ALÇADA | L8: PARCIAL | M8: AMIDAMENT | O8: PREU | P8: IMPORT
B10: CAPÍTOL 01 - PASSERES EXTERIORS - FUSTA I ACER
B12: 01.001 M2
C13: SUBSTITUCIÓ DE LAMES DE FUSTA
D14: Retirada de lames existents i col.locació de noves :
D15: Arrencada de les lames de fusta existents, retallat en mides de fàcil manipulació i trasllat dins l'obra fins al seu contenidor específic de residus. Recollida de tots els cargols de suport i trasllat al seu contenidor específic de residus.
D16: Subministrament de noves lames de fusta tipus ALERÇ tractada amb procés tèrmic. La fusta estarà certificada FSC i PEFC per garantir una producció i gestió sostenible. Les mides de les lames seran 13,00x3,00 cm de secció i uns 375,00 cm de longitud.
D17: Amidament de superfície de plataformes de fusta formant passeres repartides per les façanes i a diverses plantes d'alçada.
C19: FAÇANA INTERIOR
C20: 4nivells zona final | H20: 4 | I20: 9.05 | J20: 0.9 | L20: =H20*I20*J20 -> 32.58
C21: 4 nivells zona escala | H21: 4 | I21: 10.5 | J21: 1.2 | L21: =H21*I21*J21 -> 50.4
C22: FAÇANA ZONA ENTRADA
C23: Nivells p1 i p2 | H23: 2 | I23: 33.75 | J23: 0.9 | L23: =H23*I23*J23 -> 60.75
C24: Nivell p3 | H24: 1 | I24: 32 | J24: 0.9 | L24: =H24*I24*J24 -> 28.8
C25: FAÇANA CARRER LLACUNA
C26: Nivells p1 i p2 | H26: 2 | I26: 17 | J26: 0.9 | L26: =H26*I26*J26 -> 30.6
C27: Nivell p3 | H27: 1 | I27: 13.5 | J27: 0.9 | L27: =H27*I27*J27 -> 12.15
C28: FAÇANA ZONA XAMFRÀ
C29: 3 nivells iguals | H29: 3 | I29: 20.15 | J29: 0.9 | L29: =H29*I29*J29 -> 54.405
C30: FAÇANA CARRER PERÚ
C31: Nivells p1-p2-p3 | H31: 3 | I31: 46 | J31: 0.9 | L31: =H31*I31*J31 -> 124.2
C32: Nivell p4 | H32: 1 | I32: 38.4 | J32: 0.9 | L32: =H32*I32*J32 -> 34.56
M33: =SUM(L19:L32) -> 428.445 | P33: =M33*O33 -> 0
B36: 01.002 M2
C37: TRACTAMENT IGNÍFUG DE LES LAMES DE FUSTA
D38: Tractament de la fusta d'Alerç col·locada nova, segons especificacions per l'industrial homologat, per tal d'obtenir el comportament al fic tipus B-s3,d0 S'inclouen els certificat del producte i de l'aplicador.
D39: Amidament de superfície de plataformes de fusta formant passeres repartides per les façanes i a diverses plantes d'alçada.
C41: FAÇANA INTERIOR
C42: 4nivells zona final | H42: 4 | I42: 9.05 | J42: 0.9 | L42: =H42*I42*J42 -> 32.58
C43: 4 nivells zona escala | H43: 4 | I43: 10.5 | J43: 1.2 | L43: =H43*I43*J43 -> 50.4
C44: FAÇANA ZONA ENTRADA
C45: Nivells p1 i p2 | H45: 2 | I45: 33.75 | J45: 0.9 | L45: =H45*I45*J45 -> 60.75
C46: Nivell p3 | H46: 1 | I46: 32 | J46: 0.9 | L46: =H46*I46*J46 -> 28.8
C47: FAÇANA CARRER LLACUNA
C48: Nivells p1 i p2 | H48: 2 | I48: 17 | J48: 0.9 | L48: =H48*I48*J48 -> 30.6
C49: Nivell p3 | H49: 1 | I49: 13.5 | J49: 0.9 | L49: =H49*I49*J49 -> 12.15
C50: FAÇANA ZONA XAMFRÀ
C51: 3 nivells iguals | H51: 3 | I51: 20.15 | J51: 0.9 | L51: =H51*I51*J51 -> 54.405
C52: FAÇANA CARRER PERÚ
C53: Nivells p1-p2-p3 | H53: 3 | I53: 46 | J53: 0.9 | L53: =H53*I53*J53 -> 124.2
C54: Nivell p4 | H54: 1 | I54: 38.4 | J54: 0.9 | L54: =H54*I54*J54 -> 34.56
M55: =SUM(L41:L54) -> 428.445 | P55: =M55*O55 -> 0
B58: 01.003 UD
C59: RASPAT I PINTAT DELS SUPORTS D'ACER
D60: Suports sota les passeres, formats per perfils laminats IPN80 encastats en perpendicular a les façanes amb una separació de 65 cm entre ells i una longitud vista de 90 cm cadascun (amplada passeres). Baranes i altres elements verticals que també composen les passeres.
D61: Raspallat dels suports metàl·lics que queden vistos (la meitat de la seva longitud). Sanejament d'imperfeccions, punts d'òxid i demés casuístiques. Posterior aplicació de dues mans de protecció antioxidant i dues mans d’esmalt a l’aigua color similar a l'existent.
D62: Raspallat de les barres horitzontals i verticals que conformen les baranes i proteccions contra caigudes Sanejament d'imperfeccions, punts d'òxid i demés casuístiques. Posterior aplicació de dues mans de protecció antioxidant i dues mans d’esmalt a l’aigua color similar a l'existent.
D63: No inclou desmuntatge d'elements de fusta ni mitjans auxiliars d'elevació.
C65: FAÇANA INTERIOR
C66: 4nivells zona final | H66: 4 | I66: =MROUND((9.05/0.65),1) -> 14 | L66: =H66*I66 -> 56
C67: 4 nivells zona escala | H67: 4 | I67: =MROUND((10.5/0.65),1) -> 16 | L67: =H67*I67 -> 64
C68: FAÇANA ZONA ENTRADA
C69: Nivells p1 i p2 | H69: 2 | I69: =MROUND((33.75/0.65),1) -> 52 | L69: =H69*I69 -> 104
C70: Nivell p3 | H70: 1 | I70: =MROUND((32/0.65),1) -> 49 | L70: =H70*I70 -> 49
C71: FAÇANA CARRER LLACUNA
C72: Nivells p1 i p2 | H72: 2 | I72: =MROUND((17/0.65),1) -> 26 | L72: =H72*I72 -> 52
C73: Nivell p3 | H73: 1 | I73: =MROUND((13.5/0.65),1) -> 21 | L73: =H73*I73 -> 21
C74: FAÇANA ZONA XAMFRÀ
C75: 3 nivells iguals | H75: 3 | I75: =MROUND((20.15/0.65),1) -> 31 | L75: =H75*I75 -> 93
C76: FAÇANA CARRER PERÚ
C77: Nivells p1-p2-p3 | H77: 3 | I77: =MROUND((46/0.65),1) -> 71 | L77: =H77*I77 -> 213
C78: Nivell p4 | H78: 1 | I78: =MROUND((38.4/0.65),1) -> 59 | L78: =H78*I78 -> 59
M79: =SUM(L65:L78) -> 711 | P79: =M79*O79 -> 0
F84: ='01 PASSERES FUSTA'!$B$10 -> CAPÍTOL 01 - PASSERES EXTERIORS - FUSTA I ACER | K84: TOTAL = | M84: =SUM(P26:P80) -> 0

Sheet 02 FAÇANES PEDRA
I3: Projecte : | J3: REPARACIÓ PASSERES DE FUSTA
G4: AMIDAMENTS | J4: EDIFICI INCUBADORA GLÒRIES
I5: Data : | L5: ='llista capítols'!$L$5 -> DESEMBRE 2024
B8: CODI / UT | D8: TEXTE PARTIDA | F8: DESCRIPCIÓ AMIDAMENT | H8: UTS. | I8: LONGITUD | J8: AMPLADA | K8: ALÇADA | L8: PARCIAL | M8: AMIDAMENT | O8: PREU | P8: IMPORT
B10: CAPÍTOL 02 - PROTECCIÓ DE LES FAÇANES DE PEDRA
B12: 02.001 M2
C13: NETEJA DE FAÇANA AMB AIGUA A PRESSIÓ
D14: Neteja mitjançant aigua a pressió amb màquina tipus Karcher. Sanejament d'imperfeccions, punts d'òxid i demés casuístiques existents principalment a les parts baixes de la façana. Consolidació dels desperfectes amb morter de cimentós de reparació.
C16: FAÇANA INTERIOR
C17: nivell de planta baixa | H17: 1 | I17: 9 | J17: 5.5 | L17: =H17*I17*J17 -> 49.5
C18: FAÇANA ZONA ENTRADA
C19: nivell de planta baixa | H19: 1 | I19: 33.5 | J19: 5.5 | L19: =H19*I19*J19 -> 184.25
C20: FAÇANA CARRER LLACUNA
C21: nivell de planta baixa | H21: 1 | I21: 17 | J21: 5.8 | L21: =H21*I21*J21 -> 98.6
C22: FAÇANA ZONA XAMFRÀ
C23: nivell de planta baixa | H23: 1 | I23: 20 | J23: 5.8 | L23: =H23*I23*J23 -> 116
C24: FAÇANA CARRER PERÚ
C25: nivell de planta baixa | H25: 1 | I25: 46 | J25: 6 | L25: =H25*I25*J25 -> 276
M26: =SUM(L16:L25) -> 724.35 | P26: =M26*O26 -> 0
B29: 02.002 M2
C30: FIXADOR I PINTURA DE REVESTIMENT 100% ACRÍLIC
D31: Aplicació d'una capa de pont d'unió entre el suport actual i la posterior pintura. Aplicació de dues mans de revestiment 100% acrílic per a façanes exteriors. Color similar a l'existent. Acabat mat.
D32: Aquest producte haurà de complir el comportament al foc B-s3,d0 requerit pel CTE, com el Isacrílico Emulsión selladora, o similar, de Isaval.
C34: FAÇANA INTERIOR
C35: nivell de planta baixa | H35: 1 | I35: 9 | J35: 3 | L35: =H35*I35*J35 -> 27
C36: FAÇANA ZONA ENTRADA
C37: nivell de planta baixa | H37: 1 | I37: 33.5 | J37: 3 | L37: =H37*I37*J37 -> 100.5
C38: FAÇANA CARRER LLACUNA
C39: nivell de planta baixa | H39: 1 | I39: 17 | J39: 3 | L39: =H39*I39*J39 -> 51
C40: FAÇANA ZONA XAMFRÀ
C41: nivell de planta baixa | H41: 1 | I41: 20 | J41: 3 | L41: =H41*I41*J41 -> 60
C42: FAÇANA CARRER PERÚ
C43: nivell de planta baixa | H43: 1 | I43: 46 | J43: 3 | L43: =H43*I43*J43 -> 138
M44: =SUM(L34:L43) -> 376.5 | P44: =M44*O44 -> 0
B47: 02.003 M2
C48: PROTECCIÓ CONTRA ELS GRAFFITI (BASE AIGUA)
D49: Aplicació de las mans necessàries per a la saturació de la superficie de protector antigraffiti. Incolor, acabat mat, pràcticament invisible i capa final de protecció contra els agents atmosfèrics. Es considera l'aplicació fins a una alçada mitjana de 3 metres des del nivell de vorera.
D50: Aquests productes hauran de complir el comportament al foc B-s3,d0 requerit pel CTE, com el Hidroprotec Antigraffiti, o similar, de Quimibase 2000 i el Revisal, o similar, de Isaval.
C52: FAÇANA INTERIOR
C53: nivell de planta baixa | H53: 1 | I53: 9 | J53: 3 | L53: =H53*I53*J53 -> 27
C54: FAÇANA ZONA ENTRADA
C55: nivell de planta baixa | H55: 1 | I55: 33.5 | J55: 3 | L55: =H55*I55*J55 -> 100.5
C56: FAÇANA CARRER LLACUNA
C57: nivell de planta baixa | H57: 1 | I57: 17 | J57: 3 | L57: =H57*I57*J57 -> 51
C58: FAÇANA ZONA XAMFRÀ
C59: nivell de planta baixa | H59: 1 | I59: 20 | J59: 3 | L59: =H59*I59*J59 -> 60
C60: FAÇANA CARRER PERÚ
C61: nivell de planta baixa | H61: 1 | I61: 46 | J61: 3 | L61: =H61*I61*J61 -> 138
M62: =SUM(L52:L61) -> 376.5 | P62: =M62*O62 -> 0
B65: 02.004 UT
C66: MITJANS D'ELEVACIÓ DES DE LA VORERA
D67: Lloguer de tisora elevadora PEMP, dièsel o elèctrica, de fins a 8m d'alçada. L'equip llogat complirà tots els requeriments de seguretat i salut.
C69: Una màquina per a totes les façanes | H69: 1 | I69: 1 | L69: =H69*I69 -> 1
M70: =SUM(L69:L69) -> 1 | P70: =M70*O70 -> 0
F75: ='02 FAÇANES PEDRA'!$B$10 -> CAPÍTOL 02 - PROTECCIÓ DE LES FAÇANES DE PEDRA | K75: TOTAL = | M75: =SUM(P19:P71) -> 0

Sheet 03 MITJANS DE PROTECCIÓ
I3: Projecte : | J3: REPARACIÓ PASSERES DE FUSTA
G4: AMIDAMENTS | J4: EDIFICI INCUBADORA GLÒRIES
I5: Data : | L5: ='llista capítols'!$L$5 -> DESEMBRE 2024
B8: CODI / UT | D8: TEXTE PARTIDA | F8: DESCRIPCIÓ AMIDAMENT | H8: UTS. | I8: LONGITUD | J8: AMPLADA | K8: ALÇADA | L8: PARCIAL | M8: AMIDAMENT | O8: PREU | P8: IMPORT
B10: CAPÍTOL 03 - MITJANS DE PROTECCIÓ I DE SEGURETAT
B12: 03.001 ML
C13: TANCA PERIMETRAL DE L'OBRA
D14: Tanca provisional formada per panells de 3,50x2,00 m, de malla electrosoldada de 200x100 mm de pas de malla i pals verticals de 40 mm de diàmetre, acabat galvanitzat, col·locats sobre bases prefabricades de formigó, per a delimitació provisional de zona d'obres, amb malla d'ocultació col·locada sobre la tanca. Amortitzables les tanques en 5 usos i les bases en 5 usos.
D15: La partida inclou col·locació, manteniment, senyalització segons requeriments de l'Ajuntament i retirada de tot el material necessari, de tal manera que garanteixi l'estabilitat i la separació entre el àmbit d'obra i la vorera pública.
C17: FAÇANA INTERIOR | H17: 1 | I17: 20 | L17: =H17*I17 -> 20
C19: FAÇANA ZONA ENTRADA | H19: 1 | I19: 20 | L19: =H19*I19 -> 20
C21: FAÇANA CARRER LLACUNA | H21: 1 | I21: 20.5 | L21: =H21*I21 -> 20.5
C23: FAÇANA ZONA XAMFRÀ | H23: 1 | I23: 22.65 | L23: =H23*I23 -> 22.65
C25: FAÇANA CARRER PERÚ | H25: 1 | I25: 50.9 | L25: =H25*I25 -> 50.9
C27: FAÇANA FINAL CARRER PERÚ | H27: 1 | I27: 16.5 | L27: =H27*I27 -> 16.5
M28: =SUM(L16:L28) -> 150.55 | P28: =M28*O28 -> 0
B31: 03.002 M2
C32: PROTECCIÓ HORITZONTAL I VERTICAL DE LES FAÇANES
D33: Col·locació, manteniment i retirada de protecció col·lectiva mitjançant xarxes de seguretat norma EN 1263-1, proveïdes de malla tipus tela mosquitera, instal·lades entre barana superior i la façana, fixades amb ancoratges expansius, argolles i cordes de lligat.
C35: FAÇANA INTERIOR
C36: 4nivells zona final | H36: 4 | I36: 9.05 | J36: =0.9+1.1 -> 2 | L36: =H36*I36*J36 -> 72.4
C37: 4 nivells zona escala | H37: 4 | I37: 10.5 | J37: =1.2+1.1 -> 2.3 | L37: =H37*I37*J37 -> 96.6
C38: FAÇANA ZONA ENTRADA
C39: Nivells p1 i p2 | H39: 2 | I39: 33.75 | J39: =0.9+1.1 -> 2 | L39: =H39*I39*J39 -> 135
C40: Nivell p3 | H40: 1 | I40: 32 | J40: =0.9+1.1 -> 2 | L40: =H40*I40*J40 -> 64
C41: FAÇANA CARRER LLACUNA
C42: Nivells p1 i p2 | H42: 2 | I42: 17 | J42: =0.9+1.1 -> 2 | L42: =H42*I42*J42 -> 68
C43: Nivell p3 | H43: 1 | I43: 13.5 | J43: =0.9+1.1 -> 2 | L43: =H43*I43*J43 -> 27
C44: FAÇANA ZONA XAMFRÀ
C45: 3 nivells iguals | H45: 3 | I45: 20.15 | J45: =0.9+1.1 -> 2 | L45: =H45*I45*J45 -> 120.9
C46: FAÇANA CARRER PERÚ
C47: Nivells p1-p2-p3 | H47: 3 | I47: 46 | J47: =0.9+1.1 -> 2 | L47: =H47*I47*J47 -> 276
C48: Nivell p4 | H48: 1 | I48: 38.4 | J48: =0.9+1.1 -> 2 | L48: =H48*I48*J48 -> 76.8
M49: =SUM(L35:L48) -> 936.7 | P49: =M49*O49 -> 0
B52: 03.003 H
C53: OPERARI ESPECIALITZAT EN IMPLANTACIÓ DE PROTECCIONS COL·LECTIVES.
D54: Operari dedicat a realitzar les tasques de muntatges, modificacions, manteniments i desmuntatges de les proteccions col·lectives en jornades individuals de 8h, de dilluns a divendres.
D55: Previsió de dedicació a justificar en obra.
C57: A TOTES LES FAÇANES
C58: Estimació de 8 jornades completes amb dos operaris | H58: 2 | I58: 8 | J58: 8 | L58: =H58*I58*J58 -> 128
M59: =SUM(L57:L58) -> 128 | P59: =M59*O59 -> 0
B62: 03.004 ML
C63: LÍNIA DE VIDA PROVISIONAL
D64: Implantació de línies de vida provisionals sobre les baranes existents, per tal de poder treballar amb seguretat mentre els paviments de les passeres estan parcialment desmuntats.
D65: L'edifici ja en disposa de línies de vida col·locades a les façanes i que abasten pràcticament totes les passeres. Aquesta partida és una previsió per complementar tot allò que pugui faltar.
C67: FAÇANA INTERIOR
C68: 4nivells zona final | H68: 1 | I68: 9.05 | L68: =H68*I68 -> 9.05
C69: 4 nivells zona escala | H69: 1 | I69: 10.5 | L69: =H69*I69 -> 10.5
C70: FAÇANA ZONA ENTRADA
C71: Nivells p1 i p2 | H71: 1 | I71: 33.75 | L71: =H71*I71 -> 33.75
C72: Nivell p3 | H72: 1 | I72: 32 | L72: =H72*I72 -> 32
C73: FAÇANA CARRER LLACUNA
C74: Nivells p1 i p2 | H74: 1 | I74: 17 | L74: =H74*I74 -> 17
C75: Nivell p3 | H75: 1 | I75: 13.5 | L75: =H75*I75 -> 13.5
C76: FAÇANA ZONA XAMFRÀ
C77: 3 nivells iguals | H77: 1 | I77: 20.15 | L77: =H77*I77 -> 20.15
C78: FAÇANA CARRER PERÚ
C79: Nivells p1-p2-p3 | H79: 1 | I79: 46 | L79: =H79*I79 -> 46
C80: Nivell p4 | H80: 1 | I80: 38.4 | L80: =H80*I80 -> 38.4
M81: =SUM(L67:L81) -> 220.35 | P81: =M81*O81 -> 0
B84: 03.005 ML
C85: BASTIDA / MARQUESINA DE LA PLANTA INFERIOR
D86: Implantació de bastida tipus marquesina, formada per estructura metàl·lica tubular de 3,00m d'alçada i 2,00m d'amplada i tauler de fusta de pi formant un sostre, a tota la llargada de les façanes que donen al carrer i que tenen passeres a les plantes altes. per tal d'assegurar que els vianants poden circular per la vorera amb seguretat.
D87: La partida inclou col·locació, manteniment, senyalització segons requeriments de l'Ajuntament i retirada de tot el material necessari, de tal manera que garanteixi l'estabilitat i la ressistència a caigudes d'objectes de l'obra cap a la vorera pública.
C89: FAÇANA INTERIOR
C90: 4nivells zona final | H90: 1 | I90: 9.05 | L90: =H90*I90 -> 9.05
C91: 4 nivells zona escala | H91: 1 | I91: 10.5 | L91: =H91*I91 -> 10.5
C92: FAÇANA ZONA ENTRADA
C93: Nivells p1 i p2 | H93: 1 | I93: 33.75 | L93: =H93*I93 -> 33.75
C94: Nivell p3 | H94: 1 | I94: 32 | L94: =H94*I94 -> 32
C95: FAÇANA CARRER LLACUNA
C96: Nivells p1 i p2 | H96: 1 | I96: 17 | L96: =H96*I96 -> 17
C97: Nivell p3 | H97: 1 | I97: 13.5 | L97: =H97*I97 -> 13.5
C98: FAÇANA ZONA XAMFRÀ
C99: 3 nivells iguals | H99: 1 | I99: 20.15 | L99: =H99*I99 -> 20.15
C100: FAÇANA CARRER PERÚ
C101: Nivells p1-p2-p3 | H101: 1 | I101: 46 | L101: =H101*I101 -> 46
C102: Nivell p4 | H102: 1 | I102: 38.4 | L102: =H102*I102 -> 38.4
M103: =SUM(L89:L103) -> 220.35 | P103: =M103*O103 -> 0
B106: 03.006 M3
C107: CONTENIDOR DE RUNES
D108: Col·locació de contenidors de 5m3 per a la recollida selectiva de la fusta i d'altres residus, incloent-hi la retirada i el transport al gestor de residus. S'inclou el trasllat de les fustes retirades des de qualsevol punt de l'obra fins al contenidor, la recollida dels contenidors plens, el seu trasllat al gestor contractat i el cànon de l''abocament.
D109: La partida inclou col·locació, manteniment, senyalització segons requeriments de l'Ajuntament. La previsió és que estigui ubicat a la vorera pública, a la zona del xamfrà.
C111: FAÇANA INTERIOR
C112: 4nivells zona final | H112: 4 | I112: 9.05 | J112: 0.9 | K112: 0.03 | L112: =H112*I112*J112*K112 -> 0.9774
C113: 4 nivells zona escala | H113: 4 | I113: 10.5 | J113: 1.2 | K113: 0.03 | L113: =H113*I113*J113*K113 -> 1.512
C114: FAÇANA ZONA ENTRADA
C115: Nivells p1 i p2 | H115: 2 | I115: 33.75 | J115: 0.9 | K115: 0.03 | L115: =H115*I115*J115*K115 -> 1.8225
C116: Nivell p3 | H116: 1 | I116: 32 | J116: 0.9 | K116: 0.03 | L116: =H116*I116*J116*K116 -> 0.864
C117: FAÇANA CARRER LLACUNA
C118: Nivells p1 i p2 | H118: 2 | I118: 17 | J118: 0.9 | K118: 0.03 | L118: =H118*I118*J118*K118 -> 0.918
C119: Nivell p3 | H119: 1 | I119: 13.5 | J119: 0.9 | K119: 0.03 | L119: =H119*I119*J119*K119 -> 0.3645
C120: FAÇANA ZONA XAMFRÀ
C121: 3 nivells iguals | H121: 3 | I121: 20.15 | J121: 0.9 | K121: 0.03 | L121: =H121*I121*J121*K121 -> 1.63215
C122: FAÇANA CARRER PERÚ
C123: Nivells p1-p2-p3 | H123: 3 | I123: 46 | J123: 0.9 | K123: 0.03 | L123: =H123*I123*J123*K123 -> 3.726
C124: Nivell p4 | H124: 1 | I124: 38.4 | J124: 0.9 | K124: 0.03 | L124: =H124*I124*J124*K124 -> 1.0368
M125: =SUM(L111:L125) -> 12.85335 | P125: =M125*O125 -> 0
F130: ='03 MITJANS DE PROTECCIÓ'!$B$10 -> CAPÍTOL 03 - MITJANS DE PROTECCIÓ I DE SEGURETAT | K130: TOTAL = | M130: =SUM(P20:P126) -> 0

Sheet llista capítols
I3: Projecte : | J3: REPARACIÓ PASSERES DE FUSTA
G4: AMIDAMENTS | J4: EDIFICI INCUBADORA GLÒRIES
I5: Data : | L5: DESEMBRE 2024
B8: CODI / UT | D8: TEXTE PARTIDA | F8: DESCRIPCIÓ AMIDAMENT | H8: UTS. | I8: LONGITUD | J8: AMPLADA | K8: ALÇADA | L8: PARCIAL | M8: AMIDAMENT
E13: AMIDAMENTS DEL PROJECTE EXECUTIU | K13: PREU CAPÍTOL
B16: CAPÍTOL 01 - PASSERES EXTERIORS - FUSTA I ACER | K16: ='01 PASSERES FUSTA'!$M$84 -> 0
B18: CAPÍTOL 02 - PROTECCIÓ DE LES FAÇANES DE PEDRA | K18: ='02 FAÇANES PEDRA'!$M$75 -> 0
B20: CAPÍTOL 03 - MITJANS DE PROTECCIÓ I DE SEGURETAT | K20: ='03 MITJANS DE PROTECCIÓ'!$M$130 -> 0
B22: CAPÍTOL 04 - FUSTERIES
H28: TOTAL PRESSUPOST D'EXECUCIÓ - PEM | K28: =SUM(K15:L26) -> 0
H30: 13,00% - DESPESES GENERALS | K30: =0.13*K28 -> 0
H32: 6,00€ - BENEFICI INDUSTRIAL | K32: =0.06*K28 -> 0
H34: TOTAL PRESSUPOST DE CONTRACTACIÓ - PEC | K34: =SUM(K28:L32) -> 0
H36: 21,00% - IVA | K36: =0.21*K34 -> 0
H38: TOTAL PEC + IVA | K38: =SUM(K34:L36) -> 0
