Workbook
Name _1Àrea_d_impressió: '01 PASSERES FUSTA'!$A$1:$N$82
Name _1Àrea_d_impressió: '02 FAÇANES PEDRA'!$A$1:$N$73
Name _1Àrea_d_impressió: '03 MITJANS DE PROTECCIÓ'!$A$1:$N$128
Name _3Àrea_d_impressió: 'llista capítols'!$A$1:$M$42

Sheet 01 PASSERES FUSTA
I3: Projecte : | J3: REPARACIÓ PASSERES DE FUSTA
G4: AMIDAMENTS | J4: EDIFICI INCUBADORA GLÒRIES
I5: Data : | L5: ='llista capítols'!$L$5 -> DESEMBRE 2024
B8: CODI / UT | D8: TEXTE PARTIDA | F8: DESCRIPCIÓ AMIDAMENT | H8: UTS. | I8: LONGITUD | J8: AMPLADA | K8: ALÇADA | L8: PARCIAL | M8: AMIDAMENT | O8: PREU | P8: IMPORT
B10: CAPÍTOL 01 - PASSERES EXTERIORS - FUSTA I ACER
B12: 01.001 M2
C13: SUBSTITUCIÓ DE LAMES DE FUSTA
D14: Retirada de lames existents i col.locació de noves :
D15: Arrencada de les lames de fusta existents, retallat en mides de fàcil manipulació i trasllat dins l'obra fins al seu contenidor específic de residus. Recollida de tots els cargols de suport i trasllat al seu contenidor específic de residus.
D16: Subministrament de noves lames de fusta tipus ALERÇ tractada amb procés tèrmic. La fusta estarà certificada FSC i PEFC per garantir una producció i gestió sostenible. Les mides de les lames seran 13,00x3,00 cm de secció i uns 375,00 cm de longitud.
D17: Amidament de superfície de plataformes de fusta formant passeres repartides per les façanes i a diverses plantes d'alçada.
C19: FAÇANA INTERIOR
C20: 4nivells zona final | H20: 4 | I20: 9.05 | J20: 0.9 | L20: =H20*I20*J20 -> 32.58
C21: 4 nivells zona escala | H21: 4 | I21: 10.5 | J21: 1.2 | L21: =H21*I21*J21 -> 50.4
C22: FAÇANA ZONA ENTRADA
C23: Nivells p1 i p2 | H23: 2 | I23: 33.75 | J23: 0.9 | L23: =H23*I23*J23 -> 60.75
C24: Nivell p3 | H24: 1 | I24: 32 | J24: 0.9 | L24: =H24*I24*J24 -> 28.8
C25: FAÇANA CARRER LLACUNA
C26: Nivells p1 i p2 | H26: 2 | I26: 17 | J26: 0.9 | L26: =H26*I26*J26 -> 30.6
C27: Nivell p3 | H27: 1 | I27: 13.5 | J27: 0.9 | L27: =H27*I27*J27 -> 12.15
C28: FAÇANA ZONA XAMFRÀ
C29: 3 nivells iguals | H29: 3 | I29: 20.15 | J29: 0.9 | L29: =H29*I29*J29 -> 54.405
C30: FAÇANA CARRER PERÚ
C31: Nivells p1-p2-p3 | H31: 3 | I31: 46 | J31: 0.9 | L31: =H31*I31*J31 -> 124.2
C32: Nivell p4 | H32: 1 | I32: 38.4 | J32: 0.9 | L32: =H32*I32*J32 -> 34.56
M33: =SUM(L19:L32) -> 428.445 | P33: =M33*O33 -> 0
B36: 01.002 M2
C37: TRACTAMENT IGNÍFUG DE LES LAMES DE FUSTA
D38: Tractament de la fusta d'Alerç col·locada nova, segons especificacions per l'industrial homologat, per tal d'obtenir el comportament al fic tipus B-s3,d0 S'inclouen els certificat del producte i de l'aplicador.
D39: Amidament de superfície de plataformes de fusta formant passeres repartides per les façanes i a diverses plantes d'alçada.
C41: FAÇANA INTERIOR
C42: 4nivells zona final | H42: 4 | I42: 9.05 | J42: 0.9 | L42: =H42*I42*J42 -> 32.58
C43: 4 nivells zona escala | H43: 4 | I43: 10.5 | J43: 1.2 | L43: =H43*I43*J43 -> 50.4
C44: FAÇANA ZONA ENTRADA
C45: Nivells p1 i p2 | H45: 2 | I45: 33.75 | J45: 0.9 | L45: =H45*I45*J45 -> 60.75
C46: Nivell p3 | H46: 1 | I46: 32 | J46: 0.9 | L46: =H46*I46*J46 -> 28.8
C47: FAÇANA CARRER LLACUNA
C48: Nivells p1 i p2 | H48: 2 | I48: 17 | J48: 0.9 | L48: =H48*I48*J48 -> 30.6
C49: Nivell p3 | H49: 1 | I49: 13.5 | J49: 0.9 | L49: =H49*I49*J49 -> 12.15
C50: FAÇANA ZONA XAMFRÀ
...

Sheet 02 FAÇANES PEDRA
I3: Projecte : | J3: REPARACIÓ PASSERES DE FUSTA
G4: AMIDAMENTS | J4: EDIFICI INCUBADORA GLÒRIES
I5: Data : | L5: ='llista capítols'!$L$5 -> DESEMBRE 2024
B8: CODI / UT | D8: TEXTE PARTIDA | F8: DESCRIPCIÓ AMIDAMENT | H8: UTS. | I8: LONGITUD | J8: AMPLADA | K8: ALÇADA | L8: PARCIAL | M8: AMIDAMENT | O8: PREU | P8: IMPORT
B10: CAPÍTOL 02 - PROTECCIÓ DE LES FAÇANES DE PEDRA
B12: 02.001 M2
C13: NETEJA DE FAÇANA AMB AIGUA A PRESSIÓ
D14: Neteja mitjançant aigua a pressió amb màquina tipus Karcher. Sanejament d'imperfeccions, punts d'òxid i demés casuístiques existents principalment a les parts baixes de la façana. Consolidació dels desperfectes amb morter de cimentós de reparació.
C16: FAÇANA INTERIOR
C17: nivell de planta baixa | H17: 1 | I17: 9 | J17: 5.5 | L17: =H17*I17*J17 -> 49.5
C18: FAÇANA ZONA ENTRADA
C19: nivell de planta baixa | H19: 1 | I19: 33.5 | J19: 5.5 | L19: =H19*I19*J19 -> 184.25
C20: FAÇANA CARRER LLACUNA
C21: nivell de planta baixa | H21: 1 | I21: 17 | J21: 5.8 | L21: =H21*I21*J21 -> 98.6
C22: FAÇANA ZONA XAMFRÀ
C23: nivell de planta baixa | H23: 1 | I23: 20 | J23: 5.8 | L23: =H23*I23*J23 -> 116
C24: FAÇANA CARRER PERÚ
C25: nivell de planta baixa | H25: 1 | I25: 46 | J25: 6 | L25: =H25*I25*J25 -> 276
M26: =SUM(L16:L25) -> 724.35 | P26: =M26*O26 -> 0
B29: 02.002 M2
C30: FIXADOR I PINTURA DE REVESTIMENT 100% ACRÍLIC
D31: Aplicació d'una capa de pont d'unió entre el suport actual i la posterior pintura. Aplicació de dues mans de revestiment 100% acrílic per a façanes exteriors. Color similar a l'existent. Acabat mat.
D32: Aquest producte haurà de complir el comportament al foc B-s3,d0 requerit pel CTE, com el Isacrílico Emulsión selladora, o similar, de Isaval.
C34: FAÇANA INTERIOR
C35: nivell de planta baixa | H35: 1 | I35: 9 | J35: 3 | L35: =H35*I35*J35 -> 27
C36: FAÇANA ZONA ENTRADA
C37: nivell de planta baixa | H37: 1 | I37: 33.5 | J37: 3 | L37: =H37*I37*J37 -> 100.5
C38: FAÇANA CARRER LLACUNA
C39: nivell de planta baixa | H39: 1 | I39: 17 | J39: 3 | L39: =H39*I39*J39 -> 51
C40: FAÇANA ZONA XAMFRÀ
C41: nivell de planta baixa | H41: 1 | I41: 20 | J41: 3 | L41: =H41*I41*J41 -> 60
C42: FAÇANA CARRER PERÚ
C43: nivell de planta baixa | H43: 1 | I43: 46 | J43: 3 | L43: =H43*I43*J43 -> 138
M44: =SUM(L34:L43) -> 376.5 | P44: =M44*O44 -> 0
B47: 02.003 M2
C48: PROTECCIÓ CONTRA ELS GRAFFITI (BASE AIGUA)
D49: Aplicació de las mans necessàries per a la saturació de la superficie de protector antigraffiti. Incolor, acabat mat, pràcticament invisible i capa final de protecció contra els agents atmosfèrics. Es considera l'aplicació fins a una alçada mitjana de 3 metres des del nivell de vorera.
D50: Aquests productes hauran de complir el comportament al foc B-s3,d0 requerit pel CTE, com el Hidroprotec Antigraffiti, o similar, de Quimibase 2000 i el Revisal, o similar, de Isaval.
C52: FAÇANA INTERIOR
C53: nivell de planta baixa | H53: 1 | I53: 9 | J53: 3 | L53: =H53*I53*J53 -> 27
...

Sheet 03 MITJANS DE PROTECCIÓ
I3: Projecte : | J3: REPARACIÓ PASSERES DE FUSTA
G4: AMIDAMENTS | J4: EDIFICI INCUBADORA GLÒRIES
I5: Data : | L5: ='llista capítols'!$L$5 -> DESEMBRE 2024
B8: CODI / UT | D8: TEXTE PARTIDA | F8: DESCRIPCIÓ AMIDAMENT | H8: UTS. | I8: LONGITUD | J8: AMPLADA | K8: ALÇADA | L8: PARCIAL | M8: AMIDAMENT | O8: PREU | P8: IMPORT
B10: CAPÍTOL 03 - MITJANS DE PROTECCIÓ I DE SEGURETAT
B12: 03.001 ML
C13: TANCA PERIMETRAL DE L'OBRA
D14: Tanca provisional formada per panells de 3,50x2,00 m, de malla electrosoldada de 200x100 mm de pas de malla i pals verticals de 40 mm de diàmetre, acabat galvanitzat, col·locats sobre bases prefabricades de formigó, per a delimitació provisional de zona d'obres, amb malla d'ocultació col·locada sobre la tanca. Amortitzables les tanques en 5 usos i les bases en 5 usos.
D15: La partida inclou col·locació, manteniment, senyalització segons requeriments de l'Ajuntament i retirada de tot el material necessari, de tal manera que garanteixi l'estabilitat i la separació entre el àmbit d'obra i la vorera pública.
C17: FAÇANA INTERIOR | H17: 1 | I17: 20 | L17: =H17*I17 -> 20
C19: FAÇANA ZONA ENTRADA | H19: 1 | I19: 20 | L19: =H19*I19 -> 20
C21: FAÇANA CARRER LLACUNA | H21: 1 | I21: 20.5 | L21: =H21*I21 -> 20.5
C23: FAÇANA ZONA XAMFRÀ | H23: 1 | I23: 22.65 | L23: =H23*I23 -> 22.65
C25: FAÇANA CARRER PERÚ | H25: 1 | I25: 50.9 | L25: =H25*I25 -> 50.9
C27: FAÇANA FINAL CARRER PERÚ | H27: 1 | I27: 16.5 | L27: =H27*I27 -> 16.5
M28: =SUM(L16:L28) -> 150.55 | P28: =M28*O28 -> 0
B31: 03.002 M2
C32: PROTECCIÓ HORITZONTAL I VERTICAL DE LES FAÇANES
D33: Col·locació, manteniment i retirada de protecció col·lectiva mitjançant xarxes de seguretat norma EN 1263-1, proveïdes de malla tipus tela mosquitera, instal·lades entre barana superior i la façana, fixades amb ancoratges expansius, argolles i cordes de lligat.
C35: FAÇANA INTERIOR
C36: 4nivells zona final | H36: 4 | I36: 9.05 | J36: =0.9+1.1 -> 2 | L36: =H36*I36*J36 -> 72.4
C37: 4 nivells zona escala | H37: 4 | I37: 10.5 | J37: =1.2+1.1 -> 2.3 | L37: =H37*I37*J37 -> 96.6
C38: FAÇANA ZONA ENTRADA
C39: Nivells p1 i p2 | H39: 2 | I39: 33.75 | J39: =0.9+1.1 -> 2 | L39: =H39*I39*J39 -> 135
C40: Nivell p3 | H40: 1 | I40: 32 | J40: =0.9+1.1 -> 2 | L40: =H40*I40*J40 -> 64
C41: FAÇANA CARRER LLACUNA
C42: Nivells p1 i p2 | H42: 2 | I42: 17 | J42: =0.9+1.1 -> 2 | L42: =H42*I42*J42 -> 68
C43: Nivell p3 | H43: 1 | I43: 13.5 | J43: =0.9+1.1 -> 2 | L43: =H43*I43*J43 -> 27
C44: FAÇANA ZONA XAMFRÀ
C45: 3 nivells iguals | H45: 3 | I45: 20.15 | J45: =0.9+1.1 -> 2 | L45: =H45*I45*J45 -> 120.9
C46: FAÇANA CARRER PERÚ
C47: Nivells p1-p2-p3 | H47: 3 | I47: 46 | J47: =0.9+1.1 -> 2 | L47: =H47*I47*J47 -> 276
C48: Nivell p4 | H48: 1 | I48: 38.4 | J48: =0.9+1.1 -> 2 | L48: =H48*I48*J48 -> 76.8
M49: =SUM(L35:L48) -> 936.7 | P49: =M49*O49 -> 0
B52: 03.003 H
C53: OPERARI ESPECIALITZAT EN IMPLANTACIÓ DE PROTECCIONS COL·LECTIVES.
D54: Operari dedicat a realitzar les tasques de muntatges, modificacions, manteniments i desmuntatges de les proteccions col·lectives en jornades individuals de 8h, de dilluns a divendres.
D55: Previsió de dedicació a justificar en obra.
C57: A TOTES LES FAÇANES
C58: Estimació de 8 jornades completes amb dos operaris | H58: 2 | I58: 8 | J58: 8 | L58: =H58*I58*J58 -> 128
...

Sheet llista capítols
I3: Projecte : | J3: REPARACIÓ PASSERES DE FUSTA
G4: AMIDAMENTS | J4: EDIFICI INCUBADORA GLÒRIES
I5: Data : | L5: DESEMBRE 2024
B8: CODI / UT | D8: TEXTE PARTIDA | F8: DESCRIPCIÓ AMIDAMENT | H8: UTS. | I8: LONGITUD | J8: AMPLADA | K8: ALÇADA | L8: PARCIAL | M8: AMIDAMENT
E13: AMIDAMENTS DEL PROJECTE EXECUTIU | K13: PREU CAPÍTOL
B16: CAPÍTOL 01 - PASSERES EXTERIORS - FUSTA I ACER | K16: ='01 PASSERES FUSTA'!$M$84 -> 0
B18: CAPÍTOL 02 - PROTECCIÓ DE LES FAÇANES DE PEDRA | K18: ='02 FAÇANES PEDRA'!$M$75 -> 0
B20: CAPÍTOL 03 - MITJANS DE PROTECCIÓ I DE SEGURETAT | K20: ='03 MITJANS DE PROTECCIÓ'!$M$130 -> 0
B22: CAPÍTOL 04 - FUSTERIES
H28: TOTAL PRESSUPOST D'EXECUCIÓ - PEM | K28: =SUM(K15:L26) -> 0
H30: 13,00% - DESPESES GENERALS | K30: =0.13*K28 -> 0
H32: 6,00€ - BENEFICI INDUSTRIAL | K32: =0.06*K28 -> 0
H34: TOTAL PRESSUPOST DE CONTRACTACIÓ - PEC | K34: =SUM(K28:L32) -> 0
H36: 21,00% - IVA | K36: =0.21*K34 -> 0
H38: TOTAL PEC + IVA | K38: =SUM(K34:L36) -> 0
