Workbook
Name __shared_5_0_0: NA()
Name __shared_5_0_1: NA()
Name __shared_5_0_2: NA()
Name __shared_5_0_3: NA()

Sheet Introducció
C5: Introducció
C7: El licitador haurà d'omplir totes les caselles en blau, que corresponen als preus o als factors multiplicatius que es demanen en el document administratiu
C8: Automàticament, es calcularan els preus corresponents, en gris, segons les volumetries indicades en les caselles blanques.
C9: Aquestes volumetries són indicatives només per al càlcul del preu ofert pel licitador, i per aquells elements a valorar en la valoració de l'oferta econòmica.
C10: La plantilla indica al licitador si el preu que informa en les diferents seccions és vàlid o no, d'acord amb les condicions descrites al document administratiu
C12: El licitador no podrà modificar cap fórmula, volum, preu màxim, format, etc.
C13: Tots els preus s'indicaran sense IVA, en forma de tarifa mensual excepte que s'expliciti el contrari.
D15: Llegenda
D16: 70 | E16: En gris | F16: Valors calculats: són resultat d'operacions sobre les xifres de l'oferta
D17: 70 | E17: En blau | F17: Quadres d'introducció de dades a omplir pel licitador
D18: 70 | E18: En blanc/groc | F18: Valors fixats per l'IMI
C20: Import màxim de licitació
C22: Per al contracte de 16 mesos | D22: ='Resum oferta econòmica'!D11 -> 5452659.5 | E22: IVA exclòs

Sheet Resum oferta econòmica
C5: Nom licitador
B8: Resum oferta econòmica
B11: Import màxim de licitació | D11: 5452659.5
B14: Import de l'oferta econòmica | D14: =D21+D26+D34+D40+D46 -> 0 | F14: =IF(D14<=D11,"Import vàlid","Import NO vàlid") -> Import vàlid
C15: Import oferta = Preu Serveis Professionals i recursos virtualitzats + Preu Govern del servei + Preu trasllat a l'inici del contracte + Preu trasllat i Transformació en fase de devolució
B18: Suma Preu Serveis Professionals i recursos virtualitzats | D18: =SUM(D21,D26) -> 0
D20: Preu contracte
B21: Preu Serveis Professionals | D21: =D23 -> 0
C23: Serveis d'Administració | D23: =Administració!E14 -> 0
D25: Preu contracte
B26: Preu Recursos Virtualitzats | D26: =SUM(D28:D30) -> 0
C28: Serveis Recursos Proces | D28: ='Computació virtual'!G17 -> 0
C29: Serveis Emmagatzematge | D29: =Emmagatzematge!D14 -> 0
C30: Serveis Emmagatzematge Back-up | D30: ='Emmagatzematge Backup'!D13 -> 0
D33: Preu contracte
B34: Preu Govern del Servei | D34: =D36 -> 0
C36: Govern del servei (16 mesos) | D36: ='Conceptes generals'!F19*16 -> 0
B40: Preu Trasllat a l'inici contracte | D40: =D42 -> 0
C42: Trasllat a l'inici del contracte des de CPDs actuals a CPDs adjudicatari | D42: ='Trasllat inici contracte'!D13 -> 0
B46: Preu Trasllat i transformació en fase de Devolució | D46: =D48 -> 0
C48: Trasllat dels serveis i Transformació Bases de Dades Oracle en la fase de Devolució | D48: ='Trasllat Transform. Devolució'!D14 -> 0
B52: Servidors oferts sense cost | D52: =D54 -> 0.01 | G52: Servidors | H52: Vcpu | I52: RAM
C54: Servidors oferts sense cost | D54: ='Conceptes generals'!F12 -> 0.01 | G54: =ROUND(D54*(SUM('Computació virtual'!J30+'Computació virtual'!J38)),0) -> 4 | H54: =ROUND(D54*'Computació virtual'!J46,0) -> 13 | I54: =ROUND(D54*'Computació virtual'!J53,0) -> 39
B57: Preu cesió del hardware a un tercer | D57: ='Conceptes generals'!F25 -> 0

Sheet Conceptes generals
B4: Conceptes generals
B9: Servidors virtuals sense cost
E11: Servidors minim | F11: Servidors ofert
C12: Servidors virtuals sense cost (%) sobre servidors recursos | E12: 0.01 | F12: 0.01 | G12: =IF(F12<E12,"Valor NO vàlid","Valor vàlid") -> Valor vàlid
B16: Preu Govern del servei
E18: Preu màxim mes | F18: Preu ofert
C19: Preu Serveis de Gestió, Administració i Infraestructura indispesable | E19: 23853.42 | G19: =IF(F19>E19,"Import NO vàlid","Import vàlid") -> Import vàlid
B22: Preu cesió propietat del hardware
F24: Preu ofert
C25: Preu cesió a un tercer propietat del hardware | F25: 0
B28: Reducció de la fase de Due Dilligence
E30: Maxim nombre de setmanes a reduir | F30: Setmanes de reducció
C31: Nombre de setmanes de reducció fase Due Dilligence | E31: 2 | G31: =IF(F31>E31,"Import NO vàlid","Import vàlid") -> Import vàlid
B34: Reducció de la fase de Transició i trasllat
E36: Maxim nombre de setmanes a reduir | F36: Setmanes de reducció
C37: Nombre de setmanes de reducció fase Transició i trasllat | E37: 7 | G37: =IF(F37>E37,"Import NO vàlid","Import vàlid") -> Import vàlid

Sheet Millora certificacions
B4: Millora certificacions membres de l'equip servei regular o equips complementaris
B9: Certificacions addicionals
D11: Nom i cognoms persona certificada | E11: Certificació ofertada
C12: ITIL Expert | F12: =IF(E12>1,"Valor NO vàlid","Valor vàlid") -> Valor vàlid
C14: CNCF Certified Kubernetes Administrator | F14: =IF(E14>1,"Valor NO vàlid","Valor vàlid") -> Valor vàlid

Sheet Trasllat inici contracte
B4: Preu del trasllat dels serveis a l'inici del contracte
B6: Des de els CPD's actuals gestionats per LOT2 a CPD's de l'adjudicatari.
B8: Tarifes de trasllat de serveis
B10: Tipus transformació | C10: Preu màxim | D10: Preu ofert
B11: Projecte de Trasllat de CPDs actuals a CPDs adjudicatari | C11: 345153.77 | E11: =IF(D11<=C11,"Import vàlid","Import NO vàlid") -> Import vàlid
B13: Preu valoració trasllat serveis | D13: =SUM(D11:D12) -> 0

Sheet Trasllat Transform. Devolució
B4: Preu del trasllat i laTransformació en fase de devolució dels serveis
B6: Des de els CPD's de l'adjudicatari de Pont LOT2 fins al CPD Primari (Via Favència) i al CPD Secundari del nou adjudicatari
B8: Tarifes de trasllat i Transformació serveis
B10: Tipus migració | C10: Preu màxim | D10: Preu ofert
B11: Projecte de trasllat General | C11: 345153.77 | E11: =IF(D11<=C11,"Import vàlid","Import NO vàlid") -> Import vàlid
B12: Projecte trasllat i Transformació Bases de dades Oracle | C12: 195745.83 | E12: =IF(D12<=C12,"Import vàlid","Import NO vàlid") -> Import vàlid
B14: Preu valoració trasllat i Transformació dels serveis | D14: =SUM(D11:D13) -> 0

Sheet Administració
B4: Preu Serveis Administració
B7: Administració | D7: Preu base Màxim | E7: Preu base | F7: Preu mensual volum estimat | H7: Talla Administració | I7: S | J7: M | K7: L | L7: XL
B8: Bàsica | D8: 120 | F8: =SUM(D24+D30+D36+D41) -> 0 | H8: Factor | I8: 1
B9: Simple | D9: 180 | F9: =SUM(D47+D53+D59+D64) -> 0 | I9: =IF(I8<=$L$15,"Factor vàlid","Factor NO vàlid") -> Factor vàlid | J9: =IF(J8<=$L$15,"Factor vàlid","Factor NO vàlid") -> Factor vàlid | K9: =IF(K8<=$L$15,"Factor vàlid","Factor NO vàlid") -> Factor vàlid | L9: =IF(L8<=$L$15,"Factor vàlid","Factor NO vàlid") -> Factor vàlid
B10: Mitjana | D10: 240 | F10: =SUM(D69+D75+D81+D86) -> 0
B11: Complexa | D11: 290 | F11: =SUM(D91+D97+D103+D108) -> 0 | H11: Tipus de servei | I11: 12 x 5 8h | J11: 14 x 7 4h | K11: 24 x 7 4h | L11: 24 x 7 2h
F12: =SUM(F8:F11) -> 0 | H12: Factor | J12: 1
I13: =IF(I12<=$L$16,"Factor vàlid","Factor NO vàlid") -> Factor vàlid | J13: =IF(J12<=$L$16,"Factor vàlid","Factor NO vàlid") -> Factor vàlid | K13: =IF(K12<=$L$16,"Factor vàlid","Factor NO vàlid") -> Factor vàlid | L13: =IF(L12<=$L$16,"Factor vàlid","Factor NO vàlid") -> Factor vàlid
B14: Preu valoració 16 mesos | E14: =F12*16 -> 0
I15: Factor màxim Talla Administració | L15: 2.5
I16: Factor màxim Tipus Servei | L16: 1.8
C20: Tipus d'Administració
C22: Administració | D22: Preu volum estimat | E22: Preu base màxim | F22: Preu base | G22: Volum estimat | I22: Talla | J22: TA-S | K22: TA-M | L22: TA-L | M22: TA-XL
I23: Factor | J23: =$I$8 -> 1 | K23: =$J$8 -> 0 | L23: =$K$8 -> 0 | M23: =$L$8 -> 0
C24: Administració Bàsica (12 x 5 8h) | D24: =IF(G24>0,F24*SUMPRODUCT(J23:M23,J24:M24)*I12,0) -> 0 | E24: =D8 -> 120 | F24: =E8 -> 0 | G24: =SUM(J24:M24) -> 54 | I24: Volum estimat | J24: 44 | K24: 10 | L24: 0 | M24: 0
F25: =IF(F24<=E24,"Import vàlid","Import NO vàlid") -> Import vàlid | J25: =IF(J23<=$L$15,"Factor vàlid","Factor NO vàlid") -> Factor vàlid | K25: =IF(K23<=$L$15,"Factor vàlid","Factor NO vàlid") -> Factor vàlid | L25: =IF(L23<=$L$15,"Factor vàlid","Factor NO vàlid") -> Factor vàlid | M25: =IF(M23<=$L$15,"Factor vàlid","Factor NO vàlid") -> Factor vàlid
C28: Administració | D28: Preu volum estimat | E28: Preu base màxim | F28: Preu base | G28: Volum estimat | I28: Talla | J28: TA-S | K28: TA-M | L28: TA-L | M28: TA-XL
I29: Factor | J29: =$I$8 -> 1 | K29: =$J$8 -> 0 | L29: =$K$8 -> 0 | M29: =$L$8 -> 0
C30: Administració Bàsica (14 x 7 4h) | D30: =IF(G30>0,F30*SUMPRODUCT(J29:M29,J30:M30)*J12,0) -> 0 | E30: =E24 -> 120 | F30: =F24 -> 0 | G30: =SUM(J30:M30) -> 7 | I30: Volum estimat | J30: 4 | K30: 3 | L30: 0 | M30: 0
F31: =IF(F30<=E30,"Import vàlid","Import NO vàlid") -> Import vàlid | J31: =IF(J29<=$L$15,"Factor vàlid","Factor NO vàlid") -> Factor vàlid | K31: =IF(K29<=$L$15,"Factor vàlid","Factor NO vàlid") -> Factor vàlid | L31: =IF(L29<=$L$15,"Factor vàlid","Factor NO vàlid") -> Factor vàlid | M31: =IF(M29<=$L$15,"Factor vàlid","Factor NO vàlid") -> Factor vàlid
C34: Administració | D34: Preu volum estimat | E34: Preu base màxim | F34: Preu base | G34: Volum estimat | I34: Talla | J34: TA-S | K34: TA-M | L34: TA-L | M34: TA-XL
I35: Factor | J35: =$I$8 -> 1 | K35: =$J$8 -> 0 | L35: =$K$8 -> 0 | M35: =$L$8 -> 0
C36: Administració Bàsica (24 x 7 4h) | D36: =IF(G36>0,F36*SUMPRODUCT(J35:M35,J36:M36)*K12,0) -> 0 | E36: =E24 -> 120 | F36: =F24 -> 0 | G36: =SUM(J36:M36) -> 37 | I36: Volum estimat | J36: 25 | K36: 12 | L36: 0 | M36: 0
F37: =IF(F36<=E36,"Import vàlid","Import NO vàlid") -> Import vàlid | J37: =IF(J35<=$L$15,"Factor vàlid","Factor NO vàlid") -> Factor vàlid | K37: =IF(K35<=$L$15,"Factor vàlid","Factor NO vàlid") -> Factor vàlid | L37: =IF(L35<=$L$15,"Factor vàlid","Factor NO vàlid") -> Factor vàlid | M37: =IF(M35<=$L$15,"Factor vàlid","Factor NO vàlid") -> Factor vàlid
C39: Administració | D39: Preu volum estimat | E39: Preu base màxim | F39: Preu base | G39: Volum estimat | I39: Talla | J39: TA-S | K39: TA-M | L39: TA-L | M39: TA-XL
I40: Factor | J40: =$I$8 -> 1 | K40: =$J$8 -> 0 | L40: =$K$8 -> 0 | M40: =$L$8 -> 0
C41: Administració Bàsica (24 x 7 2h) | D41: =IF(G41>0,F41*SUMPRODUCT(J40:M40,J41:M41)*L12,0) -> 0 | E41: =E24 -> 120 | F41: =F24 -> 0 | G41: =SUM(J41:M41) -> 0 | I41: Volum estimat | J41: 0 | K41: 0 | L41: 0 | M41: 0
F42: =IF(F41<=E41,"Import vàlid","Import NO vàlid") -> Import vàlid | J42: =IF(J40<=$L$15,"Factor vàlid","Factor NO vàlid") -> Factor vàlid | K42: =IF(K40<=$L$15,"Factor vàlid","Factor NO vàlid") -> Factor vàlid | L42: =IF(L40<=$L$15,"Factor vàlid","Factor NO vàlid") -> Factor vàlid | M42: =IF(M40<=$L$15,"Factor vàlid","Factor NO vàlid") -> Factor vàlid
C45: Administració | D45: Preu volum estimat | E45: Preu base màxim | F45: Preu base | G45: Volum estimat | I45: Talla | J45: TA-S | K45: TA-M | L45: TA-L | M45: TA-XL
I46: Factor | J46: =$I$8 -> 1 | K46: =$J$8 -> 0 | L46: =$K$8 -> 0 | M46: =$L$8 -> 0
C47: Administració Simple (12 x 5 8h) | D47: =IF(G47>0,F47*SUMPRODUCT(J46:M46,J47:M47)*I12,0) -> 0 | E47: =D9 -> 180 | F47: =E9 -> 0 | G47: =SUM(J47:M47) -> 21 | I47: Volum estimat | J47: 15 | K47: 6 | L47: 0 | M47: 0
F48: =IF(F47<=E47,"Import vàlid","Import NO vàlid") -> Import vàlid | J48: =IF(J46<=$L$15,"Factor vàlid","Factor NO vàlid") -> Factor vàlid | K48: =IF(K46<=$L$15,"Factor vàlid","Factor NO vàlid") -> Factor vàlid | L48: =IF(L46<=$L$15,"Factor vàlid","Factor NO vàlid") -> Factor vàlid | M48: =IF(M46<=$L$15,"Factor vàlid","Factor NO vàlid") -> Factor vàlid
C51: Administració | D51: Preu volum estimat | E51: Preu base màxim | F51: Preu base | G51: Volum estimat | I51: Talla | J51: TA-S | K51: TA-M | L51: TA-L | M51: TA-XL
I52: Factor | J52: =$I$8 -> 1 | K52: =$J$8 -> 0 | L52: =$K$8 -> 0 | M52: =$L$8 -> 0
C53: Administració Simple(14 x 7 4h) | D53: =IF(G53>0,F53*SUMPRODUCT(J52:M52,J53:M53)*J12,0) -> 0 | E53: =E47 -> 180 | F53: =F47 -> 0 | G53: =SUM(J53:M53) -> 9 | I53: Volum estimat | J53: 7 | K53: 2 | L53: 0 | M53: 0
F54: =IF(F53<=E53,"Import vàlid","Import NO vàlid") -> Import vàlid | J54: =IF(J52<=$L$15,"Factor vàlid","Factor NO vàlid") -> Factor vàlid | K54: =IF(K52<=$L$15,"Factor vàlid","Factor NO vàlid") -> Factor vàlid | L54: =IF(L52<=$L$15,"Factor vàlid","Factor NO vàlid") -> Factor vàlid | M54: =IF(M52<=$L$15,"Factor vàlid","Factor NO vàlid") -> Factor vàlid
C57: Administració | D57: Preu volum estimat | E57: Preu base màxim | F57: Preu base | G57: Volum estimat | I57: Talla | J57: TA-S | K57: TA-M | L57: TA-L | M57: TA-XL
I58: Factor | J58: =$I$8 -> 1 | K58: =$J$8 -> 0 | L58: =$K$8 -> 0 | M58: =$L$8 -> 0
C59: Administració Simple (24 x 7 4h) | D59: =IF(G59>0,F59*SUMPRODUCT(J58:M58,J59:M59)*K12,0) -> 0 | E59: =E47 -> 180 | F59: =F47 -> 0 | G59: =SUM(J59:M59) -> 21 | I59: Volum estimat | J59: 15 | K59: 6 | L59: 0 | M59: 0
F60: =IF(F59<=E59,"Import vàlid","Import NO vàlid") -> Import vàlid | J60: =IF(J58<=$L$15,"Factor vàlid","Factor NO vàlid") -> Factor vàlid | K60: =IF(K58<=$L$15,"Factor vàlid","Factor NO vàlid") -> Factor vàlid | L60: =IF(L58<=$L$15,"Factor vàlid","Factor NO vàlid") -> Factor vàlid | M60: =IF(M58<=$L$15,"Factor vàlid","Factor NO vàlid") -> Factor vàlid
C62: Administració | D62: Preu volum estimat | E62: Preu base màxim | F62: Preu base | G62: Volum estimat | I62: Talla | J62: TA-S | K62: TA-M | L62: TA-L | M62: TA-XL
I63: Factor | J63: =$I$8 -> 1 | K63: =$J$8 -> 0 | L63: =$K$8 -> 0 | M63: =$L$8 -> 0
C64: Administració Simple (24 x 7 2h) | D64: =IF(G64>0,F64*SUMPRODUCT(J63:M63,J64:M64)*L12,0) -> 0 | E64: =E47 -> 180 | F64: =F47 -> 0 | G64: =SUM(J64:M64) -> 0 | I64: Volum estimat | J64: 0 | K64: 0 | L64: 0 | M64: 0
F65: =IF(F64<=E64,"Import vàlid","Import NO vàlid") -> Import vàlid | J65: =IF(J63<=$L$15,"Factor vàlid","Factor NO vàlid") -> Factor vàlid | K65: =IF(K63<=$L$15,"Factor vàlid","Factor NO vàlid") -> Factor vàlid | L65: =IF(L63<=$L$15,"Factor vàlid","Factor NO vàlid") -> Factor vàlid | M65: =IF(M63<=$L$15,"Factor vàlid","Factor NO vàlid") -> Factor vàlid
C67: Administració | D67: Preu volum estimat | E67: Preu base màxim | F67: Preu base | G67: Volum estimat | I67: Talla | J67: TA-S | K67: TA-M | L67: TA-L | M67: TA-XL
I68: Factor | J68: =$I$8 -> 1 | K68: =$J$8 -> 0 | L68: =$K$8 -> 0 | M68: =$L$8 -> 0
C69: Administració Mitjana (12 x 5 8h) | D69: =IF(G69>0,F69*SUMPRODUCT(J68:M68,J69:M69)*I12,0) -> 0 | E69: =D10 -> 240 | F69: =E10 -> 0 | G69: =SUM(J69:M69) -> 38 | I69: Volum estimat | J69: 5 | K69: 25 | L69: 8 | M69: 0
F70: =IF(F69<=E69,"Import vàlid","Import NO vàlid") -> Import vàlid | J70: =IF(J68<=$L$15,"Factor vàlid","Factor NO vàlid") -> Factor vàlid | K70: =IF(K68<=$L$15,"Factor vàlid","Factor NO vàlid") -> Factor vàlid | L70: =IF(L68<=$L$15,"Factor vàlid","Factor NO vàlid") -> Factor vàlid | M70: =IF(M68<=$L$15,"Factor vàlid","Factor NO vàlid") -> Factor vàlid
C73: Administració | D73: Preu volum estimat | E73: Preu base màxim | F73: Preu base | G73: Volum estimat | I73: Talla | J73: TA-S | K73: TA-M | L73: TA-L | M73: TA-XL
I74: Factor | J74: =$I$8 -> 1 | K74: =$J$8 -> 0 | L74: =$K$8 -> 0 | M74: =$L$8 -> 0
C75: Administració Mitjana (14 x 7 4h) | D75: =IF(G75>0,F75*SUMPRODUCT(J74:M74,J75:M75)*J12,0) -> 0 | E75: =E69 -> 240 | F75: =F69 -> 0 | G75: =SUM(J75:M75) -> 28 | I75: Volum estimat | J75: 2 | K75: 18 | L75: 8 | M75: 0
F76: =IF(F75<=E75,"Import vàlid","Import NO vàlid") -> Import vàlid | J76: =IF(J74<=$L$15,"Factor vàlid","Factor NO vàlid") -> Factor vàlid | K76: =IF(K74<=$L$15,"Factor vàlid","Factor NO vàlid") -> Factor vàlid | L76: =IF(L74<=$L$15,"Factor vàlid","Factor NO vàlid") -> Factor vàlid | M76: =IF(M74<=$L$15,"Factor vàlid","Factor NO vàlid") -> Factor vàlid
C79: Administració | D79: Preu volum estimat | E79: Preu base màxim | F79: Preu base | G79: Volum estimat | I79: Talla | J79: TA-S | K79: TA-M | L79: TA-L | M79: TA-XL
I80: Factor | J80: =$I$8 -> 1 | K80: =$J$8 -> 0 | L80: =$K$8 -> 0 | M80: =$L$8 -> 0
C81: Administració Mitjana (24 x 7 4h) | D81: =IF(G81>0,F81*SUMPRODUCT(J80:M80,J81:M81)*K12,0) -> 0 | E81: =E69 -> 240 | F81: =F69 -> 0 | G81: =SUM(J81:M81) -> 43 | I81: Volum estimat | J81: 6 | K81: 29 | L81: 8 | M81: 0
F82: =IF(F81<=E81,"Import vàlid","Import NO vàlid") -> Import vàlid | J82: =IF(J80<=$L$15,"Factor vàlid","Factor NO vàlid") -> Factor vàlid | K82: =IF(K80<=$L$15,"Factor vàlid","Factor NO vàlid") -> Factor vàlid | L82: =IF(L80<=$L$15,"Factor vàlid","Factor NO vàlid") -> Factor vàlid | M82: =IF(M80<=$L$15,"Factor vàlid","Factor NO vàlid") -> Factor vàlid
C84: Administració | D84: Preu volum estimat | E84: Preu base màxim | F84: Preu base | G84: Volum estimat | I84: Talla | J84: TA-S | K84: TA-M | L84: TA-L | M84: TA-XL
I85: Factor | J85: =$I$8 -> 1 | K85: =$J$8 -> 0 | L85: =$K$8 -> 0 | M85: =$L$8 -> 0
C86: Administració Mitjana (24 x 7 2h) | D86: =IF(G86>0,F86*SUMPRODUCT(J85:M85,J86:M86)*L12,0) -> 0 | E86: =E69 -> 240 | F86: =F69 -> 0 | G86: =SUM(J86:M86) -> 0 | I86: Volum estimat | J86: 0 | K86: 0 | L86: 0 | M86: 0
F87: =IF(F86<=E86,"Import vàlid","Import NO vàlid") -> Import vàlid | J87: =IF(J85<=$L$15,"Factor vàlid","Factor NO vàlid") -> Factor vàlid | K87: =IF(K85<=$L$15,"Factor vàlid","Factor NO vàlid") -> Factor vàlid | L87: =IF(L85<=$L$15,"Factor vàlid","Factor NO vàlid") -> Factor vàlid | M87: =IF(M85<=$L$15,"Factor vàlid","Factor NO vàlid") -> Factor vàlid
C89: Administració | D89: Preu volum estimat | E89: Preu base màxim | F89: Preu base | G89: Volum estimat | I89: Talla | J89: TA-S | K89: TA-M | L89: TA-L | M89: TA-XL
I90: Factor | J90: =$I$8 -> 1 | K90: =$J$8 -> 0 | L90: =$K$8 -> 0 | M90: =$L$8 -> 0
C91: Administració Complexa (12 x 5 8h) | D91: =IF(G91>0,F91*SUMPRODUCT(J90:M90,J91:M91)*I12,0) -> 0 | E91: =D11 -> 290 | F91: =E11 -> 0 | G91: =SUM(J91:M91) -> 39 | I91: Volum estimat | J91: 22 | K91: 12 | L91: 5 | M91: 0
F92: =IF(F91<=E91,"Import vàlid","Import NO vàlid") -> Import vàlid | J92: =IF(J90<=$L$15,"Factor vàlid","Factor NO vàlid") -> Factor vàlid | K92: =IF(K90<=$L$15,"Factor vàlid","Factor NO vàlid") -> Factor vàlid | L92: =IF(L90<=$L$15,"Factor vàlid","Factor NO vàlid") -> Factor vàlid | M92: =IF(M90<=$L$15,"Factor vàlid","Factor NO vàlid") -> Factor vàlid
C95: Administració | D95: Preu volum estimat | E95: Preu base màxim | F95: Preu base | G95: Volum estimat | I95: Talla | J95: TA-S | K95: TA-M | L95: TA-L | M95: TA-XL
I96: Factor | J96: =$I$8 -> 1 | K96: =$J$8 -> 0 | L96: =$K$8 -> 0 | M96: =$L$8 -> 0
C97: Administració Complexa(14 x 7 4h) | D97: =IF(G97>0,F97*SUMPRODUCT(J96:M96,J97:M97)*J12,0) -> 0 | E97: =E91 -> 290 | F97: =F91 -> 0 | G97: =SUM(J97:M97) -> 30 | I97: Volum estimat | J97: 18 | K97: 3 | L97: 9 | M97: 0
F98: =IF(F97<=E97,"Import vàlid","Import NO vàlid") -> Import vàlid | J98: =IF(J96<=$L$15,"Factor vàlid","Factor NO vàlid") -> Factor vàlid | K98: =IF(K96<=$L$15,"Factor vàlid","Factor NO vàlid") -> Factor vàlid | L98: =IF(L96<=$L$15,"Factor vàlid","Factor NO vàlid") -> Factor vàlid | M98: =IF(M96<=$L$15,"Factor vàlid","Factor NO vàlid") -> Factor vàlid
C101: Administració | D101: Preu volum estimat | E101: Preu base màxim | F101: Preu base | G101: Volum estimat | I101: Talla | J101: TA-S | K101: TA-M | L101: TA-L | M101: TA-XL
I102: Factor | J102: =$I$8 -> 1 | K102: =$J$8 -> 0 | L102: =$K$8 -> 0 | M102: =$L$8 -> 0
C103: Administració Complexa (24 x 7 4h) | D103: =IF(G103>0,F103*SUMPRODUCT(J102:M102,J103:M103)*K12,0) -> 0 | E103: =E91 -> 290 | F103: =F91 -> 0 | G103: =SUM(J103:M103) -> 36 | I103: Volum estimat | J103: 16 | K103: 12 | L103: 8 | M103: 0
F104: =IF(F103<=E103,"Import vàlid","Import NO vàlid") -> Import vàlid | J104: =IF(J102<=$L$15,"Factor vàlid","Factor NO vàlid") -> Factor vàlid | K104: =IF(K102<=$L$15,"Factor vàlid","Factor NO vàlid") -> Factor vàlid | L104: =IF(L102<=$L$15,"Factor vàlid","Factor NO vàlid") -> Factor vàlid | M104: =IF(M102<=$L$15,"Factor vàlid","Factor NO vàlid") -> Factor vàlid
C106: Administració | D106: Preu volum estimat | E106: Preu base màxim | F106: Preu base | G106: Volum estimat | I106: Talla | J106: TA-S | K106: TA-M | L106: TA-L | M106: TA-XL
I107: Factor | J107: =$I$8 -> 1 | K107: =$J$8 -> 0 | L107: =$K$8 -> 0 | M107: =$L$8 -> 0
C108: Administració Complexa (24 x 7 2h) | D108: =IF(G108>0,F108*SUMPRODUCT(J107:M107,J108:M108)*L12,0) -> 0 | E108: =E91 -> 290 | F108: =F91 -> 0 | G108: =SUM(J108:M108) -> 16 | I108: Volum estimat | J108: 2 | K108: 2 | L108: 8 | M108: 4
F109: =IF(F108<=E108,"Import vàlid","Import NO vàlid") -> Import vàlid | J109: =IF(J107<=$L$15,"Factor vàlid","Factor NO vàlid") -> Factor vàlid | K109: =IF(K107<=$L$15,"Factor vàlid","Factor NO vàlid") -> Factor vàlid | L109: =IF(L107<=$L$15,"Factor vàlid","Factor NO vàlid") -> Factor vàlid | M109: =IF(M107<=$L$15,"Factor vàlid","Factor NO vàlid") -> Factor vàlid

Sheet Computació virtual
B5: Preu Recursos Computació
B8: Recursos Vcpu i RAM | D8: Preu base mensual màxim | E8: Preu base mensual | F8: Validació | G8: Preu mensual volum estimat
B9: Servidors virtuals amb SO Windows | D9: 5 | F9: =IF(E9<=D9,"Import vàlid","Import NO vàlid") -> Import vàlid | G9: =D30 -> 0
B10: Servidors virtuals amb SO Linux | D10: 6 | F10: =IF(E10<=D10,"Import vàlid","Import NO vàlid") -> Import vàlid | G10: =D38 -> 0
B11: Recursos Virtual cores | D11: 11 | F11: =IF(E11<=D11,"Import vàlid","Import NO vàlid") -> Import vàlid | G11: =D46 -> 0
B12: Recursos GB RAM | D12: 8 | F12: =IF(E12<=D12,"Import vàlid","Import NO vàlid") -> Import vàlid | G12: =D53 -> 0
B13: Total | G13: =SUM(G9:G12) -> 0
B17: Preu valoració 16 mesos | G17: =G13*16 -> 0
C22: Tipus de Servei
C28: Recursos | D28: Preu volum estimat | E28: Preu base mensual màxim | F28: Preu base mensual | G28: Volum estimat | I28: Tipus de servei | J28: Servidors virtuals
C30: Servidors virtuals amb SO Windows | D30: =IF(G30>0,F30*J30,0) -> 0 | E30: =D9 -> 5 | F30: =E9 -> 0 | G30: =J30 -> 88 | I30: Volum estimat | J30: 88
F31: =IF(F30<=E30,"Import vàlid","Import NO vàlid") -> Import vàlid
C36: Recursos | D36: Preu volum estimat | E36: Preu base mensual màxim | F36: Preu base mensual | G36: Volum estimat | I36: Tipus de servei | J36: Servidors virtuals
C38: Servidors virtuals amb SO Linux | D38: =IF(G38>0,F38*J38,0) -> 0 | E38: =D10 -> 6 | F38: =E10 -> 0 | G38: =J38 -> 291 | I38: Volum estimat | J38: 291
F39: =IF(F38<=E38,"Import vàlid","Import NO vàlid") -> Import vàlid
C44: Recursos | D44: Preu volum estimat | E44: Preu base mensual màxim | F44: Preu base mensual | G44: Volum estimat | I44: Tipus de servei | J44: Virtual Cores
C46: Virtual Cores | D46: =IF(G46>0,F46*J46,0) -> 0 | E46: =D11 -> 11 | F46: =E11 -> 0 | G46: =J46 -> 1314 | I46: Volum estimat | J46: 1314
F47: =IF(F46<=E46,"Import vàlid","Import NO vàlid") -> Import vàlid
C51: Recursos | D51: Preu volum estimat | E51: Preu base mensual màxim | F51: Preu base mensual | G51: Volum estimat | I51: Tipus de servei | J51: GB RAM
C53: GB RAM | D53: =IF(G53>0,F53*J53,0) -> 0 | E53: =D12 -> 8 | F53: =E12 -> 0 | G53: =J53 -> 3932 | I53: Volum estimat | J53: 3932
F54: =IF(F53<=E53,"Import vàlid","Import NO vàlid") -> Import vàlid

Sheet Emmagatzematge
B4: Preu Serveis Emmagatzematge
B7: Producte Emmagatzematge | D7: Preu base mensual màxim | E7: Preu base mensual | F7: Validació | G7: Preu mensual volum estimat
B8: SSD | D8: 0.28 | F8: =IF(E8<=D8,"Import vàlid","Import NO vàlid") -> Import vàlid | G8: =D23 -> 0
B9: Blocs | D9: 0.07 | F9: =IF(E9<=D9,"Import vàlid","Import NO vàlid") -> Import vàlid | G9: =D29 -> 0
B10: Fitxers | D10: 0.02 | F10: =IF(E10<=D10,"Import vàlid","Import NO vàlid") -> Import vàlid | G10: =D35 -> 0
B11: Fitxers Exchange o similar | D11: 0.01 | F11: =IF(E11<=D11,"Import vàlid","Import NO vàlid") -> Import vàlid | G11: =D41 -> 0
B12: Total | G12: =SUM(G8:G11) -> 0 | I12: 0.4 | K12: Retenció de còpia | L12: 0.6 | M12: 0.3 | N12: 0.1
B14: Preu valoració 16 mesos | D14: =G12*16 -> 0
C19: Tipus de Servei Emmagatzematge
C21: Emmagatzematge SSD | D21: Preu volum estimat | E21: Preu base mensual màxim | F21: Preu base mensual | G21: Volum estimat GB
C23: Blocs SSD Tier I | D23: =F23*G23 -> 0 | E23: =D8 -> 0.28 | F23: =E8 -> 0 | G23: 56222
F24: =IF(F23<=E23,"Import vàlid","Import NO vàlid") -> Import vàlid
C27: Emmagatzematge | D27: Preu volum estimat | E27: Preu base mensual màxim | F27: Preu base mensual | G27: Volum estimat GB
C29: Blocs Tier I | D29: =F29*G29 -> 0 | E29: =D9 -> 0.07 | F29: =E9 -> 0 | G29: 44275
F30: =IF(F29<=E29,"Import vàlid","Import NO vàlid") -> Import vàlid
C33: Emmagatzematge | D33: Preu volum estimat | E33: Preu base mensual màxim | F33: Preu base mensual | G33: Volum estimat GB
C35: Fitxers Tier II | D35: =F35*G35 -> 0 | E35: =D10 -> 0.02 | F35: =E10 -> 0 | G35: 10064
F36: =IF(F35<=E35,"Import vàlid","Import NO vàlid") -> Import vàlid
C39: Emmagatzematge Exchange o similar | D39: Preu volum estimat | E39: Preu base mensual màxim | F39: Preu base mensual | G39: Volum estimat GB
C41: Fitxers Tier III | D41: =F41*G41 -> 0 | E41: =D11 -> 0.01 | F41: =E11 -> 0 | G41: 0
F42: =IF(F41<=E41,"Import vàlid","Import NO vàlid") -> Import vàlid

Sheet Emmagatzematge Backup
B4: Preu ServeisEmmagatzematge Back-up
B7: Producte Emmagatzematge | D7: Preu base mensual màxim | E7: Preu base mensual | F7: Validació | G7: Preu mensual volum estimat
B8: Servidors backup standard | D8: 13 | F8: =IF(E8<=D8,"Import vàlid","Import NO vàlid") -> Import vàlid | G8: =D25 -> 0
B9: Servidors backup especial | D9: 18 | F9: =IF(E9<=D9,"Import vàlid","Import NO vàlid") -> Import vàlid | G9: =D31 -> 0 | I9: Retenció de còpia | J9: Estàndard | K9: Avançada | L9: Especial | N9: RPO | O9: Zero
B10: Backup GB | D10: 0.07 | F10: =IF(E10<=D10,"Import vàlid","Import NO vàlid") -> Import vàlid | G10: =SUM(D37+D43) -> 0 | I10: Factor | N10: Factor
B11: Total | G11: =SUM(G8:G10) -> 0 | I11: Màxim | J11: 1 | K11: 2 | L11: 3.5 | M11: Retenció de còpia | N11: Màxim | O11: 1.5 | P11: 0.1
J12: =IF(J10<=J11,"Factor Vàlid","Factor NO Vàlid") -> Factor Vàlid | K12: =IF(K10<=K11,"Factor Vàlid","Factor NO Vàlid") -> Factor Vàlid | L12: =IF(L10<=L11,"Factor Vàlid","Factor NO Vàlid") -> Factor Vàlid | O12: =IF(O10<=O11,"Factor Vàlid","Factor NO Vàlid") -> Factor Vàlid
B13: Preu valoració 16 mesos | D13: =G11*16 -> 0
C20: Tipus de Servei Back-up
C23: Servidors | D23: Preu volum estimat | E23: Preu base mensual màxim | F23: Preu base mensual | G23: Volum estimat | I23: Tipus de servei | J23: Servidors virtuals o físics
C25: Back-up estàndard | D25: =IF(G25>0,F25*J25,0) -> 0 | E25: =D8 -> 13 | F25: =E8 -> 0 | G25: =J25 -> 338 | I25: Volum estimat | J25: 338
F26: =IF(F25<=E25,"Import vàlid","Import NO vàlid") -> Import vàlid
C29: Servidors | D29: Preu volum estimat | E29: Preu base mensual màxim | F29: Preu base mensual | G29: Volum estimat | I29: Tipus de servei | J29: Servidors virtuals o físics
C31: Back-up especial | D31: =IF(G31>0,F31*J31,0) -> 0 | E31: =D9 -> 18 | F31: =E9 -> 0 | G31: =J31 -> 41 | I31: Volum estimat | J31: 41
F32: =IF(F31<=E31,"Import vàlid","Import NO vàlid") -> Import vàlid
C35: Emmagatzematge back-up RPO Darrer backup | D35: Preu volum estimat | E35: Preu base mensual màxim | F35: Preu base mensual | G35: Volum estimat GB a fer backup | I35: Retenció de còpia | J35: Estàndard | K35: Avançada | L35: Especial | N35: RPO | O35: Darrer backup
I36: Factor | J36: =J10 -> 0 | K36: =K10 -> 0 | L36: =L10 -> 0 | N36: Factor | O36: 1
C37: Backup | D37: =IF(G37>0,F37*SUMPRODUCT(J36:L36,J37:L37)*O36,0) -> 0 | E37: =D10 -> 0.07 | F37: =E10 -> 0 | G37: =SUM(J37:L37) -> 66504 | I37: Volum estimat | J37: 21230 | K37: 45274 | L37: 0 | O37: =IF(O36<=$O$11,"Factor Vàlid","Factor NO Vàlid") -> Factor Vàlid
F38: =IF(F37<=E37,"Import vàlid","Import NO vàlid") -> Import vàlid | J38: =IF(J36<=$J$11,"Factor Vàlid","Factor NO Vàlid") -> Factor Vàlid | K38: =IF(K36<=$K$11,"Factor Vàlid","Factor NO Vàlid") -> Factor Vàlid | L38: =IF(L36<=$L$11,"Factor Vàlid","Factor NO Vàlid") -> Factor Vàlid
C41: Emmagatzematge back-up RPO Zero | D41: Preu volum estimat | E41: Preu base mensual màxim | F41: Preu base mensual | G41: Volum estimat GB a fer backup | I41: Retenció de còpia | J41: Estàndard | K41: Avançada | L41: Especial | N41: RPO | O41: Zero
I42: Factor | J42: =J10 -> 0 | K42: =K10 -> 0 | L42: =L10 -> 0 | N42: Factor | O42: =O10 -> 0
C43: Backup | D43: =IF(G43>0,F43*SUMPRODUCT(J42:L42,J43:L43)*O42,0) -> 0 | E43: =D10 -> 0.07 | F43: =E10 -> 0 | G43: =SUM(J43:L43) -> 44057 | I43: Volum estimat | J43: 0 | K43: 21416 | L43: 22641 | O43: =IF(O42<=$O$11,"Factor Vàlid","Factor NO Vàlid") -> Factor Vàlid
F44: =IF(F43<=E43,"Import vàlid","Import NO vàlid") -> Import vàlid | J44: =IF(J42<=$J$11,"Factor Vàlid","Factor NO Vàlid") -> Factor Vàlid | K44: =IF(K42<=$K$11,"Factor Vàlid","Factor NO Vàlid") -> Factor Vàlid | L44: =IF(L42<=$L$11,"Factor Vàlid","Factor NO Vàlid") -> Factor Vàlid
