Workbook
Name C_Despesa: '[1]Dades auxiliars'!$N$1:$N$9
Name Dades_Servei: '[2]Dades auxiliars'!$A$1:$J$262
Name T_Despesa: '[1]Dades auxiliars'!$M$1:$M$5

Sheet Càlcul pressupost 
A1: SaaS Moodle
A2: Data inici contracte | B2: 43952
A3: Data inici servei | B3: 43952
A4: Data fi del contracte | B4: 45046
D5: Servei | E5: Import 2020 | F5: Import 2021 | G5: Import 2022 | H5: Import 2023 | I5: Import Total
D6: Serveis Saas Moodle | E6: =+'Càlcul pressupost '!B17 -> 32676.752 | F6: =+'Càlcul pressupost '!C17 -> 31499.98 | G6: =+'Càlcul pressupost '!D17 -> 22267.19 | H6: =+'Càlcul pressupost '!E17 -> 11733.6 | I6: =SUM(E6:H6) -> 98177.522
D7: Import total licitació | E7: =SUM(E6:E6) -> 32676.752 | F7: =SUM(F6:F6) -> 31499.98 | G7: =SUM(G6:G6) -> 22267.19 | H7: =SUM(H6:H6) -> 11733.6 | I7: =SUM(I6:I6) -> 98177.522
A10: Imports amb IVA | B10: Contracte inicial | F10: Pròrroga
B11: 2020 (8) | C11: 2021 (12) | D11: 2022 (12) | E11: 2023 (4) | F11: 2023 (8) | G11: 2024 (4) | H11: total
A12: Mesos de contracte | B12: 8 | C12: 12 | D12: 12 | E12: 4 | F12: 8 | G12: 4 | H12: 36+12
A13: Factures semestrals previstes | B13: 1 | C13: 2 | D13: 2 | E13: 1 | F13: 1 | G13: 1 | H13: 6+2
A14: Recepció servei, migració i recurrent identificat | B14: ='recurrent identifcat'!C9*0.7 -> 21543.152 | C14: ='recurrent identifcat'!C9*0.3 -> 9232.7796 | D14: 0 | E14: 0 | F14: 0 | G14: 0 | H14: =SUM(B14:G14) -> 30775.932 | K14: =H14/1.21 -> 25434.655
A15: Operació del servei (nombre usuaris). | B15: =B18*$B$23*B13 -> 6000 | C15: =C18*$B$23*C13 -> 12000 | D15: =D18*$B$23*D13 -> 12000 | E15: =E18*$B$23*E13 -> 6600 | F15: =F18*$B$23*F13 -> 6600 | G15: =G18*$B$23*G13 -> 6900 | H15: =SUM(B15:G15) -> 50100 | I15: 1.000 fins 2022 a 2023 1.100 i 2024 1.150usuaris | K15: =K14*0.21 -> 5341.2775
A16: Bossa hores suport per manteniment recurrent | B16: =B19*$B$22*B13 -> 5133.6 | C16: =C19*$B$22*C13 -> 10267.2 | D16: =D19*$B$22*D13-0.01 -> 10267.19 | E16: =E19*$B$22*E13 -> 5133.6 | F16: =F19*$B$22*F13 -> 5133.6 | G16: =G19*$B$22*G13 -> 3080.16 | H16: =SUM(B16:G16) -> 39015.35 | I16: bossa hores
A17: Total | B17: =SUM(B14:B16) -> 32676.752 | C17: =SUM(C14:C16) -> 31499.98 | D17: =SUM(D14:D16) -> 22267.19 | E17: =SUM(E14:E16) -> 11733.6 | F17: =SUM(F14:F16) -> 11733.6 | G17: =SUM(G14:G16) -> 9980.16 | H17: =SUM(B17:G17) -> 119891.28
A18: usuaris previstos | B18: 1000 | C18: 1000 | D18: 1000 | E18: 1100 | F18: 1100 | G18: 1150
A19: hores semestrals previstes | B19: 80 | C19: 80 | D19: 80 | E19: 80 | F19: 80 | G19: 48
B21: amb iva | C21: sense iva | D21: iva
A22: cost hora | B22: ='cost perfil'!B9 -> 64.17 | C22: =B22/1.21 -> 53.033058 | D22: =B22-C22 -> 11.136942
A23: Cost usuari | B23: 6 | C23: =B23/1.21 -> 4.9586777 | D23: =B23-C23 -> 1.0413223
A25: Imports amb IVA | B25: Any 2020 | C25: Any 2021 | D25: Any 2022 | E25: Any 2023 | F25: Total | J25: Any | K25: VE prestació | L25: VE eventuals pròrrogues (2) | M25: VE modificacions amb increment del cost econòmic (1) | N25: SUMA
A26: Capítol II | J26: 2020 | K26: =B17/1.21 -> 27005.58 | M26: =B31/1.21 -> 0 | N26: =SUM(K26:M26) -> 27005.58
A27: Recepció servei, migració i recurrent identificat | B27: =B14 -> 21543.152 | C27: =C14 -> 9232.7796 | D27: =D14 -> 0 | E27: =E14 -> 0 | F27: =SUM(B27:E27) -> 30775.932 | J27: 2021 | K27: =C17/1.21 -> 26033.041 | M27: =C31/1.21 -> 0 | N27: =SUM(K27:M27) -> 26033.041
A28: Operació del servei (nombre usuaris). | B28: =B15 -> 6000 | C28: =C15 -> 12000 | D28: =D15 -> 12000 | E28: =E15 -> 6600 | F28: =SUM(B28:E28) -> 36600 | J28: 2022 | K28: =D17/1.21 -> 18402.636 | M28: =D31/1.21 -> 0 | N28: =SUM(K28:M28) -> 18402.636
A29: Bossa hores suport per manteniment recurrent | B29: =B16 -> 5133.6 | C29: =C16 -> 10267.2 | D29: =D16 -> 10267.19 | E29: =E16 -> 5133.6 | F29: =SUM(B29:E29) -> 30801.59 | J29: 2023 | K29: =E17/1.21 -> 9697.1901 | L29: =F17/1.21 -> 9697.1901 | M29: =E31/1.21 -> 0 | N29: =SUM(K29:M29) -> 19394.38
A30: Total | B30: =SUM(B27:B29) -> 32676.752 | C30: =SUM(C27:C29) -> 31499.98 | D30: =SUM(D27:D29) -> 22267.19 | E30: =SUM(E27:E29) -> 11733.6 | F30: =SUM(F27:F29) -> 98177.522 | J30: 2024 | L30: =G17/1.21 -> 8248.0661 | M30: =F31/1.21 -> 0 | N30: =SUM(K30:M30) -> 8248.0661
J31: 2025 | L31: =G30/1.21 -> 0 | M31: =G32/1.21 -> 0 | N31: =SUM(K31:M31) -> 0
J32: TOTAL | K32: =SUM(K26:K31) -> 81138.448 | L32: =SUM(L26:L31) -> 17945.256 | M32: =SUM(M26:M31) -> 0 | N32: =SUM(K32:M32) -> 99083.704
M33: =M32/(K32+L32) -> 0

Sheet cost perfil
B1: Cálculo promedio de Manteniment: import €/hora amb IVA | C1: Promedio de Manteniment: import €/hora amb IVA | D1: Preu/hora IVA exclòs | F1: Dedicació
A2: Analista PHP | B2: 47.651459 | C2: 47.65 | D2: =B2/1.21 -> 39.381371 | E2: x | F2: 0.3 | G2: =ROUND(F2*C2,2) -> 14.3
A3: Analista programador PHP | B3: 41.772253 | C3: 41.77 | D3: =B3/1.21 -> 34.522523 | E3: x | F3: 0.2 | G3: =ROUND(F3*C3,2) -> 8.35
A4: Arquitecte PHP | B4: 56.503869 | C4: 56.5 | D4: =B4/1.21 -> 46.697412 | E4: x | F4: 0 | G4: =ROUND(F4*C4,2) -> 0
A5: cap de projecte | B5: 88.48125 | C5: 88.48 | D5: =B5/1.21 -> 73.125 | E5: x | F5: 0.1 | G5: =ROUND(F5*C5,2) -> 8.85
A6: Consultor especialista | B6: 81.675 | C6: 81.68 | D6: =B6/1.21 -> 67.5 | E6: x | F6: 0.4 | G6: =ROUND(F6*C6,2) -> 32.67
A7: Programador PHP | B7: 33.189513 | C7: 33.19 | D7: 27.43 | E7: x | F7: 0 | G7: =F7*B7 -> 0 | I7: =F7*B7 -> 0
F8: =SUM(F2:F7) -> 1
A9: cost mig | B9: =SUM(G2:G7) -> 64.17 | C9: =SUM(G2:G6) -> 64.17 | D9: =B9/1.21 -> 53.033058

Sheet Taules IJ
A2: Distribució de pressupost per any i per servei
B4: 2020 | E4: 2021 | H4: 2022 | K4: 2023
A5: Serveis | B5: Import net | C5: IVA 21% | D5: Import total | E5: Import net | F5: IVA 21% | G5: Import total | H5: Import net | I5: IVA 21% | J5: Import total | K5: Import net | L5: IVA 21% | M5: Import total | N5: Total import net | O5: Total IVA 21% | P5: Total import contracte
A6: =+'Càlcul pressupost '!D6 -> Serveis Saas Moodle | B6: =ROUND('Càlcul pressupost '!E6/1.21,2) -> 27005.58 | C6: =ROUND(B6*0.21,2) -> 5671.17 | D6: =+B6+C6 -> 32676.75 | E6: =ROUND('Càlcul pressupost '!F6/1.21,2) -> 26033.04 | F6: =ROUND(E6*0.21,2) -> 5466.94 | G6: =+E6+F6 -> 31499.98 | H6: =ROUND('Càlcul pressupost '!G6/1.21,2) -> 18402.64 | I6: =ROUND(H6*0.21,2) -> 3864.55 | J6: =+H6+I6 -> 22267.19 | K6: =ROUND('Càlcul pressupost '!H6/1.21,2) -> 9697.19 | L6: =ROUND(K6*0.21,2) -> 2036.41 | M6: =+K6+L6 -> 11733.6 | N6: =+B6+E6+H6+K6 -> 81138.45 | O6: =+C6+F6+I6+L6 -> 17039.07 | P6: =+D6+G6+J6+M6 -> 98177.52
B7: =SUM(B6:B6) -> 27005.58 | C7: =SUM(C6:C6) -> 5671.17 | D7: =SUM(D6:D6) -> 32676.75 | E7: =SUM(E6:E6) -> 26033.04 | F7: =SUM(F6:F6) -> 5466.94 | G7: =SUM(G6:G6) -> 31499.98 | H7: =SUM(H6:H6) -> 18402.64 | I7: =SUM(I6:I6) -> 3864.55 | ... P7: =SUM(P6:P6) -> 98177.52
A9: Distribució de pressupost per any
A11: TOTAL
A12: Any | B12: Pressupost net | C12: IVA | D12: Import total
A13: 2020 | B13: =+B7 -> 27005.58 | C13: =+C7 -> 5671.17 | D13: =+B13+C13 -> 32676.75
A14: 2021 | B14: =+E6 -> 26033.04 | C14: =+F6 -> 5466.94 | D14: =+B14+C14 -> 31499.98
A15: 2022 | B15: =+H6 -> 18402.64 | C15: =+I6 -> 3864.55 | D15: =+B15+C15 -> 22267.19
A16: 2023 | B16: =+K6 -> 9697.19 | C16: =+L6 -> 2036.41 | D16: =+B16+C16 -> 11733.6
A17: Total | B17: =SUM(B13:B16) -> 81138.45 | C17: =SUM(C13:C16) -> 17039.07 | D17: =SUM(D13:D16) -> 98177.52
A20: Modificacions de contracte: ampliació / disminució
A21: Causes previstes de modificació | B21: Import contracte (IVA inclòs) | C21: % Ampliació sobre import del contracte | D21: Import màxim ampliació (amb IVA) | E21: % Disminució sobre import del contracte | F21: Import màxim disminució (amb IVA)
A22: Ampliació nombre usuaris | B22: =$D$17 -> 98177.52 | C22: 0.1 | D22: =+ROUND(B22*C22,2) -> 9817.75 | E22: 0 | F22: =+ROUND(B22*E22,2) -> 0
A23: TOTAL | B23: =SUM(B22:B22) -> 98177.52 | C23: =SUM(C22:C22) -> 0.1 | D23: =SUM(D22:D22) -> 9817.75 | E23: =SUM(E22:E22) -> 0 | F23: =SUM(F22:F22) -> 0
D24: =+ROUND(D23/1.21,2) -> 8113.84 | F24: =+ROUND(F23/1.21,2) -> 0
D25: IVA EXCLÒS | F25: IVA EXCLÒS
A26: VEC
B28: VE prestació | C28: VE eventuals pròrrogues | D28: VE modificacions contracte amb increment de cost previstes | E28: VE modificacions contracte amb disminució de cost previstes | F28: SUMA
A29: 2020 | B29: =+B13 -> 27005.58 | D29: 0 | E29: =ROUND(-G29/$G$34*$F$24,2) -> 0 | F29: =SUM(B29:D29) -> 27005.58 | G29: =+B29+C29 -> 27005.58
A30: 2021 | B30: =+B14 -> 26033.04 | D30: 0 | E30: =ROUND(-G30/$G$34*$F$24,2) -> 0 | F30: =SUM(B30:D30) -> 26033.04 | G30: =+B30+C30 -> 26033.04
A31: 2022 | B31: =+B15 -> 18402.64 | D31: 0 | E31: =ROUND(-G31/$G$34*$F$24,2) -> 0 | F31: =SUM(B31:D31) -> 18402.64 | G31: =+B31+C31 -> 18402.64
A32: 2023 | B32: =+B16 -> 9697.19 | C32: =+'Càlcul pressupost '!L29 -> 9697.1901 | D32: 0 | E32: =ROUND(-G32/$G$34*$F$24,2) -> 0 | F32: =SUM(B32:D32) -> 19394.38 | G32: =+B32+C32 -> 19394.38
A33: 2024 | C33: =+'Càlcul pressupost '!L30 -> 8248.0661 | D33: 0 | E33: =ROUND(-G33/$G$34*$F$24,2) -> 0 | F33: =SUM(B33:D33) -> 8248.0661 | G33: =+B33+C33 -> 8248.0661
A34: Total | B34: =SUM(B29:B33) -> 81138.45 | C34: =SUM(C29:C33) -> 17945.256 | D34: =SUM(D29:D33) -> 0 | E34: =SUM(E29:E32) -> 0 | F34: =SUM(B34:D34) -> 99083.706 | G34: =SUM(G29:G32) -> 90835.64

Sheet Costos Indirectes
A2: CÀLCUL COSTOS DIRECTES I INDIRECTES PEL PROJECTE
C4: Preu IVA exclòs | D4: Benefici Industrial (20%) | E4: Cost Total | F4: Cost Indirecte (8%) | G4: Suma costos Indirectes | H4: Cost usuaris | I4: Cost personal | J4: Seguretat Social (34%) | K4: Salari Brut | L4: Suma costos directes
C5: ='Taules IJ'!B17 -> 81138.45 | D5: =ROUND(C5*0.2, 2) -> 16227.69 | E5: =ROUND(C5-D5, 2) -> 64910.76 | F5: =ROUND(E5*0.08, 2) -> 5192.86 | G5: =ROUND(D5+F5, 2) -> 21420.55 | H5: =+ROUND((+'Càlcul pressupost '!B15+'Càlcul pressupost '!C15+'Càlcul pressupost '!D15+'Càlcul pressupost '!E15)/1.21,2) -> 30247.93 | I5: =ROUND(E5-F5-H5, 2) -> 29469.97 | J5: =ROUND(I5*(0.34/1.34), 2) -> 7477.46 | K5: =ROUND(I5-J5, 2) -> 21992.51 | L5: =+I5+H5 -> 59717.9
C7: Costos directes:
C8: Costos salarials - Salari Brut | D8: =K5 -> 21992.51
C9: Costos salarials - Seguretat Social (34%) | D9: =J5 -> 7477.46
C10: Cost usuaris | D10: =+H5 -> 30247.93
C11: TOTAL (Suma costos directes) | D11: =+L5 -> 59717.9
C13: Costos indirectes:
C14: Despeses generals d’estructura | D14: =F5 -> 5192.86
C15: Benefici industrial | D15: =D5 -> 16227.69
C16: TOTAL (Suma costos indirectes) | D16: =G5 -> 21420.55
K17: Solvència económica | L17: Solvència tècnica
C18: TOTAL DE COSTOS (directes + indirectes): | D18: =D11+D16 -> 81138.45 | K18: =ROUND(D18/14*12*60%, 2) -> 41728.35 | L18: =ROUND(K18*75%,2) -> 31296.26

Sheet Calendari 
A1: Servei | B1: 43952 | D1: 43983 | E1: 44013 | F1: 44044 | G1: 44075 | H1: 44105 | I1: 44136 | J1: 44166 | K1: 44197 | L1: 44228 | M1: 44256 | N1: 44287 | O1: ….. | P1: 44927 | Q1: 44958 | R1: 44986 | S1: 45017
A2: Recepció
A3: Migració de CPD
A4: Desplegament del recurrent identificats | D4: posada en marxa | H4: suport i garantia
A5: Servei de suport | O5: …..

Sheet recurrent identifcat
A1: Recurrent identificat | B1: Hores | C1: Preu amb IVA inclòs
A2: Continguts formatius | B2: 40 | C2: =B2*'cost perfil'!C$9 -> 2566.8
A3: Creació i edició de continguts formatius | B3: 38 | C3: =B3*'cost perfil'!C$9 -> 2438.46
A4: Migració de continguts editables | B4: 88 | C4: =B4*'cost perfil'!C$9 -> 5646.96
A5: Activitat formativa i certificacions | B5: 50 | C5: =B5*'cost perfil'!C$9 -> 3208.5
A6: Notificacions | B6: 10.6 | C6: =B6*'cost perfil'!C$9 -> 680.202
A7: Integracions SAP | B7: 213 | C7: =B7*'cost perfil'!C$9 -> 13668.21
A8: Informes | B8: 40 | C8: =B8*'cost perfil'!C$9 -> 2566.8
B9: =SUM(B2:B8) -> 479.6 | C9: =SUM(C2:C8) -> 30775.932
