Workbook
Name C_Despesa: '[1]Dades auxiliars'!$N$1:$N$9
Name Dades_Servei: '[2]Dades auxiliars'!$A$1:$J$262
Name T_Despesa: '[1]Dades auxiliars'!$M$1:$M$5

Sheet Càlcul pressupost 
A1: AM IMH (3+2) | T1: Mesos Transició | U1: Data inici transició
A2: Data inici contracte | B2: 44562 | T2: 0 | U2: 44713
A3: Data inici servei | B3: 44713 | T3: 1 | U3: 44682
A4: Data fi del contracte | B4: 45657 | T4: 2 | U4: 44652
E5: Servei | G5: Import 2022 | H5: Import 2023 | I5: Import 2024 | J5: Import Total IVA inclòs | K5: Import Total IVA exclòs | T5: 3 | U5: 44621
C6: Treball fet real en incidència. Es paga al final | E6: Manteniment correctiu | G6: =+I61 -> 609478.44 | H6: =+I115 -> 918949.71 | I6: =+I115 -> 918949.71 | J6: =SUM(G6:I6) -> 2447377.9 | K6: =+ROUND(J6/1.21,2) -> 2022626.3 | T6: 4 | U6: 44593
C7: Treball valorat i acceptat. Es paga al final | E7: Manteniment recurrent | G7: =+L61+T61 -> 1089866.5 | H7: =+L115 -> 1378424.6 | I7: =+L115 -> 1378424.6 | J7: =SUM(G7:I7) -> 3846715.6 | K7: =+ROUND(J7/1.21,2) -> 3179103.8 | T7: 5 | U7: 44562
C8: Tarifa plana | E8: Serveis Transversals de Manteniment | G8: =+O61 -> 342161.86 | H8: =+O115+P115 -> 536970.75 | I8: =+O115+P115 -> 536970.75 | J8: =SUM(G8:I8) -> 1416103.4 | K8: =+ROUND(J8/1.21,2) -> 1170333.4
C9: Segons consum | E9: - Llicències (incloses a STM) | H9: =+P115 -> 10229 | I9: =+P115 -> 10229 | J9: =SUM(G9:I9) -> 20458 | K9: =+ROUND(J9/1.21,2) -> 16907.44
E10: Import total licitació | G10: =SUM(G6:G8) -> 2041506.8 | H10: =SUM(H6:H8) -> 2834345 | I10: =SUM(I6:I8) -> 2834345 | J10: =SUM(J6:J8) -> 7710196.9 | K10: =SUM(K6:K8) -> 6372063.5
A12: ANY 2022 5 mesos de transició + 7 mesos de servei | D12: Mesos | E12: 7
A13: Subgrup | B13: Servei | C13: Nom Servei | D13: Codi Aplicació | E13: Nom Aplicació | F13: Tecnologia | G13: IT Manteniment correctiu | H13: Preu/hora | I13: € Manteniment correctiu | J13: PT Manteniment recurrent | K13: Preu/hora | L13: € Manteniment recurrent | M13: TT Serveis Transversals de Manteniment | N13: Preu/hora | O13: € STM | P13: € Llicències | Q13: Data inici transició | R13: Data inici servei | S13: Mesos transició | T13: € Transició (recurrent) | U13: TOTAL (sense transició)
A14: GTR - Gestió Tributs | B14: SER0056 | C14: Notaris | D14: APP0247 | E14: eNotaris | F14: J2EE | G14: =+I14/H14 -> 70.044485 | H14: =Perfils!$G$7 -> 60.6 | I14: 4244.6958 | J14: =+L14/K14 -> 104.17284 | K14: =Perfils!$G$13 -> 61.12 | L14: 6367.0437 | M14: =+O14/N14 -> 0 | N14: =Perfils!$G$19 -> 64.3 | O14: 0 | P14: 0 | Q14: =VLOOKUP(S14,$T$2:$U$6,2) -> 44652 | R14: =+$B$3 -> 44713 | S14: 2 | T14: 666.67 | U14: =+I14+L14+O14+P14 -> 10611.74
A15: GTR - Gestió Tributs | B15: SER0057 | C15: Tributs vehicles | D15: APP0254 | E15: ePadró | F15: J2EE | G15: =+I15/H15 -> 10.506673 | H15: =Perfils!$G$7 -> 60.6 | I15: 636.70437 | J15: =+L15/K15 -> 15.625925 | K15: =Perfils!$G$13 -> 61.12 | L15: 955.05656 | M15: =+O15/N15 -> 0 | N15: =Perfils!$G$19 -> 64.3 | O15: 0 | P15: 0 | Q15: =VLOOKUP(S15,$T$2:$U$6,2) -> 44652 | R15: =+$B$3 -> 44713 | S15: 2 | T15: 100 | U15: =+I15+L15+O15+P15 -> 1591.7609
A16: GTR - Gestió Tributs | B16: SER0057 | C16: Tributs vehicles | D16: APP0729 | E16: SAP TRM Vehicles | F16: SAP TRM | G16: =+I16/H16 -> 219.0766 | H16: =Perfils!$G$7 -> 60.6 | I16: 13276.042 | J16: =+L16/K16 -> 325.8191 | K16: =Perfils!$G$13 -> 61.12 | L16: 19914.063 | M16: =+O16/N16 -> 0 | N16: =Perfils!$G$19 -> 64.3 | O16: 0 | P16: 0 | Q16: =VLOOKUP(S16,$T$2:$U$6,2) -> 44621 | R16: =+$B$3 -> 44713 | S16: 3 | T16: 3127.68 | U16: =+I16+L16+O16+P16 -> 33190.106
A17: GTR - Gestió Tributs | B17: SER0058 | C17: Tributs IBI i Cadastre | D17: APP0254 | E17: ePadró | F17: J2EE | G17: =+I17/H17 -> 10.506673 | H17: =Perfils!$G$7 -> 60.6 | I17: 636.70437 | J17: =+L17/K17 -> 15.625925 | K17: =Perfils!$G$13 -> 61.12 | L17: 955.05656 | M17: =+O17/N17 -> 0 | N17: =Perfils!$G$19 -> 64.3 | O17: 0 | P17: 0 | Q17: =VLOOKUP(S17,$T$2:$U$6,2) -> 44652 | R17: =+$B$3 -> 44713 | S17: 2 | T17: 100 | U17: =+I17+L17+O17+P17 -> 1591.7609
A18: GTR - Gestió Tributs | B18: SER0058 | C18: Tributs IBI i Cadastre | D18: APP0925 | E18: SAP TRM Cadastre | F18: SAP TRM | G18: =+I18/H18 -> 788.00046 | H18: =Perfils!$G$7 -> 60.6 | I18: 47752.828 | J18: =+L18/K18 -> 1171.9444 | K18: =Perfils!$G$13 -> 61.12 | L18: 71629.242 | M18: =+O18/N18 -> 0 | N18: =Perfils!$G$19 -> 64.3 | O18: 0 | P18: 0 | Q18: =VLOOKUP(S18,$T$2:$U$6,2) -> 44593 | R18: =+$B$3 -> 44713 | S18: 4 | T18: 15000 | U18: =+I18+L18+O18+P18 -> 119382.07
A19: GTR - Gestió Tributs | B19: SER0059 | C19: Tributs Plusvàlues | D19: APP0934 | E19: SAP TRM Plusvàlua | F19: SAP TRM | G19: =+I19/H19 -> 244.80429 | H19: =Perfils!$G$7 -> 60.6 | I19: 14835.14 | J19: =+L19/K19 -> 364.0823 | K19: =Perfils!$G$13 -> 61.12 | L19: 22252.71 | M19: =+O19/N19 -> 0 | N19: =Perfils!$G$19 -> 64.3 | O19: 0 | P19: 0 | Q19: =VLOOKUP(S19,$T$2:$U$6,2) -> 44621 | R19: =+$B$3 -> 44713 | S19: 3 | T19: 3494.98 | U19: =+I19+L19+O19+P19 -> 37087.851
A20: GTR - Gestió Tributs | B20: SER0060 | C20: Tributs IAE | D20: APP0254 | E20: ePadró | F20: J2EE | G20: =+I20/H20 -> 10.506673 | H20: =Perfils!$G$7 -> 60.6 | I20: 636.70437 | J20: =+L20/K20 -> 15.625925 | K20: =Perfils!$G$13 -> 61.12 | L20: 955.05656 | M20: =+O20/N20 -> 0 | N20: =Perfils!$G$19 -> 64.3 | O20: 0 | P20: 0 | Q20: =VLOOKUP(S20,$T$2:$U$6,2) -> 44652 | R20: =+$B$3 -> 44713 | S20: 2 | T20: 100 | U20: =+I20+L20+O20+P20 -> 1591.7609
A21: GTR - Gestió Tributs | B21: SER0060 | C21: Tributs IAE | D21: APP0932 | E21: SAP TRM IAE | F21: SAP TRM | G21: =+I21/H21 -> 429.41288 | H21: =Perfils!$G$7 -> 60.6 | I21: 26022.421 | J21: =+L21/K21 -> 638.63925 | K21: =Perfils!$G$13 -> 61.12 | L21: 39033.631 | M21: =+O21/N21 -> 0 | N21: =Perfils!$G$19 -> 64.3 | O21: 0 | P21: 0 | Q21: =VLOOKUP(S21,$T$2:$U$6,2) -> 44621 | R21: =+$B$3 -> 44713 | S21: 3 | T21: 6130.57 | U21: =+I21+L21+O21+P21 -> 65056.052
A22: GTR - Gestió Tributs | B22: SER0061 | C22: Tributs Residus | D22: APP0254 | E22: ePadró | F22: J2EE | G22: =+I22/H22 -> 10.506673 | H22: =Perfils!$G$7 -> 60.6 | I22: 636.70437 | J22: =+L22/K22 -> 15.625925 | K22: =Perfils!$G$13 -> 61.12 | L22: 955.05656 | M22: =+O22/N22 -> 0 | N22: =Perfils!$G$19 -> 64.3 | O22: 0 | P22: 0 | Q22: =VLOOKUP(S22,$T$2:$U$6,2) -> 44652 | R22: =+$B$3 -> 44713 | S22: 2 | T22: 100 | U22: =+I22+L22+O22+P22 -> 1591.7609
A23: GTR - Gestió Tributs | B23: SER0061 | C23: Tributs Residus | D23: APP0937 | E23: SAP TRM Residus | F23: SAP TRM | G23: =+I23/H23 -> 402.51125 | H23: =Perfils!$G$7 -> 60.6 | I23: 24392.182 | J23: =+L23/K23 -> 598.63011 | K23: =Perfils!$G$13 -> 61.12 | L23: 36588.272 | M23: =+O23/N23 -> 0 | N23: =Perfils!$G$19 -> 64.3 | O23: 0 | P23: 0 | Q23: =VLOOKUP(S23,$T$2:$U$6,2) -> 44621 | R23: =+$B$3 -> 44713 | S23: 3 | T23: 5746.51 | U23: =+I23+L23+O23+P23 -> 60980.454
A24: GTR - Gestió Tributs | B24: SER0066 | C24: Liquidacions, autoliquidacions i facturació | D24: APP0933 | E24: SAP TRM Liquidació Facturació Autoliquidació | F24: SAP TRM | G24: =+I24/H24 -> 805.81732 | H24: =Perfils!$G$7 -> 60.6 | I24: 48832.53 | J24: =+L24/K24 -> 1198.4423 | K24: =Perfils!$G$13 -> 61.12 | L24: 73248.795 | M24: =+O24/N24 -> 0 | N24: =Perfils!$G$19 -> 64.3 | O24: 0 | P24: 0 | Q24: =VLOOKUP(S24,$T$2:$U$6,2) -> 44593 | R24: =+$B$3 -> 44713 | S24: 4 | T24: 15339.15 | U24: =+I24+L24+O24+P24 -> 122081.32
A25: GTR - Gestió Tributs | B25: SER0644 | C25: SAP TRM G.Expedients Inspecció | D25: APP0929 | E25: SAP TRM G.Expedients Inspecció | F25: SAP TRM | G25: =+I25/H25 -> 656.66705 | H25: =Perfils!$G$7 -> 60.6 | I25: 39794.023 | J25: =+L25/K25 -> 976.62033 | K25: =Perfils!$G$13 -> 61.12 | L25: 59691.035 | M25: =+O25/N25 -> 0 | N25: =Perfils!$G$19 -> 64.3 | O25: 0 | P25: 0 | Q25: =VLOOKUP(S25,$T$2:$U$6,2) -> 44621 | R25: =+$B$3 -> 44713 | S25: 3 | T25: 9375 | U25: =+I25+L25+O25+P25 -> 99485.058
... A48: GMU - Gestió Multes | B48: SER0069 | C48: Arxiu d'imatges digitalitzades | D48: APP0397 | E48: Invesdoc | F48: - | G48: =+I48/H48 -> 0 | H48: =Perfils!$G$7 -> 60.6 | I48: 0 | J48: =+L48/K48 -> 0 | K48: =Perfils!$G$13 -> 61.12 | L48: 0 | M48: =+O48/N48 -> 0 | N48: =Perfils!$G$19 -> 64.3 | O48: 0 | P48: 0 | Q48: =VLOOKUP(S48,$T$2:$U$6,2) -> 44713 | R48: =+$B$3 -> 44713 | S48: 0 | T48: 0 | U48: =+I48+L48+O48+P48 -> 0
A49: GMU - Gestió Multes | B49: SER0470 | C49: Suport SAU a eConvenis, ePadrons, eMultes i eNotificacions | D49: APP0907 | E49: SAU IMH | F49: - | G49: =+I49/H49 -> 0 | H49: =Perfils!$G$7 -> 60.6 | I49: 0 | J49: =+L49/K49 -> 0 | K49: =Perfils!$G$13 -> 61.12 | L49: 0 | M49: 0 | N49: =Perfils!$G$19 -> 64.3 | O49: 52500 | P49: 0 | Q49: =VLOOKUP(S49,$T$2:$U$6,2) -> 44652 | R49: =+$B$3 -> 44713 | S49: 2 | T49: 3750 | U49: =+I49+L49+O49+P49 -> 52500
A50: GMU - Gestió Multes | B50: SER0637 | C50: Gestió Recursos de Sancions | D50: APP0935 | E50: SAP TRM Sancions i recursos sancions | F50: SAP TRM | G50: =+I50/H50 -> 678.55595 | H50: =Perfils!$G$7 -> 60.6 | I50: 41120.491 | J50: =+L50/K50 -> 1009.1743 | K50: =Perfils!$G$13 -> 61.12 | L50: 61680.736 | M50: =+O50/N50 -> 0 | N50: =Perfils!$G$19 -> 64.3 | O50: 0 | P50: 0 | Q50: =VLOOKUP(S50,$T$2:$U$6,2) -> 44621 | R50: =+$B$3 -> 44713 | S50: 3 | T50: 9687.5 | U50: =+I50+L50+O50+P50 -> 102801.23
A51: GEX - Gestió Expedients | B51: SER0063 | C51: Contribuents, unificació, traspàs de deute i BIs de captació i expedients de cancel·lació i modificació | D51: APP0730 | E51: SAP TRM Recaptació | F51: SAP TRM | G51: =+I51/H51 -> 87.555607 | H51: =Perfils!$G$7 -> 60.6 | I51: 5305.8698 | J51: =+L51/K51 -> 130.21604 | K51: =Perfils!$G$13 -> 61.12 | L51: 7958.8046 | M51: =+O51/N51 -> 0 | N51: =Perfils!$G$19 -> 64.3 | O51: 0 | P51: 0 | Q51: =VLOOKUP(S51,$T$2:$U$6,2) -> 44621 | R51: =+$B$3 -> 44713 | S51: 3 | T51: 1250 | U51: =+I51+L51+O51+P51 -> 13264.674
A52: GEX - Gestió Expedients | B52: SER0063 | C52: Contribuents, unificació, traspàs de deute i BIs de captació i expedients de cancel·lació i modificació | D52: APP0731 | E52: SAP TRM Contribuents | F52: SAP TRM | G52: =+I52/H52 -> 437.77803 | H52: =Perfils!$G$7 -> 60.6 | I52: 26529.349 | J52: =+L52/K52 -> 651.08022 | K52: =Perfils!$G$13 -> 61.12 | L52: 39794.023 | M52: =+O52/N52 -> 0 | N52: =Perfils!$G$19 -> 64.3 | O52: 0 | P52: 0 | Q52: =VLOOKUP(S52,$T$2:$U$6,2) -> 44621 | R52: =+$B$3 -> 44713 | S52: 3 | T52: 6250 | U52: =+I52+L52+O52+P52 -> 66323.372
A53: GEX - Gestió Expedients | B53: SER0063 | C53: Contribuents, unificació, traspàs de deute i BIs de captació i expedients de cancel·lació i modificació | D53: APP0938 | E53: SAP TRM G. Expedients Sol·licituds | F53: SAP TRM | G53: =+I53/H53 -> 109.44451 | H53: =Perfils!$G$7 -> 60.6 | I53: 6632.3372 | J53: =+L53/K53 -> 162.77006 | K53: =Perfils!$G$13 -> 61.12 | L53: 9948.5058 | M53: =+O53/N53 -> 0 | N53: =Perfils!$G$19 -> 64.3 | O53: 0 | P53: 0 | Q53: =VLOOKUP(S53,$T$2:$U$6,2) -> 44621 | R53: =+$B$3 -> 44713 | S53: 3 | T53: 1562.5 | U53: =+I53+L53+O53+P53 -> 16580.843
A54: GEX - Gestió Expedients | B54: SER0638 | C54: Expedients de Recursos de tributs | D54: APP0936 | E54: SAP TRM G. Expedients Recursos tributs | F54: SAP TRM | G54: =+I54/H54 -> 547.22254 | H54: =Perfils!$G$7 -> 60.6 | I54: 33161.686 | J54: =+L54/K54 -> 813.85028 | K54: =Perfils!$G$13 -> 61.12 | L54: 49742.529 | M54: =+O54/N54 -> 0 | N54: =Perfils!$G$19 -> 64.3 | O54: 0 | P54: 0 | Q54: =VLOOKUP(S54,$T$2:$U$6,2) -> 44621 | R54: =+$B$3 -> 44713 | S54: 3 | T54: 7812.5 | U54: =+I54+L54+O54+P54 -> 82904.215
A55: GEX - Gestió Expedients | B55: SER0659 | C55: Expedients de gestió Tributària | D55: APP0927 | E55: SAP TRM G.Expedients Cadastre | F55: SAP TRM | G55: =+I55/H55 -> 240.77792 | H55: =Perfils!$G$7 -> 60.6 | I55: 14591.142 | J55: =+L55/K55 -> 358.09412 | K55: =Perfils!$G$13 -> 61.12 | L55: 21886.713 | M55: =+O55/N55 -> 0 | N55: =Perfils!$G$19 -> 64.3 | O55: 0 | P55: 0 | Q55: =VLOOKUP(S55,$T$2:$U$6,2) -> 44621 | R55: =+$B$3 -> 44713 | S55: 3 | T55: 3437.5 | U55: =+I55+L55+O55+P55 -> 36477.855
A56: GEX - Gestió Expedients | B56: SER0659 | C56: Expedients de gestió Tributària | D56: APP0928 | E56: SAP TRM G. Expedients IAE | F56: SAP TRM | G56: =+I56/H56 -> 109.44451 | H56: =Perfils!$G$7 -> 60.6 | I56: 6632.3372 | J56: =+L56/K56 -> 162.77006 | K56: =Perfils!$G$13 -> 61.12 | L56: 9948.5058 | M56: =+O56/N56 -> 0 | N56: =Perfils!$G$19 -> 64.3 | O56: 0 | P56: 0 | Q56: =VLOOKUP(S56,$T$2:$U$6,2) -> 44621 | R56: =+$B$3 -> 44713 | S56: 3 | T56: 1562.5 | U56: =+I56+L56+O56+P56 -> 16580.843
A57: GEX - Gestió Expedients | B57: SER0659 | C57: Expedients de gestió Tributària | D57: APP0930 | E57: SAP TRM G. Expedients Residus | F57: SAP TRM | G57: =+I57/H57 -> 109.44451 | H57: =Perfils!$G$7 -> 60.6 | I57: 6632.3372 | J57: =+L57/K57 -> 162.77006 | K57: =Perfils!$G$13 -> 61.12 | L57: 9948.5058 | M57: =+O57/N57 -> 0 | N57: =Perfils!$G$19 -> 64.3 | O57: 0 | P57: 0 | Q57: =VLOOKUP(S57,$T$2:$U$6,2) -> 44621 | R57: =+$B$3 -> 44713 | S57: 3 | T57: 1562.5 | U57: =+I57+L57+O57+P57 -> 16580.843
A58: GEX - Gestió Expedients | B58: SER0659 | C58: Expedients de gestió Tributària | D58: APP0931 | E58: SAP TRM G.Expedients Vehicles | F58: SAP TRM | G58: =+I58/H58 -> 109.44451 | H58: =Perfils!$G$7 -> 60.6 | I58: 6632.3372 | J58: =+L58/K58 -> 162.77006 | K58: =Perfils!$G$13 -> 61.12 | L58: 9948.5058 | M58: =+O58/N58 -> 0 | N58: =Perfils!$G$19 -> 64.3 | O58: 0 | P58: 0 | Q58: =VLOOKUP(S58,$T$2:$U$6,2) -> 44621 | R58: =+$B$3 -> 44713 | S58: 3 | T58: 1562.5 | U58: =+I58+L58+O58+P58 -> 16580.843
A59: GEX - Gestió Expedients | B59: SER0661 | C59: Expedients de Sol·licituds de beneficis fiscals | D59: APP0938 | E59: SAP TRM G. Expedients Sol·licituds | F59: SAP TRM | G59: =+I59/H59 -> 240.77792 | H59: =Perfils!$G$7 -> 60.6 | I59: 14591.142 | J59: =+L59/K59 -> 358.09412 | K59: =Perfils!$G$13 -> 61.12 | L59: 21886.713 | M59: =+O59/N59 -> 0 | N59: =Perfils!$G$19 -> 64.3 | O59: 0 | P59: 0 | Q59: =VLOOKUP(S59,$T$2:$U$6,2) -> 44621 | R59: =+$B$3 -> 44713 | S59: 3 | T59: 3437.5 | U59: =+I59+L59+O59+P59 -> 36477.855
A60: - | B60: SER9999 | C60: Genèric | D60: APP9999 | E60: Genèric | F60: - | G60: =+I60/H60 -> 0 | H60: =Perfils!$G$7 -> 60.6 | I60: 0 | J60: =+L60/K60 -> 0 | K60: =Perfils!$G$13 -> 61.12 | L60: 0 | M60: =+O60/N60 -> 4504.8501 | N60: =Perfils!$G$19 -> 64.3 | O60: 289661.86 | P60: 0 | Q60: =VLOOKUP(S60,$T$2:$U$6,2) -> 44713 | R60: =+$B$3 -> 44713 | S60: 0 | T60: =ROUND((S60*U114*0.25)/12,2) -> 0 | U60: =+I60+L60+O60+P60 -> 289661.86
B61: Total | G61: =SUM(G14:G60) -> 10057.4 | I61: =SUM(I14:I60) -> 609478.44 | J61: =SUM(J14:J60) -> 14957.75 | L61: =SUM(L14:L60) -> 914217.65 | M61: =SUM(M14:M60) -> 4504.8501 | O61: =SUM(O14:O60) -> 342161.86 | P61: =SUM(P14:P60) -> 0 | T61: =SUM(T14:T60) -> 175648.84 | U61: =SUM(U14:U60) -> 1865857.9
E63: FTE | G63: =(G61/$E$12/8)/20 -> 8.9798214 | J63: =(J61/$E$12/8)/20 -> 13.355134 | M63: =(M61/$E$12/8)/20 -> 4.0221876 | N63: (sense SAU)
A66: ANY 2023 i 2024 | D66: Mesos | E66: 12
...

Sheet Perfils
B2: Servei plec | C2: Perfil | D2: % dedicació | E2: Preu perfil IVA inclòs | F2: Preu perfil IVA exclòs | G2: Preu / hora /perfil IVA inclòs
B3: Manteniment correctiu | C3: Responsable de contracte (Coordinador/a del contracte / Cap de projecte) | D3: 0.05 | E3: =+D27 -> 77.28 | F3: =+E27 -> 63.87 | G3: =E3*D3 -> 3.864
C4: Consultor/a sènior SAP | D4: 0.7 | E4: =+D26 -> 64.15 | F4: =+E26 -> 53.02 | G4: =E4*D4 -> 44.905
C5: Analista programador/a SAP | D5: 0.2 | E5: =+D25 -> 48.25 | F5: =+E25 -> 39.88 | G5: =E5*D5 -> 9.65
C6: Analista programador/a J2EE | D6: 0.05 | E6: =+D24 -> 43.58 | F6: =+E24 -> 36.02 | G6: =E6*D6 -> 2.179
C7: Preu perfil tipus | G7: =ROUND(SUM(G3:G6),2) -> 60.6 | H7: =SUM(D3:D6) -> 1
B8: Manteniment recurrent | C8: Responsable de contracte (Coordinador/a del contracte / Cap de projecte) | D8: 0.15 | E8: =+D27 -> 77.28 | F8: =+E27 -> 63.87 | G8: =E8*D8 -> 11.592
C9: Consultor/a sènior SAP | D9: 0.5 | E9: =+D26 -> 64.15 | F9: =+E26 -> 53.02 | G9: =E9*D9 -> 32.075
C10: Analista programador/a SAP | D10: 0.25 | E10: =+D25 -> 48.25 | F10: =+E25 -> 39.88 | G10: =E10*D10 -> 12.0625
C11: Arquitecte/a / Responsable tècnic/a de seguretat | D11: 0.05 | E11: =+D26 -> 64.15 | F11: =+E26 -> 53.02 | G11: =E11*D11 -> 3.2075
C12: Analista programador/a J2EE | D12: 0.05 | E12: =+D24 -> 43.58 | F12: =+E24 -> 36.02 | G12: =E12*D12 -> 2.179
C13: Preu perfil tipus | G13: =ROUND(SUM(G8:G12),2) -> 61.12 | H13: =SUM(D8:D12) -> 1
B14: Serveis Transversals de Manteniment | C14: Responsable de contracte (Coordinador/a del contracte / Cap de projecte) | D14: 0.15 | E14: =+D27 -> 77.28 | F14: =+E27 -> 63.87 | G14: =E14*D14 -> 11.592
C15: Consultor/a sènior SAP | D15: 0.65 | E15: =+D26 -> 64.15 | F15: =+E26 -> 53.02 | G15: =E15*D15 -> 41.6975
C16: Analista programador/a SAP | D16: 0.05 | E16: =+D25 -> 48.25 | F16: =+E25 -> 39.88 | G16: =E16*D16 -> 2.4125
C17: Arquitecte/a / Responsable tècnic/a de seguretat | D17: 0.1 | E17: =+D26 -> 64.15 | F17: =+E26 -> 53.02 | G17: =E17*D17 -> 6.415
C18: Analista programador/a J2EE | D18: 0.05 | E18: =+D24 -> 43.58 | F18: =+E24 -> 36.02 | G18: =E18*D18 -> 2.179
C19: Preu perfil tipus | G19: =ROUND(SUM(G14:G18),2) -> 64.3 | H19: =SUM(D14:D18) -> 1
D23: Import €/hora amb IVA | E23: Preu/hora IVA exclòs
C24: Analista programador/a J2EE | D24: =+ROUND(E24*1.21,2) -> 43.58 | E24: 36.02
C25: Analista programador/a SAP | D25: =+ROUND(E25*1.21,2) -> 48.25 | E25: 39.88
C26: Consultor/a sènior SAP / Arquitecte | D26: =+ROUND(E26*1.21,2) -> 64.15 | E26: 53.02
C27: Responsable de contracte | D27: =+ROUND(E27*1.21,2) -> 77.28 | E27: 63.87

Sheet Taules IJ
A2: Distribució de pressupost per any i per servei
B4: 2022 | E4: 2023 | H4: 2024
A5: Serveis | B5: Import net | C5: IVA 21% | D5: Import total | E5: Import net | F5: IVA 21% | G5: Import total | H5: Import net | I5: IVA 21% | J5: Import total | K5: Total import net | L5: Total IVA 21% | M5: Total import contracte
A6: Manteniment correctiu | B6: =ROUND('Càlcul pressupost '!G6/1.21,2) -> 503701.19 | C6: =ROUND(B6*0.21,2)+0.01 -> 105777.26 | D6: =+B6+C6 -> 609478.45 | E6: =ROUND('Càlcul pressupost '!H6/1.21,2) -> 759462.57 | F6: =ROUND(E6*0.21,2) -> 159487.14 | G6: =+E6+F6 -> 918949.71 | H6: =ROUND('Càlcul pressupost '!I6/1.21,2) -> 759462.57 | I6: =ROUND(H6*0.21,2) -> 159487.14 | J6: =+H6+I6 -> 918949.71 | K6: =+B6+E6+H6 -> 2022626.3 | L6: =+C6+F6+I6 -> 424751.54 | M6: =+D6+G6+J6 -> 2447377.9
A7: Manteniment recurrent | B7: =ROUND('Càlcul pressupost '!G7/1.21,2) -> 900716.11 | C7: =ROUND(B7*0.21,2) -> 189150.38 | D7: =+B7+C7 -> 1089866.5 | E7: =ROUND('Càlcul pressupost '!H7/1.21,2) -> 1139193.9 | F7: =ROUND(E7*0.21,2) -> 239230.71 | G7: =+E7+F7 -> 1378424.6 | H7: =ROUND('Càlcul pressupost '!I7/1.21,2) -> 1139193.9 | I7: =ROUND(H7*0.21,2) -> 239230.71 | J7: =+H7+I7 -> 1378424.6 | K7: =+B7+E7+H7 -> 3179103.8 | L7: =+C7+F7+I7 -> 667611.8 | M7: =+D7+G7+J7 -> 3846715.6
A8: Serveis Transversals de Manteniment | B8: =ROUND('Càlcul pressupost '!G8/1.21,2) -> 282778.4 | C8: =ROUND(B8*0.21,2) -> 59383.46 | D8: =+B8+C8 -> 342161.86 | E8: =ROUND('Càlcul pressupost '!H8/1.21,2) -> 443777.48 | F8: =ROUND(E8*0.21,2) -> 93193.27 | G8: =+E8+F8 -> 536970.75 | H8: =ROUND('Càlcul pressupost '!I8/1.21,2) -> 443777.48 | I8: =ROUND(H8*0.21,2) -> 93193.27 | J8: =+H8+I8 -> 536970.75 | K8: =+B8+E8+H8 -> 1170333.4 | L8: =+C8+F8+I8 -> 245770 | M8: =+D8+G8+J8 -> 1416103.4
A9: - Llicències | B9: =ROUND('Càlcul pressupost '!G9/1.21,2) -> 0 | C9: =ROUND(B9*0.21,2) -> 0 | D9: =+B9+C9 -> 0 | E9: =ROUND('Càlcul pressupost '!H9/1.21,2) -> 8453.72 | F9: =ROUND(E9*0.21,2) -> 1775.28 | G9: =+E9+F9 -> 10229 | H9: =ROUND('Càlcul pressupost '!I9/1.21,2) -> 8453.72 | I9: =ROUND(H9*0.21,2) -> 1775.28 | J9: =+H9+I9 -> 10229 | K9: =+B9+E9+H9 -> 16907.44 | L9: =+C9+F9+I9 -> 3550.56 | M9: =+D9+G9+J9 -> 20458
B10: =SUM(B6:B9) -> 1687195.7 | C10: =SUM(C6:C9) -> 354311.1 | D10: =SUM(D6:D9) -> 2041506.8 | E10: =SUM(E6:E8) -> 2342433.9 | F10: =SUM(F6:F8) -> 491911.12 | G10: =SUM(G6:G8) -> 2834345 | H10: =SUM(H6:H8) -> 2342433.9 | I10: =SUM(I6:I8) -> 491911.12 | J10: =SUM(J6:J8) -> 2834345 | K10: =SUM(K6:K8) -> 6372063.5 | L10: =SUM(L6:L8) -> 1338133.3 | M10: =SUM(M6:M8) -> 7710196.9
A12: Distribució de pressupost per any
A14: TOTAL
A15: Any | B15: Pressupost net | C15: IVA | D15: Import total
A16: 2022 | B16: =+B10 -> 1687195.7 | C16: =+C10 -> 354311.1 | D16: =+B16+C16 -> 2041506.8 | E16: (*) L'import total de l'IVA correspon al sumatori dels imports individuals detallats a la taula anterior (fila 10, columnes C, F, I, L) i no a l'aplicació directa de l'IVA actual del 21% sobre el pressupost net totalitzat (files 16 a 19 columna B).
A17: 2023 | B17: =+E10 -> 2342433.9 | C17: =+F10 -> 491911.12 | D17: =+G10 -> 2834345
A18: 2024 | B18: =+H10 -> 2342433.9 | C18: =+I10 -> 491911.12 | D18: =+J10 -> 2834345
A19: Total | B19: =SUM(B16:B18) -> 6372063.5 | C19: =SUM(C16:C18) -> 1338133.3 | D19: =SUM(D16:D18) -> 7710196.9
D20: =+B19*1.21 -> 7710196.9
A23: Modificacions de contracte: ampliació / disminució
A24: Causes previstes de modificació | B24: Import contracte (IVA inclòs) | C24: % Ampliació sobre import del contracte | D24: Import màxim ampliació (amb IVA) | E24: % Disminució sobre import del contracte | F24: Import màxim disminució (amb IVA)
A25: Modificacions per augment o disminució de volumetries en Serveis/Aplicacions | B25: =$D$19 -> 7710196.9 | C25: 0.2 | D25: =+ROUND(B25*C25,2) -> 1542039.4 | E25: 0.2 | F25: =+ROUND(B25*E25,2) -> 1542039.4
A26: TOTAL | B26: =SUM(B25:B25) -> 7710196.9 | C26: =SUM(C25:C25) -> 0.2 | D26: =SUM(D25:D25) -> 1542039.4 | E26: =SUM(E25:E25) -> 0.2 | F26: =SUM(F25:F25) -> 1542039.4
D27: =+ROUND(D26/1.21,2) -> 1274412.7 | F27: =+ROUND(F26/1.21,2) -> 1274412.7
D28: IVA EXCLÒS | F28: IVA EXCLÒS
A29: VEC
B31: VE prestació | C31: VE eventuals pròrrogues | D31: VE modificacions contracte amb increment de cost previstes | E31: VE modificacions contracte amb disminució de cost previstes | F31: SUMA
A32: 2022 | B32: =+B16 -> 1687195.7 | D32: =ROUND(G32/$G$37*$D$27,2)+0.01 -> 194464.78 | E32: =ROUND(-G32/$G$37*$F$27,2)-0.01 -> -194464.78 | F32: =SUM(B32:D32) -> 1881660.5 | G32: =+B32+C32 -> 1687195.7
A33: 2023 | B33: =+B17 -> 2342433.9 | D33: =ROUND(G33/$G$37*$D$27,2) -> 269986.98 | E33: =ROUND(-G33/$G$37*$F$27,2) -> -269986.98 | F33: =SUM(B33:D33) -> 2612420.9 | G33: =+B33+C33 -> 2342433.9
A34: 2024 | B34: =+B18 -> 2342433.9 | D34: =ROUND(G34/$G$37*$D$27,2) -> 269986.98 | E34: =ROUND(-G34/$G$37*$F$27,2) -> -269986.98 | F34: =SUM(B34:D34) -> 2612420.9 | G34: =+B34+C34 -> 2342433.9
A35: 2025 | C35: =+B34-B35 -> 2342433.9 | D35: =ROUND(G35/$G$37*$D$27,2) -> 269986.98 | E35: =ROUND(-G35/$G$37*$F$27,2) -> -269986.98 | F35: =SUM(B35:D35) -> 2612420.9 | G35: =+B35+C35 -> 2342433.9
A36: 2026 | C36: =+B34 -> 2342433.9 | D36: =ROUND(G36/$G$37*$D$27,2) -> 269986.98 | E36: =ROUND(-G36/$G$37*$F$27,2) -> -269986.98 | F36: =SUM(B36:D36) -> 2612420.9 | G36: =+B36+C36 -> 2342433.9
A37: Total | B37: =SUM(B32:B36) -> 6372063.5 | C37: =SUM(C32:C36) -> 4684867.8 | D37: =SUM(D32:D36) -> 1274412.7 | E37: =SUM(E32:E36) -> -1274412.7 | F37: =SUM(B37:D37) -> 12331344 | G37: =SUM(G32:G36) -> 11056931
A42: VEC | B42: Marges possibles solvènvia
A43: =+F37 -> 12331344 | B43: Solvència económica | D43: Solvència tècnica
A44: Anys de contracte | B44: ACONSELLABLE | C44: MÀXIM | D44: MÍNIM | E44: MÀXIM
A45: 5 | B45: =+C45/A45 -> 3699403.2 | C45: =1.5*A43 -> 18497016 | D45: =ROUND(A43*2/3/A45,2) -> 1644179.2 | E45: =+C45 -> 18497016
B46: 1,5 x VEC / anys de contracte | C46: 1,5 x VEC | D46: 2/3 VEC / anys de contracte | E46: 1,5 x VEC

Sheet Costos Indirectes
A2: CÀLCUL COSTOS DIRECTES I INDIRECTES PEL PROJECTE
C4: Preu IVA exclòs | D4: Benefici Industrial (20%) | E4: Cost Total | F4: Cost Indirecte (8%) | G4: Suma costos Indirectes | H4: Cost personal | I4: Seguretat Social (34%) | J4: Salari Brut | K4: Suma costos directes
C5: ='Taules IJ'!B19 -> 6372063.5 | D5: =ROUND(C5*0.2, 2) -> 1274412.7 | E5: =ROUND(C5-D5, 2) -> 5097650.8 | F5: =ROUND(E5*0.08, 2) -> 407812.07 | G5: =ROUND(D5+F5, 2) -> 1682224.8 | H5: =ROUND(E5-F5, 2) -> 4689838.8 | I5: =ROUND(H5*(0.34/1.34), 2) -> 1189959.1 | J5: =ROUND(H5-I5, 2) -> 3499879.7 | K5: =+H5 -> 4689838.8
C7: Costos directes:
C8: Costos salarials - Salari Brut | D8: =J5 -> 3499879.7
C9: Costos salarials - Seguretat Social (34%) | D9: =I5 -> 1189959.1
C10: TOTAL (Suma costos directes) | D10: =+K5 -> 4689838.8
C12: Costos indirectes:
C13: Despeses generals d’estructura (8%) | D13: =F5 -> 407812.07
C14: Benefici industrial (20%) | D14: =D5 -> 1274412.7
C15: TOTAL (Suma costos indirectes) | D15: =G5 -> 1682224.8
C17: TOTAL DE COSTOS (directes + indirectes): | D17: =D10+D15 -> 6372063.5

Sheet Taula LOT-SERV-APP
A1: Contracte | B1: Servei | C1: Aplicació | D1: Lot X | E1: 2 lots!!
A2: G0389 | B2: SER0044 | C2: APP0860-SAP Subvencions | D2: 2
A3: G0389 | B3: SER0044 | C3: APP0861-SAP Convenis | D3: 2
A4: G0389 | B4: SER0044 | C4: APP0943-Expedient bustia etica | D4: 2
A5: G0389 | B5: SER0412 | C5: APP0867-Recepció factura electrònica | D5: 2
A6: G0389 | B6: SER0412 | C6: APP0864-Emissio factura electrònica | D6: 2
A7: G0389 | B7: SER0411 | C7: APP0866-FENS | D7: 2
A8: G0389 | B8: SER0474 | C8: APP0896-Gestió de bestretes | D8: 2
A9: G0389 | B9: SER0473 | C9: APP0895-Expedients economics(core) | D9: 2
A10: G0389 | B10: SER0038 | C10: APP0150-Compres | D10: 2
A11: G0389 | B11: SER0474 | C11: APP0898-Autorització de viatges | D11: 2
A13: G0389 | B13: SER0031 | C13: APP0176-COPERNICO | D13: 1
A14: G0389 | B14: SER0031 | C14: APP0719-Digitalització actes del plenari | D14: 1
... A34: G0074 | B34: SER0150 | C34: APP0071-Autorització comissió de servei | D34: 1
A36: Quden fora d'abast:
A37: GR | B37: SER0028 | C37: APP0360-Inmagic | D37: No | E37: Producte
A38: GR | B38: SER0028 | C38: APP0859-Unicorn-hyperion | D38: No
A39: GR | B39: SER0028 | C39: APP0868-Albala | D39: No
A40: GR | B40: SER0044 | C40: APP0262-eSubvencions | D40: No | E40: Contrato a parte
A41: GR | B41: Governança de serveis i projectes | D41: No
A42: GR | B42: Governança de gestió d'actius | D42: No
A43: GR | B43: Bustia etica | D43: No
A45: G0026 | B45: SER0028 | C45: APP0858-BCNROC | D45: No | E45: Producte
A46: G0024 | B46: SER0204 | C46: APP0862-Gestió Actius | D46: No
A47: G0004 | B47: SER0032 | C47: APP0373-INFOLEX | D47: No | E47: Producte
A48: G0004 | B48: SER0032 | C48: APP0865-Infolex de consulta | D48: No | E48: Producte
A49: G0018 | B49: SER0046 | C49: APP0169-Consums energetics | D49: No
A50: G0018 | B50: SER0047 | C50: APP0421-Manteniment Edificis | D50: No
A51: ? | C51: BKM | D51: No | E51: Producte
A52: Mediacloud | B52: SER0031 | C52: APP0478-Organismes Municipals | D52: No

Sheet Taula Estimació de dades
A1: LOT 2
A2: Contracte | B2: Servei | C2: Aplicació | D2: h Manteniment correctiu | E2: Preu/hora | F2: € Manteniment correctiu | G2: h Manteniment recurrent | H2: Preu/hora | I2: € Manteniment recurrent | J2: h OT | K2: Preu/hora | L2: € OT | M2: DATA INICI NOUS SERVEIS
A3: G0389 | B3: SER0044 | C3: APP0860-SAP Subvencions | D3: 75.29 | E3: 53.57 | F3: =D3*E3 -> 4033.2853 | G3: 570 | H3: 53.57 | I3: =G3*H3 -> 30534.9 | J3: 96.7935 | K3: 57.5 | L3: =J3*K3 -> 5565.6263
A4: G0389 | B4: SER0044 | C4: APP0861-SAP Convenis | D4: 288.60029 | E4: 53.57 | F4: =D4*E4 -> 15460.317 | G4: 577.20058 | H4: 53.57 | I4: =G4*H4 -> 30920.635 | J4: 129.87013 | K4: 57.5 | L4: =J4*K4 -> 7467.5325
A5: G0389 | B5: SER0044 | C5: APP0943-Expedient bustia etica | D5: 29.106349 | E5: 53.57 | F5: =D5*E5 -> 1559.2271 | G5: 89.798846 | H5: 53.57 | I5: =G5*H5 -> 4810.5242 | J5: 17.835779 | K5: 57.5 | L5: =J5*K5 -> 1025.5573
A6: G0389 | B6: SER0412 | C6: APP0867-Recepció factura electrònica | D6: 200 | E6: 53.57 | F6: =D6*E6 -> 10714 | G6: 220 | H6: 53.57 | I6: =G6*H6 -> 11785.4 | J6: 63 | K6: 57.5 | L6: =J6*K6 -> 3622.5
A7: G0389 | B7: SER0412 | C7: APP0864-Emissio factura electrònica | D7: 36.492063 | E7: 53.57 | F7: =D7*E7 -> 1954.8798 | G7: 72.984127 | H7: 53.57 | I7: =G7*H7 -> 3909.7597 | J7: 16.421429 | K7: 57.5 | L7: =J7*K7 -> 944.23214
A8: G0389 | B8: SER0411 | C8: APP0866-FENS | D8: 20 | E8: 53.57 | F8: =D8*E8 -> 1071.4 | G8: 85 | H8: 53.57 | I8: =G8*H8 -> 4553.45 | J8: 15.75 | K8: 57.5 | L8: =J8*K8 -> 905.625
A9: G0389 | B9: SER0474 | C9: APP0896-Gestió de bestretes | D9: 103.671 | E9: 53.57 | F9: =D9*E9 -> 5553.6552 | G9: 434.23719 | H9: 53.57 | I9: =G9*H9 -> 23262.086 | J9: 80.686227 | K9: 57.5 | L9: =J9*K9 -> 4639.4581
A10: G0389 | B10: SER0473 | C10: APP0895-Expedients economics(core) | D10: 0 | E10: 53.57 | F10: =D10*E10 -> 0 | G10: 202.4 | H10: 53.57 | I10: =G10*H10 -> 10842.568 | J10: 30.36 | K10: 57.5 | L10: =J10*K10 -> 1745.7
A11: G0389 | B11: SER0038 | C11: APP0150-Compres | D11: 0 | E11: 53.57 | F11: =D11*E11 -> 0 | G11: 159.03 | H11: 53.57 | I11: =G11*H11 -> 8519.2371 | J11: 23.8545 | K11: 57.5 | L11: =J11*K11 -> 1371.6337 | N11: Varia de molt poc
A12: G0389 | B12: SER0474 | C12: APP0898-Autorització de viatges | D12: 0 | E12: 53.57 | F12: =D12*E12 -> 0 | G12: 0 | H12: 53.57 | I12: =G12*H12 -> 0 | J12: 0 | K12: 57.5 | L12: =J12*K12 -> 0
A13: GR | B13: SER0044 | C13: APP0262-eSubvencions | D13: 288.60029 | E13: 53.57 | F13: =D13*E13 -> 15460.317 | G13: 649.35065 | H13: 53.57 | I13: =G13*H13 -> 34785.714 | J13: 140.69264 | K13: 57.5 | L13: =J13*K13 -> 8089.8268 | M13: 43466
D14: =SUM(D3:D13) -> 1041.76 | F14: =SUM(F3:F13) -> 55807.082 | G14: =SUM(G3:G13) -> 3060.0014 | I14: =SUM(I3:I13) -> 163924.27 | J14: =SUM(J3:J13) -> 615.26421 | L14: =SUM(L3:L13) -> 35377.692
A16: A partir de 16/05/2018
A17: Contracte | B17: Servei | C17: Aplicació | D17: h Manteniment correctiu | E17: h A partir 16/05/2018 | F17: Preu/hora | G17: € Manteniment correctiu | H17: h Manteniment recurrent | I17: h A partir 16/05/2018 | J17: Preu/hora | K17: € Manteniment recurrent | L17: h OT | M17: h A partir 16/05/2018 | N17: Preu/hora | O17: € OT | P17: DATA INICI NOUS SERVEIS
A18: G0389 | B18: SER0044 | C18: APP0860-SAP Subvencions | D18: 75.29 | E18: =D18/365*197.5 -> 40.73911 | F18: 53.57 | G18: =E18*F18 -> 2182.3941 | H18: 570 | I18: =H18/365*197.5 -> 308.42466 | J18: 53.57 | K18: =I18*J18 -> 16522.309 | L18: 96.7935 | M18: =L18/365*197.5 -> 52.374565 | N18: 57.5 | O18: =M18*N18 -> 3011.5375
A19: G0389 | B19: SER0044 | C19: APP0861-SAP Convenis | D19: 288.60029 | E19: =D19/365*197.5 -> 156.16043 | F19: 53.57 | G19: =E19*F19 -> 8365.5142 | H19: 577.20058 | I19: =H19/365*197.5 -> 312.32086 | J19: 53.57 | K19: =I19*J19 -> 16731.028 | L19: 129.87013 | M19: =L19/365*197.5 -> 70.272194 | N19: 57.5 | O19: =M19*N19 -> 4040.6511
A20: G0389 | B20: SER0044 | C20: APP0943-Expedient bustia etica | D20: 29.106349 | E20: =D20/365*197.5 -> 15.749326 | F20: 53.57 | G20: =E20*F20 -> 843.69139 | H20: 89.798846 | I20: =H20/365*197.5 -> 48.589786 | J20: 53.57 | K20: =I20*J20 -> 2602.9549 | L20: 17.835779 | M20: =L20/365*197.5 -> 9.6508668 | N20: 57.5 | O20: =M20*N20 -> 554.92484
A21: G0389 | B21: SER0412 | C21: APP0867-Recepció factura electrònica | D21: 200 | E21: =D21/365*197.5 -> 108.21918 | F21: 53.57 | G21: =E21*F21 -> 5797.3014 | H21: 220 | I21: =H21/365*197.5 -> 119.0411 | J21: 53.57 | K21: =I21*J21 -> 6377.0315 | L21: 63 | M21: =L21/365*197.5 -> 34.089041 | N21: 57.5 | O21: =M21*N21 -> 1960.1199
A22: G0389 | B22: SER0412 | C22: APP0864-Emissio factura electrònica | D22: 36.492063 | E22: =D22/365*197.5 -> 19.745706 | F22: 53.57 | G22: =E22*F22 -> 1057.7774 | H22: 72.984127 | I22: =H22/365*197.5 -> 39.491411 | J22: 53.57 | K22: =I22*J22 -> 2115.5549 | L22: 16.421429 | M22: =L22/365*197.5 -> 8.8855675 | N22: 57.5 | O22: =M22*N22 -> 510.92013
A23: G0389 | B23: SER0411 | C23: APP0866-FENS | D23: 20 | E23: =D23/365*197.5 -> 10.821918 | F23: 53.57 | G23: =E23*F23 -> 579.73014 | H23: 85 | I23: =H23/365*197.5 -> 45.993151 | J23: 53.57 | K23: =I23*J23 -> 2463.8531 | L23: 15.75 | M23: =L23/365*197.5 -> 8.5222603 | N23: 57.5 | O23: =M23*N23 -> 490.02997
A24: G0389 | B24: SER0474 | C24: APP0896-Gestió de bestretes | D24: 103.671 | E24: =D24/365*197.5 -> 56.09595 | F24: 53.57 | G24: =E24*F24 -> 3005.06 | H24: 434.23719 | I24: =H24/365*197.5 -> 234.96396 | J24: 53.57 | K24: =I24*J24 -> 12587.019 | L24: 80.686227 | M24: =L24/365*197.5 -> 43.658986 | N24: 57.5 | O24: =M24*N24 -> 2510.3917
A25: G0389 | B25: SER0473 | C25: APP0895-Expedients economics(core) | D25: 0 | E25: =D25/365*197.5 -> 0 | F25: 53.57 | G25: =E25*F25 -> 0 | H25: 202.4 | I25: =H25/365*197.5 -> 109.51781 | J25: 53.57 | K25: =I25*J25 -> 5866.869 | L25: 30.36 | M25: =L25/365*197.5 -> 16.427671 | N25: 57.5 | O25: =M25*N25 -> 944.5911
A26: G0389 | B26: SER0038 | C26: APP0150-Compres | D26: 0 | E26: =D26/365*197.5 -> 0 | F26: 53.57 | G26: =E26*F26 -> 0 | H26: 159.03 | I26: =H26/365*197.5 -> 86.050479 | J26: 53.57 | K26: =I26*J26 -> 4609.7242 | L26: 23.8545 | M26: =L26/365*197.5 -> 12.907572 | N26: 57.5 | O26: =M26*N26 -> 742.18539 | Q26: Varia de molt poc
A27: G0389 | B27: SER0474 | C27: APP0898-Autorització de viatges | D27: 0 | E27: =D27/365*197.5 -> 0 | F27: 53.57 | G27: =E27*F27 -> 0 | H27: 0 | I27: =H27/365*197.5 -> 0 | J27: 53.57 | K27: =I27*J27 -> 0 | L27: 0 | M27: =L27/365*197.5 -> 0 | N27: 57.5 | O27: =M27*N27 -> 0
A28: GR | B28: SER0044 | C28: APP0262-eSubvencions | D28: 288.60029 | E28: =D28/365*197.5 -> 156.16043 | F28: 53.57 | G28: =E28*F28 -> 8365.5142 | H28: 649.35065 | I28: =H28/365*197.5 -> 351.36097 | J28: 53.57 | K28: =I28*J28 -> 18822.407 | L28: 140.69264 | M28: =L28/365*197.5 -> 76.12821 | N28: 57.5 | O28: =M28*N28 -> 4377.3721 | P28: 43466
E29: =SUM(E18:E28) -> 563.69205 | G29: =SUM(G18:G28) -> 30196.983 | I29: =SUM(I18:I28) -> 1655.7542 | K29: =SUM(K18:K28) -> 88698.751 | M29: =SUM(M18:M28) -> 332.91693 | O29: =SUM(O18:O28) -> 19142.724
A30: GERÈNCIA DE RECURSOS (GR) LOT2 SAP | B30: Glòria Santamaria | C30: 321139.87 | D30: =+C30*3 -> 963419.62 | G30: =+D30/36*M30*0.25 -> 13380.828 | H30: 0 | J30: =+D30+G30+H30 -> 976800.45 | K30: S | M30: 2 | N30: 43101 | O30: 43236 | P30: 43236 | Q30: 43297
F32: CORR-RECU-OT | G32: TRANS
E33: 2018 | F33: =G29+K29+O29 -> 138038.46 | G33: =G30 -> 13380.828
E34: 2019 | F34: =F14+I14+L14 -> 255109.05
E35: 2020 | F35: =F14+I14+L14 -> 255109.05
E36: 2021 | F36: =F14+I14+L14 -> 255109.05
F37: =SUM(F33:F36) -> 903365.6 | G37: =SUM(G33:G36) -> 13380.828 | H37: =F37+G37 -> 916746.43
A39: LOT 1
A40: Contracte | B40: Servei | C40: Aplicació | D40: h Manteniment correctiu | E40: Preu/hora | F40: € Manteniment correctiu | G40: h Manteniment recurrent | H40: Preu/hora | I40: € Manteniment recurrent | J40: h OT | K40: Preu/hora | L40: € OT | M40: DATA INICI NOUS SERVEIS
A41: G0389 | B41: SER0031 | C41: APP0176-COPERNICO | D41: 209.25492 | E41: 46.59 | F41: =D41*E41 -> 9749.1868 | G41: 982.79691 | H41: 49.95 | I41: =G41*H41 -> 49090.706 | J41: 178.80777 | K41: 57.5 | L41: =J41*K41 -> 10281.447
A42: G0389 | B42: SER0031 | C42: APP0719-Digitalització actes del plenari | D42: 72.916667 | E42: 46.59 | F42: =D42*E42 -> 3397.1875 | G42: 853.57417 | H42: 49.95 | I42: =G42*H42 -> 42636.03 | J42: 138.97362 | K42: 57.5 | L42: =J42*K42 -> 7990.9834
A43: G0389 | B43: SER0031 | C43: APP0295-GASETA | D43: 161.31323 | E43: 46.59 | F43: =D43*E43 -> 7515.5835 | G43: 739.83205 | H43: 49.95 | I43: =G43*H43 -> 36954.611 | J43: 135.17179 | K43: 57.5 | L43: =J43*K43 -> 7772.378
...

Sheet Hoja2
