Workbook

Sheet Costos perfils
A1: Any 2021
A2: Perfils | B2: Núm. persones | C2: Hores | D2: Preu/h IVA incl. | E2: Dedicació (%) | F2: Import IVA inclos | G2: Import IVA exclos | H2: IVA
A3: Cap de Projecte/Responsable del servei | B3: 1 | C3: 994 | D3: 96.17 | E3: 0.15 | F3: =C3*D3*E3 -> 14338.947 | G3: =F3/1.21 -> 11850.369 | H3: =F3-G3 -> 2488.5776
A4: Consultor/Arquitecte d'Accessos i Identitats | B4: 1 | C4: 994 | D4: 82.43 | E4: 0.72 | F4: =C4*D4*E4 -> 58993.502 | G4: =F4/1.21 -> 48754.961 | H4: =F4-G4 -> 10238.542
A5: Tècnic sènior especialista en evolutius i integracions | B5: 1 | C5: 994 | D5: 76.005 | E5: 0.74 | F5: =C5*D5*E5 -> 55906.238 | G5: =F5/1.21 -> 46203.502 | H5: =F5-G5 -> 9702.7355
A6: Tècnic de Nivell 3 (GETACCES i Nebula horaris no laborals) | B6: 1 | C6: 994 | D6: 69.955 | E6: 0.4 | F6: =C6*D6*E6 -> 27814.108 | G6: =F6/1.21 -> 22986.866 | H6: =F6-G6 -> 4827.2419
F7: =SUM(F3:F6) -> 157052.8 | G7: =SUM(G3:G6) -> 129795.7 | H7: =SUM(H3:H6) -> 27257.097
A9: Any 2022
A10: Perfils | B10: Núm. persones | C10: Hores | D10: Preu/h IVA incl. | E10: Dedicació (%) | F10: Import IVA inclos | G10: Import IVA exclos | H10: IVA
A11: Cap de Projecte/Responsable del servei | B11: 1 | C11: 1988 | D11: 96.17 | E11: 0.15 | F11: =C11*D11*E11 -> 28677.894 | G11: =F11/1.21 -> 23700.739 | H11: =F11-G11 -> 4977.1552
A12: Consultor/Arquitecte d'Accessos i Identitats | B12: 1 | C12: 1988 | D12: 82.43 | E12: 0.75 | F12: =C12*D12*E12 -> 122903.13 | G12: =F12/1.21 -> 101572.83 | H12: =F12-G12 -> 21330.295
A13: Tècnic sènior especialista en evolutius i integracions | B13: 1 | C13: 1988 | D13: 76.005 | E13: 0.75 | F13: =C13*D13*E13 -> 113323.46 | G13: =F13/1.21 -> 93655.748 | H13: =F13-G13 -> 19667.707
A14: Tècnic de Nivell 3 (GETACCES i Nebula horaris no laborals) | B14: 1 | C14: 1988 | D14: 69.955 | E14: 0.4 | F14: =C14*D14*E14 -> 55628.216 | G14: =F14/1.21 -> 45973.732 | H14: =F14-G14 -> 9654.4838
F15: =SUM(F11:F14) -> 320532.7 | G15: =SUM(G11:G14) -> 264903.05 | H15: =SUM(H11:H14) -> 55629.641
A17: Any 2023
A18: Perfils | B18: Núm. persones | C18: Hores | D18: Preu/h IVA incl. | E18: Dedicació (%) | F18: Import IVA inclos | G18: Import IVA exclos | H18: IVA
A19: Cap de Projecte/Responsable del servei | B19: 1 | C19: 994 | D19: 96.17 | E19: 0.15 | F19: =C19*D19*E19 -> 14338.947 | G19: =F19/1.21 -> 11850.369 | H19: =F19-G19 -> 2488.5776
A20: Consultor/Arquitecte d'Accessos i Identitats | B20: 1 | C20: 994 | D20: 82.43 | E20: 0.75 | F20: =C20*D20*E20 -> 61451.565 | G20: =F20/1.21 -> 50786.417 | H20: =F20-G20 -> 10665.148
A21: Tècnic sènior especialista en evolutius i integracions | B21: 1 | C21: 994 | D21: 76.005 | E21: 0.7 | F21: =C21*D21*E21 -> 52884.279 | G21: =F21/1.21 -> 43706.016 | H21: =F21-G21 -> 9178.2633
A22: Tècnic de Nivell 3 (GETACCES i Nebula horaris no laborals) | B22: 1 | C22: 994 | D22: 69.955 | E22: 0.4 | F22: =C22*D22*E22 -> 27814.108 | G22: =F22/1.21 -> 22986.866 | H22: =F22-G22 -> 4827.2419
F23: =SUM(F19:F22) -> 156488.9 | G23: =SUM(G19:G22) -> 129329.67 | H23: =SUM(H19:H22) -> 27159.23
E25: Total | F25: =F7+F15+F23 -> 634074.39 | G25: =G7+G15+G23 -> 524028.42 | H25: =H7+H15+H23 -> 110045.97
A31: Perfils | B31: Percentatje de dedicació
B32: 2021 | C32: 2022 | D32: 2023
A33: Cap de Projecte/Responsable del servei | B33: 0.15 | C33: 0.15 | D33: 0.15
A34: Consultor/Arquitecte d'Accessos i Identitats | B34: 0.72 | C34: 0.75 | D34: 0.75
A35: Tècnic sènior especialista en evolutius i integracions | B35: 0.74 | C35: 0.75 | D35: 0.7
A36: Tècnic de Nivell 3 (GETACCES i Nebula horaris no laborals) | B36: 0.4 | C36: 0.4 | D36: 0.4

Sheet Calcul anualitats
A1: Any | B1: Pressupost net | C1: IVA | D1: Import total
A2: 2021 | B2: ='Costos perfils'!G7 -> 129795.7 | C2: ='Costos perfils'!H7 -> 27257.097 | D2: =B2+C2 -> 157052.8
A3: 2022 | B3: ='Costos perfils'!G15 -> 264903.05 | C3: ='Costos perfils'!H15 -> 55629.641 | D3: =B3+C3 -> 320532.7
A4: 2023 | B4: ='Costos perfils'!G23 -> 129329.67 | C4: ='Costos perfils'!H23 -> 27159.23 | D4: =B4+C4 -> 156488.9
A5: TOTAL | B5: =SUM(B2:B4) -> 524028.42 | C5: =SUM(C2:C4) -> 110045.97 | D5: =SUM(D2:D4) -> 634074.39
A8: SENSE FORMULES
A9: Any | B9: Pressupost net | C9: IVA | D9: Import total
A10: 2021 | B10: 129795.7 | C10: 27257.1 | D10: =SUM(B10:C10) -> 157052.8
A11: 2022 | B11: 264903.05 | C11: 55629.64 | D11: =SUM(B11:C11) -> 320532.69
A12: 2023 | B12: 129329.67 | C12: 27159.23 | D12: =SUM(B12:C12) -> 156488.9
A13: TOTAL | B13: =SUM(B10:B12) -> 524028.42 | C13: =SUM(C10:C12) -> 110045.97 | D13: =SUM(D10:D12) -> 634074.39

Sheet VEC
B2: VEC
B3: Any | C3: VE prestació | D3: VE eventuals pròrrogues | E3: VE modificacions amb increment del cost econòmic | F3: Total
B4: 2021 | C4: 129795.7 | E4: 20961.14 | F4: =SUM(C4:E4) -> 150756.84
B5: 2022 | C5: 264903.05 | E5: 20961.14 | F5: =SUM(C5:E5) -> 285864.19
B6: 2023 | C6: 129329.67 | D6: 132451.53 | E6: 20961.14 | F6: =SUM(C6:E6) -> 282742.34
B7: 2024 | D7: 264903.05 | E7: 20961.13 | F7: =SUM(C7:E7) -> 285864.18
B8: 2025 | D8: 132451.52 | E8: 20961.13 | F8: =SUM(C8:E8) -> 153412.65
B9: TOTAL | C9: =SUM(C4:C8) -> 524028.42 | D9: =SUM(D4:D8) -> 529806.1 | E9: =SUM(E4:E8) -> 104805.68 | F9: =SUM(C9:E9) -> 1158640.2

Sheet Imports
A1: Perfils | B1: Estimació Preu/h IVA incl. | C1: Nº persones | D1: 2021 | F1: 2022 | H1: 2023 | J1: TOTAL
D2: Dedicació (%) | E2: Import IVA incl | F2: Dedicació (%) | G2: Import IVA incl. | H2: Dedicació (%) | I2: Import IVA incl. | J2: Import IVA incl.
A3: Cap de Projecte/Responsable del servei | B3: 96.17 | C3: 1 | D3: 0.15 | E3: 14338.947 | F3: 0.15 | G3: 28677.894 | H3: 0.15 | I3: 14338.947 | J3: 57355.788
A4: Consultor/Arquitecte d'Accessos i Identitats | B4: 82.43 | C4: 1 | D4: 0.72 | E4: 58993.502 | F4: 0.75 | G4: 122903.13 | H4: 0.75 | I4: 61451.565 | J4: 243348.2
A5: Tècnic sènior especialista en evolutius i integracions | B5: 76.005 | C5: 1 | D5: 0.74 | E5: 55906.238 | F5: 0.75 | G5: 113323.45 | H5: 0.7 | I5: 52884.279 | J5: 222113.97
A6: Tècnic de Nivell 3 (GETACCES i Nebula horaris no laborals) | B6: 69.955 | C6: 1 | D6: 0.4 | E6: 27814.108 | F6: 0.4 | G6: 55628.216 | H6: 0.4 | I6: 27814.108 | J6: 111256.43
E7: 157052.8 | G7: 320532.7 | I7: 156488.9 | J7: 634074.39

Sheet Desglossament costos
A1: Import del contracte | B1: Percentatge d'ampliació | C1: Import d'ampliació
A2: =VEC!C9 -> 524028.42 | B2: 0.2 | C2: =A2*B2 -> 104805.68
A6: Costos directes:
A7: Costos salarials - Salari Brut | B7: 287824.57
A8: Costos salarials - Seguretat Social (34%) | B8: 97860.353
A9: TOTAL | B9: =SUM(B7:B8) -> 385684.92
A11: Costos indirectes:
A12: Despeses generals d’estructura (6,4%) | B12: 33537.82
A13: Benefici industrial (20%) | B13: 104805.68
A14: TOTAL | B14: =SUM(B12:B13) -> 138343.5
A16: TOTAL DE COSTOS (directes + indirectes): | B16: =B9+B14 -> 524028.42
A20: Pressupost IVA inclòs | B20: 2021 | C20: 2022 | D20: 2023 | E20: TOTAL
A21: CAPÍTOL II | B21: ='Costos perfils'!F7 -> 157052.8 | C21: ='Costos perfils'!F15 -> 320532.7 | D21: ='Costos perfils'!F23 -> 156488.9 | E21: =SUM(B21:D21) -> 634074.39
