Workbook
Name C_Despesa: '[1]Dades auxiliars'!$N$1:$N$9
Name C_Despesa: '[2]Dades auxiliars'!$N$1:$N$9
Name Dades_Servei: '[3]Dades auxiliars'!$A$1:$J$262
Name Dades_Servei: '[4]Dades auxiliars'!$A$1:$J$262
Name T_Despesa: '[1]Dades auxiliars'!$M$1:$M$5
Name T_Despesa: '[2]Dades auxiliars'!$M$1:$M$5

Sheet Càlcul pressupost 
A1: AM PLATAFORMA DECIDIM
G2: 44630 | H2: 44927 | I2: 45292 | J2: 45658
G3: 44926 | H3: 45291 | I3: 45657 | J3: 45725
F4: Dies contracte | G4: =G3-G2+1 -> 297 | H4: =H3-H2+1 -> 365 | I4: =I3-I2+1 -> 366 | J4: =J3-J2+1 -> 68
F5: Dies any | G5: =365 + IF(MOD(YEAR(G3),4)=0,1,0) -> 365 | H5: =365 + IF(MOD(YEAR(H3),4)=0,1,0) -> 365 | I5: =365 + IF(MOD(YEAR(I3),4)=0,1,0) -> 366 | J5: =365 + IF(MOD(YEAR(J3),4)=0,1,0) -> 365
F6: Servei | G6: Import 2021 | H6: Import 2022 | I6: Import 2023 | J6: Import 2024 | M6: Import Total | N6: 12 mesos
F7: Manteniment correctiu | G7: =$J$25/G5*G4 -> 35758.8 | H7: =$J$25/H5*H4 -> 43946 | I7: =$J$25/I5*I4 -> 43946 | J7: =$J$25/J5*J4 -> 8187.2 | M7: =SUM(G7:L7) -> 131838 | N7: =+J25 -> 43946
F8: Manteniment recurrent | G8: =$M$25/G5*G4 -> 22529.444 | H8: =$M$25/H5*H4 -> 27687.7 | I8: =$M$25/I5*I4 -> 27687.7 | J8: =$M$25/J5*J4 -> 5158.2564 | M8: =SUM(G8:L8) -> 83063.1 | N8: =+M25 -> 27687.7
F9: Servei Transversal de manteniment | G9: =$P$25/G5*G4+Q25 -> 13234.013 | H9: =$P$25/H5*H4 -> 14809.7 | I9: =$P$25/I5*I4 -> 14809.7 | J9: =$P$25/J5*J4 -> 2759.0674 | M9: =SUM(G9:L9) -> 45612.48 | N9: =+P25 -> 14809.7
F10: Evolutius identificats | G10: =ROUND(T25,2) -> 116142.96 | M10: =SUM(G10:L10) -> 116142.96
F11: Transició | G11: =$W$25 -> 3601.81 | M11: =SUM(G11:L11) -> 3601.81
F12: Allotjament d’aplicacions web (Hosting DECIDIM) | G12: =$G$23/G5*G4 -> 28390.45 | H12: =$G$23/H5*H4 -> 34890.621 | I12: =$G$23/I5*I4 -> 34890.621 | J12: =$G$23/J5*J4 -> 6500.1705 | M12: =SUM(G12:L12) -> 104671.86 | N12: =G25 -> 34890.621
F13: Import total licitació | G13: =SUM(G7:G12) -> 219657.48 | H13: =SUM(H7:H12) -> 121334.02 | I13: =SUM(I7:I12) -> 121334.02 | J13: =SUM(J7:J12) -> 22604.694 | M13: =SUM(M7:M12) -> 484930.21 | N13: =SUM(N7:N12) -> 121334.02
F14: IMPORT TOTAL | G14: =G13 -> 219657.48 | M14: =M13 -> 484930.21
A18: Servei | B18: Nom Servei | C18: Import | D18: % | E18: Codi Aplicació | F18: Nom Aplicació | G18: € Allotjament d’aplicacions web | H18: IT Manteniment correctiu | I18: Preu/hora | J18: € Manteniment correctiu | K18: PT Manteniment recurrent | L18: Preu/hora | M18: € Manteniment recurrent | N18: TT STM | O18: Preu/hora | P18: € STM | Q18: Llicències STM | R18: PT Evolutius Identificats | S18: Preu/hora | T18: € Evolutius | U18: Data inici transició | V18: Data inici servei | W18: € Transició
A19: SER0555 | B19: DECIDIM | C19: =+J19+M19+P19 -> 37507.1 | D19: =+C19/(SUM(C19)) -> 1 | E19: APPDC01 | F19: Decidim Barcelona | H19: 300 | I19: =Perfils!$G$6 -> 62.78 | J19: =ROUND(I19*H19,2) -> 18834 | K19: 200 | L19: =Perfils!$G$10 -> 64.39 | M19: =ROUND(L19*K19,2) -> 12878 | N19: 90 | O19: =Perfils!$G$14 -> 64.39 | P19: =ROUND(O19*N19,2) -> 5795.1 | R19: 1846.47 | S19: =Perfils!$G$19 -> 62.9 | T19: =ROUND(S19*R19,2) -> 116142.96 | U19: 44617 | V19: 44265 | W19: =ROUND(((+J19+M19+P19)/12*0.5),2) -> 1562.8
A20: SER0555 | B20: DECIDIM | C20: =+J20+M20+P20 -> 26641.3 | D20: =+C20/(SUM(C20)) -> 1 | E20: APPDC02 | F20: Decidim BCN Organitzacions | H20: 250 | I20: =Perfils!$G$6 -> 62.78 | J20: =ROUND(I20*H20,2) -> 15695 | K20: 100 | L20: =Perfils!$G$10 -> 64.39 | M20: =ROUND(L20*K20,2) -> 6439 | N20: 70 | O20: =Perfils!$G$14 -> 64.39 | P20: =ROUND(O20*N20,2) -> 4507.3 | Q20: =978*1.21 -> 1183.38 | S20: =Perfils!$G$19 -> 62.9 | U20: 44617 | V20: 44265 | W20: =ROUND(((+J20+M20+P20)/12*0.5),2) -> 1110.05
A21: SER0555 | B21: DECIDIM | C21: =+J21+M21+P21 -> 17522.1 | D21: =+C21/(SUM(C21)) -> 1 | E21: APPDC03 | F21: Metadecidim | H21: 115 | I21: =Perfils!$G$6 -> 62.78 | J21: =ROUND(I21*H21,2) -> 7219.7 | K21: 100 | L21: =Perfils!$G$10 -> 64.39 | M21: =ROUND(L21*K21,2) -> 6439 | N21: 60 | O21: =Perfils!$G$14 -> 64.39 | P21: =ROUND(O21*N21,2) -> 3863.4 | S21: =Perfils!$G$19 -> 62.9 | U21: 44617 | V21: 44265 | W21: =ROUND(((+J21+M21+P21)/12*0.5),2) -> 730.09
A22: SER0555 | B22: DECIDIM | C22: =+J22+M22+P22 -> 4772.9 | D22: 1 | E22: APPDC04 | F22: Decidim RRHH | H22: 35 | I22: =Perfils!$G$6 -> 62.78 | J22: =ROUND(I22*H22,2) -> 2197.3 | K22: 30 | L22: =Perfils!$G$10 -> 64.39 | M22: =ROUND(L22*K22,2) -> 1931.7 | N22: 10 | O22: =Perfils!$G$14 -> 64.39 | P22: =ROUND(O22*N22,2) -> 643.9 | S22: =Perfils!$G$19 -> 62.9 | U22: 44617 | V22: 44265 | W22: =ROUND(((+J22+M22+P22)/12*0.5),2) -> 198.87
A23: SER0555 | B23: DECIDIM | E23: APPDC05 | F23: Allotjament d’aplicacions web (Hosting DECIDIM) | G23: =+Infraestructura!R29 -> 34890.621
F25: Total | G25: =SUM(G19:G24) -> 34890.621 | H25: =SUM(H19:H24) -> 700 | J25: =SUM(J19:J24) -> 43946 | K25: =SUM(K19:K24) -> 430 | M25: =SUM(M19:M24) -> 27687.7 | N25: =SUM(N19:N24) -> 230 | P25: =SUM(P19:P24) -> 14809.7 | Q25: =SUM(Q19:Q24) -> 1183.38 | R25: =SUM(R19:R24) -> 1846.47 | T25: =SUM(T19:T24) -> 116142.96 | W25: =SUM(W19:W24) -> 3601.81
V26: Hores transició | W26: =W25/L19 -> 55.937413

Sheet Perfils
B2: Servei plec | C2: Perfil | D2: % dedicació | E2: Preu perfil (sense iva) | F2: Preu / hora /perfil (sense iva) | G2: Preu / hora /perfil (amb iva)
B3: Manteniment correctiu | C3: Coordinador del contracte / Cap de projecte sènior | D3: 0.1 | E3: =$D$26 -> 66.17 | F3: =E3*D3 -> 6.617 | G3: =F3*1.21 -> 8.00657
C4: Analista programador Ruby On Rails sènior | D4: 0.2 | E4: =$D$27 -> 60.67 | F4: =E4*D4 -> 12.134 | G4: =F4*1.21 -> 14.68214
C5: Analista programador Ruby On Rails júnior | D5: 0.7 | E5: =$D$28 -> 47.33 | F5: =E5*D5 -> 33.131 | G5: =F5*1.21 -> 40.08851
C6: Preu perfil tipus | F6: =ROUND(SUM(F3:F5),2) -> 51.88 | G6: =ROUND(SUM(G3:G5),2) -> 62.78 | H6: =SUM(D3:D5) -> 1
B7: Manteniment recurrent | C7: Coordinador del contracte / Cap de projecte sènior | D7: 0.1 | E7: =$D$26 -> 66.17 | F7: =E7*D7 -> 6.617 | G7: =F7*1.21 -> 8.00657
C8: Analista programador Ruby On Rails sènior | D8: 0.3 | E8: =$D$27 -> 60.67 | F8: =E8*D8 -> 18.201 | G8: =F8*1.21 -> 22.02321
C9: Analista programador Ruby On Rails júnior | D9: 0.6 | E9: =$D$28 -> 47.33 | F9: =E9*D9 -> 28.398 | G9: =F9*1.21 -> 34.36158
C10: Preu perfil tipus | F10: =ROUND(SUM(F7:F9),2) -> 53.22 | G10: =ROUND(SUM(G7:G9),2) -> 64.39 | H10: =SUM(D7:D9) -> 1
B11: Oficina Tècnica | C11: Coordinador del contracte / Cap de projecte sènior | D11: 0.1 | E11: =$D$26 -> 66.17 | F11: =E11*D11 -> 6.617 | G11: =F11*1.21 -> 8.00657
C12: Analista programador Ruby On Rails sènior | D12: 0.3 | E12: =$D$27 -> 60.67 | F12: =E12*D12 -> 18.201 | G12: =F12*1.21 -> 22.02321
C13: Analista programador Ruby On Rails júnior | D13: 0.6 | E13: =$D$28 -> 47.33 | F13: =E13*D13 -> 28.398 | G13: =F13*1.21 -> 34.36158
C14: Preu perfil tipus | F14: =ROUND(SUM(F11:F13),2) -> 53.22 | G14: =ROUND(SUM(G11:G13),2) -> 64.39 | H14: =SUM(D11:D13) -> 1
B15: Evolutiu identifcat | C15: Coordinador del contracte / Cap de projecte sènior | D15: 0.1 | E15: =$D$26 -> 66.17 | F15: =E15*D15 -> 6.617 | G15: =F15*1.21 -> 8.00657
C16: Analista programador Ruby On Rails sènior | D16: 0.1 | E16: =$D$27 -> 60.67 | F16: =E16*D16 -> 6.067 | G16: =F16*1.21 -> 7.34107
C17: Analista programador Ruby On Rails júnior | D17: 0.6 | E17: =$D$28 -> 47.33 | F17: =E17*D17 -> 28.398 | G17: =F17*1.21 -> 34.36158
C18: Especialista en Disseny Web i UX | D18: 0.2 | E18: =$D$29 -> 54.5 | F18: =E18*D18 -> 10.9 | G18: =F18*1.21 -> 13.189
C19: Preu perfil tipus | F19: =ROUND(SUM(F15:F18),2) -> 51.98 | G19: =ROUND(SUM(G15:G18),2) -> 62.9 | H19: =SUM(D15:D18) -> 1
C25: Perfil | D25: Preu/hora IVA exclòs | E25: IVA | F25: Preu /hora IVA inclòs
C26: Coordinador del contracte / Cap de projecte sènior | D26: 66.17 | E26: =D26*0.21 -> 13.8957 | F26: =E26+D26 -> 80.0657
C27: Analista programador Ruby On Rails sènior | D27: 60.67 | E27: =D27*0.21 -> 12.7407 | F27: =E27+D27 -> 73.4107
C28: Analista programador Ruby On Rails júnior | D28: 47.33 | E28: =D28*0.21 -> 9.9393 | F28: =E28+D28 -> 57.2693
C29: Especialista en Disseny Web i UX | D29: 54.5 | E29: =D29*0.21 -> 11.445 | F29: =E29+D29 -> 65.945

Sheet Taules IJ
A2: Distribució de pressupost per any i per servei
B4: 2022 | E4: 2023 | H4: 2024 | K4: 2025
A5: Serveis | B5: Import net | C5: IVA 21% | D5: Import total | E5: Import net | F5: IVA 21% | G5: Import total | H5: Import net | I5: IVA 21% | J5: Import total | K5: Import net | L5: IVA 21% | M5: Import total | N5: Total import net | O5: Total IVA 21% | P5: Total import contracte
A6: Manteniment correctiu | B6: =ROUND('Càlcul pressupost '!G7/1.21,2) -> 29552.73 | C6: =ROUND(B6*0.21,2) -> 6206.07 | D6: =+B6+C6 -> 35758.8 | E6: =ROUND('Càlcul pressupost '!H7/1.21,2) -> 36319.01 | F6: =ROUND(E6*0.21,2) -> 7626.99 | G6: =+E6+F6 -> 43946 | H6: =ROUND('Càlcul pressupost '!I7/1.21,2) -> 36319.01 | I6: =ROUND(H6*0.21,2) -> 7626.99 | J6: =+H6+I6 -> 43946 | K6: =ROUND('Càlcul pressupost '!J7/1.21,2) -> 6766.28 | L6: =ROUND(K6*0.21,2) -> 1420.92 | M6: =+K6+L6 -> 8187.2 | N6: =SUM(H6,E6,B6,K6) -> 108957.03 | O6: =SUM(L6,I6,F6,C6) -> 22880.97 | P6: =SUM(M6,J6,G6,D6) -> 131838
A7: Manteniment recurrent | B7: =ROUND('Càlcul pressupost '!G8/1.21,2) -> 18619.37 | C7: =ROUND(B7*0.21,2) -> 3910.07 | D7: =+B7+C7 -> 22529.44 | E7: =ROUND('Càlcul pressupost '!H8/1.21,2) -> 22882.4 | F7: =ROUND(E7*0.21,2) -> 4805.3 | G7: =+E7+F7 -> 27687.7 | H7: =ROUND('Càlcul pressupost '!I8/1.21,2) -> 22882.4 | I7: =ROUND(H7*0.21,2) -> 4805.3 | J7: =+H7+I7 -> 27687.7 | K7: =ROUND('Càlcul pressupost '!J8/1.21,2) -> 4263.02 | L7: =ROUND(K7*0.21,2) -> 895.23 | M7: =+K7+L7 -> 5158.25 | N7: =SUM(H7,E7,B7,K7) -> 68647.19 | O7: =SUM(L7,I7,F7,C7) -> 14415.9 | P7: =SUM(M7,J7,G7,D7) -> 83063.09
A8: Oficina Tècnica | B8: =ROUND('Càlcul pressupost '!G9/1.21,2) -> 10937.2 | C8: =ROUND(B8*0.21,2) -> 2296.81 | D8: =+B8+C8 -> 13234.01 | E8: =ROUND('Càlcul pressupost '!H9/1.21,2) -> 12239.42 | F8: =ROUND(E8*0.21,2) -> 2570.28 | G8: =+E8+F8 -> 14809.7 | H8: =ROUND('Càlcul pressupost '!I9/1.21,2) -> 12239.42 | I8: =ROUND(H8*0.21,2) -> 2570.28 | J8: =+H8+I8 -> 14809.7 | K8: =ROUND('Càlcul pressupost '!J9/1.21,2) -> 2280.22 | L8: =ROUND(K8*0.21,2) -> 478.85 | M8: =+K8+L8 -> 2759.07 | N8: =SUM(H8,E8,B8,K8) -> 37696.26 | O8: =SUM(L8,I8,F8,C8) -> 7916.22 | P8: =SUM(M8,J8,G8,D8) -> 45612.48
A9: Evolutius identificats | B9: =ROUND('Càlcul pressupost '!G10/1.21,2) -> 95985.92 | C9: =ROUND(B9*0.21,2) -> 20157.04 | D9: =+B9+C9 -> 116142.96 | E9: =ROUND('Càlcul pressupost '!H10/1.21,2) -> 0 | F9: =ROUND(E9*0.21,2) -> 0 | G9: =+E9+F9 -> 0 | H9: =ROUND('Càlcul pressupost '!I10/1.21,2) -> 0 | I9: =ROUND(H9*0.21,2) -> 0 | J9: =+H9+I9 -> 0 | K9: =ROUND('Càlcul pressupost '!J10/1.21,2) -> 0 | L9: =ROUND(K9*0.21,2) -> 0 | M9: =+K9+L9 -> 0 | N9: =SUM(H9,E9,B9,K9) -> 95985.92 | O9: =SUM(L9,I9,F9,C9) -> 20157.04 | P9: =SUM(M9,J9,G9,D9) -> 116142.96
A10: Transició | B10: =ROUND('Càlcul pressupost '!G11/1.21,2) -> 2976.7 | C10: =ROUND(B10*0.21,2) -> 625.11 | D10: =+B10+C10 -> 3601.81 | E10: =ROUND('Càlcul pressupost '!H11/1.21,2) -> 0 | F10: =ROUND(E10*0.21,2) -> 0 | G10: =+E10+F10 -> 0 | H10: =ROUND('Càlcul pressupost '!I11/1.21,2) -> 0 | I10: =ROUND(H10*0.21,2) -> 0 | J10: =+H10+I10 -> 0 | K10: =ROUND('Càlcul pressupost '!J11/1.21,2) -> 0 | L10: =ROUND(K10*0.21,2) -> 0 | M10: =+K10+L10 -> 0 | N10: =SUM(H10,E10,B10,K10) -> 2976.7 | O10: =SUM(L10,I10,F10,C10) -> 625.11 | P10: =SUM(M10,J10,G10,D10) -> 3601.81
A11: Hosting Decidim | B11: =ROUND('Càlcul pressupost '!G12/1.21,2) -> 23463.18 | C11: =ROUND(B11*0.21,2) -> 4927.27 | D11: =+B11+C11 -> 28390.45 | E11: =ROUND('Càlcul pressupost '!H12/1.21,2) -> 28835.22 | F11: =ROUND(E11*0.21,2) -> 6055.4 | G11: =+E11+F11 -> 34890.62 | H11: =ROUND('Càlcul pressupost '!I12/1.21,2) -> 28835.22 | I11: =ROUND(H11*0.21,2) -> 6055.4 | J11: =+H11+I11 -> 34890.62 | K11: =ROUND('Càlcul pressupost '!J12/1.21,2) -> 5372.04 | L11: =ROUND(K11*0.21,2) -> 1128.13 | M11: =+K11+L11 -> 6500.17 | N11: =SUM(H11,E11,B11,K11) -> 86505.66 | O11: =SUM(L11,I11,F11,C11) -> 18166.2 | P11: =SUM(M11,J11,G11,D11) -> 104671.86
B12: =SUM(B6:B11) -> 181535.1 | C12: =SUM(C6:C11) -> 38122.37 | D12: =SUM(D6:D11) -> 219657.47 | E12: =SUM(E6:E11) -> 100276.05 | F12: =SUM(F6:F11) -> 21057.97 | G12: =SUM(G6:G11) -> 121334.02 | H12: =SUM(H6:H11) -> 100276.05 | I12: =SUM(I6:I11) -> 21057.97 | ... P12: =SUM(P6:P11) -> 484930.2
A14: Distribució de pressupost per any
A16: TOTAL
A17: Any | B17: Pressupost net | C17: IVA | D17: Import total
A18: 2022 | B18: =+B12 -> 181535.1 | C18: =B18*0.21 -> 38122.371 | D18: =+B18+C18 -> 219657.47
A19: 2023 | B19: =+E12 -> 100276.05 | C19: =B19*0.21 -> 21057.97 | D19: =+B19+C19 -> 121334.02
A20: 2024 | B20: =+H12 -> 100276.05 | C20: =B20*0.21 -> 21057.97 | D20: =+B20+C20 -> 121334.02
A21: 2025 | B21: =+K12 -> 18681.56 | C21: =B21*0.21 -> 3923.1276 | D21: =+B21+C21 -> 22604.688
A22: Total | B22: =SUM(B18:B21) -> 400768.76 | C22: =SUM(C18:C21) -> 84161.44 | D22: =SUM(D18:D21) -> 484930.2
A25: CAPÍTOL II
A26: Any | B26: Pressupost net | C26: IVA | D26: Import total
A27: 2022 | B27: =+B12-B9 -> 85549.18 | C27: =B27*0.21 -> 17965.328 | D27: =+B27+C27 -> 103514.51
A28: 2023 | B28: =+E12 -> 100276.05 | C28: =+F12+0.01 -> 21057.98 | D28: =+B28+C28 -> 121334.03
A29: 2024 | B29: =+H12 -> 100276.05 | C29: =+I12+0.01 -> 21057.98 | D29: =+B29+C29 -> 121334.03
A30: 2025 | B30: =+K12 -> 18681.56 | C30: =+L12 -> 3923.13 | D30: =+B30+C30 -> 22604.69
A31: Total | B31: =SUM(B27:B30) -> 304782.84 | C31: =SUM(C27:C30) -> 64004.418 | D31: =SUM(D27:D30) -> 368787.26
A34: CAPÍTOL VI
A35: Any | B35: Pressupost net | C35: IVA | D35: Import total
A36: 2022 | B36: =+B9 -> 95985.92 | C36: =+C9 -> 20157.04 | D36: =+B36+C36 -> 116142.96
A37: 2023 | B37: =+E30 -> 0 | C37: =+F30 -> 0 | D37: =+B37+C37 -> 0
A38: 2024 | B38: =+H30 -> 0 | C38: =+I30 -> 0 | D38: =+B38+C38 -> 0
A39: 2025 | B39: =+K30 -> 0 | C39: =+L30 -> 0 | D39: =+B39+C39 -> 0
A40: Total | B40: =SUM(B36:B39) -> 95985.92 | C40: =SUM(C36:C39) -> 20157.04 | D40: =SUM(D36:D39) -> 116142.96
A43: Modificacions de contracte: ampliació / disminució
A44: Causes previstes de modificació | B44: Import contracte (IVA inclòs) | C44: % Ampliació sobre import del contracte | D44: Import màxim ampliació (amb IVA) | E44: % Disminució sobre import del contracte | F44: Import màxim disminució (amb IVA)
A45: Modificacions per augment o disminució de volumetries en Serveis/Aplicacions | B45: =$D$22 -> 484930.2 | C45: 0.2 | D45: =+ROUND(B45*C45,2) -> 96986.04 | E45: 0.2 | F45: =+ROUND(-B45*E45,2) -> -96986.04
A46: TOTAL | B46: =B45 -> 484930.2 | C46: =C45 -> 0.2 | D46: =D45 -> 96986.04 | E46: =E45 -> 0.2 | F46: =F45 -> -96986.04
D47: =+ROUND(D46/1.21,2) -> 80153.75 | F47: =+ROUND(F46/1.21,2) -> -80153.75
D48: IVA EXCLÒS | F48: IVA EXCLÒS
A49: VEC
B51: VE prestació | C51: VE eventuals pròrrogues | D51: VE eventual pròrroga excepcional 29.4 de la LCSP | E51: VE modificacions contracte amb increment de cost previstes | F51: VE modificacions contracte amb disminució de cost previstes | G51: SUMA
...

Sheet Taula LOT-SERV-APP
A1: Contracte | B1: Servei | C1: Aplicació | D1: Lot X | E1: 2 lots!!
A2: G0389 | B2: SER0044 | C2: APP0860-SAP Subvencions | D2: 2
A3: G0389 | B3: SER0044 | C3: APP0861-SAP Convenis | D3: 2
A4: G0389 | B4: SER0044 | C4: APP0943-Expedient bustia etica | D4: 2
A5: G0389 | B5: SER0412 | C5: APP0867-Recepció factura electrònica | D5: 2
A6: G0389 | B6: SER0412 | C6: APP0864-Emissio factura electrònica | D6: 2
A7: G0389 | B7: SER0411 | C7: APP0866-FENS | D7: 2
A8: G0389 | B8: SER0474 | C8: APP0896-Gestió de bestretes | D8: 2
A9: G0389 | B9: SER0473 | C9: APP0895-Expedients economics(core) | D9: 2
A10: G0389 | B10: SER0038 | C10: APP0150-Compres | D10: 2
A11: G0389 | B11: SER0474 | C11: APP0898-Autorització de viatges | D11: 2
A13: G0389 | B13: SER0031 | C13: APP0176-COPERNICO | D13: 1
A14: G0389 | B14: SER0031 | C14: APP0719-Digitalització actes del plenari | D14: 1
... A34: G0074 | B34: SER0150 | C34: APP0071-Autorització comissió de servei | D34: 1
A36: Quden fora d'abast:
A37: GR | B37: SER0028 | C37: APP0360-Inmagic | D37: No | E37: Producte
A38: GR | B38: SER0028 | C38: APP0859-Unicorn-hyperion | D38: No
A39: GR | B39: SER0028 | C39: APP0868-Albala | D39: No
A40: GR | B40: SER0044 | C40: APP0262-eSubvencions | D40: No | E40: Contrato a parte
A41: GR | B41: Governança de serveis i projectes | D41: No
A42: GR | B42: Governança de gestió d'actius | D42: No
A43: GR | B43: Bustia etica | D43: No
A45: G0026 | B45: SER0028 | C45: APP0858-BCNROC | D45: No | E45: Producte
A46: G0024 | B46: SER0204 | C46: APP0862-Gestió Actius | D46: No
A47: G0004 | B47: SER0032 | C47: APP0373-INFOLEX | D47: No | E47: Producte
A48: G0004 | B48: SER0032 | C48: APP0865-Infolex de consulta | D48: No | E48: Producte
A49: G0018 | B49: SER0046 | C49: APP0169-Consums energetics | D49: No
A50: G0018 | B50: SER0047 | C50: APP0421-Manteniment Edificis | D50: No
A51: ? | C51: BKM | D51: No | E51: Producte
A52: Mediacloud | B52: SER0031 | C52: APP0478-Organismes Municipals | D52: No

Sheet Taula Estimació de dades
A1: LOT 2
A2: Contracte | B2: Servei | C2: Aplicació | D2: h Manteniment correctiu | E2: Preu/hora | F2: € Manteniment correctiu | G2: h Manteniment recurrent | H2: Preu/hora | I2: € Manteniment recurrent | J2: h OT | K2: Preu/hora | L2: € OT | M2: DATA INICI NOUS SERVEIS
A3: G0389 | B3: SER0044 | C3: APP0860-SAP Subvencions | D3: 75.29 | E3: 53.57 | F3: =D3*E3 -> 4033.2853 | G3: 570 | H3: 53.57 | I3: =G3*H3 -> 30534.9 | J3: 96.7935 | K3: 57.5 | L3: =J3*K3 -> 5565.6263
A4: G0389 | B4: SER0044 | C4: APP0861-SAP Convenis | D4: 288.60029 | E4: 53.57 | F4: =D4*E4 -> 15460.317 | G4: 577.20058 | H4: 53.57 | I4: =G4*H4 -> 30920.635 | J4: 129.87013 | K4: 57.5 | L4: =J4*K4 -> 7467.5325
A5: G0389 | B5: SER0044 | C5: APP0943-Expedient bustia etica | D5: 29.106349 | E5: 53.57 | F5: =D5*E5 -> 1559.2271 | G5: 89.798846 | H5: 53.57 | I5: =G5*H5 -> 4810.5242 | J5: 17.835779 | K5: 57.5 | L5: =J5*K5 -> 1025.5573
A6: G0389 | B6: SER0412 | C6: APP0867-Recepció factura electrònica | D6: 200 | E6: 53.57 | F6: =D6*E6 -> 10714 | G6: 220 | H6: 53.57 | I6: =G6*H6 -> 11785.4 | J6: 63 | K6: 57.5 | L6: =J6*K6 -> 3622.5
A7: G0389 | B7: SER0412 | C7: APP0864-Emissio factura electrònica | D7: 36.492063 | E7: 53.57 | F7: =D7*E7 -> 1954.8798 | G7: 72.984127 | H7: 53.57 | I7: =G7*H7 -> 3909.7597 | J7: 16.421429 | K7: 57.5 | L7: =J7*K7 -> 944.23214
A8: G0389 | B8: SER0411 | C8: APP0866-FENS | D8: 20 | E8: 53.57 | F8: =D8*E8 -> 1071.4 | G8: 85 | H8: 53.57 | I8: =G8*H8 -> 4553.45 | J8: 15.75 | K8: 57.5 | L8: =J8*K8 -> 905.625
A9: G0389 | B9: SER0474 | C9: APP0896-Gestió de bestretes | D9: 103.671 | E9: 53.57 | F9: =D9*E9 -> 5553.6552 | G9: 434.23719 | H9: 53.57 | I9: =G9*H9 -> 23262.086 | J9: 80.686227 | K9: 57.5 | L9: =J9*K9 -> 4639.4581
A10: G0389 | B10: SER0473 | C10: APP0895-Expedients economics(core) | D10: 0 | E10: 53.57 | F10: =D10*E10 -> 0 | G10: 202.4 | H10: 53.57 | I10: =G10*H10 -> 10842.568 | J10: 30.36 | K10: 57.5 | L10: =J10*K10 -> 1745.7
A11: G0389 | B11: SER0038 | C11: APP0150-Compres | D11: 0 | E11: 53.57 | F11: =D11*E11 -> 0 | G11: 159.03 | H11: 53.57 | I11: =G11*H11 -> 8519.2371 | J11: 23.8545 | K11: 57.5 | L11: =J11*K11 -> 1371.6337 | N11: Varia de molt poc
A12: G0389 | B12: SER0474 | C12: APP0898-Autorització de viatges | D12: 0 | E12: 53.57 | F12: =D12*E12 -> 0 | G12: 0 | H12: 53.57 | I12: =G12*H12 -> 0 | J12: 0 | K12: 57.5 | L12: =J12*K12 -> 0
A13: GR | B13: SER0044 | C13: APP0262-eSubvencions | D13: 288.60029 | E13: 53.57 | F13: =D13*E13 -> 15460.317 | G13: 649.35065 | H13: 53.57 | I13: =G13*H13 -> 34785.714 | J13: 140.69264 | K13: 57.5 | L13: =J13*K13 -> 8089.8268 | M13: 43466
D14: =SUM(D3:D13) -> 1041.76 | F14: =SUM(F3:F13) -> 55807.082 | G14: =SUM(G3:G13) -> 3060.0014 | I14: =SUM(I3:I13) -> 163924.27 | J14: =SUM(J3:J13) -> 615.26421 | L14: =SUM(L3:L13) -> 35377.692
A16: A partir de 16/05/2018
A17: Contracte | B17: Servei | C17: Aplicació | D17: h Manteniment correctiu | E17: h A partir 16/05/2018 | F17: Preu/hora | G17: € Manteniment correctiu | H17: h Manteniment recurrent | I17: h A partir 16/05/2018 | J17: Preu/hora | K17: € Manteniment recurrent | L17: h OT | M17: h A partir 16/05/2018 | N17: Preu/hora | O17: € OT | P17: DATA INICI NOUS SERVEIS
A18: G0389 | B18: SER0044 | C18: APP0860-SAP Subvencions | D18: 75.29 | E18: =D18/365*197.5 -> 40.73911 | F18: 53.57 | G18: =E18*F18 -> 2182.3941 | H18: 570 | I18: =H18/365*197.5 -> 308.42466 | J18: 53.57 | K18: =I18*J18 -> 16522.309 | L18: 96.7935 | M18: =L18/365*197.5 -> 52.374565 | N18: 57.5 | O18: =M18*N18 -> 3011.5375
A19: G0389 | B19: SER0044 | C19: APP0861-SAP Convenis | D19: 288.60029 | E19: =D19/365*197.5 -> 156.16043 | F19: 53.57 | G19: =E19*F19 -> 8365.5142 | H19: 577.20058 | I19: =H19/365*197.5 -> 312.32086 | J19: 53.57 | K19: =I19*J19 -> 16731.028 | L19: 129.87013 | M19: =L19/365*197.5 -> 70.272194 | N19: 57.5 | O19: =M19*N19 -> 4040.6511
A20: G0389 | B20: SER0044 | C20: APP0943-Expedient bustia etica | D20: 29.106349 | E20: =D20/365*197.5 -> 15.749326 | F20: 53.57 | G20: =E20*F20 -> 843.69139 | H20: 89.798846 | I20: =H20/365*197.5 -> 48.589786 | J20: 53.57 | K20: =I20*J20 -> 2602.9549 | L20: 17.835779 | M20: =L20/365*197.5 -> 9.6508668 | N20: 57.5 | O20: =M20*N20 -> 554.92484
A21: G0389 | B21: SER0412 | C21: APP0867-Recepció factura electrònica | D21: 200 | E21: =D21/365*197.5 -> 108.21918 | F21: 53.57 | G21: =E21*F21 -> 5797.3014 | H21: 220 | I21: =H21/365*197.5 -> 119.0411 | J21: 53.57 | K21: =I21*J21 -> 6377.0315 | L21: 63 | M21: =L21/365*197.5 -> 34.089041 | N21: 57.5 | O21: =M21*N21 -> 1960.1199
A22: G0389 | B22: SER0412 | C22: APP0864-Emissio factura electrònica | D22: 36.492063 | E22: =D22/365*197.5 -> 19.745706 | F22: 53.57 | G22: =E22*F22 -> 1057.7774 | H22: 72.984127 | I22: =H22/365*197.5 -> 39.491411 | J22: 53.57 | K22: =I22*J22 -> 2115.5549 | L22: 16.421429 | M22: =L22/365*197.5 -> 8.8855675 | N22: 57.5 | O22: =M22*N22 -> 510.92013
A23: G0389 | B23: SER0411 | C23: APP0866-FENS | D23: 20 | E23: =D23/365*197.5 -> 10.821918 | F23: 53.57 | G23: =E23*F23 -> 579.73014 | H23: 85 | I23: =H23/365*197.5 -> 45.993151 | J23: 53.57 | K23: =I23*J23 -> 2463.8531 | L23: 15.75 | M23: =L23/365*197.5 -> 8.5222603 | N23: 57.5 | O23: =M23*N23 -> 490.02997
A24: G0389 | B24: SER0474 | C24: APP0896-Gestió de bestretes | D24: 103.671 | E24: =D24/365*197.5 -> 56.09595 | F24: 53.57 | G24: =E24*F24 -> 3005.06 | H24: 434.23719 | I24: =H24/365*197.5 -> 234.96396 | J24: 53.57 | K24: =I24*J24 -> 12587.019 | L24: 80.686227 | M24: =L24/365*197.5 -> 43.658986 | N24: 57.5 | O24: =M24*N24 -> 2510.3917
A25: G0389 | B25: SER0473 | C25: APP0895-Expedients economics(core) | D25: 0 | E25: =D25/365*197.5 -> 0 | F25: 53.57 | G25: =E25*F25 -> 0 | H25: 202.4 | I25: =H25/365*197.5 -> 109.51781 | J25: 53.57 | K25: =I25*J25 -> 5866.869 | L25: 30.36 | M25: =L25/365*197.5 -> 16.427671 | N25: 57.5 | O25: =M25*N25 -> 944.5911
A26: G0389 | B26: SER0038 | C26: APP0150-Compres | D26: 0 | E26: =D26/365*197.5 -> 0 | F26: 53.57 | G26: =E26*F26 -> 0 | H26: 159.03 | I26: =H26/365*197.5 -> 86.050479 | J26: 53.57 | K26: =I26*J26 -> 4609.7242 | L26: 23.8545 | M26: =L26/365*197.5 -> 12.907572 | N26: 57.5 | O26: =M26*N26 -> 742.18539 | Q26: Varia de molt poc
A27: G0389 | B27: SER0474 | C27: APP0898-Autorització de viatges | D27: 0 | E27: =D27/365*197.5 -> 0 | F27: 53.57 | G27: =E27*F27 -> 0 | H27: 0 | I27: =H27/365*197.5 -> 0 | J27: 53.57 | K27: =I27*J27 -> 0 | L27: 0 | M27: =L27/365*197.5 -> 0 | N27: 57.5 | O27: =M27*N27 -> 0
A28: GR | B28: SER0044 | C28: APP0262-eSubvencions | D28: 288.60029 | E28: =D28/365*197.5 -> 156.16043 | F28: 53.57 | G28: =E28*F28 -> 8365.5142 | H28: 649.35065 | I28: =H28/365*197.5 -> 351.36097 | J28: 53.57 | K28: =I28*J28 -> 18822.407 | L28: 140.69264 | M28: =L28/365*197.5 -> 76.12821 | N28: 57.5 | O28: =M28*N28 -> 4377.3721 | P28: 43466
E29: =SUM(E18:E28) -> 563.69205 | G29: =SUM(G18:G28) -> 30196.983 | I29: =SUM(I18:I28) -> 1655.7542 | K29: =SUM(K18:K28) -> 88698.751 | M29: =SUM(M18:M28) -> 332.91693 | O29: =SUM(O18:O28) -> 19142.724
A30: GERÈNCIA DE RECURSOS (GR) LOT2 SAP | B30: Glòria Santamaria | C30: 321139.87 | D30: =+C30*3 -> 963419.62 | G30: =+D30/36*M30*0.25 -> 13380.828 | H30: 0 | J30: =+D30+G30+H30 -> 976800.45 | K30: S | M30: 2 | N30: 43101 | O30: 43236 | P30: 43236 | Q30: 43297
F32: CORR-RECU-OT | G32: TRANS
E33: 2018 | F33: =G29+K29+O29 -> 138038.46 | G33: =G30 -> 13380.828
E34: 2019 | F34: =F14+I14+L14 -> 255109.05
E35: 2020 | F35: =F14+I14+L14 -> 255109.05
E36: 2021 | F36: =F14+I14+L14 -> 255109.05
F37: =SUM(F33:F36) -> 903365.6 | G37: =SUM(G33:G36) -> 13380.828 | H37: =F37+G37 -> 916746.43
A39: LOT 1
A40: Contracte | B40: Servei | C40: Aplicació | D40: h Manteniment correctiu | E40: Preu/hora | F40: € Manteniment correctiu | G40: h Manteniment recurrent | H40: Preu/hora | I40: € Manteniment recurrent | J40: h OT | K40: Preu/hora | L40: € OT | M40: DATA INICI NOUS SERVEIS
A41: G0389 | B41: SER0031 | C41: APP0176-COPERNICO | D41: 209.25492 | E41: 46.59 | F41: =D41*E41 -> 9749.1868 | G41: 982.79691 | H41: 49.95 | I41: =G41*H41 -> 49090.706 | J41: 178.80777 | K41: 57.5 | L41: =J41*K41 -> 10281.447
A42: G0389 | B42: SER0031 | C42: APP0719-Digitalització actes del plenari | D42: 72.916667 | E42: 46.59 | F42: =D42*E42 -> 3397.1875 | G42: 853.57417 | H42: 49.95 | I42: =G42*H42 -> 42636.03 | J42: 138.97362 | K42: 57.5 | L42: =J42*K42 -> 7990.9834
A43: G0389 | B43: SER0031 | C43: APP0295-GASETA | D43: 161.31323 | E43: 46.59 | F43: =D43*E43 -> 7515.5835 | G43: 739.83205 | H43: 49.95 | I43: =G43*H43 -> 36954.611 | J43: 135.17179 | K43: 57.5 | L43: =J43*K43 -> 7772.378
...

Sheet Hoja2

Sheet Infraestructura
B1: 4.2.1 Infraestructura allotjament
O2: 0.21 | V2: Factura Juny
B3: APLICACIÓ | C3: WEB dyno | D3: Tasques dyno | E3: RAM | F3: Postgres RAM | G3: Postgres Espai | H3: Postgres Connexions | I3: Postgres Backup | J3: Memcached | K3: Redis | L3: SendGrid mails | N3: PREU €/mes | O3: PREU €/mes (amb IVA) | P3: Nombre unitats | Q3: Cost total €/mes (amb IVA) | R3: Cost total ANUAL (amb IVA)
B5: decidim-bcn-organizations | C5: 6 | D5: 1 | E5: 1 GB | F5: 4 GB | G5: 64 GB | H5: 120 | I5: 25 | J5: 30 MB | K5: 25 MB | L5: 40.000 mes | N5: =ROUND(Q34* $N$15, 2) -> 125.95 | O5: =N5*(1+$O$2) -> 152.3995 | P5: 1 | Q5: =P5*O5 -> 152.3995 | R5: =Q5*12 -> 1828.794 | T5: =ROUND(O5/1.21,2) -> 125.95 | U5: =O5 -> 152.3995 | V5: 296.47
B6: decidim-bcn-organizations 2 | C6: 6 | D6: 1 | E6: 1 GB | F6: 4 GB | G6: 64 GB | H6: 120 | I6: 25 | J6: 30 MB | K6: 25 MB | L6: 40.000 mes | N6: =ROUND(Q34* $N$15, 2) -> 125.95 | O6: =N6*(1+$O$2) -> 152.3995 | P6: 1 | Q6: =P6*O6 -> 152.3995 | R6: =Q6*12 -> 1828.794 | T6: =ROUND(O6/1.21,2) -> 125.95 | U6: =O6 -> 152.3995 | V6: 296.47
B7: decidim-barcelona | C7: 12 | D7: 2 | E7: 5 GB | F7: 4 GB | G7: 4 GB | H7: 120 | I7: 25 | J7: 100 MB | K7: 50 MB | L7: 40.000 mes | N7: =ROUND(Q45* $N$15, 2) -> 1113.5 | O7: =N7*(1+$O$2) -> 1347.335 | P7: 1 | Q7: =P7*O7 -> 1347.335 | R7: =Q7*12 -> 16168.02 | T7: =ROUND(O7/1.21,2) -> 1113.5 | U7: =O7 -> 1347.335 | V7: 1264.28
B8: decidim-barcelona-preproducció | C8: 4 | D8: 1 | E8: 1 GB | F8: limitat 10 milions files | H8: 20 | I8: 5 | J8: 30 MB | K8: 25 MB | L8: 12.000 mes | N8: =ROUND(Q56* $N$15, 2) -> 118.89 | O8: =N8*(1+$O$2) -> 143.8569 | P8: 1 | Q8: =P8*O8 -> 143.8569 | R8: =Q8*12 -> 1726.2828 | T8: =ROUND(O8/1.21,2) -> 118.89 | U8: =O8 -> 143.8569 | V8: 141 | W8: 117.3
B9: metadecidim | C9: 4 | D9: 1 | E9: 1 GB | F9: 4 GB | G9: 64 GB | H9: 120 | I9: 25 | J9: 30 MB | K9: 25 MB | L9: 40.000 mes | N9: =ROUND(Q65*$N$15,2) -> 118.89 | O9: =N9*(1+$O$2) -> 143.8569 | P9: 1 | Q9: =P9*O9 -> 143.8569 | R9: =Q9*12 -> 1726.2828 | T9: =ROUND(O9/1.21,2) -> 118.89 | U9: =O9 -> 143.8569 | V9: 243.03
B10: decidim-RRHH | C10: 2 | D10: 1 | E10: 1 GB | F10: 4 GB | G10: 64 GB | H10: 120 | I10: 25 | J10: 30 MB | K10: 25 MB | L10: 40.000 mes | N10: =ROUND(Q75*$N$15, 2) -> 233.86 | O10: =N10*(1+$O$2) -> 282.9706 | P10: 1 | Q10: =P10*O10 -> 282.9706 | R10: =Q10*12 -> 3395.6472 | T10: =ROUND(O10/1.21,2) -> 233.86 | U10: =O10 -> 282.9706
B11: Correu electrònic (10 comptes) | R11: 490
R12: =SUM(R4:R11) -> 27163.821
O14: (*) Preus originals el USD, convertits a EUR
N15: 0.84 | O15: 1 Dólar = 0,84 Euros
O16: Data de conversió 18/03/2021
B21: Tasques administració d'allotjament
O22: PREU €/hora (amb IVA) | P22: Nombre unitats | Q22: Cost total €/mes (amb IVA) | R22: Cost total ANUAL (amb IVA)
O23: =Perfils!G10 -> 64.39 | P23: 10 | Q23: =P23*O23 -> 643.9 | R23: =Q23*12 -> 7726.8
R24: =SUM(R23:R23) -> 7726.8
N27: Infraestructura | R27: =R12 -> 27163.821
N28: Tasques d'administració | R28: =R24 -> 7726.8
Q29: TOTAL | R29: =SUM(R27:R28) -> 34890.621 | T29: 32839
B31: Descripcció detallada serveis per cada Aplicació
Q32: 0.2
O33: COST | P33: MAXIM | Q33: PVP | R33: MAX ANUAL
B34: decidim-bcn-organizations | O34: =SUM(O35:O43) -> 0 | P34: =SUM(P35:P43) -> 124.95 | Q34: =P34*(1+$Q$32) -> 149.94 | R34: =Q34*12 -> 1799.28
B35: Standard-2X × 2 (web) | M35: 6 | N35: =M35*$C$33 -> 0 | P35: =N35 -> 0
B36: Standard-2X × 1 (worker) | M36: 1 | N36: =M36*$C$33 -> 0 | P36: =N36 -> 0
B37: Heroku Postgres Standard 0 | P37: 50
B38: Heroku Redis Premium 2 | P38: 60
B39: Twilio SendGrid Bronze (40.000 mails / mes) | P39: 14.95 | R39: Standard 0
R41: Premium 0
B45: decidim-barcelona | O45: =SUM(O46:O54) -> 591.66 | P45: =SUM(P46:P54) -> 1104.66 | Q45: =P45*(1+$Q$32) -> 1325.592 | R45: =Q45*12 -> 15907.104
B46: Performance M × 2 (web) -11 mesos | M46: 2 | N46: 250 | O46: =ROUND(N46*M46*(11/12),2) -> 458.33 | P46: =O46 -> 458.33
B47: Performance L × 1 (web) -1 mes | M47: 2 | N47: 500 | O47: =ROUND(N47*M47*(1/12),2) -> 83.33 | P47: =O47 -> 83.33
B48: Standard-2X × 1 (worker) | M48: 2 | N48: 25 | O48: =N48*M48 -> 50 | P48: =O48 -> 50
B49: Memcached Cloud 100MB | P49: 14
B50: Heroku Postgres Standard 2 | P50: 200
B51: Rails Autoscale Silver | P51: 39
B52: Heroku Redis Premium 2 | P52: 60
B53: Twilio SendGrid Gold | P53: 200
...
