Workbook
Name OLE_LINK2: EXPERIENCIA_REQUERIDA_PERFIL!$D$2

Sheet RESUM_EQUIP_TÈCNIC
B1: exp: 21000049 - CONTRACTE DE SERVEIS PER A LA PRESTACIÓ DELS SERVEIS DE MANTENIMENT I EVOLUCIÓ D’APLICACIONS INFORMÀTIQUES (AM) DE LA GERÈNCIA D’ECOLOGIA URBANA DE L’AJUNTAMENT DE BARCELONA, AMB MESURES DE CONTRACTACIÓ PÚBLICA SOSTENIBLE.
B3: DECLARACIÓ DE DADES RESUM EQUIP TÈCNIC
A7: El/la senyor/a
A8: domiciliat/ada a
A9: amb DNI/NIF núm
A10: , major d’edat, en nom propi, o en representació de l’empresa
A11: , NIF núm. | D11: , amb domicili a
A12: assabentat/ada de les condicions exigides per optar a l’adjudicació del contracte número d’expedient 21000049 que té per objecte la contractació dels serveis de manteniment i evolució d’aplicacions informàtiques (AM) de la Gerència d’Ecologia Urbana de l’Ajuntament de Barcelona, amb mesures de contractació pública sostenible, es compromet a realitzar-lo amb subjecció al plec de clàusules administratives particulars i al de prescripcions tècniques i amb els següents detall en les millores de l'experiència de l'equip tècnic:
A16: Nom de perfil del plec | B16: Inicials | C16: Nom | D16: Dedicació prevista | E16: Solvència
A17: Responsable tècnic/a de seguretat i tecnologies | D17: N/A | E17: N/A
A18: =#REF! -> #REF! | B18: =#REF! -> #REF! | C18: =#REF! -> #REF! | D18: =#REF! -> #REF! | E18: =#REF! -> #REF!
A19: =#REF! -> #REF! | B19: =#REF! -> #REF! | C19: =#REF! -> #REF! | D19: =#REF! -> #REF! | E19: =#REF! -> #REF!
A20: =#REF! -> #REF! | B20: =#REF! -> #REF! | C20: =#REF! -> #REF! | D20: =#REF! -> #REF! | E20: =#REF! -> #REF!
A21: =#REF! -> #REF! | B21: =#REF! -> #REF! | C21: =#REF! -> #REF! | D21: =#REF! -> #REF! | E21: =#REF! -> #REF!
A22: =#REF! -> #REF! | B22: =#REF! -> #REF! | C22: =#REF! -> #REF! | D22: =#REF! -> #REF! | E22: =#REF! -> #REF!
A23: =#REF! -> #REF! | B23: =#REF! -> #REF! | C23: =#REF! -> #REF! | D23: =#REF! -> #REF! | E23: =#REF! -> #REF!
A24: =#REF! -> #REF! | B24: =#REF! -> #REF! | C24: =#REF! -> #REF! | D24: =#REF! -> #REF! | E24: =#REF! -> #REF!
A25: =#REF! -> #REF! | B25: =#REF! -> #REF! | C25: =#REF! -> #REF! | D25: =#REF! -> #REF! | E25: =#REF! -> #REF!
A26: =#REF! -> #REF! | B26: =#REF! -> #REF! | C26: =#REF! -> #REF! | D26: =#REF! -> #REF! | E26: =#REF! -> #REF!
A27: =#REF! -> #REF! | B27: =#REF! -> #REF! | C27: =#REF! -> #REF! | D27: =#REF! -> #REF! | E27: =#REF! -> #REF!
A28: =#REF! -> #REF! | B28: =#REF! -> #REF! | C28: =#REF! -> #REF! | D28: =#REF! -> #REF! | E28: =#REF! -> #REF!
A29: =#REF! -> #REF! | B29: =#REF! -> #REF! | C29: =#REF! -> #REF! | D29: =#REF! -> #REF! | E29: =#REF! -> #REF!
... A84: =#REF! -> #REF! | B84: =#REF! -> #REF! | C84: =#REF! -> #REF! | D84: =#REF! -> #REF! | E84: =#REF! -> #REF!
A90: Control Millores | B90: Millora ofertada | C90: Millora detall equip | D90: Resultat
A91: Cap de projecte Sènior | B91: 3 | C91: =#REF! -> #REF! | D91: =#REF! -> #REF!
A92: Cap de projecte funcional / tecnològic | B92: 3 | C92: =#REF! -> #REF! | D92: =#REF! -> #REF!
A93: Arquitecte/a especialista en les tecnologies del plec | B93: 2 | C93: =#REF! -> #REF! | D93: =#REF! -> #REF!
A94: Analista J2EE | B94: 6 | C94: =#REF! -> #REF! | D94: =#REF! -> #REF!
A95: Analista GIS | B95: 2 | C95: =#REF! -> #REF! | D95: =#REF! -> #REF!
A96: Analista programador J2EE | B96: 5 | C96: =#REF! -> #REF! | D96: =#REF! -> #REF!

Sheet EXPERIENCIA_REQUERIDA_PERFIL
A1: Num perfil | B1: Nom del perfil | C1: Certificació | D1: Descripció experiència 1 | E1: Anys experiència mínima | F1: Anys addicionals experiència | G1: Màxim punts per anys experiència addicional | H1: Punts per cada any experiència addicional | I1: Descripció experiència 2 | J1: Anys experiència mínima | K1: Anys addicionals experiència | L1: Màxim punts per anys experiència addicional | M1: Punts per cada any experiència addicional | N1: Descripció experiència 3 | O1: Anys experiència mínima | P1: Anys addicionals experiència | Q1: Màxim punts per anys experiència addicional | R1: Punts per cada any experiència addicional
A2: 1 | B2: Responsable del Contracte | D2: Experiència en el rol de responsable de contracte o oficina tècnica (PMO) de projectes o serveis. | E2: 3
A3: 2 | B3: Consultor/a de suport a la gestió | D3: Experiència en el rol de consultor de suport a la gestió en ús d’aplicacions així com en gestió, control i seguiment de projectes. | E3: 3 | F3: 3 | G3: 4.5 | H3: 1.5
A4: 3 | B4: Consultor/a especialista en contractació pública | D4: Experiència en el rol de consultor especialista en contractació pública en el sector públic | E4: 3 | F4: 3 | G4: 6 | H4: 2 | I4: Experiència realitzant tasques de gestió econòmica i pressupostària. | J4: 3
A5: 4 | B5: Consultor/a especialista en JIRA i Confluence | C5: Atlassian “Jira Administrator” / "Confluence Administrator" | D5: Experiència en el rol de consultor especialista en l’eina de ticketing JIRA, d’Atlassian realitzant tasques d’administració i programació d’script listeners amb Groovy. | E5: 3 | F5: 3 | G5: 6 | H5: 2 | I5: Experiència en el rol de consultor especialista en l’eina Confluence, d’Atlassian | J5: 3
A6: 5 | B6: Consultor/a especialista en Business Intelligence | D6: Experiència en la definició i construcció d’informes d’indicadors així com quadres de Comandament. | E6: 3 | F6: 3 | G6: 4.5 | H6: 1.5
A7: 6 | B7: Consultor/a especialista en agilització de projectes | D7: Experiència en el rol de consultor especialista en agilització de projectes amb metodologies Scrum i Kanban. | E7: 3 | F7: 3 | G7: 4.5 | H7: 1.5

Sheet Valors
A1: Perfils | C1: Opcions
C2: SI
C3: NO
C4: N/D

Sheet 1.Responsable del contracte
D2: DECLARACIÓ DE DADES DETALL EQUIP TÈCNIC
A7: Omplir només les caselles en Verd, les caselles grises s'ompliran automàticament.
A8: En cas de que en una mateixa persona hagi participat en dos projectes o serveis alhora, cal evitar els solapaments temporals i posar únicament el més rellevant i relacionat amb el servei
A10: 1 | B10: =VLOOKUP(A10,EXPERIENCIA_REQUERIDA_PERFIL!A:B,2,FALSE) -> Responsable del Contracte
Z12: Punts per any addicional | AA12: =VLOOKUP($A$10,EXPERIENCIA_REQUERIDA_PERFIL!A:M,8,FALSE) -> 0 | AB12: =VLOOKUP($A$10,EXPERIENCIA_REQUERIDA_PERFIL!A:M,13,FALSE) -> 0 | AC12: =VLOOKUP($A$10,EXPERIENCIA_REQUERIDA_PERFIL!A:R,18,FALSE) -> 0
M13: Anys experiéncia mínima | P13: =VLOOKUP($A$10,EXPERIENCIA_REQUERIDA_PERFIL!A:M,5,FALSE) -> 3 | Q13: Anys experiéncia mínima | W13: =VLOOKUP($A$10,EXPERIENCIA_REQUERIDA_PERFIL!A:M,10,FALSE) -> 0 | X13: Anys experiéncia mínima | Y13: =VLOOKUP($A$10,EXPERIENCIA_REQUERIDA_PERFIL!A:R,15,FALSE) -> 0 | Z13: Màxim punts | AA13: =VLOOKUP($A$10,EXPERIENCIA_REQUERIDA_PERFIL!A:M,7,FALSE) -> 0 | AB13: =VLOOKUP($A$10,EXPERIENCIA_REQUERIDA_PERFIL!A:M,12,FALSE) -> 0 | AC13: =VLOOKUP($A$10,EXPERIENCIA_REQUERIDA_PERFIL!A:R,17,FALSE) -> 0
B14: Nom de perfil del plec | E14: Inicials del treballador/a | F14: Nom del treballador/a | G14: Dedicació prevista | H14: Anys fent les tasques demanades en aquest perfil | L14: =IF(VLOOKUP($A$10,EXPERIENCIA_REQUERIDA_PERFIL!A:C,3,FALSE)="","",VLOOKUP($A$10,EXPERIENCIA_REQUERIDA_PERFIL!A:C,3,FALSE)) | M14: =IF(VLOOKUP($A$10,EXPERIENCIA_REQUERIDA_PERFIL!A:M,4,FALSE)="","",VLOOKUP($A$10,EXPERIENCIA_REQUERIDA_PERFIL!A:M,4,FALSE)) -> Experiència en el rol de responsable de contracte o oficina tècnica (PMO) de projectes o serveis. | Q14: =IF(VLOOKUP($A$10,EXPERIENCIA_REQUERIDA_PERFIL!A:M,9,FALSE)="","",VLOOKUP($A$10,EXPERIENCIA_REQUERIDA_PERFIL!A:M,9,FALSE)) | X14: =IF(VLOOKUP($A$10,EXPERIENCIA_REQUERIDA_PERFIL!A:R,14,FALSE)="","",VLOOKUP($A$10,EXPERIENCIA_REQUERIDA_PERFIL!A:R,14,FALSE)) | Z14: Compleix amb l'experiència mínima requerida | AA14: =IF(AA13=0,"",CONCATENATE("Millora anys aportada en ",M14)) | AB14: =IF(AB13=0,"",CONCATENATE("Millora aportada en ",Q14)) | AC14: =IF(AC13=0,"",CONCATENATE("Millora aportada en ",X14))
A15: 1 | B15: =$B$10 -> Responsable del Contracte | E15: TR1 | F15: Treballador exemple | G15: 100 | H15: 5 | L15: N/D | M15: =IF(M14="","",ROUND(SUMIF($AB$39:$AB$103,CONCATENATE(E15,"SI"),$AA$39:$AA$103)/12,2)) -> 6.08 | Q15: =IF(Q14="","",ROUND(SUMIF($AC$39:$AC$78,CONCATENATE(E15,"SI"),$AA$39:$AA$78)/12,2)) | X15: =IF(X14="","",ROUND(SUMIF($AD$39:$AD$78,CONCATENATE(E15,"SI"),$AA$39:$AA$78)/12,2)) | Z15: =IF(OR(E15="",M14=""),"N/A",IF(AND(IF($L$14="","SI",L15)="SI",M15>=$P$13,Q15>=$W$13,X15>=$Y$13),"OK","KO")) -> OK | AA15: =IF(OR(E15="",$AA$13=0),"",MAX(M15-$P$13,0)) | AB15: =IF(OR(E15="",Q14="",$AB$14=0),"",MAX(Q15-$W$13,0)) | AC15: =IF(OR(E15="",X14="",$AC$13=0),"",MAX(X15-$Y$13,0))
A16: =A15+1 -> 2 | B16: =$B$10 -> Responsable del Contracte | L16: N/D | M16: =IF(M15="","",ROUND(SUMIF($AB$39:$AB$103,CONCATENATE(E16,"SI"),$AA$39:$AA$103)/12,2)) -> 0 | Q16: =IF(Q15="","",ROUND(SUMIF($AC$39:$AC$78,CONCATENATE(E16,"SI"),$AA$39:$AA$78)/12,2)) | X16: =IF(X15="","",ROUND(SUMIF($AD$39:$AD$78,CONCATENATE(E16,"SI"),$AA$39:$AA$78)/12,2)) | Z16: =IF(OR(E16="",M15=""),"N/A",IF(AND(IF($L$14="","SI",L16)="SI",M16>=$P$13,Q16>=$W$13,X16>=$Y$13),"OK","KO")) -> N/A | AA16: =IF(OR(E16="",$AA$13=0),"",MAX(M16-$P$13,0)) | AB16: =IF(OR(E16="",Q15="",$AB$14=0),"",MAX(Q16-$W$13,0)) | AC16: =IF(OR(E16="",X15="",$AC$13=0),"",MAX(X16-$Y$13,0))
A17: =A16+1 -> 3 | B17: =$B$10 -> Responsable del Contracte | L17: N/D | M17: =IF(M16="","",ROUND(SUMIF($AB$39:$AB$103,CONCATENATE(E17,"SI"),$AA$39:$AA$103)/12,2)) -> 0 | Q17: =IF(Q16="","",ROUND(SUMIF($AC$39:$AC$78,CONCATENATE(E17,"SI"),$AA$39:$AA$78)/12,2)) | X17: =IF(X16="","",ROUND(SUMIF($AD$39:$AD$78,CONCATENATE(E17,"SI"),$AA$39:$AA$78)/12,2)) | Z17: =IF(OR(E17="",M16=""),"N/A",IF(AND(IF($L$14="","SI",L17)="SI",M17>=$P$13,Q17>=$W$13,X17>=$Y$13),"OK","KO")) -> N/A | AA17: =IF(OR(E17="",$AA$13=0),"",MAX(M17-$P$13,0)) | AB17: =IF(OR(E17="",Q16="",$AB$14=0),"",MAX(Q17-$W$13,0)) | AC17: =IF(OR(E17="",X16="",$AC$13=0),"",MAX(X17-$Y$13,0))
A18: =A17+1 -> 4 | B18: =$B$10 -> Responsable del Contracte | L18: N/D | M18: =IF(M17="","",ROUND(SUMIF($AB$39:$AB$103,CONCATENATE(E18,"SI"),$AA$39:$AA$103)/12,2)) -> 0 | Q18: =IF(Q17="","",ROUND(SUMIF($AC$39:$AC$78,CONCATENATE(E18,"SI"),$AA$39:$AA$78)/12,2)) | X18: =IF(X17="","",ROUND(SUMIF($AD$39:$AD$78,CONCATENATE(E18,"SI"),$AA$39:$AA$78)/12,2)) | Z18: =IF(OR(E18="",M17=""),"N/A",IF(AND(IF($L$14="","SI",L18)="SI",M18>=$P$13,Q18>=$W$13,X18>=$Y$13),"OK","KO")) -> N/A | AA18: =IF(OR(E18="",$AA$13=0),"",MAX(M18-$P$13,0)) | AB18: =IF(OR(E18="",Q17="",$AB$14=0),"",MAX(Q18-$W$13,0)) | AC18: =IF(OR(E18="",X17="",$AC$13=0),"",MAX(X18-$Y$13,0))
A19: =A18+1 -> 5 | B19: =$B$10 -> Responsable del Contracte | L19: N/D | M19: =IF(M18="","",ROUND(SUMIF($AB$39:$AB$103,CONCATENATE(E19,"SI"),$AA$39:$AA$103)/12,2)) -> 0 | Q19: =IF(Q18="","",ROUND(SUMIF($AC$39:$AC$78,CONCATENATE(E19,"SI"),$AA$39:$AA$78)/12,2)) | X19: =IF(X18="","",ROUND(SUMIF($AD$39:$AD$78,CONCATENATE(E19,"SI"),$AA$39:$AA$78)/12,2)) | Z19: =IF(OR(E19="",M18=""),"N/A",IF(AND(IF($L$14="","SI",L19)="SI",M19>=$P$13,Q19>=$W$13,X19>=$Y$13),"OK","KO")) -> N/A | AA19: =IF(OR(E19="",$AA$13=0),"",MAX(M19-$P$13,0)) | AB19: =IF(OR(E19="",Q18="",$AB$14=0),"",MAX(Q19-$W$13,0)) | AC19: =IF(OR(E19="",X18="",$AC$13=0),"",MAX(X19-$Y$13,0))
A20: =A19+1 -> 6 | B20: =$B$10 -> Responsable del Contracte | L20: N/D | M20: =IF(M19="","",ROUND(SUMIF($AB$39:$AB$103,CONCATENATE(E20,"SI"),$AA$39:$AA$103)/12,2)) -> 0 | Q20: =IF(Q19="","",ROUND(SUMIF($AC$39:$AC$78,CONCATENATE(E20,"SI"),$AA$39:$AA$78)/12,2)) | X20: =IF(X19="","",ROUND(SUMIF($AD$39:$AD$78,CONCATENATE(E20,"SI"),$AA$39:$AA$78)/12,2)) | Z20: =IF(OR(E20="",M19=""),"N/A",IF(AND(IF($L$14="","SI",L20)="SI",M20>=$P$13,Q20>=$W$13,X20>=$Y$13),"OK","KO")) -> N/A | AA20: =IF(OR(E20="",$AA$13=0),"",MAX(M20-$P$13,0)) | AB20: =IF(OR(E20="",Q19="",$AB$14=0),"",MAX(Q20-$W$13,0)) | AC20: =IF(OR(E20="",X19="",$AC$13=0),"",MAX(X20-$Y$13,0))
A21: =A20+1 -> 7 | B21: =$B$10 -> Responsable del Contracte | L21: N/D | M21: =IF(M20="","",ROUND(SUMIF($AB$39:$AB$103,CONCATENATE(E21,"SI"),$AA$39:$AA$103)/12,2)) -> 0 | Q21: =IF(Q20="","",ROUND(SUMIF($AC$39:$AC$78,CONCATENATE(E21,"SI"),$AA$39:$AA$78)/12,2)) | X21: =IF(X20="","",ROUND(SUMIF($AD$39:$AD$78,CONCATENATE(E21,"SI"),$AA$39:$AA$78)/12,2)) | Z21: =IF(OR(E21="",M20=""),"N/A",IF(AND(IF($L$14="","SI",L21)="SI",M21>=$P$13,Q21>=$W$13,X21>=$Y$13),"OK","KO")) -> N/A | AA21: =IF(OR(E21="",$AA$13=0),"",MAX(M21-$P$13,0)) | AB21: =IF(OR(E21="",Q20="",$AB$14=0),"",MAX(Q21-$W$13,0)) | AC21: =IF(OR(E21="",X20="",$AC$13=0),"",MAX(X21-$Y$13,0))
A22: =A21+1 -> 8 | B22: =$B$10 -> Responsable del Contracte | L22: N/D | M22: =IF(M21="","",ROUND(SUMIF($AB$39:$AB$103,CONCATENATE(E22,"SI"),$AA$39:$AA$103)/12,2)) -> 0 | Q22: =IF(Q21="","",ROUND(SUMIF($AC$39:$AC$78,CONCATENATE(E22,"SI"),$AA$39:$AA$78)/12,2)) | X22: =IF(X21="","",ROUND(SUMIF($AD$39:$AD$78,CONCATENATE(E22,"SI"),$AA$39:$AA$78)/12,2)) | Z22: =IF(OR(E22="",M21=""),"N/A",IF(AND(IF($L$14="","SI",L22)="SI",M22>=$P$13,Q22>=$W$13,X22>=$Y$13),"OK","KO")) -> N/A | AA22: =IF(OR(E22="",$AA$13=0),"",MAX(M22-$P$13,0)) | AB22: =IF(OR(E22="",Q21="",$AB$14=0),"",MAX(Q22-$W$13,0)) | AC22: =IF(OR(E22="",X21="",$AC$13=0),"",MAX(X22-$Y$13,0))
A23: =A22+1 -> 9 | B23: =$B$10 -> Responsable del Contracte | L23: N/D | M23: =IF(M22="","",ROUND(SUMIF($AB$39:$AB$103,CONCATENATE(E23,"SI"),$AA$39:$AA$103)/12,2)) -> 0 | Q23: =IF(Q22="","",ROUND(SUMIF($AC$39:$AC$78,CONCATENATE(E23,"SI"),$AA$39:$AA$78)/12,2)) | X23: =IF(X22="","",ROUND(SUMIF($AD$39:$AD$78,CONCATENATE(E23,"SI"),$AA$39:$AA$78)/12,2)) | Z23: =IF(OR(E23="",M22=""),"N/A",IF(AND(IF($L$14="","SI",L23)="SI",M23>=$P$13,Q23>=$W$13,X23>=$Y$13),"OK","KO")) -> N/A | AA23: =IF(OR(E23="",$AA$13=0),"",MAX(M23-$P$13,0)) | AB23: =IF(OR(E23="",Q22="",$AB$14=0),"",MAX(Q23-$W$13,0)) | AC23: =IF(OR(E23="",X22="",$AC$13=0),"",MAX(X23-$Y$13,0))
A24: =A23+1 -> 10 | B24: =$B$10 -> Responsable del Contracte | L24: N/D | M24: =IF(M23="","",ROUND(SUMIF($AB$39:$AB$103,CONCATENATE(E24,"SI"),$AA$39:$AA$103)/12,2)) -> 0 | Q24: =IF(Q23="","",ROUND(SUMIF($AC$39:$AC$78,CONCATENATE(E24,"SI"),$AA$39:$AA$78)/12,2)) | X24: =IF(X23="","",ROUND(SUMIF($AD$39:$AD$78,CONCATENATE(E24,"SI"),$AA$39:$AA$78)/12,2)) | Z24: =IF(OR(E24="",M23=""),"N/A",IF(AND(IF($L$14="","SI",L24)="SI",M24>=$P$13,Q24>=$W$13,X24>=$Y$13),"OK","KO")) -> N/A | AA24: =IF(OR(E24="",$AA$13=0),"",MAX(M24-$P$13,0)) | AB24: =IF(OR(E24="",Q23="",$AB$14=0),"",MAX(Q24-$W$13,0)) | AC24: =IF(OR(E24="",X23="",$AC$13=0),"",MAX(X24-$Y$13,0))
A25: =A24+1 -> 11 | B25: =$B$10 -> Responsable del Contracte | L25: N/D | M25: =IF(M24="","",ROUND(SUMIF($AB$39:$AB$103,CONCATENATE(E25,"SI"),$AA$39:$AA$103)/12,2)) -> 0 | Q25: =IF(Q24="","",ROUND(SUMIF($AC$39:$AC$78,CONCATENATE(E25,"SI"),$AA$39:$AA$78)/12,2)) | X25: =IF(X24="","",ROUND(SUMIF($AD$39:$AD$78,CONCATENATE(E25,"SI"),$AA$39:$AA$78)/12,2)) | Z25: =IF(OR(E25="",M24=""),"N/A",IF(AND(IF($L$14="","SI",L25)="SI",M25>=$P$13,Q25>=$W$13,X25>=$Y$13),"OK","KO")) -> N/A | AA25: =IF(OR(E25="",$AA$13=0),"",MAX(M25-$P$13,0)) | AB25: =IF(OR(E25="",Q24="",$AB$14=0),"",MAX(Q25-$W$13,0)) | AC25: =IF(OR(E25="",X24="",$AC$13=0),"",MAX(X25-$Y$13,0))
A26: =A25+1 -> 12 | B26: =$B$10 -> Responsable del Contracte | L26: N/D | M26: =IF(M25="","",ROUND(SUMIF($AB$39:$AB$103,CONCATENATE(E26,"SI"),$AA$39:$AA$103)/12,2)) -> 0 | Q26: =IF(Q25="","",ROUND(SUMIF($AC$39:$AC$78,CONCATENATE(E26,"SI"),$AA$39:$AA$78)/12,2)) | X26: =IF(X25="","",ROUND(SUMIF($AD$39:$AD$78,CONCATENATE(E26,"SI"),$AA$39:$AA$78)/12,2)) | Z26: =IF(OR(E26="",M25=""),"N/A",IF(AND(IF($L$14="","SI",L26)="SI",M26>=$P$13,Q26>=$W$13,X26>=$Y$13),"OK","KO")) -> N/A | AA26: =IF(OR(E26="",$AA$13=0),"",MAX(M26-$P$13,0)) | AB26: =IF(OR(E26="",Q25="",$AB$14=0),"",MAX(Q26-$W$13,0)) | AC26: =IF(OR(E26="",X25="",$AC$13=0),"",MAX(X26-$Y$13,0))
A27: =A26+1 -> 13 | B27: =$B$10 -> Responsable del Contracte | L27: N/D | M27: =IF(M26="","",ROUND(SUMIF($AB$39:$AB$103,CONCATENATE(E27,"SI"),$AA$39:$AA$103)/12,2)) -> 0 | Q27: =IF(Q26="","",ROUND(SUMIF($AC$39:$AC$78,CONCATENATE(E27,"SI"),$AA$39:$AA$78)/12,2)) | X27: =IF(X26="","",ROUND(SUMIF($AD$39:$AD$78,CONCATENATE(E27,"SI"),$AA$39:$AA$78)/12,2)) | Z27: =IF(OR(E27="",M26=""),"N/A",IF(AND(IF($L$14="","SI",L27)="SI",M27>=$P$13,Q27>=$W$13,X27>=$Y$13),"OK","KO")) -> N/A | AA27: =IF(OR(E27="",$AA$13=0),"",MAX(M27-$P$13,0)) | AB27: =IF(OR(E27="",Q26="",$AB$14=0),"",MAX(Q27-$W$13,0)) | AC27: =IF(OR(E27="",X26="",$AC$13=0),"",MAX(X27-$Y$13,0))
... A34: =A33+1 -> 20 | B34: =$B$10 -> Responsable del Contracte | L34: N/D | M34: =IF(M33="","",ROUND(SUMIF($AB$39:$AB$103,CONCATENATE(E34,"SI"),$AA$39:$AA$103)/12,2)) -> 0 | Q34: =IF(Q33="","",ROUND(SUMIF($AC$39:$AC$78,CONCATENATE(E34,"SI"),$AA$39:$AA$78)/12,2)) | X34: =IF(X33="","",ROUND(SUMIF($AD$39:$AD$78,CONCATENATE(E34,"SI"),$AA$39:$AA$78)/12,2)) | Z34: =IF(OR(E34="",M33=""),"N/A",IF(AND(IF($L$14="","SI",L34)="SI",M34>=$P$13,Q34>=$W$13,X34>=$Y$13),"OK","KO")) -> N/A | AA34: =IF(OR(E34="",$AA$13=0),"",MAX(M34-$P$13,0)) | AB34: =IF(OR(E34="",Q33="",$AB$14=0),"",MAX(Q34-$W$13,0)) | AC34: =IF(OR(E34="",X33="",$AC$13=0),"",MAX(X34-$Y$13,0))
Z35: Total anys | AA35: =SUM(AA15:AA34) -> 0 | AB35: =SUM(AB15:AB34) -> 0 | AC35: =SUM(AC15:AC34) -> 0
Z36: Total punts | AA36: =MIN(AA13,AA12*AA35) -> 0 | AB36: =MIN(AB13,AB12*AB35) -> 0 | AC36: =MIN(AC13,AC12*AC35) -> 0
B38: Nom administració / empresa, tantes files com administracions / empreses on hagi assolit l’experiència amb aquest rol | E38: Detall de projecte on es declari el rol realitzat per el recurs i les tecnologies associades, destacant les relatives a l’objecte del contracte, tantes files com projectes on hagi tingut l’experiència amb aquest rol | N38: Núm. expedient / contracte | O38: Inicials del treballador/a | P38: =M14 -> Experiència en el rol de responsable de contracte o oficina tècnica (PMO) de projectes o serveis. | Q38: =Q14 | W38: =X14 | X38: Inici amb el rol (DD/MM/AAAA) | Y38: Fi amb el rol (DD/MM/AAAA) | Z38: % Dedicació | AA38: Mesos
B39: Ajuntament 1 | E39: Projecte 1 exemple | O39: TR1 | P39: SI | Q39: SI | W39: N/D | X39: 42005 | Y39: 44501 | Z39: 0.75 | AA39: =ROUND((Y39-X39)/365*12*Z39,2) -> 61.55 | AB39: =CONCATENATE(O39,P39) -> TR1SI | AC39: =CONCATENATE(O39,Q39) -> TR1SI | AD39: =CONCATENATE(O39,W39) -> TR1N/D
B40: Ajuntament 1 | E40: Projecte 2 exemple | O40: TR1 | P40: SI | Q40: NO | W40: N/D | X40: 42736 | Y40: 43831 | Z40: 0.05 | AA40: =ROUND((Y40-X40)/365*12*Z40,2) -> 1.8 | AB40: =CONCATENATE(O40,P40) -> TR1SI | AC40: =CONCATENATE(O40,Q40) -> TR1NO | AD40: =CONCATENATE(O40,W40) -> TR1N/D
B41: Ajuntament 1 | E41: Projecte 3 exemple | O41: TR1 | P41: SI | Q41: SI | W41: N/D | X41: 42736 | Y41: 44197 | Z41: 0.2 | AA41: =ROUND((Y41-X41)/365*12*Z41,2) -> 9.61 | AB41: =CONCATENATE(O41,P41) -> TR1SI | AC41: =CONCATENATE(O41,Q41) -> TR1SI | AD41: =CONCATENATE(O41,W41) -> TR1N/D
P42: N/D | Q42: N/D | W42: N/D | AA42: =ROUND((Y42-X42)/365*12*Z42,2) -> 0 | AB42: =CONCATENATE(O42,P42) -> N/D | AC42: =CONCATENATE(O42,Q42) -> N/D | AD42: =CONCATENATE(O42,W42) -> N/D
P43: N/D | Q43: N/D | W43: N/D | AA43: =ROUND((Y43-X43)/365*12*Z43,2) -> 0 | AB43: =CONCATENATE(O43,P43) -> N/D | AC43: =CONCATENATE(O43,Q43) -> N/D | AD43: =CONCATENATE(O43,W43) -> N/D
P44: N/D | Q44: N/D | W44: N/D | AA44: =ROUND((Y44-X44)/365*12*Z44,2) -> 0 | AB44: =CONCATENATE(O44,P44) -> N/D | AC44: =CONCATENATE(O44,Q44) -> N/D | AD44: =CONCATENATE(O44,W44) -> N/D
P45: N/D | Q45: N/D | W45: N/D | AA45: =ROUND((Y45-X45)/365*12*Z45,2) -> 0 | AB45: =CONCATENATE(O45,P45) -> N/D | AC45: =CONCATENATE(O45,Q45) -> N/D | AD45: =CONCATENATE(O45,W45) -> N/D
P46: N/D | Q46: N/D | W46: N/D | AA46: =ROUND((Y46-X46)/365*12*Z46,2) -> 0 | AB46: =CONCATENATE(O46,P46) -> N/D | AC46: =CONCATENATE(O46,Q46) -> N/D | AD46: =CONCATENATE(O46,W46) -> N/D
P47: N/D | Q47: N/D | W47: N/D | AA47: =ROUND((Y47-X47)/365*12*Z47,2) -> 0 | AB47: =CONCATENATE(O47,P47) -> N/D | AC47: =CONCATENATE(O47,Q47) -> N/D | AD47: =CONCATENATE(O47,W47) -> N/D
P48: N/D | Q48: N/D | W48: N/D | AA48: =ROUND((Y48-X48)/365*12*Z48,2) -> 0 | AB48: =CONCATENATE(O48,P48) -> N/D | AC48: =CONCATENATE(O48,Q48) -> N/D | AD48: =CONCATENATE(O48,W48) -> N/D
P49: N/D | Q49: N/D | W49: N/D | AA49: =ROUND((Y49-X49)/365*12*Z49,2) -> 0 | AB49: =CONCATENATE(O49,P49) -> N/D | AC49: =CONCATENATE(O49,Q49) -> N/D | AD49: =CONCATENATE(O49,W49) -> N/D
P50: N/D | Q50: N/D | W50: N/D | AA50: =ROUND((Y50-X50)/365*12*Z50,2) -> 0 | AB50: =CONCATENATE(O50,P50) -> N/D | AC50: =CONCATENATE(O50,Q50) -> N/D | AD50: =CONCATENATE(O50,W50) -> N/D
P51: N/D | Q51: N/D | W51: N/D | AA51: =ROUND((Y51-X51)/365*12*Z51,2) -> 0 | AB51: =CONCATENATE(O51,P51) -> N/D | AC51: =CONCATENATE(O51,Q51) -> N/D | AD51: =CONCATENATE(O51,W51) -> N/D
P52: N/D | Q52: N/D | W52: N/D | AA52: =ROUND((Y52-X52)/365*12*Z52,2) -> 0 | AB52: =CONCATENATE(O52,P52) -> N/D | AC52: =CONCATENATE(O52,Q52) -> N/D | AD52: =CONCATENATE(O52,W52) -> N/D
P53: N/D | Q53: N/D | W53: N/D | AA53: =ROUND((Y53-X53)/365*12*Z53,2) -> 0 | AB53: =CONCATENATE(O53,P53) -> N/D | AC53: =CONCATENATE(O53,Q53) -> N/D | AD53: =CONCATENATE(O53,W53) -> N/D
... P103: N/D | Q103: N/D | W103: N/D | AA103: =ROUND((Y103-X103)/365*12*Z103,2) -> 0 | AB103: =CONCATENATE(O103,P103) -> N/D | AC103: =CONCATENATE(O103,Q103) -> N/D | AD103: =CONCATENATE(O103,W103) -> N/D

Sheet 2.Consultor suport gestió
D2: DECLARACIÓ DE DADES DETALL EQUIP TÈCNIC
A7: Omplir només les caselles en Verd, les caselles grises s'ompliran automàticament.
A8: En cas de que en una mateixa persona hagi participat en dos projectes o serveis alhora, cal evitar els solapaments temporals i posar únicament el més rellevant i relacionat amb el servei
A10: 2 | B10: =VLOOKUP(A10,EXPERIENCIA_REQUERIDA_PERFIL!A:B,2,FALSE) -> Consultor/a de suport a la gestió
Z12: Punts per any addicional | AA12: 1 | AB12: =VLOOKUP($A$10,EXPERIENCIA_REQUERIDA_PERFIL!A:M,13,FALSE) -> 0 | AC12: =VLOOKUP($A$10,EXPERIENCIA_REQUERIDA_PERFIL!A:R,18,FALSE) -> 0
M13: Anys experiéncia mínima | P13: =VLOOKUP($A$10,EXPERIENCIA_REQUERIDA_PERFIL!A:M,5,FALSE) -> 3 | Q13: Anys experiéncia mínima | W13: =VLOOKUP($A$10,EXPERIENCIA_REQUERIDA_PERFIL!A:M,10,FALSE) -> 0 | X13: Anys experiéncia mínima | Y13: =VLOOKUP($A$10,EXPERIENCIA_REQUERIDA_PERFIL!A:R,15,FALSE) -> 0 | Z13: Màxim punts | AA13: 1 | AB13: =VLOOKUP($A$10,EXPERIENCIA_REQUERIDA_PERFIL!A:M,12,FALSE) -> 0 | AC13: =VLOOKUP($A$10,EXPERIENCIA_REQUERIDA_PERFIL!A:R,17,FALSE) -> 0
B14: Nom de perfil del plec | E14: Inicials del treballador/a | F14: Nom del treballador/a | G14: Dedicació prevista | H14: Anys fent les tasques demanades en aquest perfil | L14: =IF(VLOOKUP($A$10,EXPERIENCIA_REQUERIDA_PERFIL!A:C,3,FALSE)="","",VLOOKUP($A$10,EXPERIENCIA_REQUERIDA_PERFIL!A:C,3,FALSE)) | M14: =IF(VLOOKUP($A$10,EXPERIENCIA_REQUERIDA_PERFIL!A:M,4,FALSE)="","",VLOOKUP($A$10,EXPERIENCIA_REQUERIDA_PERFIL!A:M,4,FALSE)) -> Experiència en el rol de consultor de suport a la gestió en ús d’aplicacions així com en gestió, control i seguiment de projectes. | Q14: =IF(VLOOKUP($A$10,EXPERIENCIA_REQUERIDA_PERFIL!A:M,9,FALSE)="","",VLOOKUP($A$10,EXPERIENCIA_REQUERIDA_PERFIL!A:M,9,FALSE)) | X14: =IF(VLOOKUP($A$10,EXPERIENCIA_REQUERIDA_PERFIL!A:R,14,FALSE)="","",VLOOKUP($A$10,EXPERIENCIA_REQUERIDA_PERFIL!A:R,14,FALSE)) | Z14: Compleix amb l'experiència mínima requerida | AA14: =L14 | AB14: =IF(AB13=0,"",CONCATENATE("Millora aportada en ",Q14)) | AC14: =IF(AC13=0,"",CONCATENATE("Millora aportada en ",X14))
A15: 1 | B15: =$B$10 -> Consultor/a de suport a la gestió | L15: N/D | M15: =IF(M14="","",ROUND(SUMIF($AB$39:$AB$103,CONCATENATE(E15,"SI"),$AA$39:$AA$103)/12,2)) -> 0 | Q15: =IF(Q14="","",ROUND(SUMIF($AC$39:$AC$78,CONCATENATE(E15,"SI"),$AA$39:$AA$78)/12,2)) | X15: =IF(X14="","",ROUND(SUMIF($AD$39:$AD$78,CONCATENATE(E15,"SI"),$AA$39:$AA$78)/12,2)) | Z15: =IF(OR(E15="",M14=""),"N/A",IF(AND(IF($L$14="","SI",L15)="SI",M15>=$P$13,Q15>=$W$13,X15>=$Y$13),"OK","KO")) -> N/A | AA15: =IF(L15="SI",1,"") | AB15: =IF(OR(E15="",Q14="",$AB$14=0),"",MAX(Q15-$W$13,0)) | AC15: =IF(OR(E15="",X14="",$AC$13=0),"",MAX(X15-$Y$13,0))
A16: =A15+1 -> 2 | B16: =$B$10 -> Consultor/a de suport a la gestió | L16: NO | M16: =IF(M15="","",ROUND(SUMIF($AB$39:$AB$103,CONCATENATE(E16,"SI"),$AA$39:$AA$103)/12,2)) -> 0 | Q16: =IF(Q15="","",ROUND(SUMIF($AC$39:$AC$78,CONCATENATE(E16,"SI"),$AA$39:$AA$78)/12,2)) | X16: =IF(X15="","",ROUND(SUMIF($AD$39:$AD$78,CONCATENATE(E16,"SI"),$AA$39:$AA$78)/12,2)) | Z16: =IF(OR(E16="",M15=""),"N/A",IF(AND(IF($L$14="","SI",L16)="SI",M16>=$P$13,Q16>=$W$13,X16>=$Y$13),"OK","KO")) -> N/A | AA16: =IF(L16="SI",1,"") | AB16: =IF(OR(E16="",Q15="",$AB$14=0),"",MAX(Q16-$W$13,0)) | AC16: =IF(OR(E16="",X15="",$AC$13=0),"",MAX(X16-$Y$13,0))
A17: =A16+1 -> 3 | B17: =$B$10 -> Consultor/a de suport a la gestió | L17: NO | M17: =IF(M16="","",ROUND(SUMIF($AB$39:$AB$103,CONCATENATE(E17,"SI"),$AA$39:$AA$103)/12,2)) -> 0 | Q17: =IF(Q16="","",ROUND(SUMIF($AC$39:$AC$78,CONCATENATE(E17,"SI"),$AA$39:$AA$78)/12,2)) | X17: =IF(X16="","",ROUND(SUMIF($AD$39:$AD$78,CONCATENATE(E17,"SI"),$AA$39:$AA$78)/12,2)) | Z17: =IF(OR(E17="",M16=""),"N/A",IF(AND(IF($L$14="","SI",L17)="SI",M17>=$P$13,Q17>=$W$13,X17>=$Y$13),"OK","KO")) -> N/A | AA17: =IF(L17="SI",1,"") | AB17: =IF(OR(E17="",Q16="",$AB$14=0),"",MAX(Q17-$W$13,0)) | AC17: =IF(OR(E17="",X16="",$AC$13=0),"",MAX(X17-$Y$13,0))
A18: =A17+1 -> 4 | B18: =$B$10 -> Consultor/a de suport a la gestió | L18: NO | M18: =IF(M17="","",ROUND(SUMIF($AB$39:$AB$103,CONCATENATE(E18,"SI"),$AA$39:$AA$103)/12,2)) -> 0 | Q18: =IF(Q17="","",ROUND(SUMIF($AC$39:$AC$78,CONCATENATE(E18,"SI"),$AA$39:$AA$78)/12,2)) | X18: =IF(X17="","",ROUND(SUMIF($AD$39:$AD$78,CONCATENATE(E18,"SI"),$AA$39:$AA$78)/12,2)) | Z18: =IF(OR(E18="",M17=""),"N/A",IF(AND(IF($L$14="","SI",L18)="SI",M18>=$P$13,Q18>=$W$13,X18>=$Y$13),"OK","KO")) -> N/A | AA18: =IF(L18="SI",1,"") | AB18: =IF(OR(E18="",Q17="",$AB$14=0),"",MAX(Q18-$W$13,0)) | AC18: =IF(OR(E18="",X17="",$AC$13=0),"",MAX(X18-$Y$13,0))
A19: =A18+1 -> 5 | B19: =$B$10 -> Consultor/a de suport a la gestió | L19: NO | M19: =IF(M18="","",ROUND(SUMIF($AB$39:$AB$103,CONCATENATE(E19,"SI"),$AA$39:$AA$103)/12,2)) -> 0 | Q19: =IF(Q18="","",ROUND(SUMIF($AC$39:$AC$78,CONCATENATE(E19,"SI"),$AA$39:$AA$78)/12,2)) | X19: =IF(X18="","",ROUND(SUMIF($AD$39:$AD$78,CONCATENATE(E19,"SI"),$AA$39:$AA$78)/12,2)) | Z19: =IF(OR(E19="",M18=""),"N/A",IF(AND(IF($L$14="","SI",L19)="SI",M19>=$P$13,Q19>=$W$13,X19>=$Y$13),"OK","KO")) -> N/A | AA19: =IF(L19="SI",1,"") | AB19: =IF(OR(E19="",Q18="",$AB$14=0),"",MAX(Q19-$W$13,0)) | AC19: =IF(OR(E19="",X18="",$AC$13=0),"",MAX(X19-$Y$13,0))
A20: =A19+1 -> 6 | B20: =$B$10 -> Consultor/a de suport a la gestió | L20: NO | M20: =IF(M19="","",ROUND(SUMIF($AB$39:$AB$103,CONCATENATE(E20,"SI"),$AA$39:$AA$103)/12,2)) -> 0 | Q20: =IF(Q19="","",ROUND(SUMIF($AC$39:$AC$78,CONCATENATE(E20,"SI"),$AA$39:$AA$78)/12,2)) | X20: =IF(X19="","",ROUND(SUMIF($AD$39:$AD$78,CONCATENATE(E20,"SI"),$AA$39:$AA$78)/12,2)) | Z20: =IF(OR(E20="",M19=""),"N/A",IF(AND(IF($L$14="","SI",L20)="SI",M20>=$P$13,Q20>=$W$13,X20>=$Y$13),"OK","KO")) -> N/A | AA20: =IF(L20="SI",1,"") | AB20: =IF(OR(E20="",Q19="",$AB$14=0),"",MAX(Q20-$W$13,0)) | AC20: =IF(OR(E20="",X19="",$AC$13=0),"",MAX(X20-$Y$13,0))
A21: =A20+1 -> 7 | B21: =$B$10 -> Consultor/a de suport a la gestió | L21: NO | M21: =IF(M20="","",ROUND(SUMIF($AB$39:$AB$103,CONCATENATE(E21,"SI"),$AA$39:$AA$103)/12,2)) -> 0 | Q21: =IF(Q20="","",ROUND(SUMIF($AC$39:$AC$78,CONCATENATE(E21,"SI"),$AA$39:$AA$78)/12,2)) | X21: =IF(X20="","",ROUND(SUMIF($AD$39:$AD$78,CONCATENATE(E21,"SI"),$AA$39:$AA$78)/12,2)) | Z21: =IF(OR(E21="",M20=""),"N/A",IF(AND(IF($L$14="","SI",L21)="SI",M21>=$P$13,Q21>=$W$13,X21>=$Y$13),"OK","KO")) -> N/A | AA21: =IF(L21="SI",1,"") | AB21: =IF(OR(E21="",Q20="",$AB$14=0),"",MAX(Q21-$W$13,0)) | AC21: =IF(OR(E21="",X20="",$AC$13=0),"",MAX(X21-$Y$13,0))
A22: =A21+1 -> 8 | B22: =$B$10 -> Consultor/a de suport a la gestió | L22: NO | M22: =IF(M21="","",ROUND(SUMIF($AB$39:$AB$103,CONCATENATE(E22,"SI"),$AA$39:$AA$103)/12,2)) -> 0 | Q22: =IF(Q21="","",ROUND(SUMIF($AC$39:$AC$78,CONCATENATE(E22,"SI"),$AA$39:$AA$78)/12,2)) | X22: =IF(X21="","",ROUND(SUMIF($AD$39:$AD$78,CONCATENATE(E22,"SI"),$AA$39:$AA$78)/12,2)) | Z22: =IF(OR(E22="",M21=""),"N/A",IF(AND(IF($L$14="","SI",L22)="SI",M22>=$P$13,Q22>=$W$13,X22>=$Y$13),"OK","KO")) -> N/A | AA22: =IF(L22="SI",1,"") | AB22: =IF(OR(E22="",Q21="",$AB$14=0),"",MAX(Q22-$W$13,0)) | AC22: =IF(OR(E22="",X21="",$AC$13=0),"",MAX(X22-$Y$13,0))
A23: =A22+1 -> 9 | B23: =$B$10 -> Consultor/a de suport a la gestió | L23: NO | M23: =IF(M22="","",ROUND(SUMIF($AB$39:$AB$103,CONCATENATE(E23,"SI"),$AA$39:$AA$103)/12,2)) -> 0 | Q23: =IF(Q22="","",ROUND(SUMIF($AC$39:$AC$78,CONCATENATE(E23,"SI"),$AA$39:$AA$78)/12,2)) | X23: =IF(X22="","",ROUND(SUMIF($AD$39:$AD$78,CONCATENATE(E23,"SI"),$AA$39:$AA$78)/12,2)) | Z23: =IF(OR(E23="",M22=""),"N/A",IF(AND(IF($L$14="","SI",L23)="SI",M23>=$P$13,Q23>=$W$13,X23>=$Y$13),"OK","KO")) -> N/A | AA23: =IF(L23="SI",1,"") | AB23: =IF(OR(E23="",Q22="",$AB$14=0),"",MAX(Q23-$W$13,0)) | AC23: =IF(OR(E23="",X22="",$AC$13=0),"",MAX(X23-$Y$13,0))
A24: =A23+1 -> 10 | B24: =$B$10 -> Consultor/a de suport a la gestió | L24: NO | M24: =IF(M23="","",ROUND(SUMIF($AB$39:$AB$103,CONCATENATE(E24,"SI"),$AA$39:$AA$103)/12,2)) -> 0 | Q24: =IF(Q23="","",ROUND(SUMIF($AC$39:$AC$78,CONCATENATE(E24,"SI"),$AA$39:$AA$78)/12,2)) | X24: =IF(X23="","",ROUND(SUMIF($AD$39:$AD$78,CONCATENATE(E24,"SI"),$AA$39:$AA$78)/12,2)) | Z24: =IF(OR(E24="",M23=""),"N/A",IF(AND(IF($L$14="","SI",L24)="SI",M24>=$P$13,Q24>=$W$13,X24>=$Y$13),"OK","KO")) -> N/A | AA24: =IF(L24="SI",1,"") | AB24: =IF(OR(E24="",Q23="",$AB$14=0),"",MAX(Q24-$W$13,0)) | AC24: =IF(OR(E24="",X23="",$AC$13=0),"",MAX(X24-$Y$13,0))
A25: =A24+1 -> 11 | B25: =$B$10 -> Consultor/a de suport a la gestió | L25: NO | M25: =IF(M24="","",ROUND(SUMIF($AB$39:$AB$103,CONCATENATE(E25,"SI"),$AA$39:$AA$103)/12,2)) -> 0 | Q25: =IF(Q24="","",ROUND(SUMIF($AC$39:$AC$78,CONCATENATE(E25,"SI"),$AA$39:$AA$78)/12,2)) | X25: =IF(X24="","",ROUND(SUMIF($AD$39:$AD$78,CONCATENATE(E25,"SI"),$AA$39:$AA$78)/12,2)) | Z25: =IF(OR(E25="",M24=""),"N/A",IF(AND(IF($L$14="","SI",L25)="SI",M25>=$P$13,Q25>=$W$13,X25>=$Y$13),"OK","KO")) -> N/A | AA25: =IF(L25="SI",1,"") | AB25: =IF(OR(E25="",Q24="",$AB$14=0),"",MAX(Q25-$W$13,0)) | AC25: =IF(OR(E25="",X24="",$AC$13=0),"",MAX(X25-$Y$13,0))
A26: =A25+1 -> 12 | B26: =$B$10 -> Consultor/a de suport a la gestió | L26: NO | M26: =IF(M25="","",ROUND(SUMIF($AB$39:$AB$103,CONCATENATE(E26,"SI"),$AA$39:$AA$103)/12,2)) -> 0 | Q26: =IF(Q25="","",ROUND(SUMIF($AC$39:$AC$78,CONCATENATE(E26,"SI"),$AA$39:$AA$78)/12,2)) | X26: =IF(X25="","",ROUND(SUMIF($AD$39:$AD$78,CONCATENATE(E26,"SI"),$AA$39:$AA$78)/12,2)) | Z26: =IF(OR(E26="",M25=""),"N/A",IF(AND(IF($L$14="","SI",L26)="SI",M26>=$P$13,Q26>=$W$13,X26>=$Y$13),"OK","KO")) -> N/A | AA26: =IF(L26="SI",1,"") | AB26: =IF(OR(E26="",Q25="",$AB$14=0),"",MAX(Q26-$W$13,0)) | AC26: =IF(OR(E26="",X25="",$AC$13=0),"",MAX(X26-$Y$13,0))
A27: =A26+1 -> 13 | B27: =$B$10 -> Consultor/a de suport a la gestió | L27: NO | M27: =IF(M26="","",ROUND(SUMIF($AB$39:$AB$103,CONCATENATE(E27,"SI"),$AA$39:$AA$103)/12,2)) -> 0 | Q27: =IF(Q26="","",ROUND(SUMIF($AC$39:$AC$78,CONCATENATE(E27,"SI"),$AA$39:$AA$78)/12,2)) | X27: =IF(X26="","",ROUND(SUMIF($AD$39:$AD$78,CONCATENATE(E27,"SI"),$AA$39:$AA$78)/12,2)) | Z27: =IF(OR(E27="",M26=""),"N/A",IF(AND(IF($L$14="","SI",L27)="SI",M27>=$P$13,Q27>=$W$13,X27>=$Y$13),"OK","KO")) -> N/A | AA27: =IF(L27="SI",1,"") | AB27: =IF(OR(E27="",Q26="",$AB$14=0),"",MAX(Q27-$W$13,0)) | AC27: =IF(OR(E27="",X26="",$AC$13=0),"",MAX(X27-$Y$13,0))
... A34: =A33+1 -> 20 | B34: =$B$10 -> Consultor/a de suport a la gestió | L34: NO | M34: =IF(M33="","",ROUND(SUMIF($AB$39:$AB$103,CONCATENATE(E34,"SI"),$AA$39:$AA$103)/12,2)) -> 0 | Q34: =IF(Q33="","",ROUND(SUMIF($AC$39:$AC$78,CONCATENATE(E34,"SI"),$AA$39:$AA$78)/12,2)) | X34: =IF(X33="","",ROUND(SUMIF($AD$39:$AD$78,CONCATENATE(E34,"SI"),$AA$39:$AA$78)/12,2)) | Z34: =IF(OR(E34="",M33=""),"N/A",IF(AND(IF($L$14="","SI",L34)="SI",M34>=$P$13,Q34>=$W$13,X34>=$Y$13),"OK","KO")) -> N/A | AA34: =IF(L34="SI",1,"") | AB34: =IF(OR(E34="",Q33="",$AB$14=0),"",MAX(Q34-$W$13,0)) | AC34: =IF(OR(E34="",X33="",$AC$13=0),"",MAX(X34-$Y$13,0))
Z35: Total anys | AA35: =SUM(AA15:AA34) -> 0 | AB35: =SUM(AB15:AB34) -> 0 | AC35: =SUM(AC15:AC34) -> 0
Z36: Total punts | AA36: =MIN(AA13,AA12*AA35) -> 0 | AB36: =MIN(AB13,AB12*AB35) -> 0 | AC36: =MIN(AC13,AC12*AC35) -> 0
B38: Nom administració / empresa, tantes files com administracions / empreses on hagi assolit l’experiència amb aquest rol | E38: Detall de projecte on es declari el rol realitzat per el recurs i les tecnologies associades, destacant les relatives a l’objecte del contracte, tantes files com projectes on hagi tingut l’experiència amb aquest rol | N38: Núm. expedient / contracte | O38: Inicials del treballador/a | P38: =M14 -> Experiència en el rol de consultor de suport a la gestió en ús d’aplicacions així com en gestió, control i seguiment de projectes. | Q38: =Q14 | W38: =X14 | X38: Inici amb el rol (DD/MM/AAAA) | Y38: Fi amb el rol (DD/MM/AAAA) | Z38: % Dedicació | AA38: Mesos
P39: N/D | Q39: N/D | W39: N/D | AA39: =ROUND((Y39-X39)/365*12*Z39,2) -> 0 | AB39: =CONCATENATE(O39,P39) -> N/D | AC39: =CONCATENATE(O39,Q39) -> N/D | AD39: =CONCATENATE(O39,W39) -> N/D
P40: N/D | Q40: N/D | W40: N/D | AA40: =ROUND((Y40-X40)/365*12*Z40,2) -> 0 | AB40: =CONCATENATE(O40,P40) -> N/D | AC40: =CONCATENATE(O40,Q40) -> N/D | AD40: =CONCATENATE(O40,W40) -> N/D
P41: N/D | Q41: N/D | W41: N/D | AA41: =ROUND((Y41-X41)/365*12*Z41,2) -> 0 | AB41: =CONCATENATE(O41,P41) -> N/D | AC41: =CONCATENATE(O41,Q41) -> N/D | AD41: =CONCATENATE(O41,W41) -> N/D
P42: N/D | Q42: N/D | W42: N/D | AA42: =ROUND((Y42-X42)/365*12*Z42,2) -> 0 | AB42: =CONCATENATE(O42,P42) -> N/D | AC42: =CONCATENATE(O42,Q42) -> N/D | AD42: =CONCATENATE(O42,W42) -> N/D
P43: N/D | Q43: N/D | W43: N/D | AA43: =ROUND((Y43-X43)/365*12*Z43,2) -> 0 | AB43: =CONCATENATE(O43,P43) -> N/D | AC43: =CONCATENATE(O43,Q43) -> N/D | AD43: =CONCATENATE(O43,W43) -> N/D
P44: N/D | Q44: N/D | W44: N/D | AA44: =ROUND((Y44-X44)/365*12*Z44,2) -> 0 | AB44: =CONCATENATE(O44,P44) -> N/D | AC44: =CONCATENATE(O44,Q44) -> N/D | AD44: =CONCATENATE(O44,W44) -> N/D
P45: N/D | Q45: N/D | W45: N/D | AA45: =ROUND((Y45-X45)/365*12*Z45,2) -> 0 | AB45: =CONCATENATE(O45,P45) -> N/D | AC45: =CONCATENATE(O45,Q45) -> N/D | AD45: =CONCATENATE(O45,W45) -> N/D
P46: N/D | Q46: N/D | W46: N/D | AA46: =ROUND((Y46-X46)/365*12*Z46,2) -> 0 | AB46: =CONCATENATE(O46,P46) -> N/D | AC46: =CONCATENATE(O46,Q46) -> N/D | AD46: =CONCATENATE(O46,W46) -> N/D
P47: N/D | Q47: N/D | W47: N/D | AA47: =ROUND((Y47-X47)/365*12*Z47,2) -> 0 | AB47: =CONCATENATE(O47,P47) -> N/D | AC47: =CONCATENATE(O47,Q47) -> N/D | AD47: =CONCATENATE(O47,W47) -> N/D
P48: N/D | Q48: N/D | W48: N/D | AA48: =ROUND((Y48-X48)/365*12*Z48,2) -> 0 | AB48: =CONCATENATE(O48,P48) -> N/D | AC48: =CONCATENATE(O48,Q48) -> N/D | AD48: =CONCATENATE(O48,W48) -> N/D
P49: N/D | Q49: N/D | W49: N/D | AA49: =ROUND((Y49-X49)/365*12*Z49,2) -> 0 | AB49: =CONCATENATE(O49,P49) -> N/D | AC49: =CONCATENATE(O49,Q49) -> N/D | AD49: =CONCATENATE(O49,W49) -> N/D
P50: N/D | Q50: N/D | W50: N/D | AA50: =ROUND((Y50-X50)/365*12*Z50,2) -> 0 | AB50: =CONCATENATE(O50,P50) -> N/D | AC50: =CONCATENATE(O50,Q50) -> N/D | AD50: =CONCATENATE(O50,W50) -> N/D
... P103: N/D | Q103: N/D | W103: N/D | AA103: =ROUND((Y103-X103)/365*12*Z103,2) -> 0 | AB103: =CONCATENATE(O103,P103) -> N/D | AC103: =CONCATENATE(O103,Q103) -> N/D | AD103: =CONCATENATE(O103,W103) -> N/D

Sheet 3.Consultor contractació
D2: DECLARACIÓ DE DADES DETALL EQUIP TÈCNIC
A7: Omplir només les caselles en Verd, les caselles grises s'ompliran automàticament.
A8: En cas de que en una mateixa persona hagi participat en dos projectes o serveis alhora, cal evitar els solapaments temporals i posar únicament el més rellevant i relacionat amb el servei
A10: 3 | B10: =VLOOKUP(A10,EXPERIENCIA_REQUERIDA_PERFIL!A:B,2,FALSE) -> Consultor/a especialista en contractació pública
Z12: Punts per any addicional | AA12: =VLOOKUP($A$10,EXPERIENCIA_REQUERIDA_PERFIL!A:M,8,FALSE) -> 2 | AB12: =VLOOKUP($A$10,EXPERIENCIA_REQUERIDA_PERFIL!A:M,13,FALSE) -> 0 | AC12: =VLOOKUP($A$10,EXPERIENCIA_REQUERIDA_PERFIL!A:R,18,FALSE) -> 0
M13: Anys experiéncia mínima | P13: =VLOOKUP($A$10,EXPERIENCIA_REQUERIDA_PERFIL!A:M,5,FALSE) -> 3 | Q13: Anys experiéncia mínima | W13: =VLOOKUP($A$10,EXPERIENCIA_REQUERIDA_PERFIL!A:M,10,FALSE) -> 3 | X13: Anys experiéncia mínima | Y13: =VLOOKUP($A$10,EXPERIENCIA_REQUERIDA_PERFIL!A:R,15,FALSE) -> 0 | Z13: Màxim punts | AA13: =VLOOKUP($A$10,EXPERIENCIA_REQUERIDA_PERFIL!A:M,7,FALSE) -> 6 | AB13: =VLOOKUP($A$10,EXPERIENCIA_REQUERIDA_PERFIL!A:M,12,FALSE) -> 0 | AC13: =VLOOKUP($A$10,EXPERIENCIA_REQUERIDA_PERFIL!A:R,17,FALSE) -> 0
B14: Nom de perfil del plec | E14: Inicials del treballador/a | F14: Nom del treballador/a | G14: Dedicació prevista | H14: Anys fent les tasques demanades en aquest perfil | L14: =IF(VLOOKUP($A$10,EXPERIENCIA_REQUERIDA_PERFIL!A:C,3,FALSE)="","",VLOOKUP($A$10,EXPERIENCIA_REQUERIDA_PERFIL!A:C,3,FALSE)) | M14: =IF(VLOOKUP($A$10,EXPERIENCIA_REQUERIDA_PERFIL!A:M,4,FALSE)="","",VLOOKUP($A$10,EXPERIENCIA_REQUERIDA_PERFIL!A:M,4,FALSE)) -> Experiència en el rol de consultor especialista en contractació pública en el sector públic | Q14: =IF(VLOOKUP($A$10,EXPERIENCIA_REQUERIDA_PERFIL!A:M,9,FALSE)="","",VLOOKUP($A$10,EXPERIENCIA_REQUERIDA_PERFIL!A:M,9,FALSE)) -> Experiència realitzant tasques de gestió econòmica i pressupostària. | X14: =IF(VLOOKUP($A$10,EXPERIENCIA_REQUERIDA_PERFIL!A:R,14,FALSE)="","",VLOOKUP($A$10,EXPERIENCIA_REQUERIDA_PERFIL!A:R,14,FALSE)) | Z14: Compleix amb l'experiència mínima requerida | AA14: =IF(AA13=0,"",CONCATENATE("Millora anys aportada en ",M14)) -> Millora anys aportada en Experiència en el rol de consultor especialista en contractació pública en el sector públic | AB14: =IF(AB13=0,"",CONCATENATE("Millora aportada en ",Q14)) | AC14: =IF(AC13=0,"",CONCATENATE("Millora aportada en ",X14))
A15: 1 | B15: =$B$10 -> Consultor/a especialista en contractació pública | L15: N/D | M15: =IF(M14="","",ROUND(SUMIF($AB$39:$AB$103,CONCATENATE(E15,"SI"),$AA$39:$AA$103)/12,2)) -> 0 | Q15: =IF(Q14="","",ROUND(SUMIF($AC$39:$AC$78,CONCATENATE(E15,"SI"),$AA$39:$AA$78)/12,2)) -> 0 | X15: =IF(X14="","",ROUND(SUMIF($AD$39:$AD$78,CONCATENATE(E15,"SI"),$AA$39:$AA$78)/12,2)) | Z15: =IF(OR(E15="",M14=""),"N/A",IF(AND(IF($L$14="","SI",L15)="SI",M15>=$P$13,Q15>=$W$13,X15>=$Y$13),"OK","KO")) -> N/A | AA15: =IF(OR(E15="",$AA$13=0),"",MAX(M15-$P$13,0)) | AB15: =IF(OR(E15="",Q14="",$AB$14=0),"",MAX(Q15-$W$13,0)) | AC15: =IF(OR(E15="",X14="",$AC$13=0),"",MAX(X15-$Y$13,0))
A16: =A15+1 -> 2 | B16: =$B$10 -> Consultor/a especialista en contractació pública | L16: N/D | M16: =IF(M15="","",ROUND(SUMIF($AB$39:$AB$103,CONCATENATE(E16,"SI"),$AA$39:$AA$103)/12,2)) -> 0 | Q16: =IF(Q15="","",ROUND(SUMIF($AC$39:$AC$78,CONCATENATE(E16,"SI"),$AA$39:$AA$78)/12,2)) -> 0 | X16: =IF(X15="","",ROUND(SUMIF($AD$39:$AD$78,CONCATENATE(E16,"SI"),$AA$39:$AA$78)/12,2)) | Z16: =IF(OR(E16="",M15=""),"N/A",IF(AND(IF($L$14="","SI",L16)="SI",M16>=$P$13,Q16>=$W$13,X16>=$Y$13),"OK","KO")) -> N/A | AA16: =IF(OR(E16="",$AA$13=0),"",MAX(M16-$P$13,0)) | AB16: =IF(OR(E16="",Q15="",$AB$14=0),"",MAX(Q16-$W$13,0)) | AC16: =IF(OR(E16="",X15="",$AC$13=0),"",MAX(X16-$Y$13,0))
A17: =A16+1 -> 3 | B17: =$B$10 -> Consultor/a especialista en contractació pública | L17: N/D | M17: =IF(M16="","",ROUND(SUMIF($AB$39:$AB$103,CONCATENATE(E17,"SI"),$AA$39:$AA$103)/12,2)) -> 0 | Q17: =IF(Q16="","",ROUND(SUMIF($AC$39:$AC$78,CONCATENATE(E17,"SI"),$AA$39:$AA$78)/12,2)) -> 0 | X17: =IF(X16="","",ROUND(SUMIF($AD$39:$AD$78,CONCATENATE(E17,"SI"),$AA$39:$AA$78)/12,2)) | Z17: =IF(OR(E17="",M16=""),"N/A",IF(AND(IF($L$14="","SI",L17)="SI",M17>=$P$13,Q17>=$W$13,X17>=$Y$13),"OK","KO")) -> N/A | AA17: =IF(OR(E17="",$AA$13=0),"",MAX(M17-$P$13,0)) | AB17: =IF(OR(E17="",Q16="",$AB$14=0),"",MAX(Q17-$W$13,0)) | AC17: =IF(OR(E17="",X16="",$AC$13=0),"",MAX(X17-$Y$13,0))
A18: =A17+1 -> 4 | B18: =$B$10 -> Consultor/a especialista en contractació pública | L18: N/D | M18: =IF(M17="","",ROUND(SUMIF($AB$39:$AB$103,CONCATENATE(E18,"SI"),$AA$39:$AA$103)/12,2)) -> 0 | Q18: =IF(Q17="","",ROUND(SUMIF($AC$39:$AC$78,CONCATENATE(E18,"SI"),$AA$39:$AA$78)/12,2)) -> 0 | X18: =IF(X17="","",ROUND(SUMIF($AD$39:$AD$78,CONCATENATE(E18,"SI"),$AA$39:$AA$78)/12,2)) | Z18: =IF(OR(E18="",M17=""),"N/A",IF(AND(IF($L$14="","SI",L18)="SI",M18>=$P$13,Q18>=$W$13,X18>=$Y$13),"OK","KO")) -> N/A | AA18: =IF(OR(E18="",$AA$13=0),"",MAX(M18-$P$13,0)) | AB18: =IF(OR(E18="",Q17="",$AB$14=0),"",MAX(Q18-$W$13,0)) | AC18: =IF(OR(E18="",X17="",$AC$13=0),"",MAX(X18-$Y$13,0))
A19: =A18+1 -> 5 | B19: =$B$10 -> Consultor/a especialista en contractació pública | L19: N/D | M19: =IF(M18="","",ROUND(SUMIF($AB$39:$AB$103,CONCATENATE(E19,"SI"),$AA$39:$AA$103)/12,2)) -> 0 | Q19: =IF(Q18="","",ROUND(SUMIF($AC$39:$AC$78,CONCATENATE(E19,"SI"),$AA$39:$AA$78)/12,2)) -> 0 | X19: =IF(X18="","",ROUND(SUMIF($AD$39:$AD$78,CONCATENATE(E19,"SI"),$AA$39:$AA$78)/12,2)) | Z19: =IF(OR(E19="",M18=""),"N/A",IF(AND(IF($L$14="","SI",L19)="SI",M19>=$P$13,Q19>=$W$13,X19>=$Y$13),"OK","KO")) -> N/A | AA19: =IF(OR(E19="",$AA$13=0),"",MAX(M19-$P$13,0)) | AB19: =IF(OR(E19="",Q18="",$AB$14=0),"",MAX(Q19-$W$13,0)) | AC19: =IF(OR(E19="",X18="",$AC$13=0),"",MAX(X19-$Y$13,0))
A20: =A19+1 -> 6 | B20: =$B$10 -> Consultor/a especialista en contractació pública | L20: N/D | M20: =IF(M19="","",ROUND(SUMIF($AB$39:$AB$103,CONCATENATE(E20,"SI"),$AA$39:$AA$103)/12,2)) -> 0 | Q20: =IF(Q19="","",ROUND(SUMIF($AC$39:$AC$78,CONCATENATE(E20,"SI"),$AA$39:$AA$78)/12,2)) -> 0 | X20: =IF(X19="","",ROUND(SUMIF($AD$39:$AD$78,CONCATENATE(E20,"SI"),$AA$39:$AA$78)/12,2)) | Z20: =IF(OR(E20="",M19=""),"N/A",IF(AND(IF($L$14="","SI",L20)="SI",M20>=$P$13,Q20>=$W$13,X20>=$Y$13),"OK","KO")) -> N/A | AA20: =IF(OR(E20="",$AA$13=0),"",MAX(M20-$P$13,0)) | AB20: =IF(OR(E20="",Q19="",$AB$14=0),"",MAX(Q20-$W$13,0)) | AC20: =IF(OR(E20="",X19="",$AC$13=0),"",MAX(X20-$Y$13,0))
A21: =A20+1 -> 7 | B21: =$B$10 -> Consultor/a especialista en contractació pública | L21: N/D | M21: =IF(M20="","",ROUND(SUMIF($AB$39:$AB$103,CONCATENATE(E21,"SI"),$AA$39:$AA$103)/12,2)) -> 0 | Q21: =IF(Q20="","",ROUND(SUMIF($AC$39:$AC$78,CONCATENATE(E21,"SI"),$AA$39:$AA$78)/12,2)) -> 0 | X21: =IF(X20="","",ROUND(SUMIF($AD$39:$AD$78,CONCATENATE(E21,"SI"),$AA$39:$AA$78)/12,2)) | Z21: =IF(OR(E21="",M20=""),"N/A",IF(AND(IF($L$14="","SI",L21)="SI",M21>=$P$13,Q21>=$W$13,X21>=$Y$13),"OK","KO")) -> N/A | AA21: =IF(OR(E21="",$AA$13=0),"",MAX(M21-$P$13,0)) | AB21: =IF(OR(E21="",Q20="",$AB$14=0),"",MAX(Q21-$W$13,0)) | AC21: =IF(OR(E21="",X20="",$AC$13=0),"",MAX(X21-$Y$13,0))
A22: =A21+1 -> 8 | B22: =$B$10 -> Consultor/a especialista en contractació pública | L22: N/D | M22: =IF(M21="","",ROUND(SUMIF($AB$39:$AB$103,CONCATENATE(E22,"SI"),$AA$39:$AA$103)/12,2)) -> 0 | Q22: =IF(Q21="","",ROUND(SUMIF($AC$39:$AC$78,CONCATENATE(E22,"SI"),$AA$39:$AA$78)/12,2)) -> 0 | X22: =IF(X21="","",ROUND(SUMIF($AD$39:$AD$78,CONCATENATE(E22,"SI"),$AA$39:$AA$78)/12,2)) | Z22: =IF(OR(E22="",M21=""),"N/A",IF(AND(IF($L$14="","SI",L22)="SI",M22>=$P$13,Q22>=$W$13,X22>=$Y$13),"OK","KO")) -> N/A | AA22: =IF(OR(E22="",$AA$13=0),"",MAX(M22-$P$13,0)) | AB22: =IF(OR(E22="",Q21="",$AB$14=0),"",MAX(Q22-$W$13,0)) | AC22: =IF(OR(E22="",X21="",$AC$13=0),"",MAX(X22-$Y$13,0))
A23: =A22+1 -> 9 | B23: =$B$10 -> Consultor/a especialista en contractació pública | L23: N/D | M23: =IF(M22="","",ROUND(SUMIF($AB$39:$AB$103,CONCATENATE(E23,"SI"),$AA$39:$AA$103)/12,2)) -> 0 | Q23: =IF(Q22="","",ROUND(SUMIF($AC$39:$AC$78,CONCATENATE(E23,"SI"),$AA$39:$AA$78)/12,2)) -> 0 | X23: =IF(X22="","",ROUND(SUMIF($AD$39:$AD$78,CONCATENATE(E23,"SI"),$AA$39:$AA$78)/12,2)) | Z23: =IF(OR(E23="",M22=""),"N/A",IF(AND(IF($L$14="","SI",L23)="SI",M23>=$P$13,Q23>=$W$13,X23>=$Y$13),"OK","KO")) -> N/A | AA23: =IF(OR(E23="",$AA$13=0),"",MAX(M23-$P$13,0)) | AB23: =IF(OR(E23="",Q22="",$AB$14=0),"",MAX(Q23-$W$13,0)) | AC23: =IF(OR(E23="",X22="",$AC$13=0),"",MAX(X23-$Y$13,0))
A24: =A23+1 -> 10 | B24: =$B$10 -> Consultor/a especialista en contractació pública | L24: N/D | M24: =IF(M23="","",ROUND(SUMIF($AB$39:$AB$103,CONCATENATE(E24,"SI"),$AA$39:$AA$103)/12,2)) -> 0 | Q24: =IF(Q23="","",ROUND(SUMIF($AC$39:$AC$78,CONCATENATE(E24,"SI"),$AA$39:$AA$78)/12,2)) -> 0 | X24: =IF(X23="","",ROUND(SUMIF($AD$39:$AD$78,CONCATENATE(E24,"SI"),$AA$39:$AA$78)/12,2)) | Z24: =IF(OR(E24="",M23=""),"N/A",IF(AND(IF($L$14="","SI",L24)="SI",M24>=$P$13,Q24>=$W$13,X24>=$Y$13),"OK","KO")) -> N/A | AA24: =IF(OR(E24="",$AA$13=0),"",MAX(M24-$P$13,0)) | AB24: =IF(OR(E24="",Q23="",$AB$14=0),"",MAX(Q24-$W$13,0)) | AC24: =IF(OR(E24="",X23="",$AC$13=0),"",MAX(X24-$Y$13,0))
A25: =A24+1 -> 11 | B25: =$B$10 -> Consultor/a especialista en contractació pública | L25: N/D | M25: =IF(M24="","",ROUND(SUMIF($AB$39:$AB$103,CONCATENATE(E25,"SI"),$AA$39:$AA$103)/12,2)) -> 0 | Q25: =IF(Q24="","",ROUND(SUMIF($AC$39:$AC$78,CONCATENATE(E25,"SI"),$AA$39:$AA$78)/12,2)) -> 0 | X25: =IF(X24="","",ROUND(SUMIF($AD$39:$AD$78,CONCATENATE(E25,"SI"),$AA$39:$AA$78)/12,2)) | Z25: =IF(OR(E25="",M24=""),"N/A",IF(AND(IF($L$14="","SI",L25)="SI",M25>=$P$13,Q25>=$W$13,X25>=$Y$13),"OK","KO")) -> N/A | AA25: =IF(OR(E25="",$AA$13=0),"",MAX(M25-$P$13,0)) | AB25: =IF(OR(E25="",Q24="",$AB$14=0),"",MAX(Q25-$W$13,0)) | AC25: =IF(OR(E25="",X24="",$AC$13=0),"",MAX(X25-$Y$13,0))
A26: =A25+1 -> 12 | B26: =$B$10 -> Consultor/a especialista en contractació pública | L26: N/D | M26: =IF(M25="","",ROUND(SUMIF($AB$39:$AB$103,CONCATENATE(E26,"SI"),$AA$39:$AA$103)/12,2)) -> 0 | Q26: =IF(Q25="","",ROUND(SUMIF($AC$39:$AC$78,CONCATENATE(E26,"SI"),$AA$39:$AA$78)/12,2)) -> 0 | X26: =IF(X25="","",ROUND(SUMIF($AD$39:$AD$78,CONCATENATE(E26,"SI"),$AA$39:$AA$78)/12,2)) | Z26: =IF(OR(E26="",M25=""),"N/A",IF(AND(IF($L$14="","SI",L26)="SI",M26>=$P$13,Q26>=$W$13,X26>=$Y$13),"OK","KO")) -> N/A | AA26: =IF(OR(E26="",$AA$13=0),"",MAX(M26-$P$13,0)) | AB26: =IF(OR(E26="",Q25="",$AB$14=0),"",MAX(Q26-$W$13,0)) | AC26: =IF(OR(E26="",X25="",$AC$13=0),"",MAX(X26-$Y$13,0))
A27: =A26+1 -> 13 | B27: =$B$10 -> Consultor/a especialista en contractació pública | L27: N/D | M27: =IF(M26="","",ROUND(SUMIF($AB$39:$AB$103,CONCATENATE(E27,"SI"),$AA$39:$AA$103)/12,2)) -> 0 | Q27: =IF(Q26="","",ROUND(SUMIF($AC$39:$AC$78,CONCATENATE(E27,"SI"),$AA$39:$AA$78)/12,2)) -> 0 | X27: =IF(X26="","",ROUND(SUMIF($AD$39:$AD$78,CONCATENATE(E27,"SI"),$AA$39:$AA$78)/12,2)) | Z27: =IF(OR(E27="",M26=""),"N/A",IF(AND(IF($L$14="","SI",L27)="SI",M27>=$P$13,Q27>=$W$13,X27>=$Y$13),"OK","KO")) -> N/A | AA27: =IF(OR(E27="",$AA$13=0),"",MAX(M27-$P$13,0)) | AB27: =IF(OR(E27="",Q26="",$AB$14=0),"",MAX(Q27-$W$13,0)) | AC27: =IF(OR(E27="",X26="",$AC$13=0),"",MAX(X27-$Y$13,0))
... A34: =A33+1 -> 20 | B34: =$B$10 -> Consultor/a especialista en contractació pública | L34: N/D | M34: =IF(M33="","",ROUND(SUMIF($AB$39:$AB$103,CONCATENATE(E34,"SI"),$AA$39:$AA$103)/12,2)) -> 0 | Q34: =IF(Q33="","",ROUND(SUMIF($AC$39:$AC$78,CONCATENATE(E34,"SI"),$AA$39:$AA$78)/12,2)) -> 0 | X34: =IF(X33="","",ROUND(SUMIF($AD$39:$AD$78,CONCATENATE(E34,"SI"),$AA$39:$AA$78)/12,2)) | Z34: =IF(OR(E34="",M33=""),"N/A",IF(AND(IF($L$14="","SI",L34)="SI",M34>=$P$13,Q34>=$W$13,X34>=$Y$13),"OK","KO")) -> N/A | AA34: =IF(OR(E34="",$AA$13=0),"",MAX(M34-$P$13,0)) | AB34: =IF(OR(E34="",Q33="",$AB$14=0),"",MAX(Q34-$W$13,0)) | AC34: =IF(OR(E34="",X33="",$AC$13=0),"",MAX(X34-$Y$13,0))
Z35: Total anys | AA35: =SUM(AA15:AA34) -> 0 | AB35: =SUM(AB15:AB34) -> 0 | AC35: =SUM(AC15:AC34) -> 0
Z36: Total punts | AA36: =MIN(AA13,AA12*AA35) -> 0 | AB36: =MIN(AB13,AB12*AB35) -> 0 | AC36: =MIN(AC13,AC12*AC35) -> 0
B38: Nom administració / empresa, tantes files com administracions / empreses on hagi assolit l’experiència amb aquest rol | E38: Detall de projecte on es declari el rol realitzat per el recurs i les tecnologies associades, destacant les relatives a l’objecte del contracte, tantes files com projectes on hagi tingut l’experiència amb aquest rol | N38: Núm. expedient / contracte | O38: Inicials del treballador/a | P38: =M14 -> Experiència en el rol de consultor especialista en contractació pública en el sector públic | Q38: =Q14 -> Experiència realitzant tasques de gestió econòmica i pressupostària. | W38: =X14 | X38: Inici amb el rol (DD/MM/AAAA) | Y38: Fi amb el rol (DD/MM/AAAA) | Z38: % Dedicació | AA38: Mesos
P39: N/D | Q39: N/D | W39: N/D | AA39: =ROUND((Y39-X39)/365*12*Z39,2) -> 0 | AB39: =CONCATENATE(O39,P39) -> N/D | AC39: =CONCATENATE(O39,Q39) -> N/D | AD39: =CONCATENATE(O39,W39) -> N/D
P40: N/D | Q40: N/D | W40: N/D | AA40: =ROUND((Y40-X40)/365*12*Z40,2) -> 0 | AB40: =CONCATENATE(O40,P40) -> N/D | AC40: =CONCATENATE(O40,Q40) -> N/D | AD40: =CONCATENATE(O40,W40) -> N/D
P41: N/D | Q41: N/D | W41: N/D | AA41: =ROUND((Y41-X41)/365*12*Z41,2) -> 0 | AB41: =CONCATENATE(O41,P41) -> N/D | AC41: =CONCATENATE(O41,Q41) -> N/D | AD41: =CONCATENATE(O41,W41) -> N/D
P42: N/D | Q42: N/D | W42: N/D | AA42: =ROUND((Y42-X42)/365*12*Z42,2) -> 0 | AB42: =CONCATENATE(O42,P42) -> N/D | AC42: =CONCATENATE(O42,Q42) -> N/D | AD42: =CONCATENATE(O42,W42) -> N/D
P43: N/D | Q43: N/D | W43: N/D | AA43: =ROUND((Y43-X43)/365*12*Z43,2) -> 0 | AB43: =CONCATENATE(O43,P43) -> N/D | AC43: =CONCATENATE(O43,Q43) -> N/D | AD43: =CONCATENATE(O43,W43) -> N/D
P44: N/D | Q44: N/D | W44: N/D | AA44: =ROUND((Y44-X44)/365*12*Z44,2) -> 0 | AB44: =CONCATENATE(O44,P44) -> N/D | AC44: =CONCATENATE(O44,Q44) -> N/D | AD44: =CONCATENATE(O44,W44) -> N/D
P45: N/D | Q45: N/D | W45: N/D | AA45: =ROUND((Y45-X45)/365*12*Z45,2) -> 0 | AB45: =CONCATENATE(O45,P45) -> N/D | AC45: =CONCATENATE(O45,Q45) -> N/D | AD45: =CONCATENATE(O45,W45) -> N/D
P46: N/D | Q46: N/D | W46: N/D | AA46: =ROUND((Y46-X46)/365*12*Z46,2) -> 0 | AB46: =CONCATENATE(O46,P46) -> N/D | AC46: =CONCATENATE(O46,Q46) -> N/D | AD46: =CONCATENATE(O46,W46) -> N/D
P47: N/D | Q47: N/D | W47: N/D | AA47: =ROUND((Y47-X47)/365*12*Z47,2) -> 0 | AB47: =CONCATENATE(O47,P47) -> N/D | AC47: =CONCATENATE(O47,Q47) -> N/D | AD47: =CONCATENATE(O47,W47) -> N/D
P48: N/D | Q48: N/D | W48: N/D | AA48: =ROUND((Y48-X48)/365*12*Z48,2) -> 0 | AB48: =CONCATENATE(O48,P48) -> N/D | AC48: =CONCATENATE(O48,Q48) -> N/D | AD48: =CONCATENATE(O48,W48) -> N/D
P49: N/D | Q49: N/D | W49: N/D | AA49: =ROUND((Y49-X49)/365*12*Z49,2) -> 0 | AB49: =CONCATENATE(O49,P49) -> N/D | AC49: =CONCATENATE(O49,Q49) -> N/D | AD49: =CONCATENATE(O49,W49) -> N/D
P50: N/D | Q50: N/D | W50: N/D | AA50: =ROUND((Y50-X50)/365*12*Z50,2) -> 0 | AB50: =CONCATENATE(O50,P50) -> N/D | AC50: =CONCATENATE(O50,Q50) -> N/D | AD50: =CONCATENATE(O50,W50) -> N/D
... P103: N/D | Q103: N/D | W103: N/D | AA103: =ROUND((Y103-X103)/365*12*Z103,2) -> 0 | AB103: =CONCATENATE(O103,P103) -> N/D | AC103: =CONCATENATE(O103,Q103) -> N/D | AD103: =CONCATENATE(O103,W103) -> N/D

Sheet 4.Consultor JIRA
D2: DECLARACIÓ DE DADES DETALL EQUIP TÈCNIC
A7: Omplir només les caselles en Verd, les caselles grises s'ompliran automàticament.
A8: En cas de que en una mateixa persona hagi participat en dos projectes o serveis alhora, cal evitar els solapaments temporals i posar únicament el més rellevant i relacionat amb el servei
A10: 4 | B10: =VLOOKUP(A10,EXPERIENCIA_REQUERIDA_PERFIL!A:B,2,FALSE) -> Consultor/a especialista en JIRA i Confluence
Z12: Punts per any addicional | AA12: =VLOOKUP($A$10,EXPERIENCIA_REQUERIDA_PERFIL!A:M,8,FALSE) -> 2 | AB12: =VLOOKUP($A$10,EXPERIENCIA_REQUERIDA_PERFIL!A:M,13,FALSE) -> 0 | AC12: =VLOOKUP($A$10,EXPERIENCIA_REQUERIDA_PERFIL!A:R,18,FALSE) -> 0
M13: Anys experiéncia mínima | P13: =VLOOKUP($A$10,EXPERIENCIA_REQUERIDA_PERFIL!A:M,5,FALSE) -> 3 | Q13: Anys experiéncia mínima | W13: =VLOOKUP($A$10,EXPERIENCIA_REQUERIDA_PERFIL!A:M,10,FALSE) -> 3 | X13: Anys experiéncia mínima | Y13: =VLOOKUP($A$10,EXPERIENCIA_REQUERIDA_PERFIL!A:R,15,FALSE) -> 0 | Z13: Màxim punts | AA13: =VLOOKUP($A$10,EXPERIENCIA_REQUERIDA_PERFIL!A:M,7,FALSE) -> 6 | AB13: =VLOOKUP($A$10,EXPERIENCIA_REQUERIDA_PERFIL!A:M,12,FALSE) -> 0 | AC13: =VLOOKUP($A$10,EXPERIENCIA_REQUERIDA_PERFIL!A:R,17,FALSE) -> 0
B14: Nom de perfil del plec | E14: Inicials del treballador/a | F14: Nom del treballador/a | G14: Dedicació prevista | H14: Anys fent les tasques demanades en aquest perfil | L14: =IF(VLOOKUP($A$10,EXPERIENCIA_REQUERIDA_PERFIL!A:C,3,FALSE)="","",VLOOKUP($A$10,EXPERIENCIA_REQUERIDA_PERFIL!A:C,3,FALSE)) -> Atlassian “Jira Administrator” / "Confluence Administrator" | M14: =IF(VLOOKUP($A$10,EXPERIENCIA_REQUERIDA_PERFIL!A:M,4,FALSE)="","",VLOOKUP($A$10,EXPERIENCIA_REQUERIDA_PERFIL!A:M,4,FALSE)) -> Experiència en el rol de consultor especialista en l’eina de ticketing JIRA, d’Atlassian realitzant tasques d’administració i programació d’script listeners amb Groovy. | Q14: =IF(VLOOKUP($A$10,EXPERIENCIA_REQUERIDA_PERFIL!A:M,9,FALSE)="","",VLOOKUP($A$10,EXPERIENCIA_REQUERIDA_PERFIL!A:M,9,FALSE)) -> Experiència en el rol de consultor especialista en l’eina Confluence, d’Atlassian | X14: =IF(VLOOKUP($A$10,EXPERIENCIA_REQUERIDA_PERFIL!A:R,14,FALSE)="","",VLOOKUP($A$10,EXPERIENCIA_REQUERIDA_PERFIL!A:R,14,FALSE)) | Z14: Compleix amb l'experiència mínima requerida | AA14: =IF(AA13=0,"",CONCATENATE("Millora anys aportada en ",M14)) -> Millora anys aportada en Experiència en el rol de consultor especialista en l’eina de ticketing JIRA, d’Atlassian realitzant tasques d’administració i programació d’script listeners amb Groovy. | AB14: =IF(AB13=0,"",CONCATENATE("Millora aportada en ",Q14)) | AC14: =IF(AC13=0,"",CONCATENATE("Millora aportada en ",X14))
A15: 1 | B15: =$B$10 -> Consultor/a especialista en JIRA i Confluence | L15: N/D | M15: =IF(M14="","",ROUND(SUMIF($AB$39:$AB$103,CONCATENATE(E15,"SI"),$AA$39:$AA$103)/12,2)) -> 0 | Q15: =IF(Q14="","",ROUND(SUMIF($AC$39:$AC$78,CONCATENATE(E15,"SI"),$AA$39:$AA$78)/12,2)) -> 0 | X15: =IF(X14="","",ROUND(SUMIF($AD$39:$AD$78,CONCATENATE(E15,"SI"),$AA$39:$AA$78)/12,2)) | Z15: =IF(OR(E15="",M14=""),"N/A",IF(AND(IF($L$14="","SI",L15)="SI",M15>=$P$13,Q15>=$W$13,X15>=$Y$13),"OK","KO")) -> N/A | AA15: =IF(OR(E15="",$AA$13=0),"",MAX(M15-$P$13,0)) | AB15: =IF(OR(E15="",Q14="",$AB$14=0),"",MAX(Q15-$W$13,0)) | AC15: =IF(OR(E15="",X14="",$AC$13=0),"",MAX(X15-$Y$13,0))
A16: =A15+1 -> 2 | B16: =$B$10 -> Consultor/a especialista en JIRA i Confluence | L16: N/D | M16: =IF(M15="","",ROUND(SUMIF($AB$39:$AB$103,CONCATENATE(E16,"SI"),$AA$39:$AA$103)/12,2)) -> 0 | Q16: =IF(Q15="","",ROUND(SUMIF($AC$39:$AC$78,CONCATENATE(E16,"SI"),$AA$39:$AA$78)/12,2)) -> 0 | X16: =IF(X15="","",ROUND(SUMIF($AD$39:$AD$78,CONCATENATE(E16,"SI"),$AA$39:$AA$78)/12,2)) | Z16: =IF(OR(E16="",M15=""),"N/A",IF(AND(IF($L$14="","SI",L16)="SI",M16>=$P$13,Q16>=$W$13,X16>=$Y$13),"OK","KO")) -> N/A | AA16: =IF(OR(E16="",$AA$13=0),"",MAX(M16-$P$13,0)) | AB16: =IF(OR(E16="",Q15="",$AB$14=0),"",MAX(Q16-$W$13,0)) | AC16: =IF(OR(E16="",X15="",$AC$13=0),"",MAX(X16-$Y$13,0))
A17: =A16+1 -> 3 | B17: =$B$10 -> Consultor/a especialista en JIRA i Confluence | L17: N/D | M17: =IF(M16="","",ROUND(SUMIF($AB$39:$AB$103,CONCATENATE(E17,"SI"),$AA$39:$AA$103)/12,2)) -> 0 | Q17: =IF(Q16="","",ROUND(SUMIF($AC$39:$AC$78,CONCATENATE(E17,"SI"),$AA$39:$AA$78)/12,2)) -> 0 | X17: =IF(X16="","",ROUND(SUMIF($AD$39:$AD$78,CONCATENATE(E17,"SI"),$AA$39:$AA$78)/12,2)) | Z17: =IF(OR(E17="",M16=""),"N/A",IF(AND(IF($L$14="","SI",L17)="SI",M17>=$P$13,Q17>=$W$13,X17>=$Y$13),"OK","KO")) -> N/A | AA17: =IF(OR(E17="",$AA$13=0),"",MAX(M17-$P$13,0)) | AB17: =IF(OR(E17="",Q16="",$AB$14=0),"",MAX(Q17-$W$13,0)) | AC17: =IF(OR(E17="",X16="",$AC$13=0),"",MAX(X17-$Y$13,0))
A18: =A17+1 -> 4 | B18: =$B$10 -> Consultor/a especialista en JIRA i Confluence | L18: N/D | M18: =IF(M17="","",ROUND(SUMIF($AB$39:$AB$103,CONCATENATE(E18,"SI"),$AA$39:$AA$103)/12,2)) -> 0 | Q18: =IF(Q17="","",ROUND(SUMIF($AC$39:$AC$78,CONCATENATE(E18,"SI"),$AA$39:$AA$78)/12,2)) -> 0 | X18: =IF(X17="","",ROUND(SUMIF($AD$39:$AD$78,CONCATENATE(E18,"SI"),$AA$39:$AA$78)/12,2)) | Z18: =IF(OR(E18="",M17=""),"N/A",IF(AND(IF($L$14="","SI",L18)="SI",M18>=$P$13,Q18>=$W$13,X18>=$Y$13),"OK","KO")) -> N/A | AA18: =IF(OR(E18="",$AA$13=0),"",MAX(M18-$P$13,0)) | AB18: =IF(OR(E18="",Q17="",$AB$14=0),"",MAX(Q18-$W$13,0)) | AC18: =IF(OR(E18="",X17="",$AC$13=0),"",MAX(X18-$Y$13,0))
A19: =A18+1 -> 5 | B19: =$B$10 -> Consultor/a especialista en JIRA i Confluence | L19: N/D | M19: =IF(M18="","",ROUND(SUMIF($AB$39:$AB$103,CONCATENATE(E19,"SI"),$AA$39:$AA$103)/12,2)) -> 0 | Q19: =IF(Q18="","",ROUND(SUMIF($AC$39:$AC$78,CONCATENATE(E19,"SI"),$AA$39:$AA$78)/12,2)) -> 0 | X19: =IF(X18="","",ROUND(SUMIF($AD$39:$AD$78,CONCATENATE(E19,"SI"),$AA$39:$AA$78)/12,2)) | Z19: =IF(OR(E19="",M18=""),"N/A",IF(AND(IF($L$14="","SI",L19)="SI",M19>=$P$13,Q19>=$W$13,X19>=$Y$13),"OK","KO")) -> N/A | AA19: =IF(OR(E19="",$AA$13=0),"",MAX(M19-$P$13,0)) | AB19: =IF(OR(E19="",Q18="",$AB$14=0),"",MAX(Q19-$W$13,0)) | AC19: =IF(OR(E19="",X18="",$AC$13=0),"",MAX(X19-$Y$13,0))
A20: =A19+1 -> 6 | B20: =$B$10 -> Consultor/a especialista en JIRA i Confluence | L20: N/D | M20: =IF(M19="","",ROUND(SUMIF($AB$39:$AB$103,CONCATENATE(E20,"SI"),$AA$39:$AA$103)/12,2)) -> 0 | Q20: =IF(Q19="","",ROUND(SUMIF($AC$39:$AC$78,CONCATENATE(E20,"SI"),$AA$39:$AA$78)/12,2)) -> 0 | X20: =IF(X19="","",ROUND(SUMIF($AD$39:$AD$78,CONCATENATE(E20,"SI"),$AA$39:$AA$78)/12,2)) | Z20: =IF(OR(E20="",M19=""),"N/A",IF(AND(IF($L$14="","SI",L20)="SI",M20>=$P$13,Q20>=$W$13,X20>=$Y$13),"OK","KO")) -> N/A | AA20: =IF(OR(E20="",$AA$13=0),"",MAX(M20-$P$13,0)) | AB20: =IF(OR(E20="",Q19="",$AB$14=0),"",MAX(Q20-$W$13,0)) | AC20: =IF(OR(E20="",X19="",$AC$13=0),"",MAX(X20-$Y$13,0))
A21: =A20+1 -> 7 | B21: =$B$10 -> Consultor/a especialista en JIRA i Confluence | L21: N/D | M21: =IF(M20="","",ROUND(SUMIF($AB$39:$AB$103,CONCATENATE(E21,"SI"),$AA$39:$AA$103)/12,2)) -> 0 | Q21: =IF(Q20="","",ROUND(SUMIF($AC$39:$AC$78,CONCATENATE(E21,"SI"),$AA$39:$AA$78)/12,2)) -> 0 | X21: =IF(X20="","",ROUND(SUMIF($AD$39:$AD$78,CONCATENATE(E21,"SI"),$AA$39:$AA$78)/12,2)) | Z21: =IF(OR(E21="",M20=""),"N/A",IF(AND(IF($L$14="","SI",L21)="SI",M21>=$P$13,Q21>=$W$13,X21>=$Y$13),"OK","KO")) -> N/A | AA21: =IF(OR(E21="",$AA$13=0),"",MAX(M21-$P$13,0)) | AB21: =IF(OR(E21="",Q20="",$AB$14=0),"",MAX(Q21-$W$13,0)) | AC21: =IF(OR(E21="",X20="",$AC$13=0),"",MAX(X21-$Y$13,0))
A22: =A21+1 -> 8 | B22: =$B$10 -> Consultor/a especialista en JIRA i Confluence | L22: N/D | M22: =IF(M21="","",ROUND(SUMIF($AB$39:$AB$103,CONCATENATE(E22,"SI"),$AA$39:$AA$103)/12,2)) -> 0 | Q22: =IF(Q21="","",ROUND(SUMIF($AC$39:$AC$78,CONCATENATE(E22,"SI"),$AA$39:$AA$78)/12,2)) -> 0 | X22: =IF(X21="","",ROUND(SUMIF($AD$39:$AD$78,CONCATENATE(E22,"SI"),$AA$39:$AA$78)/12,2)) | Z22: =IF(OR(E22="",M21=""),"N/A",IF(AND(IF($L$14="","SI",L22)="SI",M22>=$P$13,Q22>=$W$13,X22>=$Y$13),"OK","KO")) -> N/A | AA22: =IF(OR(E22="",$AA$13=0),"",MAX(M22-$P$13,0)) | AB22: =IF(OR(E22="",Q21="",$AB$14=0),"",MAX(Q22-$W$13,0)) | AC22: =IF(OR(E22="",X21="",$AC$13=0),"",MAX(X22-$Y$13,0))
A23: =A22+1 -> 9 | B23: =$B$10 -> Consultor/a especialista en JIRA i Confluence | L23: N/D | M23: =IF(M22="","",ROUND(SUMIF($AB$39:$AB$103,CONCATENATE(E23,"SI"),$AA$39:$AA$103)/12,2)) -> 0 | Q23: =IF(Q22="","",ROUND(SUMIF($AC$39:$AC$78,CONCATENATE(E23,"SI"),$AA$39:$AA$78)/12,2)) -> 0 | X23: =IF(X22="","",ROUND(SUMIF($AD$39:$AD$78,CONCATENATE(E23,"SI"),$AA$39:$AA$78)/12,2)) | Z23: =IF(OR(E23="",M22=""),"N/A",IF(AND(IF($L$14="","SI",L23)="SI",M23>=$P$13,Q23>=$W$13,X23>=$Y$13),"OK","KO")) -> N/A | AA23: =IF(OR(E23="",$AA$13=0),"",MAX(M23-$P$13,0)) | AB23: =IF(OR(E23="",Q22="",$AB$14=0),"",MAX(Q23-$W$13,0)) | AC23: =IF(OR(E23="",X22="",$AC$13=0),"",MAX(X23-$Y$13,0))
