Workbook
Name OLE_LINK2: EXPERIENCIA_REQUERIDA_PERFIL!$F$2

Sheet RESUM_EQUIP_TÈCNIC
B1: exp: 21000049 - CONTRACTE DE SERVEIS PER A LA PRESTACIÓ DELS SERVEIS DE MANTENIMENT I EVOLUCIÓ D’APLICACIONS INFORMÀTIQUES (AM) DE LA GERÈNCIA D’ECOLOGIA URBANA DE L’AJUNTAMENT DE BARCELONA, AMB MESURES DE CONTRACTACIÓ PÚBLICA SOSTENIBLE.
B3: DECLARACIÓ DE DADES RESUM EQUIP TÈCNIC
A7: El/la senyor/a
A8: domiciliat/ada a
A9: amb DNI/NIF núm
A10: , major d’edat, en nom propi, o en representació de l’empresa
A11: , NIF núm. | D11: , amb domicili a
A12: assabentat/ada de les condicions exigides per optar a l’adjudicació del contracte número d’expedient 21000049 que té per objecte la contractació dels serveis de manteniment i evolució d’aplicacions informàtiques (AM) de la Gerència d’Ecologia Urbana de l’Ajuntament de Barcelona, amb mesures de contractació pública sostenible, es compromet a realitzar-lo amb subjecció al plec de clàusules administratives particulars i al de prescripcions tècniques i amb els següents detall en les millores de l'experiència de l'equip tècnic:
A16: Nom de perfil del plec | B16: Inicials | C16: Nom | D16: Dedicació prevista | E16: Solvència
A17: Responsable tècnic/a de seguretat i tecnologies | D17: N/A | E17: N/A
A18: =#REF! -> #REF! | B18: =#REF! -> #REF! | C18: =#REF! -> #REF! | D18: =#REF! -> #REF! | E18: =#REF! -> #REF!
A19: =#REF! -> #REF! | B19: =#REF! -> #REF! | C19: =#REF! -> #REF! | D19: =#REF! -> #REF! | E19: =#REF! -> #REF!
A20: =#REF! -> #REF! | B20: =#REF! -> #REF! | C20: =#REF! -> #REF! | D20: =#REF! -> #REF! | E20: =#REF! -> #REF!
A21: =#REF! -> #REF! | B21: =#REF! -> #REF! | C21: =#REF! -> #REF! | D21: =#REF! -> #REF! | E21: =#REF! -> #REF!
A22: =#REF! -> #REF! | B22: =#REF! -> #REF! | C22: =#REF! -> #REF! | D22: =#REF! -> #REF! | E22: =#REF! -> #REF!
A23: =#REF! -> #REF! | B23: =#REF! -> #REF! | C23: =#REF! -> #REF! | D23: =#REF! -> #REF! | E23: =#REF! -> #REF!
A24: =#REF! -> #REF! | B24: =#REF! -> #REF! | C24: =#REF! -> #REF! | D24: =#REF! -> #REF! | E24: =#REF! -> #REF!
A25: =#REF! -> #REF! | B25: =#REF! -> #REF! | C25: =#REF! -> #REF! | D25: =#REF! -> #REF! | E25: =#REF! -> #REF!
A26: =#REF! -> #REF! | B26: =#REF! -> #REF! | C26: =#REF! -> #REF! | D26: =#REF! -> #REF! | E26: =#REF! -> #REF!
A27: =#REF! -> #REF! | B27: =#REF! -> #REF! | C27: =#REF! -> #REF! | D27: =#REF! -> #REF! | E27: =#REF! -> #REF!
A28: =#REF! -> #REF! | B28: =#REF! -> #REF! | C28: =#REF! -> #REF! | D28: =#REF! -> #REF! | E28: =#REF! -> #REF!
A29: =#REF! -> #REF! | B29: =#REF! -> #REF! | C29: =#REF! -> #REF! | D29: =#REF! -> #REF! | E29: =#REF! -> #REF!
... A84: =#REF! -> #REF! | B84: =#REF! -> #REF! | C84: =#REF! -> #REF! | D84: =#REF! -> #REF! | E84: =#REF! -> #REF!
A90: Control Millores | B90: Millora ofertada | C90: Millora detall equip | D90: Resultat
A91: Cap de projecte Sènior | B91: 3 | C91: =#REF! -> #REF! | D91: =#REF! -> #REF!
A92: Cap de projecte funcional / tecnològic | B92: 3 | C92: =#REF! -> #REF! | D92: =#REF! -> #REF!
A93: Arquitecte/a especialista en les tecnologies del plec | B93: 2 | C93: =#REF! -> #REF! | D93: =#REF! -> #REF!
A94: Analista J2EE | B94: 6 | C94: =#REF! -> #REF! | D94: =#REF! -> #REF!
A95: Analista GIS | B95: 2 | C95: =#REF! -> #REF! | D95: =#REF! -> #REF!
A96: Analista programador J2EE | B96: 5 | C96: =#REF! -> #REF! | D96: =#REF! -> #REF!

Sheet EXPERIENCIA_REQUERIDA_PERFIL
A1: Num perfil | B1: Nom del perfil | C1: Certificació | D1: Obligatoria? | E1: Punts adicionals | F1: Descripció experiència 1 | G1: Anys experiència mínima | H1: Màxim anys addicionals experiència | I1: Màxim punts per anys experiència addicional | J1: Bloc d'anys per punt adicional | K1: Punt adicional per cada bloc d'anys | L1: Descripció experiència 2 | M1: Anys experiència mínima | N1: Màxim anys addicionals experiència | O1: Màxim punts per anys experiència addicional | P1: Bloc d'anys per punt adicional | Q1: Punt adicional per cada bloc d'anys | R1: Descripció experiència 3 | S1: Anys experiència mínima | T1: Màxim anys addicionals experiència | U1: Màxim punts per anys experiència addicional | V1: Bloc d'anys per punt adicional | W1: Punt adicional per cada bloc d'anys | X1: Descripció experiència 4 | Y1: Anys experiència mínima | Z1: Màxim anys addicionals experiència | AA1: Màxim punts per anys experiència addicional | AB1: Bloc d'anys per punt adicional | AC1: Punt adicional per cada bloc d'anys | AD1: Descripció experiència 5 | AE1: Anys experiència mínima | AF1: Màxim anys addicionals experiència | AG1: Màxim punts per anys experiència addicional | AH1: Bloc d'anys per punt adicional | AI1: Punt adicional per cada bloc d'anys
A2: 1 | B2: Coordinador/a del contracte / Cap de projecte sènior | C2: Certificació Agile “Scrum Foundation”, “Scrum Developer” o “Scrum Master” | D2: NO | E2: 3 | F2: Rol de cap de projecte | G2: 3 | L2: Projectes de l’àmbit en projectes o serveis TIC amb relació directa amb alguna de les tecnologies detallades a l’apartat 10 | M2: 3 | N2: 4 | O2: 2 | P2: 2 | Q2: 1
A3: 2 | B3: Responsable tècnic/a de seguretat | F3: Responsable tècnic/a de seguretat en projectes de sistemes d’informació. | G3: 3
A4: 3 | B4: Analista .NET / Arquitecte | F4: Arquitecte en projectes o serveis en el sector públic en les tecnologies .NET i coneixement en les tecnologies detallades als apartats 5.5 i 10 del PPT. | G4: 3 | H4: 4 | I4: 3 | J4: 2 | K4: 1.5
A5: 4 | B5: Analista programador/a .NET | F5: Analista programador/a en la tecnologia .NET. | G5: 3 | H5: 4 | I5: 3 | J5: 2 | K5: 1.5
A6: 5 | B6: Dissenyador/a | F6: Disseny gràfic d’aplicacions | G6: 2
A7: 6 | B7: Cap de projecte junior | F7: Gestió de projectes o serveis amb relació directa amb Sistemes d’Informació Geogràfica | G7: 2
A8: 7 | B8: Analista J2EE | F8: Analista en projectes o serveis en J2EE i coneixement en les tecnologies detallades a als apartats 5.5 i 10. | G8: 3 | H8: 4 | I8: 3 | J8: 2 | K8: 1.5
A9: 8 | B9: Analista programador/a J2EE | F9: Analista programador/a en les tecnologies J2EE. | G9: 3 | H9: 4 | I9: 3 | J9: 2 | K9: 1.5
A10: 9 | B10: Analista GIS | F10: Analista en projectes o serveis en les tecnologies GIS i coneixement en les tecnologies detallades als apartats 5.5 i 10 del PPT. | G10: 3 | H10: 4 | I10: 4 | J10: 2 | K10: 2
A11: 10 | B11: Analista programador/a GIS | F11: Analista programador/a en les tecnologies GIS. | G11: 3 | H11: 4 | I11: 4 | J11: 2 | K11: 2
A12: 11 | B12: Analista programador/a Python | F12: Analista programador/a en les tecnologies Python. | G12: 3 | H12: 4 | I12: 3 | J12: 2 | K12: 1.5
A13: 12 | B13: Analista Python | F13: Analista en projectes o serveis en el sector públic en les tecnologies Python i coneixement en les tecnologies detallades als apartats 5.5 i 10 del PPT. | G13: 3 | H13: 4 | I13: 3 | J13: 2 | K13: 1.5
A14: 13 | B14: Auxiliar de suport a la gestió | F14: Rol d’Auxiliar de suport a la gestió en serveis d’oficines tècniques IT | G14: 2
A15: 14 | B15: Consultor/a | F15: Rol de consultor/a en gestió de projectes de Sistemes d’Informació Geogràfica | G15: 3
A16: 15 | B16: Tècnic/a Usabilitat | F16: Rol de Tècnic/a d’Usabilitat en serveis IT en entorns GIS i aplicacions similars a les incloses al catàleg de servei (veure Annex I del PPT) | G16: 3
A17: 16 | B17: Atenció a Usuaris | F17: Rol d’Atenció a usuaris en serveis IT | G17: 2

Sheet Valors
A1: Perfils | C1: Opcions
C2: SI
C3: NO
C4: N/D

Sheet 1.Coordinador_cap_projecte
D2: DECLARACIÓ DE DADES DETALL EQUIP TÈCNIC
A7: Omplir només les caselles en Verd, les caselles grises s'ompliran automàticament.
A8: En cas de que en una mateixa persona hagi participat en dos projectes o serveis alhora, cal evitar els solapaments temporals i posar únicament el més rellevant i relacionat amb el servei
A10: 1 | B10: =VLOOKUP(A10,EXPERIENCIA_REQUERIDA_PERFIL!A:B,2,FALSE) -> Coordinador/a del contracte / Cap de projecte sènior
AD11: Bloc d'anys addicionals per cada punt | AE11: =VLOOKUP($A$10,EXPERIENCIA_REQUERIDA_PERFIL!A:BD,10,FALSE) -> 0 | AF11: =VLOOKUP($A$10,EXPERIENCIA_REQUERIDA_PERFIL!A:BD,16,FALSE) -> 2 | AG11: =VLOOKUP($A$10,EXPERIENCIA_REQUERIDA_PERFIL!A:BD,22,FALSE) -> 0 | AH11: =VLOOKUP($A$10,EXPERIENCIA_REQUERIDA_PERFIL!A:BD,28,FALSE) -> 0 | AI11: =VLOOKUP($A$10,EXPERIENCIA_REQUERIDA_PERFIL!A:BD,34,FALSE) -> 0
AD12: Punts addicionals per cada bloc d'anys | AE12: =VLOOKUP($A$10,EXPERIENCIA_REQUERIDA_PERFIL!A:BD,11,FALSE) -> 0 | AF12: =VLOOKUP($A$10,EXPERIENCIA_REQUERIDA_PERFIL!A:BD,17,FALSE) -> 1 | AG12: =VLOOKUP($A$10,EXPERIENCIA_REQUERIDA_PERFIL!A:BD,23,FALSE) -> 0 | AH12: =VLOOKUP($A$10,EXPERIENCIA_REQUERIDA_PERFIL!A:BD,29,FALSE) -> 0 | AI12: =VLOOKUP($A$10,EXPERIENCIA_REQUERIDA_PERFIL!A:BD,35,FALSE) -> 0 | AJ12: =VLOOKUP($A$10,EXPERIENCIA_REQUERIDA_PERFIL!A:BD,5,FALSE) -> 3
M13: Experiència 1. Anys experiéncia mínima | P13: =VLOOKUP($A$10,EXPERIENCIA_REQUERIDA_PERFIL!A:BD,7,FALSE) -> 3 | Q13: Experiència 2. Anys experiéncia mínima | W13: =VLOOKUP($A$10,EXPERIENCIA_REQUERIDA_PERFIL!A:BD,13,FALSE) -> 3 | X13: Experiència 3. Anys experiéncia mínima | Y13: =VLOOKUP($A$10,EXPERIENCIA_REQUERIDA_PERFIL!A:BD,19,FALSE) -> 0 | Z13: Experiència 4. Anys experiéncia mínima | AA13: =VLOOKUP($A$10,EXPERIENCIA_REQUERIDA_PERFIL!A:BD,25,FALSE) -> 0 | AB13: Experiència 5. Anys experiència mínima | AC13: =VLOOKUP($A$10,EXPERIENCIA_REQUERIDA_PERFIL!A:BD,31,FALSE) -> 0 | AD13: Màxim punts | AE13: =VLOOKUP($A$10,EXPERIENCIA_REQUERIDA_PERFIL!A:BD,9,FALSE) -> 0 | AF13: =VLOOKUP($A$10,EXPERIENCIA_REQUERIDA_PERFIL!A:BD,15,FALSE) -> 2 | AG13: =VLOOKUP($A$10,EXPERIENCIA_REQUERIDA_PERFIL!A:BD,21,FALSE) -> 0 | AH13: =VLOOKUP($A$10,EXPERIENCIA_REQUERIDA_PERFIL!A:BD,27,FALSE) -> 0 | AI13: =VLOOKUP($A$10,EXPERIENCIA_REQUERIDA_PERFIL!A:BD,33,FALSE) -> 0 | AJ13: =VLOOKUP($A$10,EXPERIENCIA_REQUERIDA_PERFIL!A:BD,5,FALSE) -> 3
B14: Nom de perfil del plec | E14: Inicials del treballador/a | F14: Nom del treballador/a | G14: Dedicació prevista | H14: Anys fent les tasques demanades en aquest perfil | L14: =IF(VLOOKUP($A$10,EXPERIENCIA_REQUERIDA_PERFIL!A:C,3,FALSE)="","",VLOOKUP($A$10,EXPERIENCIA_REQUERIDA_PERFIL!A:C,3,FALSE)) -> Certificació Agile “Scrum Foundation”, “Scrum Developer” o “Scrum Master” | M14: =IF(VLOOKUP($A$10,EXPERIENCIA_REQUERIDA_PERFIL!A:BD,6,FALSE)="","",VLOOKUP($A$10,EXPERIENCIA_REQUERIDA_PERFIL!A:BD,6,FALSE)) -> Rol de cap de projecte | Q14: =IF(VLOOKUP($A$10,EXPERIENCIA_REQUERIDA_PERFIL!A:BD,12,FALSE)="","",VLOOKUP($A$10,EXPERIENCIA_REQUERIDA_PERFIL!A:BD,12,FALSE)) -> Projectes de l’àmbit en projectes o serveis TIC amb relació directa amb alguna de les tecnologies detallades a l’apartat 10 | X14: =IF(VLOOKUP($A$10,EXPERIENCIA_REQUERIDA_PERFIL!A:BD,18,FALSE)="","",VLOOKUP($A$10,EXPERIENCIA_REQUERIDA_PERFIL!A:BD,18,FALSE)) | Z14: =IF(VLOOKUP($A$10,EXPERIENCIA_REQUERIDA_PERFIL!A:BD,24,FALSE)="","",VLOOKUP($A$10,EXPERIENCIA_REQUERIDA_PERFIL!A:BD,24,FALSE)) | AB14: =IF(VLOOKUP($A$10,EXPERIENCIA_REQUERIDA_PERFIL!A:BD,30,FALSE)="","",VLOOKUP($A$10,EXPERIENCIA_REQUERIDA_PERFIL!A:BD,30,FALSE)) | AD14: Compleix amb l'experiència mínima requerida | AE14: =IF(AE13=0,"",CONCATENATE("Millora aportada en ",M14)) | AF14: =IF(AF13=0,"",CONCATENATE("Millora aportada en ",Q14)) -> Millora aportada en Projectes de l’àmbit en projectes o serveis TIC amb relació directa amb alguna de les tecnologies detallades a l’apartat 10 | AG14: =IF(AG13=0,"",CONCATENATE("Millora aportada en ",X14)) | AH14: =IF(AH13=0,"",CONCATENATE("Millora aportada en ",Z14)) | AI14: =IF(AI13=0,"",CONCATENATE("Millora aportada en ",AB14)) | AJ14: =IF(AJ12=0,"",VLOOKUP($A$10,EXPERIENCIA_REQUERIDA_PERFIL!A:BD,3,FALSE)) -> Certificació Agile “Scrum Foundation”, “Scrum Developer” o “Scrum Master”
A15: 1 | B15: =$B$10 -> Coordinador/a del contracte / Cap de projecte sènior | E15: TR1 | F15: Treballador exemple 1 | G15: 100 | H15: 5 | L15: SI | M15: =IF($M$14="","",ROUND(SUMIF($AE$39:$AE$103,CONCATENATE(E15,"SI"),$AD$39:$AD$103)/12,2)) -> 4 | Q15: =IF($Q$14="","",ROUND(SUMIF($AF$39:$AF$78,CONCATENATE(E15,"SI"),$AD$39:$AD$78)/12,2)) -> 0 | X15: =IF($X$14="","",ROUND(SUMIF($AG$39:$AG$78,CONCATENATE(E15,"SI"),$AD$39:$AD$78)/12,2)) | Z15: =IF($Z$14="","",ROUND(SUMIF($AH$39:$AH$78,CONCATENATE(E15,"SI"),$AD$39:$AD$78)/12,2)) | AB15: =IF($AB$14="","",ROUND(SUMIF($AI$39:$AI$78,CONCATENATE(E15,"SI"),$AD$39:$AD$78)/12,2)) | AD15: =IF(OR(E15="",M14=""),"N/A",IF(AND(IF($L$14="","SI",IF(VLOOKUP($A$10,EXPERIENCIA_REQUERIDA_PERFIL!A:BD,4,FALSE)="NO","SI",L15))="SI",M15>=$P$13,Q15>=$W$13,X15>=$Y$13),"OK","KO")) -> KO | AE15: =IF(OR($E15="",$M$14="",AE$13=0),"",MAX(TRUNC((M15-$P$13)/AE$11),0)) | AF15: =IF(OR($E15="",$Q$14="",AF$13=0),"",MAX(TRUNC((Q15-$W$13)/AF$11),0)) -> 0 | AG15: =IF(OR($E15="",$X$14="",AG$13=0),"",MAX(TRUNC((X15-$Y$13)/AG$11),0)) | AH15: =IF(OR($E15="",$Z$14="",AH$13=0),"",MAX(TRUNC(($Z15-$AA$13)/AH$11),0)) | AI15: =IF(OR($E15="",$AB$14="",AI$13=0),"",MAX(TRUNC(($AB15-$AC$13)/AI$11),0)) | AJ15: =IF($AJ$12=0,"",IF(L15="SI",$AJ$12,0)) -> 3
A16: =A15+1 -> 2 | B16: =$B$10 -> Coordinador/a del contracte / Cap de projecte sènior | L16: N/D | M16: =IF($M$14="","",ROUND(SUMIF($AE$39:$AE$103,CONCATENATE(E16,"SI"),$AD$39:$AD$103)/12,2)) -> 0 | Q16: =IF($Q$14="","",ROUND(SUMIF($AF$39:$AF$78,CONCATENATE(E16,"SI"),$AD$39:$AD$78)/12,2)) -> 0 | X16: =IF($X$14="","",ROUND(SUMIF($AG$39:$AG$78,CONCATENATE(E16,"SI"),$AD$39:$AD$78)/12,2)) | Z16: =IF($Z$14="","",ROUND(SUMIF($AH$39:$AH$78,CONCATENATE(E16,"SI"),$AD$39:$AD$78)/12,2)) | AB16: =IF($AB$14="","",ROUND(SUMIF($AI$39:$AI$78,CONCATENATE(E16,"SI"),$AD$39:$AD$78)/12,2)) | AD16: =IF(OR(E16="",M15=""),"N/A",IF(AND(IF($L$14="","SI",IF(VLOOKUP($A$10,EXPERIENCIA_REQUERIDA_PERFIL!A:BD,4,FALSE)="NO","SI",L16))="SI",M16>=$P$13,Q16>=$W$13,X16>=$Y$13),"OK","KO")) -> N/A | AE16: =IF(OR($E16="",$M$14="",AE$13=0),"",MAX(TRUNC((M16-$P$13)/AE$11),0)) | AF16: =IF(OR($E16="",$Q$14="",AF$13=0),"",MAX(TRUNC((Q16-$W$13)/AF$11),0)) | AG16: =IF(OR($E16="",$X$14="",AG$13=0),"",MAX(TRUNC((X16-$Y$13)/AG$11),0)) | AH16: =IF(OR($E16="",$Z$14="",AH$13=0),"",MAX(TRUNC(($Z16-$AA$13)/AH$11),0)) | AI16: =IF(OR($E16="",$AB$14="",AI$13=0),"",MAX(TRUNC(($AB16-$AC$13)/AI$11),0)) | AJ16: =IF($AJ$12=0,"",IF(L16="SI",$AJ$12,0)) -> 0
A17: =A16+1 -> 3 | B17: =$B$10 -> Coordinador/a del contracte / Cap de projecte sènior | L17: N/D | M17: =IF($M$14="","",ROUND(SUMIF($AE$39:$AE$103,CONCATENATE(E17,"SI"),$AD$39:$AD$103)/12,2)) -> 0 | Q17: =IF($Q$14="","",ROUND(SUMIF($AF$39:$AF$78,CONCATENATE(E17,"SI"),$AD$39:$AD$78)/12,2)) -> 0 | X17: =IF($X$14="","",ROUND(SUMIF($AG$39:$AG$78,CONCATENATE(E17,"SI"),$AD$39:$AD$78)/12,2)) | Z17: =IF($Z$14="","",ROUND(SUMIF($AH$39:$AH$78,CONCATENATE(E17,"SI"),$AD$39:$AD$78)/12,2)) | AB17: =IF($AB$14="","",ROUND(SUMIF($AI$39:$AI$78,CONCATENATE(E17,"SI"),$AD$39:$AD$78)/12,2)) | AD17: =IF(OR(E17="",M16=""),"N/A",IF(AND(IF($L$14="","SI",IF(VLOOKUP($A$10,EXPERIENCIA_REQUERIDA_PERFIL!A:BD,4,FALSE)="NO","SI",L17))="SI",M17>=$P$13,Q17>=$W$13,X17>=$Y$13),"OK","KO")) -> N/A | AE17: =IF(OR($E17="",$M$14="",AE$13=0),"",MAX(TRUNC((M17-$P$13)/AE$11),0)) | AF17: =IF(OR($E17="",$Q$14="",AF$13=0),"",MAX(TRUNC((Q17-$W$13)/AF$11),0)) | AG17: =IF(OR($E17="",$X$14="",AG$13=0),"",MAX(TRUNC((X17-$Y$13)/AG$11),0)) | AH17: =IF(OR($E17="",$Z$14="",AH$13=0),"",MAX(TRUNC(($Z17-$AA$13)/AH$11),0)) | AI17: =IF(OR($E17="",$AB$14="",AI$13=0),"",MAX(TRUNC(($AB17-$AC$13)/AI$11),0)) | AJ17: =IF($AJ$12=0,"",IF(L17="SI",$AJ$12,0)) -> 0
A18: =A17+1 -> 4 | B18: =$B$10 -> Coordinador/a del contracte / Cap de projecte sènior | L18: N/D | M18: =IF($M$14="","",ROUND(SUMIF($AE$39:$AE$103,CONCATENATE(E18,"SI"),$AD$39:$AD$103)/12,2)) -> 0 | Q18: =IF($Q$14="","",ROUND(SUMIF($AF$39:$AF$78,CONCATENATE(E18,"SI"),$AD$39:$AD$78)/12,2)) -> 0 | X18: =IF($X$14="","",ROUND(SUMIF($AG$39:$AG$78,CONCATENATE(E18,"SI"),$AD$39:$AD$78)/12,2)) | Z18: =IF($Z$14="","",ROUND(SUMIF($AH$39:$AH$78,CONCATENATE(E18,"SI"),$AD$39:$AD$78)/12,2)) | AB18: =IF($AB$14="","",ROUND(SUMIF($AI$39:$AI$78,CONCATENATE(E18,"SI"),$AD$39:$AD$78)/12,2)) | AD18: =IF(OR(E18="",M17=""),"N/A",IF(AND(IF($L$14="","SI",IF(VLOOKUP($A$10,EXPERIENCIA_REQUERIDA_PERFIL!A:BD,4,FALSE)="NO","SI",L18))="SI",M18>=$P$13,Q18>=$W$13,X18>=$Y$13),"OK","KO")) -> N/A | AE18: =IF(OR($E18="",$M$14="",AE$13=0),"",MAX(TRUNC((M18-$P$13)/AE$11),0)) | AF18: =IF(OR($E18="",$Q$14="",AF$13=0),"",MAX(TRUNC((Q18-$W$13)/AF$11),0)) | AG18: =IF(OR($E18="",$X$14="",AG$13=0),"",MAX(TRUNC((X18-$Y$13)/AG$11),0)) | AH18: =IF(OR($E18="",$Z$14="",AH$13=0),"",MAX(TRUNC(($Z18-$AA$13)/AH$11),0)) | AI18: =IF(OR($E18="",$AB$14="",AI$13=0),"",MAX(TRUNC(($AB18-$AC$13)/AI$11),0)) | AJ18: =IF($AJ$12=0,"",IF(L18="SI",$AJ$12,0)) -> 0
A19: =A18+1 -> 5 | B19: =$B$10 -> Coordinador/a del contracte / Cap de projecte sènior | L19: N/D | M19: =IF($M$14="","",ROUND(SUMIF($AE$39:$AE$103,CONCATENATE(E19,"SI"),$AD$39:$AD$103)/12,2)) -> 0 | Q19: =IF($Q$14="","",ROUND(SUMIF($AF$39:$AF$78,CONCATENATE(E19,"SI"),$AD$39:$AD$78)/12,2)) -> 0 | X19: =IF($X$14="","",ROUND(SUMIF($AG$39:$AG$78,CONCATENATE(E19,"SI"),$AD$39:$AD$78)/12,2)) | Z19: =IF($Z$14="","",ROUND(SUMIF($AH$39:$AH$78,CONCATENATE(E19,"SI"),$AD$39:$AD$78)/12,2)) | AB19: =IF($AB$14="","",ROUND(SUMIF($AI$39:$AI$78,CONCATENATE(E19,"SI"),$AD$39:$AD$78)/12,2)) | AD19: =IF(OR(E19="",M18=""),"N/A",IF(AND(IF($L$14="","SI",IF(VLOOKUP($A$10,EXPERIENCIA_REQUERIDA_PERFIL!A:BD,4,FALSE)="NO","SI",L19))="SI",M19>=$P$13,Q19>=$W$13,X19>=$Y$13),"OK","KO")) -> N/A | AE19: =IF(OR($E19="",$M$14="",AE$13=0),"",MAX(TRUNC((M19-$P$13)/AE$11),0)) | AF19: =IF(OR($E19="",$Q$14="",AF$13=0),"",MAX(TRUNC((Q19-$W$13)/AF$11),0)) | AG19: =IF(OR($E19="",$X$14="",AG$13=0),"",MAX(TRUNC((X19-$Y$13)/AG$11),0)) | AH19: =IF(OR($E19="",$Z$14="",AH$13=0),"",MAX(TRUNC(($Z19-$AA$13)/AH$11),0)) | AI19: =IF(OR($E19="",$AB$14="",AI$13=0),"",MAX(TRUNC(($AB19-$AC$13)/AI$11),0)) | AJ19: =IF($AJ$12=0,"",IF(L19="SI",$AJ$12,0)) -> 0
A20: =A19+1 -> 6 | B20: =$B$10 -> Coordinador/a del contracte / Cap de projecte sènior | L20: N/D | M20: =IF($M$14="","",ROUND(SUMIF($AE$39:$AE$103,CONCATENATE(E20,"SI"),$AD$39:$AD$103)/12,2)) -> 0 | Q20: =IF($Q$14="","",ROUND(SUMIF($AF$39:$AF$78,CONCATENATE(E20,"SI"),$AD$39:$AD$78)/12,2)) -> 0 | X20: =IF($X$14="","",ROUND(SUMIF($AG$39:$AG$78,CONCATENATE(E20,"SI"),$AD$39:$AD$78)/12,2)) | Z20: =IF($Z$14="","",ROUND(SUMIF($AH$39:$AH$78,CONCATENATE(E20,"SI"),$AD$39:$AD$78)/12,2)) | AB20: =IF($AB$14="","",ROUND(SUMIF($AI$39:$AI$78,CONCATENATE(E20,"SI"),$AD$39:$AD$78)/12,2)) | AD20: =IF(OR(E20="",M19=""),"N/A",IF(AND(IF($L$14="","SI",IF(VLOOKUP($A$10,EXPERIENCIA_REQUERIDA_PERFIL!A:BD,4,FALSE)="NO","SI",L20))="SI",M20>=$P$13,Q20>=$W$13,X20>=$Y$13),"OK","KO")) -> N/A | AE20: =IF(OR($E20="",$M$14="",AE$13=0),"",MAX(TRUNC((M20-$P$13)/AE$11),0)) | AF20: =IF(OR($E20="",$Q$14="",AF$13=0),"",MAX(TRUNC((Q20-$W$13)/AF$11),0)) | AG20: =IF(OR($E20="",$X$14="",AG$13=0),"",MAX(TRUNC((X20-$Y$13)/AG$11),0)) | AH20: =IF(OR($E20="",$Z$14="",AH$13=0),"",MAX(TRUNC(($Z20-$AA$13)/AH$11),0)) | AI20: =IF(OR($E20="",$AB$14="",AI$13=0),"",MAX(TRUNC(($AB20-$AC$13)/AI$11),0)) | AJ20: =IF($AJ$12=0,"",IF(L20="SI",$AJ$12,0)) -> 0
A21: =A20+1 -> 7 | B21: =$B$10 -> Coordinador/a del contracte / Cap de projecte sènior | L21: N/D | M21: =IF($M$14="","",ROUND(SUMIF($AE$39:$AE$103,CONCATENATE(E21,"SI"),$AD$39:$AD$103)/12,2)) -> 0 | Q21: =IF($Q$14="","",ROUND(SUMIF($AF$39:$AF$78,CONCATENATE(E21,"SI"),$AD$39:$AD$78)/12,2)) -> 0 | X21: =IF($X$14="","",ROUND(SUMIF($AG$39:$AG$78,CONCATENATE(E21,"SI"),$AD$39:$AD$78)/12,2)) | Z21: =IF($Z$14="","",ROUND(SUMIF($AH$39:$AH$78,CONCATENATE(E21,"SI"),$AD$39:$AD$78)/12,2)) | AB21: =IF($AB$14="","",ROUND(SUMIF($AI$39:$AI$78,CONCATENATE(E21,"SI"),$AD$39:$AD$78)/12,2)) | AD21: =IF(OR(E21="",M20=""),"N/A",IF(AND(IF($L$14="","SI",IF(VLOOKUP($A$10,EXPERIENCIA_REQUERIDA_PERFIL!A:BD,4,FALSE)="NO","SI",L21))="SI",M21>=$P$13,Q21>=$W$13,X21>=$Y$13),"OK","KO")) -> N/A | AE21: =IF(OR($E21="",$M$14="",AE$13=0),"",MAX(TRUNC((M21-$P$13)/AE$11),0)) | AF21: =IF(OR($E21="",$Q$14="",AF$13=0),"",MAX(TRUNC((Q21-$W$13)/AF$11),0)) | AG21: =IF(OR($E21="",$X$14="",AG$13=0),"",MAX(TRUNC((X21-$Y$13)/AG$11),0)) | AH21: =IF(OR($E21="",$Z$14="",AH$13=0),"",MAX(TRUNC(($Z21-$AA$13)/AH$11),0)) | AI21: =IF(OR($E21="",$AB$14="",AI$13=0),"",MAX(TRUNC(($AB21-$AC$13)/AI$11),0)) | AJ21: =IF($AJ$12=0,"",IF(L21="SI",$AJ$12,0)) -> 0
A22: =A21+1 -> 8 | B22: =$B$10 -> Coordinador/a del contracte / Cap de projecte sènior | L22: N/D | M22: =IF($M$14="","",ROUND(SUMIF($AE$39:$AE$103,CONCATENATE(E22,"SI"),$AD$39:$AD$103)/12,2)) -> 0 | Q22: =IF($Q$14="","",ROUND(SUMIF($AF$39:$AF$78,CONCATENATE(E22,"SI"),$AD$39:$AD$78)/12,2)) -> 0 | X22: =IF($X$14="","",ROUND(SUMIF($AG$39:$AG$78,CONCATENATE(E22,"SI"),$AD$39:$AD$78)/12,2)) | Z22: =IF($Z$14="","",ROUND(SUMIF($AH$39:$AH$78,CONCATENATE(E22,"SI"),$AD$39:$AD$78)/12,2)) | AB22: =IF($AB$14="","",ROUND(SUMIF($AI$39:$AI$78,CONCATENATE(E22,"SI"),$AD$39:$AD$78)/12,2)) | AD22: =IF(OR(E22="",M21=""),"N/A",IF(AND(IF($L$14="","SI",IF(VLOOKUP($A$10,EXPERIENCIA_REQUERIDA_PERFIL!A:BD,4,FALSE)="NO","SI",L22))="SI",M22>=$P$13,Q22>=$W$13,X22>=$Y$13),"OK","KO")) -> N/A | AE22: =IF(OR($E22="",$M$14="",AE$13=0),"",MAX(TRUNC((M22-$P$13)/AE$11),0)) | AF22: =IF(OR($E22="",$Q$14="",AF$13=0),"",MAX(TRUNC((Q22-$W$13)/AF$11),0)) | AG22: =IF(OR($E22="",$X$14="",AG$13=0),"",MAX(TRUNC((X22-$Y$13)/AG$11),0)) | AH22: =IF(OR($E22="",$Z$14="",AH$13=0),"",MAX(TRUNC(($Z22-$AA$13)/AH$11),0)) | AI22: =IF(OR($E22="",$AB$14="",AI$13=0),"",MAX(TRUNC(($AB22-$AC$13)/AI$11),0)) | AJ22: =IF($AJ$12=0,"",IF(L22="SI",$AJ$12,0)) -> 0
A23: =A22+1 -> 9 | B23: =$B$10 -> Coordinador/a del contracte / Cap de projecte sènior | L23: N/D | M23: =IF($M$14="","",ROUND(SUMIF($AE$39:$AE$103,CONCATENATE(E23,"SI"),$AD$39:$AD$103)/12,2)) -> 0 | Q23: =IF($Q$14="","",ROUND(SUMIF($AF$39:$AF$78,CONCATENATE(E23,"SI"),$AD$39:$AD$78)/12,2)) -> 0 | X23: =IF($X$14="","",ROUND(SUMIF($AG$39:$AG$78,CONCATENATE(E23,"SI"),$AD$39:$AD$78)/12,2)) | Z23: =IF($Z$14="","",ROUND(SUMIF($AH$39:$AH$78,CONCATENATE(E23,"SI"),$AD$39:$AD$78)/12,2)) | AB23: =IF($AB$14="","",ROUND(SUMIF($AI$39:$AI$78,CONCATENATE(E23,"SI"),$AD$39:$AD$78)/12,2)) | AD23: =IF(OR(E23="",M22=""),"N/A",IF(AND(IF($L$14="","SI",IF(VLOOKUP($A$10,EXPERIENCIA_REQUERIDA_PERFIL!A:BD,4,FALSE)="NO","SI",L23))="SI",M23>=$P$13,Q23>=$W$13,X23>=$Y$13),"OK","KO")) -> N/A | AE23: =IF(OR($E23="",$M$14="",AE$13=0),"",MAX(TRUNC((M23-$P$13)/AE$11),0)) | AF23: =IF(OR($E23="",$Q$14="",AF$13=0),"",MAX(TRUNC((Q23-$W$13)/AF$11),0)) | AG23: =IF(OR($E23="",$X$14="",AG$13=0),"",MAX(TRUNC((X23-$Y$13)/AG$11),0)) | AH23: =IF(OR($E23="",$Z$14="",AH$13=0),"",MAX(TRUNC(($Z23-$AA$13)/AH$11),0)) | AI23: =IF(OR($E23="",$AB$14="",AI$13=0),"",MAX(TRUNC(($AB23-$AC$13)/AI$11),0)) | AJ23: =IF($AJ$12=0,"",IF(L23="SI",$AJ$12,0)) -> 0
A24: =A23+1 -> 10 | B24: =$B$10 -> Coordinador/a del contracte / Cap de projecte sènior | L24: N/D | M24: =IF($M$14="","",ROUND(SUMIF($AE$39:$AE$103,CONCATENATE(E24,"SI"),$AD$39:$AD$103)/12,2)) -> 0 | Q24: =IF($Q$14="","",ROUND(SUMIF($AF$39:$AF$78,CONCATENATE(E24,"SI"),$AD$39:$AD$78)/12,2)) -> 0 | X24: =IF($X$14="","",ROUND(SUMIF($AG$39:$AG$78,CONCATENATE(E24,"SI"),$AD$39:$AD$78)/12,2)) | Z24: =IF($Z$14="","",ROUND(SUMIF($AH$39:$AH$78,CONCATENATE(E24,"SI"),$AD$39:$AD$78)/12,2)) | AB24: =IF($AB$14="","",ROUND(SUMIF($AI$39:$AI$78,CONCATENATE(E24,"SI"),$AD$39:$AD$78)/12,2)) | AD24: =IF(OR(E24="",M23=""),"N/A",IF(AND(IF($L$14="","SI",IF(VLOOKUP($A$10,EXPERIENCIA_REQUERIDA_PERFIL!A:BD,4,FALSE)="NO","SI",L24))="SI",M24>=$P$13,Q24>=$W$13,X24>=$Y$13),"OK","KO")) -> N/A | AE24: =IF(OR($E24="",$M$14="",AE$13=0),"",MAX(TRUNC((M24-$P$13)/AE$11),0)) | AF24: =IF(OR($E24="",$Q$14="",AF$13=0),"",MAX(TRUNC((Q24-$W$13)/AF$11),0)) | AG24: =IF(OR($E24="",$X$14="",AG$13=0),"",MAX(TRUNC((X24-$Y$13)/AG$11),0)) | AH24: =IF(OR($E24="",$Z$14="",AH$13=0),"",MAX(TRUNC(($Z24-$AA$13)/AH$11),0)) | AI24: =IF(OR($E24="",$AB$14="",AI$13=0),"",MAX(TRUNC(($AB24-$AC$13)/AI$11),0)) | AJ24: =IF($AJ$12=0,"",IF(L24="SI",$AJ$12,0)) -> 0
A25: =A24+1 -> 11 | B25: =$B$10 -> Coordinador/a del contracte / Cap de projecte sènior | L25: N/D | M25: =IF($M$14="","",ROUND(SUMIF($AE$39:$AE$103,CONCATENATE(E25,"SI"),$AD$39:$AD$103)/12,2)) -> 0 | Q25: =IF($Q$14="","",ROUND(SUMIF($AF$39:$AF$78,CONCATENATE(E25,"SI"),$AD$39:$AD$78)/12,2)) -> 0 | X25: =IF($X$14="","",ROUND(SUMIF($AG$39:$AG$78,CONCATENATE(E25,"SI"),$AD$39:$AD$78)/12,2)) | Z25: =IF($Z$14="","",ROUND(SUMIF($AH$39:$AH$78,CONCATENATE(E25,"SI"),$AD$39:$AD$78)/12,2)) | AB25: =IF($AB$14="","",ROUND(SUMIF($AI$39:$AI$78,CONCATENATE(E25,"SI"),$AD$39:$AD$78)/12,2)) | AD25: =IF(OR(E25="",M24=""),"N/A",IF(AND(IF($L$14="","SI",IF(VLOOKUP($A$10,EXPERIENCIA_REQUERIDA_PERFIL!A:BD,4,FALSE)="NO","SI",L25))="SI",M25>=$P$13,Q25>=$W$13,X25>=$Y$13),"OK","KO")) -> N/A | AE25: =IF(OR($E25="",$M$14="",AE$13=0),"",MAX(TRUNC((M25-$P$13)/AE$11),0)) | AF25: =IF(OR($E25="",$Q$14="",AF$13=0),"",MAX(TRUNC((Q25-$W$13)/AF$11),0)) | AG25: =IF(OR($E25="",$X$14="",AG$13=0),"",MAX(TRUNC((X25-$Y$13)/AG$11),0)) | AH25: =IF(OR($E25="",$Z$14="",AH$13=0),"",MAX(TRUNC(($Z25-$AA$13)/AH$11),0)) | AI25: =IF(OR($E25="",$AB$14="",AI$13=0),"",MAX(TRUNC(($AB25-$AC$13)/AI$11),0)) | AJ25: =IF($AJ$12=0,"",IF(L25="SI",$AJ$12,0)) -> 0
A26: =A25+1 -> 12 | B26: =$B$10 -> Coordinador/a del contracte / Cap de projecte sènior | L26: N/D | M26: =IF($M$14="","",ROUND(SUMIF($AE$39:$AE$103,CONCATENATE(E26,"SI"),$AD$39:$AD$103)/12,2)) -> 0 | Q26: =IF($Q$14="","",ROUND(SUMIF($AF$39:$AF$78,CONCATENATE(E26,"SI"),$AD$39:$AD$78)/12,2)) -> 0 | X26: =IF($X$14="","",ROUND(SUMIF($AG$39:$AG$78,CONCATENATE(E26,"SI"),$AD$39:$AD$78)/12,2)) | Z26: =IF($Z$14="","",ROUND(SUMIF($AH$39:$AH$78,CONCATENATE(E26,"SI"),$AD$39:$AD$78)/12,2)) | AB26: =IF($AB$14="","",ROUND(SUMIF($AI$39:$AI$78,CONCATENATE(E26,"SI"),$AD$39:$AD$78)/12,2)) | AD26: =IF(OR(E26="",M25=""),"N/A",IF(AND(IF($L$14="","SI",IF(VLOOKUP($A$10,EXPERIENCIA_REQUERIDA_PERFIL!A:BD,4,FALSE)="NO","SI",L26))="SI",M26>=$P$13,Q26>=$W$13,X26>=$Y$13),"OK","KO")) -> N/A | AE26: =IF(OR($E26="",$M$14="",AE$13=0),"",MAX(TRUNC((M26-$P$13)/AE$11),0)) | AF26: =IF(OR($E26="",$Q$14="",AF$13=0),"",MAX(TRUNC((Q26-$W$13)/AF$11),0)) | AG26: =IF(OR($E26="",$X$14="",AG$13=0),"",MAX(TRUNC((X26-$Y$13)/AG$11),0)) | AH26: =IF(OR($E26="",$Z$14="",AH$13=0),"",MAX(TRUNC(($Z26-$AA$13)/AH$11),0)) | AI26: =IF(OR($E26="",$AB$14="",AI$13=0),"",MAX(TRUNC(($AB26-$AC$13)/AI$11),0)) | AJ26: =IF($AJ$12=0,"",IF(L26="SI",$AJ$12,0)) -> 0
A27: =A26+1 -> 13 | B27: =$B$10 -> Coordinador/a del contracte / Cap de projecte sènior | L27: N/D | M27: =IF($M$14="","",ROUND(SUMIF($AE$39:$AE$103,CONCATENATE(E27,"SI"),$AD$39:$AD$103)/12,2)) -> 0 | Q27: =IF($Q$14="","",ROUND(SUMIF($AF$39:$AF$78,CONCATENATE(E27,"SI"),$AD$39:$AD$78)/12,2)) -> 0 | X27: =IF($X$14="","",ROUND(SUMIF($AG$39:$AG$78,CONCATENATE(E27,"SI"),$AD$39:$AD$78)/12,2)) | Z27: =IF($Z$14="","",ROUND(SUMIF($AH$39:$AH$78,CONCATENATE(E27,"SI"),$AD$39:$AD$78)/12,2)) | AB27: =IF($AB$14="","",ROUND(SUMIF($AI$39:$AI$78,CONCATENATE(E27,"SI"),$AD$39:$AD$78)/12,2)) | AD27: =IF(OR(E27="",M26=""),"N/A",IF(AND(IF($L$14="","SI",IF(VLOOKUP($A$10,EXPERIENCIA_REQUERIDA_PERFIL!A:BD,4,FALSE)="NO","SI",L27))="SI",M27>=$P$13,Q27>=$W$13,X27>=$Y$13),"OK","KO")) -> N/A | AE27: =IF(OR($E27="",$M$14="",AE$13=0),"",MAX(TRUNC((M27-$P$13)/AE$11),0)) | AF27: =IF(OR($E27="",$Q$14="",AF$13=0),"",MAX(TRUNC((Q27-$W$13)/AF$11),0)) | AG27: =IF(OR($E27="",$X$14="",AG$13=0),"",MAX(TRUNC((X27-$Y$13)/AG$11),0)) | AH27: =IF(OR($E27="",$Z$14="",AH$13=0),"",MAX(TRUNC(($Z27-$AA$13)/AH$11),0)) | AI27: =IF(OR($E27="",$AB$14="",AI$13=0),"",MAX(TRUNC(($AB27-$AC$13)/AI$11),0)) | AJ27: =IF($AJ$12=0,"",IF(L27="SI",$AJ$12,0)) -> 0
... A34: =A33+1 -> 20 | B34: =$B$10 -> Coordinador/a del contracte / Cap de projecte sènior | L34: N/D | M34: =IF($M$14="","",ROUND(SUMIF($AE$39:$AE$103,CONCATENATE(E34,"SI"),$AD$39:$AD$103)/12,2)) -> 0 | Q34: =IF($Q$14="","",ROUND(SUMIF($AF$39:$AF$78,CONCATENATE(E34,"SI"),$AD$39:$AD$78)/12,2)) -> 0 | X34: =IF($X$14="","",ROUND(SUMIF($AG$39:$AG$78,CONCATENATE(E34,"SI"),$AD$39:$AD$78)/12,2)) | Z34: =IF($Z$14="","",ROUND(SUMIF($AH$39:$AH$78,CONCATENATE(E34,"SI"),$AD$39:$AD$78)/12,2)) | AB34: =IF($AB$14="","",ROUND(SUMIF($AI$39:$AI$78,CONCATENATE(E34,"SI"),$AD$39:$AD$78)/12,2)) | AD34: =IF(OR(E34="",M33=""),"N/A",IF(AND(IF($L$14="","SI",IF(VLOOKUP($A$10,EXPERIENCIA_REQUERIDA_PERFIL!A:BD,4,FALSE)="NO","SI",L34))="SI",M34>=$P$13,Q34>=$W$13,X34>=$Y$13),"OK","KO")) -> N/A | AE34: =IF(OR($E34="",$M$14="",AE$13=0),"",MAX(TRUNC((M34-$P$13)/AE$11),0)) | AF34: =IF(OR($E34="",$Q$14="",AF$13=0),"",MAX(TRUNC((Q34-$W$13)/AF$11),0)) | AG34: =IF(OR($E34="",$X$14="",AG$13=0),"",MAX(TRUNC((X34-$Y$13)/AG$11),0)) | AH34: =IF(OR($E34="",$Z$14="",AH$13=0),"",MAX(TRUNC(($Z34-$AA$13)/AH$11),0)) | AI34: =IF(OR($E34="",$AB$14="",AI$13=0),"",MAX(TRUNC(($AB34-$AC$13)/AI$11),0)) | AJ34: =IF($AJ$12=0,"",IF(L34="SI",$AJ$12,0)) -> 0
AD35: Total punts | AE35: =SUM(AE15:AE34) -> 0 | AF35: =SUM(AF15:AF34) -> 0 | AG35: =SUM(AG15:AG34) -> 0 | AH35: =SUM(AH15:AH34) -> 0 | AI35: =SUM(AI15:AI34) -> 0 | AJ35: =SUM(AJ15:AJ34) -> 3
AD36: Total punts limitant amb màxim | AE36: =MIN(AE13,AE12*AE35) -> 0 | AF36: =MIN(AF13,AF12*AF35) -> 0 | AG36: =MIN(AG13,AG12*AG35) -> 0 | AH36: =MIN(AH13,AH12*AH35) -> 0 | AI36: =MIN(AI13,AI12*AI35) -> 0 | AJ36: =MIN($AJ$13,SUM(AJ15:AJ34)) -> 3
B38: Nom administració / empresa, tantes files com administracions / empreses on hagi assolit l’experiència amb aquest rol | E38: Detall de projecte on es declari el rol realitzat per el recurs i les tecnologies associades, destacant les relatives a l’objecte del contracte, tantes files com projectes on hagi tingut l’experiència amb aquest rol | N38: Núm. expedient / contracte | O38: Inicials del treballador/a | P38: =M14 -> Rol de cap de projecte | Q38: =Q14 -> Projectes de l’àmbit en projectes o serveis TIC amb relació directa amb alguna de les tecnologies detallades a l’apartat 10 | W38: =X14 | X38: =Z14 | Y38: =AB14 | Z38: Inici amb el rol (DD/MM/AAAA) | AA38: Fi amb el rol (DD/MM/AAAA) | AC38: % Dedicació | AD38: Mesos
B39: Ajuntament 1 | E39: Projecte 1 exemple | O39: TR1 | P39: SI | Q39: NO | W39: NO | X39: NO | Y39: NO | Z39: 43101 | AA39: 44562 | AC39: 1 | AD39: =ROUND((AA39-Z39)/365*12*AC39,2) -> 48.03 | AE39: =CONCATENATE(O39,P39) -> TR1SI | AF39: =CONCATENATE(O39,Q39) -> TR1NO | AG39: =CONCATENATE(O39,W39) -> TR1NO | AH39: =CONCATENATE(O39,X39) -> TR1NO | AI39: =CONCATENATE(O39,Y39) -> TR1NO
P40: N/D | Q40: N/D | W40: N/D | X40: N/D | Y40: N/D | AD40: =ROUND((AA40-Z40)/365*12*AC40,2) -> 0 | AE40: =CONCATENATE(O40,P40) -> N/D | AF40: =CONCATENATE(O40,Q40) -> N/D | AG40: =CONCATENATE(O40,W40) -> N/D | AH40: =CONCATENATE(O40,X40) -> N/D | AI40: =CONCATENATE(O40,Y40) -> N/D
P41: N/D | Q41: N/D | W41: N/D | X41: N/D | Y41: N/D | AD41: =ROUND((AA41-Z41)/365*12*AC41,2) -> 0 | AE41: =CONCATENATE(O41,P41) -> N/D | AF41: =CONCATENATE(O41,Q41) -> N/D | AG41: =CONCATENATE(O41,W41) -> N/D | AH41: =CONCATENATE(O41,X41) -> N/D | AI41: =CONCATENATE(O41,Y41) -> N/D
P42: N/D | Q42: N/D | W42: N/D | X42: N/D | Y42: N/D | AD42: =ROUND((AA42-Z42)/365*12*AC42,2) -> 0 | AE42: =CONCATENATE(O42,P42) -> N/D | AF42: =CONCATENATE(O42,Q42) -> N/D | AG42: =CONCATENATE(O42,W42) -> N/D | AH42: =CONCATENATE(O42,X42) -> N/D | AI42: =CONCATENATE(O42,Y42) -> N/D
P43: N/D | Q43: N/D | W43: N/D | X43: N/D | Y43: N/D | AD43: =ROUND((AA43-Z43)/365*12*AC43,2) -> 0 | AE43: =CONCATENATE(O43,P43) -> N/D | AF43: =CONCATENATE(O43,Q43) -> N/D | AG43: =CONCATENATE(O43,W43) -> N/D | AH43: =CONCATENATE(O43,X43) -> N/D | AI43: =CONCATENATE(O43,Y43) -> N/D
P44: N/D | Q44: N/D | W44: N/D | X44: N/D | Y44: N/D | AD44: =ROUND((AA44-Z44)/365*12*AC44,2) -> 0 | AE44: =CONCATENATE(O44,P44) -> N/D | AF44: =CONCATENATE(O44,Q44) -> N/D | AG44: =CONCATENATE(O44,W44) -> N/D | AH44: =CONCATENATE(O44,X44) -> N/D | AI44: =CONCATENATE(O44,Y44) -> N/D
P45: N/D | Q45: N/D | W45: N/D | X45: N/D | Y45: N/D | AD45: =ROUND((AA45-Z45)/365*12*AC45,2) -> 0 | AE45: =CONCATENATE(O45,P45) -> N/D | AF45: =CONCATENATE(O45,Q45) -> N/D | AG45: =CONCATENATE(O45,W45) -> N/D | AH45: =CONCATENATE(O45,X45) -> N/D | AI45: =CONCATENATE(O45,Y45) -> N/D
P46: N/D | Q46: N/D | W46: N/D | X46: N/D | Y46: N/D | AD46: =ROUND((AA46-Z46)/365*12*AC46,2) -> 0 | AE46: =CONCATENATE(O46,P46) -> N/D | AF46: =CONCATENATE(O46,Q46) -> N/D | AG46: =CONCATENATE(O46,W46) -> N/D | AH46: =CONCATENATE(O46,X46) -> N/D | AI46: =CONCATENATE(O46,Y46) -> N/D
P47: N/D | Q47: N/D | W47: N/D | X47: N/D | Y47: N/D | AD47: =ROUND((AA47-Z47)/365*12*AC47,2) -> 0 | AE47: =CONCATENATE(O47,P47) -> N/D | AF47: =CONCATENATE(O47,Q47) -> N/D | AG47: =CONCATENATE(O47,W47) -> N/D | AH47: =CONCATENATE(O47,X47) -> N/D | AI47: =CONCATENATE(O47,Y47) -> N/D
P48: N/D | Q48: N/D | W48: N/D | X48: N/D | Y48: N/D | AD48: =ROUND((AA48-Z48)/365*12*AC48,2) -> 0 | AE48: =CONCATENATE(O48,P48) -> N/D | AF48: =CONCATENATE(O48,Q48) -> N/D | AG48: =CONCATENATE(O48,W48) -> N/D | AH48: =CONCATENATE(O48,X48) -> N/D | AI48: =CONCATENATE(O48,Y48) -> N/D
P49: N/D | Q49: N/D | W49: N/D | X49: N/D | Y49: N/D | AD49: =ROUND((AA49-Z49)/365*12*AC49,2) -> 0 | AE49: =CONCATENATE(O49,P49) -> N/D | AF49: =CONCATENATE(O49,Q49) -> N/D | AG49: =CONCATENATE(O49,W49) -> N/D | AH49: =CONCATENATE(O49,X49) -> N/D | AI49: =CONCATENATE(O49,Y49) -> N/D
P50: N/D | Q50: N/D | W50: N/D | X50: N/D | Y50: N/D | AD50: =ROUND((AA50-Z50)/365*12*AC50,2) -> 0 | AE50: =CONCATENATE(O50,P50) -> N/D | AF50: =CONCATENATE(O50,Q50) -> N/D | AG50: =CONCATENATE(O50,W50) -> N/D | AH50: =CONCATENATE(O50,X50) -> N/D | AI50: =CONCATENATE(O50,Y50) -> N/D
P51: N/D | Q51: N/D | W51: N/D | X51: N/D | Y51: N/D | AD51: =ROUND((AA51-Z51)/365*12*AC51,2) -> 0 | AE51: =CONCATENATE(O51,P51) -> N/D | AF51: =CONCATENATE(O51,Q51) -> N/D | AG51: =CONCATENATE(O51,W51) -> N/D | AH51: =CONCATENATE(O51,X51) -> N/D | AI51: =CONCATENATE(O51,Y51) -> N/D
... P103: N/D | Q103: N/D | W103: N/D | X103: N/D | Y103: N/D | AD103: =ROUND((AA103-Z103)/365*12*AC103,2) -> 0 | AE103: =CONCATENATE(O103,P103) -> N/D | AF103: =CONCATENATE(O103,Q103) -> N/D | AG103: =CONCATENATE(O103,W103) -> N/D | AH103: =CONCATENATE(O103,X103) -> N/D | AI103: =CONCATENATE(O103,Y103) -> N/D

Sheet 2.Responsable_seguretat
D2: DECLARACIÓ DE DADES DETALL EQUIP TÈCNIC
A7: Omplir només les caselles en Verd, les caselles grises s'ompliran automàticament.
A8: En cas de que en una mateixa persona hagi participat en dos projectes o serveis alhora, cal evitar els solapaments temporals i posar únicament el més rellevant i relacionat amb el servei
A10: 2 | B10: =VLOOKUP(A10,EXPERIENCIA_REQUERIDA_PERFIL!A:B,2,FALSE) -> Responsable tècnic/a de seguretat
AD11: Bloc d'anys addicionals per cada punt | AE11: =VLOOKUP($A$10,EXPERIENCIA_REQUERIDA_PERFIL!A:BD,10,FALSE) -> 0 | AF11: =VLOOKUP($A$10,EXPERIENCIA_REQUERIDA_PERFIL!A:BD,16,FALSE) -> 0 | AG11: =VLOOKUP($A$10,EXPERIENCIA_REQUERIDA_PERFIL!A:BD,22,FALSE) -> 0 | AH11: =VLOOKUP($A$10,EXPERIENCIA_REQUERIDA_PERFIL!A:BD,28,FALSE) -> 0 | AI11: =VLOOKUP($A$10,EXPERIENCIA_REQUERIDA_PERFIL!A:BD,34,FALSE) -> 0
AD12: Punts addicionals per cada bloc d'anys | AE12: =VLOOKUP($A$10,EXPERIENCIA_REQUERIDA_PERFIL!A:BD,11,FALSE) -> 0 | AF12: =VLOOKUP($A$10,EXPERIENCIA_REQUERIDA_PERFIL!A:BD,17,FALSE) -> 0 | AG12: =VLOOKUP($A$10,EXPERIENCIA_REQUERIDA_PERFIL!A:BD,23,FALSE) -> 0 | AH12: =VLOOKUP($A$10,EXPERIENCIA_REQUERIDA_PERFIL!A:BD,29,FALSE) -> 0 | AI12: =VLOOKUP($A$10,EXPERIENCIA_REQUERIDA_PERFIL!A:BD,35,FALSE) -> 0 | AJ12: =VLOOKUP($A$10,EXPERIENCIA_REQUERIDA_PERFIL!A:BD,5,FALSE) -> 0
M13: Experiència 1. Anys experiéncia mínima | P13: =VLOOKUP($A$10,EXPERIENCIA_REQUERIDA_PERFIL!A:BD,7,FALSE) -> 3 | Q13: Experiència 2. Anys experiéncia mínima | W13: =VLOOKUP($A$10,EXPERIENCIA_REQUERIDA_PERFIL!A:BD,13,FALSE) -> 0 | X13: Experiència 3. Anys experiéncia mínima | Y13: =VLOOKUP($A$10,EXPERIENCIA_REQUERIDA_PERFIL!A:BD,19,FALSE) -> 0 | Z13: Experiència 4. Anys experiéncia mínima | AA13: =VLOOKUP($A$10,EXPERIENCIA_REQUERIDA_PERFIL!A:BD,25,FALSE) -> 0 | AB13: Experiència 5. Anys experiència mínima | AC13: =VLOOKUP($A$10,EXPERIENCIA_REQUERIDA_PERFIL!A:BD,31,FALSE) -> 0 | AD13: Màxim punts | AE13: =VLOOKUP($A$10,EXPERIENCIA_REQUERIDA_PERFIL!A:BD,9,FALSE) -> 0 | AF13: =VLOOKUP($A$10,EXPERIENCIA_REQUERIDA_PERFIL!A:BD,15,FALSE) -> 0 | AG13: =VLOOKUP($A$10,EXPERIENCIA_REQUERIDA_PERFIL!A:BD,21,FALSE) -> 0 | AH13: =VLOOKUP($A$10,EXPERIENCIA_REQUERIDA_PERFIL!A:BD,27,FALSE) -> 0 | AI13: =VLOOKUP($A$10,EXPERIENCIA_REQUERIDA_PERFIL!A:BD,33,FALSE) -> 0 | AJ13: =VLOOKUP($A$10,EXPERIENCIA_REQUERIDA_PERFIL!A:BD,5,FALSE) -> 0
B14: Nom de perfil del plec | E14: Inicials del treballador/a | F14: Nom del treballador/a | G14: Dedicació prevista | H14: Anys fent les tasques demanades en aquest perfil | L14: =IF(VLOOKUP($A$10,EXPERIENCIA_REQUERIDA_PERFIL!A:C,3,FALSE)="","",VLOOKUP($A$10,EXPERIENCIA_REQUERIDA_PERFIL!A:C,3,FALSE)) | M14: =IF(VLOOKUP($A$10,EXPERIENCIA_REQUERIDA_PERFIL!A:BD,6,FALSE)="","",VLOOKUP($A$10,EXPERIENCIA_REQUERIDA_PERFIL!A:BD,6,FALSE)) -> Responsable tècnic/a de seguretat en projectes de sistemes d’informació. | Q14: =IF(VLOOKUP($A$10,EXPERIENCIA_REQUERIDA_PERFIL!A:BD,12,FALSE)="","",VLOOKUP($A$10,EXPERIENCIA_REQUERIDA_PERFIL!A:BD,12,FALSE)) | X14: =IF(VLOOKUP($A$10,EXPERIENCIA_REQUERIDA_PERFIL!A:BD,18,FALSE)="","",VLOOKUP($A$10,EXPERIENCIA_REQUERIDA_PERFIL!A:BD,18,FALSE)) | Z14: =IF(VLOOKUP($A$10,EXPERIENCIA_REQUERIDA_PERFIL!A:BD,24,FALSE)="","",VLOOKUP($A$10,EXPERIENCIA_REQUERIDA_PERFIL!A:BD,24,FALSE)) | AB14: =IF(VLOOKUP($A$10,EXPERIENCIA_REQUERIDA_PERFIL!A:BD,30,FALSE)="","",VLOOKUP($A$10,EXPERIENCIA_REQUERIDA_PERFIL!A:BD,30,FALSE)) | AD14: Compleix amb l'experiència mínima requerida | AE14: =IF(AE13=0,"",CONCATENATE("Millora aportada en ",M14)) | AF14: =IF(AF13=0,"",CONCATENATE("Millora aportada en ",Q14)) | AG14: =IF(AG13=0,"",CONCATENATE("Millora aportada en ",X14)) | AH14: =IF(AH13=0,"",CONCATENATE("Millora aportada en ",Z14)) | AI14: =IF(AI13=0,"",CONCATENATE("Millora aportada en ",AB14)) | AJ14: =IF(AJ12=0,"",VLOOKUP($A$10,EXPERIENCIA_REQUERIDA_PERFIL!A:BD,3,FALSE))
A15: 1 | B15: =$B$10 -> Responsable tècnic/a de seguretat | E15: TR1 | F15: Treballador exemple 1 | G15: 100 | H15: 5 | L15: SI | M15: =IF($M$14="","",ROUND(SUMIF($AE$39:$AE$103,CONCATENATE(E15,"SI"),$AD$39:$AD$103)/12,2)) -> 3 | Q15: =IF($Q$14="","",ROUND(SUMIF($AF$39:$AF$78,CONCATENATE(E15,"SI"),$AD$39:$AD$78)/12,2)) | X15: =IF($X$14="","",ROUND(SUMIF($AG$39:$AG$78,CONCATENATE(E15,"SI"),$AD$39:$AD$78)/12,2)) | Z15: =IF($Z$14="","",ROUND(SUMIF($AH$39:$AH$78,CONCATENATE(E15,"SI"),$AD$39:$AD$78)/12,2)) | AB15: =IF($AB$14="","",ROUND(SUMIF($AI$39:$AI$78,CONCATENATE(E15,"SI"),$AD$39:$AD$78)/12,2)) | AD15: =IF(OR(E15="",M14=""),"N/A",IF(AND(IF($L$14="","SI",IF(VLOOKUP($A$10,EXPERIENCIA_REQUERIDA_PERFIL!A:BD,4,FALSE)="NO","SI",L15))="SI",M15>=$P$13,Q15>=$W$13,X15>=$Y$13,Z15>=$AA$13),"OK","KO")) -> OK | AE15: =IF(OR($E15="",$M$14="",AE$13=0),"",MAX(TRUNC((M15-$P$13)/AE$11),0)) | AF15: =IF(OR($E15="",$Q$14="",AF$13=0),"",MAX(TRUNC((Q15-$W$13)/AF$11),0)) | AG15: =IF(OR($E15="",$X$14="",AG$13=0),"",MAX(TRUNC((X15-$Y$13)/AG$11),0)) | AH15: =IF(OR($E15="",$Z$14="",AH$13=0),"",MAX(TRUNC(($Z15-$AA$13)/AH$11),0)) | AI15: =IF(OR($E15="",$AB$14="",AI$13=0),"",MAX(TRUNC(($AB15-$AC$13)/AI$11),0)) | AJ15: =IF($AJ$12=0,"",IF(L15="SI",$AJ$12,0))
A16: =A15+1 -> 2 | B16: =$B$10 -> Responsable tècnic/a de seguretat | L16: N/D | M16: =IF($M$14="","",ROUND(SUMIF($AE$39:$AE$103,CONCATENATE(E16,"SI"),$AD$39:$AD$103)/12,2)) -> 0 | Q16: =IF($Q$14="","",ROUND(SUMIF($AF$39:$AF$78,CONCATENATE(E16,"SI"),$AD$39:$AD$78)/12,2)) | X16: =IF($X$14="","",ROUND(SUMIF($AG$39:$AG$78,CONCATENATE(E16,"SI"),$AD$39:$AD$78)/12,2)) | Z16: =IF($Z$14="","",ROUND(SUMIF($AH$39:$AH$78,CONCATENATE(E16,"SI"),$AD$39:$AD$78)/12,2)) | AB16: =IF($AB$14="","",ROUND(SUMIF($AI$39:$AI$78,CONCATENATE(E16,"SI"),$AD$39:$AD$78)/12,2)) | AD16: =IF(OR(E16="",M15=""),"N/A",IF(AND(IF($L$14="","SI",IF(VLOOKUP($A$10,EXPERIENCIA_REQUERIDA_PERFIL!A:BD,4,FALSE)="NO","SI",L16))="SI",M16>=$P$13,Q16>=$W$13,X16>=$Y$13),"OK","KO")) -> N/A | AE16: =IF(OR($E16="",$M$14="",AE$13=0),"",MAX(TRUNC((M16-$P$13)/AE$11),0)) | AF16: =IF(OR($E16="",$Q$14="",AF$13=0),"",MAX(TRUNC((Q16-$W$13)/AF$11),0)) | AG16: =IF(OR($E16="",$X$14="",AG$13=0),"",MAX(TRUNC((X16-$Y$13)/AG$11),0)) | AH16: =IF(OR($E16="",$Z$14="",AH$13=0),"",MAX(TRUNC(($Z16-$AA$13)/AH$11),0)) | AI16: =IF(OR($E16="",$AB$14="",AI$13=0),"",MAX(TRUNC(($AB16-$AC$13)/AI$11),0)) | AJ16: =IF($AJ$12=0,"",IF(L16="SI",$AJ$12,0))
A17: =A16+1 -> 3 | B17: =$B$10 -> Responsable tècnic/a de seguretat | L17: N/D | M17: =IF($M$14="","",ROUND(SUMIF($AE$39:$AE$103,CONCATENATE(E17,"SI"),$AD$39:$AD$103)/12,2)) -> 0 | Q17: =IF($Q$14="","",ROUND(SUMIF($AF$39:$AF$78,CONCATENATE(E17,"SI"),$AD$39:$AD$78)/12,2)) | X17: =IF($X$14="","",ROUND(SUMIF($AG$39:$AG$78,CONCATENATE(E17,"SI"),$AD$39:$AD$78)/12,2)) | Z17: =IF($Z$14="","",ROUND(SUMIF($AH$39:$AH$78,CONCATENATE(E17,"SI"),$AD$39:$AD$78)/12,2)) | AB17: =IF($AB$14="","",ROUND(SUMIF($AI$39:$AI$78,CONCATENATE(E17,"SI"),$AD$39:$AD$78)/12,2)) | AD17: =IF(OR(E17="",M16=""),"N/A",IF(AND(IF($L$14="","SI",IF(VLOOKUP($A$10,EXPERIENCIA_REQUERIDA_PERFIL!A:BD,4,FALSE)="NO","SI",L17))="SI",M17>=$P$13,Q17>=$W$13,X17>=$Y$13),"OK","KO")) -> N/A | AE17: =IF(OR($E17="",$M$14="",AE$13=0),"",MAX(TRUNC((M17-$P$13)/AE$11),0)) | AF17: =IF(OR($E17="",$Q$14="",AF$13=0),"",MAX(TRUNC((Q17-$W$13)/AF$11),0)) | AG17: =IF(OR($E17="",$X$14="",AG$13=0),"",MAX(TRUNC((X17-$Y$13)/AG$11),0)) | AH17: =IF(OR($E17="",$Z$14="",AH$13=0),"",MAX(TRUNC(($Z17-$AA$13)/AH$11),0)) | AI17: =IF(OR($E17="",$AB$14="",AI$13=0),"",MAX(TRUNC(($AB17-$AC$13)/AI$11),0)) | AJ17: =IF($AJ$12=0,"",IF(L17="SI",$AJ$12,0))
A18: =A17+1 -> 4 | B18: =$B$10 -> Responsable tècnic/a de seguretat | L18: N/D | M18: =IF($M$14="","",ROUND(SUMIF($AE$39:$AE$103,CONCATENATE(E18,"SI"),$AD$39:$AD$103)/12,2)) -> 0 | Q18: =IF($Q$14="","",ROUND(SUMIF($AF$39:$AF$78,CONCATENATE(E18,"SI"),$AD$39:$AD$78)/12,2)) | X18: =IF($X$14="","",ROUND(SUMIF($AG$39:$AG$78,CONCATENATE(E18,"SI"),$AD$39:$AD$78)/12,2)) | Z18: =IF($Z$14="","",ROUND(SUMIF($AH$39:$AH$78,CONCATENATE(E18,"SI"),$AD$39:$AD$78)/12,2)) | AB18: =IF($AB$14="","",ROUND(SUMIF($AI$39:$AI$78,CONCATENATE(E18,"SI"),$AD$39:$AD$78)/12,2)) | AD18: =IF(OR(E18="",M17=""),"N/A",IF(AND(IF($L$14="","SI",IF(VLOOKUP($A$10,EXPERIENCIA_REQUERIDA_PERFIL!A:BD,4,FALSE)="NO","SI",L18))="SI",M18>=$P$13,Q18>=$W$13,X18>=$Y$13),"OK","KO")) -> N/A | AE18: =IF(OR($E18="",$M$14="",AE$13=0),"",MAX(TRUNC((M18-$P$13)/AE$11),0)) | AF18: =IF(OR($E18="",$Q$14="",AF$13=0),"",MAX(TRUNC((Q18-$W$13)/AF$11),0)) | AG18: =IF(OR($E18="",$X$14="",AG$13=0),"",MAX(TRUNC((X18-$Y$13)/AG$11),0)) | AH18: =IF(OR($E18="",$Z$14="",AH$13=0),"",MAX(TRUNC(($Z18-$AA$13)/AH$11),0)) | AI18: =IF(OR($E18="",$AB$14="",AI$13=0),"",MAX(TRUNC(($AB18-$AC$13)/AI$11),0)) | AJ18: =IF($AJ$12=0,"",IF(L18="SI",$AJ$12,0))
A19: =A18+1 -> 5 | B19: =$B$10 -> Responsable tècnic/a de seguretat | L19: N/D | M19: =IF($M$14="","",ROUND(SUMIF($AE$39:$AE$103,CONCATENATE(E19,"SI"),$AD$39:$AD$103)/12,2)) -> 0 | Q19: =IF($Q$14="","",ROUND(SUMIF($AF$39:$AF$78,CONCATENATE(E19,"SI"),$AD$39:$AD$78)/12,2)) | X19: =IF($X$14="","",ROUND(SUMIF($AG$39:$AG$78,CONCATENATE(E19,"SI"),$AD$39:$AD$78)/12,2)) | Z19: =IF($Z$14="","",ROUND(SUMIF($AH$39:$AH$78,CONCATENATE(E19,"SI"),$AD$39:$AD$78)/12,2)) | AB19: =IF($AB$14="","",ROUND(SUMIF($AI$39:$AI$78,CONCATENATE(E19,"SI"),$AD$39:$AD$78)/12,2)) | AD19: =IF(OR(E19="",M18=""),"N/A",IF(AND(IF($L$14="","SI",IF(VLOOKUP($A$10,EXPERIENCIA_REQUERIDA_PERFIL!A:BD,4,FALSE)="NO","SI",L19))="SI",M19>=$P$13,Q19>=$W$13,X19>=$Y$13),"OK","KO")) -> N/A | AE19: =IF(OR($E19="",$M$14="",AE$13=0),"",MAX(TRUNC((M19-$P$13)/AE$11),0)) | AF19: =IF(OR($E19="",$Q$14="",AF$13=0),"",MAX(TRUNC((Q19-$W$13)/AF$11),0)) | AG19: =IF(OR($E19="",$X$14="",AG$13=0),"",MAX(TRUNC((X19-$Y$13)/AG$11),0)) | AH19: =IF(OR($E19="",$Z$14="",AH$13=0),"",MAX(TRUNC(($Z19-$AA$13)/AH$11),0)) | AI19: =IF(OR($E19="",$AB$14="",AI$13=0),"",MAX(TRUNC(($AB19-$AC$13)/AI$11),0)) | AJ19: =IF($AJ$12=0,"",IF(L19="SI",$AJ$12,0))
A20: =A19+1 -> 6 | B20: =$B$10 -> Responsable tècnic/a de seguretat | L20: N/D | M20: =IF($M$14="","",ROUND(SUMIF($AE$39:$AE$103,CONCATENATE(E20,"SI"),$AD$39:$AD$103)/12,2)) -> 0 | Q20: =IF($Q$14="","",ROUND(SUMIF($AF$39:$AF$78,CONCATENATE(E20,"SI"),$AD$39:$AD$78)/12,2)) | X20: =IF($X$14="","",ROUND(SUMIF($AG$39:$AG$78,CONCATENATE(E20,"SI"),$AD$39:$AD$78)/12,2)) | Z20: =IF($Z$14="","",ROUND(SUMIF($AH$39:$AH$78,CONCATENATE(E20,"SI"),$AD$39:$AD$78)/12,2)) | AB20: =IF($AB$14="","",ROUND(SUMIF($AI$39:$AI$78,CONCATENATE(E20,"SI"),$AD$39:$AD$78)/12,2)) | AD20: =IF(OR(E20="",M19=""),"N/A",IF(AND(IF($L$14="","SI",IF(VLOOKUP($A$10,EXPERIENCIA_REQUERIDA_PERFIL!A:BD,4,FALSE)="NO","SI",L20))="SI",M20>=$P$13,Q20>=$W$13,X20>=$Y$13),"OK","KO")) -> N/A | AE20: =IF(OR($E20="",$M$14="",AE$13=0),"",MAX(TRUNC((M20-$P$13)/AE$11),0)) | AF20: =IF(OR($E20="",$Q$14="",AF$13=0),"",MAX(TRUNC((Q20-$W$13)/AF$11),0)) | AG20: =IF(OR($E20="",$X$14="",AG$13=0),"",MAX(TRUNC((X20-$Y$13)/AG$11),0)) | AH20: =IF(OR($E20="",$Z$14="",AH$13=0),"",MAX(TRUNC(($Z20-$AA$13)/AH$11),0)) | AI20: =IF(OR($E20="",$AB$14="",AI$13=0),"",MAX(TRUNC(($AB20-$AC$13)/AI$11),0)) | AJ20: =IF($AJ$12=0,"",IF(L20="SI",$AJ$12,0))
A21: =A20+1 -> 7 | B21: =$B$10 -> Responsable tècnic/a de seguretat | L21: N/D | M21: =IF($M$14="","",ROUND(SUMIF($AE$39:$AE$103,CONCATENATE(E21,"SI"),$AD$39:$AD$103)/12,2)) -> 0 | Q21: =IF($Q$14="","",ROUND(SUMIF($AF$39:$AF$78,CONCATENATE(E21,"SI"),$AD$39:$AD$78)/12,2)) | X21: =IF($X$14="","",ROUND(SUMIF($AG$39:$AG$78,CONCATENATE(E21,"SI"),$AD$39:$AD$78)/12,2)) | Z21: =IF($Z$14="","",ROUND(SUMIF($AH$39:$AH$78,CONCATENATE(E21,"SI"),$AD$39:$AD$78)/12,2)) | AB21: =IF($AB$14="","",ROUND(SUMIF($AI$39:$AI$78,CONCATENATE(E21,"SI"),$AD$39:$AD$78)/12,2)) | AD21: =IF(OR(E21="",M20=""),"N/A",IF(AND(IF($L$14="","SI",IF(VLOOKUP($A$10,EXPERIENCIA_REQUERIDA_PERFIL!A:BD,4,FALSE)="NO","SI",L21))="SI",M21>=$P$13,Q21>=$W$13,X21>=$Y$13),"OK","KO")) -> N/A | AE21: =IF(OR($E21="",$M$14="",AE$13=0),"",MAX(TRUNC((M21-$P$13)/AE$11),0)) | AF21: =IF(OR($E21="",$Q$14="",AF$13=0),"",MAX(TRUNC((Q21-$W$13)/AF$11),0)) | AG21: =IF(OR($E21="",$X$14="",AG$13=0),"",MAX(TRUNC((X21-$Y$13)/AG$11),0)) | AH21: =IF(OR($E21="",$Z$14="",AH$13=0),"",MAX(TRUNC(($Z21-$AA$13)/AH$11),0)) | AI21: =IF(OR($E21="",$AB$14="",AI$13=0),"",MAX(TRUNC(($AB21-$AC$13)/AI$11),0)) | AJ21: =IF($AJ$12=0,"",IF(L21="SI",$AJ$12,0))
A22: =A21+1 -> 8 | B22: =$B$10 -> Responsable tècnic/a de seguretat | L22: N/D | M22: =IF($M$14="","",ROUND(SUMIF($AE$39:$AE$103,CONCATENATE(E22,"SI"),$AD$39:$AD$103)/12,2)) -> 0 | Q22: =IF($Q$14="","",ROUND(SUMIF($AF$39:$AF$78,CONCATENATE(E22,"SI"),$AD$39:$AD$78)/12,2)) | X22: =IF($X$14="","",ROUND(SUMIF($AG$39:$AG$78,CONCATENATE(E22,"SI"),$AD$39:$AD$78)/12,2)) | Z22: =IF($Z$14="","",ROUND(SUMIF($AH$39:$AH$78,CONCATENATE(E22,"SI"),$AD$39:$AD$78)/12,2)) | AB22: =IF($AB$14="","",ROUND(SUMIF($AI$39:$AI$78,CONCATENATE(E22,"SI"),$AD$39:$AD$78)/12,2)) | AD22: =IF(OR(E22="",M21=""),"N/A",IF(AND(IF($L$14="","SI",IF(VLOOKUP($A$10,EXPERIENCIA_REQUERIDA_PERFIL!A:BD,4,FALSE)="NO","SI",L22))="SI",M22>=$P$13,Q22>=$W$13,X22>=$Y$13),"OK","KO")) -> N/A | AE22: =IF(OR($E22="",$M$14="",AE$13=0),"",MAX(TRUNC((M22-$P$13)/AE$11),0)) | AF22: =IF(OR($E22="",$Q$14="",AF$13=0),"",MAX(TRUNC((Q22-$W$13)/AF$11),0)) | AG22: =IF(OR($E22="",$X$14="",AG$13=0),"",MAX(TRUNC((X22-$Y$13)/AG$11),0)) | AH22: =IF(OR($E22="",$Z$14="",AH$13=0),"",MAX(TRUNC(($Z22-$AA$13)/AH$11),0)) | AI22: =IF(OR($E22="",$AB$14="",AI$13=0),"",MAX(TRUNC(($AB22-$AC$13)/AI$11),0)) | AJ22: =IF($AJ$12=0,"",IF(L22="SI",$AJ$12,0))
A23: =A22+1 -> 9 | B23: =$B$10 -> Responsable tècnic/a de seguretat | L23: N/D | M23: =IF($M$14="","",ROUND(SUMIF($AE$39:$AE$103,CONCATENATE(E23,"SI"),$AD$39:$AD$103)/12,2)) -> 0 | Q23: =IF($Q$14="","",ROUND(SUMIF($AF$39:$AF$78,CONCATENATE(E23,"SI"),$AD$39:$AD$78)/12,2)) | X23: =IF($X$14="","",ROUND(SUMIF($AG$39:$AG$78,CONCATENATE(E23,"SI"),$AD$39:$AD$78)/12,2)) | Z23: =IF($Z$14="","",ROUND(SUMIF($AH$39:$AH$78,CONCATENATE(E23,"SI"),$AD$39:$AD$78)/12,2)) | AB23: =IF($AB$14="","",ROUND(SUMIF($AI$39:$AI$78,CONCATENATE(E23,"SI"),$AD$39:$AD$78)/12,2)) | AD23: =IF(OR(E23="",M22=""),"N/A",IF(AND(IF($L$14="","SI",IF(VLOOKUP($A$10,EXPERIENCIA_REQUERIDA_PERFIL!A:BD,4,FALSE)="NO","SI",L23))="SI",M23>=$P$13,Q23>=$W$13,X23>=$Y$13),"OK","KO")) -> N/A | AE23: =IF(OR($E23="",$M$14="",AE$13=0),"",MAX(TRUNC((M23-$P$13)/AE$11),0)) | AF23: =IF(OR($E23="",$Q$14="",AF$13=0),"",MAX(TRUNC((Q23-$W$13)/AF$11),0)) | AG23: =IF(OR($E23="",$X$14="",AG$13=0),"",MAX(TRUNC((X23-$Y$13)/AG$11),0)) | AH23: =IF(OR($E23="",$Z$14="",AH$13=0),"",MAX(TRUNC(($Z23-$AA$13)/AH$11),0)) | AI23: =IF(OR($E23="",$AB$14="",AI$13=0),"",MAX(TRUNC(($AB23-$AC$13)/AI$11),0)) | AJ23: =IF($AJ$12=0,"",IF(L23="SI",$AJ$12,0))
A24: =A23+1 -> 10 | B24: =$B$10 -> Responsable tècnic/a de seguretat | L24: N/D | M24: =IF($M$14="","",ROUND(SUMIF($AE$39:$AE$103,CONCATENATE(E24,"SI"),$AD$39:$AD$103)/12,2)) -> 0 | Q24: =IF($Q$14="","",ROUND(SUMIF($AF$39:$AF$78,CONCATENATE(E24,"SI"),$AD$39:$AD$78)/12,2)) | X24: =IF($X$14="","",ROUND(SUMIF($AG$39:$AG$78,CONCATENATE(E24,"SI"),$AD$39:$AD$78)/12,2)) | Z24: =IF($Z$14="","",ROUND(SUMIF($AH$39:$AH$78,CONCATENATE(E24,"SI"),$AD$39:$AD$78)/12,2)) | AB24: =IF($AB$14="","",ROUND(SUMIF($AI$39:$AI$78,CONCATENATE(E24,"SI"),$AD$39:$AD$78)/12,2)) | AD24: =IF(OR(E24="",M23=""),"N/A",IF(AND(IF($L$14="","SI",IF(VLOOKUP($A$10,EXPERIENCIA_REQUERIDA_PERFIL!A:BD,4,FALSE)="NO","SI",L24))="SI",M24>=$P$13,Q24>=$W$13,X24>=$Y$13),"OK","KO")) -> N/A | AE24: =IF(OR($E24="",$M$14="",AE$13=0),"",MAX(TRUNC((M24-$P$13)/AE$11),0)) | AF24: =IF(OR($E24="",$Q$14="",AF$13=0),"",MAX(TRUNC((Q24-$W$13)/AF$11),0)) | AG24: =IF(OR($E24="",$X$14="",AG$13=0),"",MAX(TRUNC((X24-$Y$13)/AG$11),0)) | AH24: =IF(OR($E24="",$Z$14="",AH$13=0),"",MAX(TRUNC(($Z24-$AA$13)/AH$11),0)) | AI24: =IF(OR($E24="",$AB$14="",AI$13=0),"",MAX(TRUNC(($AB24-$AC$13)/AI$11),0)) | AJ24: =IF($AJ$12=0,"",IF(L24="SI",$AJ$12,0))
A25: =A24+1 -> 11 | B25: =$B$10 -> Responsable tècnic/a de seguretat | L25: N/D | M25: =IF($M$14="","",ROUND(SUMIF($AE$39:$AE$103,CONCATENATE(E25,"SI"),$AD$39:$AD$103)/12,2)) -> 0 | Q25: =IF($Q$14="","",ROUND(SUMIF($AF$39:$AF$78,CONCATENATE(E25,"SI"),$AD$39:$AD$78)/12,2)) | X25: =IF($X$14="","",ROUND(SUMIF($AG$39:$AG$78,CONCATENATE(E25,"SI"),$AD$39:$AD$78)/12,2)) | Z25: =IF($Z$14="","",ROUND(SUMIF($AH$39:$AH$78,CONCATENATE(E25,"SI"),$AD$39:$AD$78)/12,2)) | AB25: =IF($AB$14="","",ROUND(SUMIF($AI$39:$AI$78,CONCATENATE(E25,"SI"),$AD$39:$AD$78)/12,2)) | AD25: =IF(OR(E25="",M24=""),"N/A",IF(AND(IF($L$14="","SI",IF(VLOOKUP($A$10,EXPERIENCIA_REQUERIDA_PERFIL!A:BD,4,FALSE)="NO","SI",L25))="SI",M25>=$P$13,Q25>=$W$13,X25>=$Y$13),"OK","KO")) -> N/A | AE25: =IF(OR($E25="",$M$14="",AE$13=0),"",MAX(TRUNC((M25-$P$13)/AE$11),0)) | AF25: =IF(OR($E25="",$Q$14="",AF$13=0),"",MAX(TRUNC((Q25-$W$13)/AF$11),0)) | AG25: =IF(OR($E25="",$X$14="",AG$13=0),"",MAX(TRUNC((X25-$Y$13)/AG$11),0)) | AH25: =IF(OR($E25="",$Z$14="",AH$13=0),"",MAX(TRUNC(($Z25-$AA$13)/AH$11),0)) | AI25: =IF(OR($E25="",$AB$14="",AI$13=0),"",MAX(TRUNC(($AB25-$AC$13)/AI$11),0)) | AJ25: =IF($AJ$12=0,"",IF(L25="SI",$AJ$12,0))
A26: =A25+1 -> 12 | B26: =$B$10 -> Responsable tècnic/a de seguretat | L26: N/D | M26: =IF($M$14="","",ROUND(SUMIF($AE$39:$AE$103,CONCATENATE(E26,"SI"),$AD$39:$AD$103)/12,2)) -> 0 | Q26: =IF($Q$14="","",ROUND(SUMIF($AF$39:$AF$78,CONCATENATE(E26,"SI"),$AD$39:$AD$78)/12,2)) | X26: =IF($X$14="","",ROUND(SUMIF($AG$39:$AG$78,CONCATENATE(E26,"SI"),$AD$39:$AD$78)/12,2)) | Z26: =IF($Z$14="","",ROUND(SUMIF($AH$39:$AH$78,CONCATENATE(E26,"SI"),$AD$39:$AD$78)/12,2)) | AB26: =IF($AB$14="","",ROUND(SUMIF($AI$39:$AI$78,CONCATENATE(E26,"SI"),$AD$39:$AD$78)/12,2)) | AD26: =IF(OR(E26="",M25=""),"N/A",IF(AND(IF($L$14="","SI",IF(VLOOKUP($A$10,EXPERIENCIA_REQUERIDA_PERFIL!A:BD,4,FALSE)="NO","SI",L26))="SI",M26>=$P$13,Q26>=$W$13,X26>=$Y$13),"OK","KO")) -> N/A | AE26: =IF(OR($E26="",$M$14="",AE$13=0),"",MAX(TRUNC((M26-$P$13)/AE$11),0)) | AF26: =IF(OR($E26="",$Q$14="",AF$13=0),"",MAX(TRUNC((Q26-$W$13)/AF$11),0)) | AG26: =IF(OR($E26="",$X$14="",AG$13=0),"",MAX(TRUNC((X26-$Y$13)/AG$11),0)) | AH26: =IF(OR($E26="",$Z$14="",AH$13=0),"",MAX(TRUNC(($Z26-$AA$13)/AH$11),0)) | AI26: =IF(OR($E26="",$AB$14="",AI$13=0),"",MAX(TRUNC(($AB26-$AC$13)/AI$11),0)) | AJ26: =IF($AJ$12=0,"",IF(L26="SI",$AJ$12,0))
A27: =A26+1 -> 13 | B27: =$B$10 -> Responsable tècnic/a de seguretat | L27: N/D | M27: =IF($M$14="","",ROUND(SUMIF($AE$39:$AE$103,CONCATENATE(E27,"SI"),$AD$39:$AD$103)/12,2)) -> 0 | Q27: =IF($Q$14="","",ROUND(SUMIF($AF$39:$AF$78,CONCATENATE(E27,"SI"),$AD$39:$AD$78)/12,2)) | X27: =IF($X$14="","",ROUND(SUMIF($AG$39:$AG$78,CONCATENATE(E27,"SI"),$AD$39:$AD$78)/12,2)) | Z27: =IF($Z$14="","",ROUND(SUMIF($AH$39:$AH$78,CONCATENATE(E27,"SI"),$AD$39:$AD$78)/12,2)) | AB27: =IF($AB$14="","",ROUND(SUMIF($AI$39:$AI$78,CONCATENATE(E27,"SI"),$AD$39:$AD$78)/12,2)) | AD27: =IF(OR(E27="",M26=""),"N/A",IF(AND(IF($L$14="","SI",IF(VLOOKUP($A$10,EXPERIENCIA_REQUERIDA_PERFIL!A:BD,4,FALSE)="NO","SI",L27))="SI",M27>=$P$13,Q27>=$W$13,X27>=$Y$13),"OK","KO")) -> N/A | AE27: =IF(OR($E27="",$M$14="",AE$13=0),"",MAX(TRUNC((M27-$P$13)/AE$11),0)) | AF27: =IF(OR($E27="",$Q$14="",AF$13=0),"",MAX(TRUNC((Q27-$W$13)/AF$11),0)) | AG27: =IF(OR($E27="",$X$14="",AG$13=0),"",MAX(TRUNC((X27-$Y$13)/AG$11),0)) | AH27: =IF(OR($E27="",$Z$14="",AH$13=0),"",MAX(TRUNC(($Z27-$AA$13)/AH$11),0)) | AI27: =IF(OR($E27="",$AB$14="",AI$13=0),"",MAX(TRUNC(($AB27-$AC$13)/AI$11),0)) | AJ27: =IF($AJ$12=0,"",IF(L27="SI",$AJ$12,0))
... A34: =A33+1 -> 20 | B34: =$B$10 -> Responsable tècnic/a de seguretat | L34: N/D | M34: =IF($M$14="","",ROUND(SUMIF($AE$39:$AE$103,CONCATENATE(E34,"SI"),$AD$39:$AD$103)/12,2)) -> 0 | Q34: =IF($Q$14="","",ROUND(SUMIF($AF$39:$AF$78,CONCATENATE(E34,"SI"),$AD$39:$AD$78)/12,2)) | X34: =IF($X$14="","",ROUND(SUMIF($AG$39:$AG$78,CONCATENATE(E34,"SI"),$AD$39:$AD$78)/12,2)) | Z34: =IF($Z$14="","",ROUND(SUMIF($AH$39:$AH$78,CONCATENATE(E34,"SI"),$AD$39:$AD$78)/12,2)) | AB34: =IF($AB$14="","",ROUND(SUMIF($AI$39:$AI$78,CONCATENATE(E34,"SI"),$AD$39:$AD$78)/12,2)) | AD34: =IF(OR(E34="",M33=""),"N/A",IF(AND(IF($L$14="","SI",IF(VLOOKUP($A$10,EXPERIENCIA_REQUERIDA_PERFIL!A:BD,4,FALSE)="NO","SI",L34))="SI",M34>=$P$13,Q34>=$W$13,X34>=$Y$13),"OK","KO")) -> N/A | AE34: =IF(OR($E34="",$M$14="",AE$13=0),"",MAX(TRUNC((M34-$P$13)/AE$11),0)) | AF34: =IF(OR($E34="",$Q$14="",AF$13=0),"",MAX(TRUNC((Q34-$W$13)/AF$11),0)) | AG34: =IF(OR($E34="",$X$14="",AG$13=0),"",MAX(TRUNC((X34-$Y$13)/AG$11),0)) | AH34: =IF(OR($E34="",$Z$14="",AH$13=0),"",MAX(TRUNC(($Z34-$AA$13)/AH$11),0)) | AI34: =IF(OR($E34="",$AB$14="",AI$13=0),"",MAX(TRUNC(($AB34-$AC$13)/AI$11),0)) | AJ34: =IF($AJ$12=0,"",IF(L34="SI",$AJ$12,0))
AD35: Total punts | AE35: =SUM(AE15:AE34) -> 0 | AF35: =SUM(AF15:AF34) -> 0 | AG35: =SUM(AG15:AG34) -> 0 | AH35: =SUM(AH15:AH34) -> 0 | AI35: =SUM(AI15:AI34) -> 0 | AJ35: =SUM(AJ15:AJ34) -> 0
AD36: Total punts limitant amb màxim | AE36: =MIN(AE13,AE12*AE35) -> 0 | AF36: =MIN(AF13,AF12*AF35) -> 0 | AG36: =MIN(AG13,AG12*AG35) -> 0 | AH36: =MIN(AH13,AH12*AH35) -> 0 | AI36: =MIN(AI13,AI12*AI35) -> 0 | AJ36: =MIN($AJ$13,SUM(AJ15:AJ34)) -> 0
B38: Nom administració / empresa, tantes files com administracions / empreses on hagi assolit l’experiència amb aquest rol | E38: Detall de projecte on es declari el rol realitzat per el recurs i les tecnologies associades, destacant les relatives a l’objecte del contracte, tantes files com projectes on hagi tingut l’experiència amb aquest rol | N38: Núm. expedient / contracte | O38: Inicials del treballador/a | P38: =M14 -> Responsable tècnic/a de seguretat en projectes de sistemes d’informació. | Q38: =Q14 | W38: =X14 | X38: =Z14 | Y38: =AB14 | Z38: Inici amb el rol (DD/MM/AAAA) | AA38: Fi amb el rol (DD/MM/AAAA) | AC38: % Dedicació | AD38: Mesos
B39: Ajuntament 1 | E39: Projecte 1 exemple | O39: TR1 | P39: SI | Q39: N/D | W39: N/D | X39: N/D | Y39: N/D | Z39: 43466 | AA39: 44562 | AC39: 1 | AD39: =ROUND((AA39-Z39)/365*12*AC39,2) -> 36.03 | AE39: =CONCATENATE(O39,P39) -> TR1SI | AF39: =CONCATENATE(O39,Q39) -> TR1N/D | AG39: =CONCATENATE(O39,W39) -> TR1N/D | AH39: =CONCATENATE(O39,X39) -> TR1N/D | AI39: =CONCATENATE(O39,Y39) -> TR1N/D
P40: N/D | Q40: N/D | W40: N/D | X40: N/D | Y40: N/D | AD40: =ROUND((AA40-Z40)/365*12*AC40,2) -> 0 | AE40: =CONCATENATE(O40,P40) -> N/D | AF40: =CONCATENATE(O40,Q40) -> N/D | AG40: =CONCATENATE(O40,W40) -> N/D | AH40: =CONCATENATE(O40,X40) -> N/D | AI40: =CONCATENATE(O40,Y40) -> N/D
P41: N/D | Q41: N/D | W41: N/D | X41: N/D | Y41: N/D | AD41: =ROUND((AA41-Z41)/365*12*AC41,2) -> 0 | AE41: =CONCATENATE(O41,P41) -> N/D | AF41: =CONCATENATE(O41,Q41) -> N/D | AG41: =CONCATENATE(O41,W41) -> N/D | AH41: =CONCATENATE(O41,X41) -> N/D | AI41: =CONCATENATE(O41,Y41) -> N/D
P42: N/D | Q42: N/D | W42: N/D | X42: N/D | Y42: N/D | AD42: =ROUND((AA42-Z42)/365*12*AC42,2) -> 0 | AE42: =CONCATENATE(O42,P42) -> N/D | AF42: =CONCATENATE(O42,Q42) -> N/D | AG42: =CONCATENATE(O42,W42) -> N/D | AH42: =CONCATENATE(O42,X42) -> N/D | AI42: =CONCATENATE(O42,Y42) -> N/D
P43: N/D | Q43: N/D | W43: N/D | X43: N/D | Y43: N/D | AD43: =ROUND((AA43-Z43)/365*12*AC43,2) -> 0 | AE43: =CONCATENATE(O43,P43) -> N/D | AF43: =CONCATENATE(O43,Q43) -> N/D | AG43: =CONCATENATE(O43,W43) -> N/D | AH43: =CONCATENATE(O43,X43) -> N/D | AI43: =CONCATENATE(O43,Y43) -> N/D
P44: N/D | Q44: N/D | W44: N/D | X44: N/D | Y44: N/D | AD44: =ROUND((AA44-Z44)/365*12*AC44,2) -> 0 | AE44: =CONCATENATE(O44,P44) -> N/D | AF44: =CONCATENATE(O44,Q44) -> N/D | AG44: =CONCATENATE(O44,W44) -> N/D | AH44: =CONCATENATE(O44,X44) -> N/D | AI44: =CONCATENATE(O44,Y44) -> N/D
P45: N/D | Q45: N/D | W45: N/D | X45: N/D | Y45: N/D | AD45: =ROUND((AA45-Z45)/365*12*AC45,2) -> 0 | AE45: =CONCATENATE(O45,P45) -> N/D | AF45: =CONCATENATE(O45,Q45) -> N/D | AG45: =CONCATENATE(O45,W45) -> N/D | AH45: =CONCATENATE(O45,X45) -> N/D | AI45: =CONCATENATE(O45,Y45) -> N/D
P46: N/D | Q46: N/D | W46: N/D | X46: N/D | Y46: N/D | AD46: =ROUND((AA46-Z46)/365*12*AC46,2) -> 0 | AE46: =CONCATENATE(O46,P46) -> N/D | AF46: =CONCATENATE(O46,Q46) -> N/D | AG46: =CONCATENATE(O46,W46) -> N/D | AH46: =CONCATENATE(O46,X46) -> N/D | AI46: =CONCATENATE(O46,Y46) -> N/D
P47: N/D | Q47: N/D | W47: N/D | X47: N/D | Y47: N/D | AD47: =ROUND((AA47-Z47)/365*12*AC47,2) -> 0 | AE47: =CONCATENATE(O47,P47) -> N/D | AF47: =CONCATENATE(O47,Q47) -> N/D | AG47: =CONCATENATE(O47,W47) -> N/D | AH47: =CONCATENATE(O47,X47) -> N/D | AI47: =CONCATENATE(O47,Y47) -> N/D
P48: N/D | Q48: N/D | W48: N/D | X48: N/D | Y48: N/D | AD48: =ROUND((AA48-Z48)/365*12*AC48,2) -> 0 | AE48: =CONCATENATE(O48,P48) -> N/D | AF48: =CONCATENATE(O48,Q48) -> N/D | AG48: =CONCATENATE(O48,W48) -> N/D | AH48: =CONCATENATE(O48,X48) -> N/D | AI48: =CONCATENATE(O48,Y48) -> N/D
P49: N/D | Q49: N/D | W49: N/D | X49: N/D | Y49: N/D | AD49: =ROUND((AA49-Z49)/365*12*AC49,2) -> 0 | AE49: =CONCATENATE(O49,P49) -> N/D | AF49: =CONCATENATE(O49,Q49) -> N/D | AG49: =CONCATENATE(O49,W49) -> N/D | AH49: =CONCATENATE(O49,X49) -> N/D | AI49: =CONCATENATE(O49,Y49) -> N/D
P50: N/D | Q50: N/D | W50: N/D | X50: N/D | Y50: N/D | AD50: =ROUND((AA50-Z50)/365*12*AC50,2) -> 0 | AE50: =CONCATENATE(O50,P50) -> N/D | AF50: =CONCATENATE(O50,Q50) -> N/D | AG50: =CONCATENATE(O50,W50) -> N/D | AH50: =CONCATENATE(O50,X50) -> N/D | AI50: =CONCATENATE(O50,Y50) -> N/D
P51: N/D | Q51: N/D | W51: N/D | X51: N/D | Y51: N/D | AD51: =ROUND((AA51-Z51)/365*12*AC51,2) -> 0 | AE51: =CONCATENATE(O51,P51) -> N/D | AF51: =CONCATENATE(O51,Q51) -> N/D | AG51: =CONCATENATE(O51,W51) -> N/D | AH51: =CONCATENATE(O51,X51) -> N/D | AI51: =CONCATENATE(O51,Y51) -> N/D
... P103: N/D | Q103: N/D | W103: N/D | X103: N/D | Y103: N/D | AD103: =ROUND((AA103-Z103)/365*12*AC103,2) -> 0 | AE103: =CONCATENATE(O103,P103) -> N/D | AF103: =CONCATENATE(O103,Q103) -> N/D | AG103: =CONCATENATE(O103,W103) -> N/D | AH103: =CONCATENATE(O103,X103) -> N/D | AI103: =CONCATENATE(O103,Y103) -> N/D

Sheet 3.Analista .NET_Arqitecte-a
D2: DECLARACIÓ DE DADES DETALL EQUIP TÈCNIC
A7: Omplir només les caselles en Verd, les caselles grises s'ompliran automàticament.
