Workbook
Name C_Despesa: '[1]Dades auxiliars'!$N$1:$N$9
Name Dades_Servei: '[2]Dades auxiliars'!$A$1:$J$262
Name T_Despesa: '[1]Dades auxiliars'!$M$1:$M$5

Sheet Càlcul pressupost 
A1: OMNICANALITAT 2023
A2: Data inici contracte | B2: 45202 | E2: Inici | F2: =B2 -> 45202 | G2: Fi possible pròrroga | I2: =F2 -> 45202
A3: Data inici servei | B3: 45202 | E3: Fi | F3: =+B4 -> 45932 | G3: 46297 | I3: 45291
A4: Data fi del contracte | B4: 45932 | F4: =F3-F2+1 -> 731 | G4: 1 mes transició | I4: =I3-I2+1 -> 90
C5: Servei LOT 1 | D5: Subservei LOT 1 | E5: Import 1r any IVA inc | F5: Import 2n any IVA inc | G5: import 2023 IVA inc | H5: import 2024 IVA inc | I5: import 2025 IVA inc | J5: Import Total IVA inclòs | K5: import 1r any IVA exc | L5: import 2n any IVA exc | M5: import 2023 IVA exc | N5: import 2024 IVA exc | O5: import 2025 IVA exc | P5: Import Total IVA exclòs | Q5: Mensual
C6: Servei d’Aprovisionament i configuració | D6: Aprovisionament Infraestructura cloud i comunicacions | E6: =K6*1.21 -> 188820.5 | F6: =L6*1.21 -> 188820.5 | G6: =CalculPressup[[#This Row],[import 2023 IVA exc]]*1.21 -> 46558.479 | H6: =CalculPressup[[#This Row],[import 2024 IVA exc]]*1.21 -> 188820.5 | I6: =CalculPressup[[#This Row],[import 2025 IVA exc]]*1.21 -> 142262.02 | J6: =SUM(CalculPressup[[#This Row],[import 2023 IVA inc]:[import 2025 IVA inc]]) -> 377641 | K6: =MROUND(Infraestructura!D22,10) -> 156050 | L6: =MROUND(Infraestructura!D22,10) -> 156050 | M6: =(CalculPressup[[#This Row],[import 1r any IVA exc]]/365)*$I$4 -> 38478.082 | N6: =(CalculPressup[[#This Row],[import 1r any IVA exc]]-CalculPressup[[#This Row],[import 2023 IVA exc]])+(CalculPressup[[#This Row],[import 2n any IVA exc]]/365)*$I$4 -> 156050 | O6: =(CalculPressup[[#This Row],[import 1r any IVA exc]]+CalculPressup[[#This Row],[import 2n any IVA exc]])-(CalculPressup[[#This Row],[import 2023 IVA exc]]+CalculPressup[[#This Row],[import 2024 IVA exc]]) -> 117571.92 | P6: =SUM(CalculPressup[[#This Row],[import 2023 IVA exc]:[import 2025 IVA exc]]) -> 312100 | Q6: =(CalculPressup[[#This Row],[Import Total IVA exclòs]]/2)/12 -> 13004.167 | S6: Aprovisionament Infraestructura cloud + comunicacions
D7: Instal·lació i configuració | E7: =K7*1.21 -> 302500 | F7: =L7*1.21 -> 0 | G7: =CalculPressup[[#This Row],[import 2023 IVA exc]]*1.21 -> 74589.041 | H7: =CalculPressup[[#This Row],[import 2024 IVA exc]]*1.21-0.01 -> 227910.95 | I7: =CalculPressup[[#This Row],[import 2025 IVA exc]]*1.21 -> 0 | J7: =SUM(CalculPressup[[#This Row],[import 2023 IVA inc]:[import 2025 IVA inc]])-0.01 -> 302499.98 | K7: 250000 | L7: 0 | M7: =(CalculPressup[[#This Row],[import 1r any IVA exc]]/365)*$I$4 -> 61643.836 | N7: =(CalculPressup[[#This Row],[import 1r any IVA exc]]-CalculPressup[[#This Row],[import 2023 IVA exc]])+(CalculPressup[[#This Row],[import 2n any IVA exc]]/365)*$I$4 -> 188356.16 | O7: =(CalculPressup[[#This Row],[import 1r any IVA exc]]+CalculPressup[[#This Row],[import 2n any IVA exc]])-(CalculPressup[[#This Row],[import 2023 IVA exc]]+CalculPressup[[#This Row],[import 2024 IVA exc]]) -> 0 | P7: =SUM(CalculPressup[[#This Row],[import 2023 IVA exc]:[import 2025 IVA exc]]) -> 250000 | Q7: =(CalculPressup[[#This Row],[Import Total IVA exclòs]]/2)/12 -> 10416.667 | S7: Instal·lació i configuració components
D8: Serveis professionals de suport | E8: =K8*1.21 -> 60500 | F8: =L8*1.21 -> 60500 | G8: =CalculPressup[[#This Row],[import 2023 IVA exc]]*1.21 -> 14917.808 | H8: =CalculPressup[[#This Row],[import 2024 IVA exc]]*1.21 -> 60500 | I8: =CalculPressup[[#This Row],[import 2025 IVA exc]]*1.21 -> 45582.192 | J8: =SUM(CalculPressup[[#This Row],[import 2023 IVA inc]:[import 2025 IVA inc]]) -> 121000 | K8: 50000 | L8: 50000 | M8: =(CalculPressup[[#This Row],[import 1r any IVA exc]]/365)*$I$4 -> 12328.767 | N8: =(CalculPressup[[#This Row],[import 1r any IVA exc]]-CalculPressup[[#This Row],[import 2023 IVA exc]])+(CalculPressup[[#This Row],[import 2n any IVA exc]]/365)*$I$4 -> 50000 | O8: =(CalculPressup[[#This Row],[import 1r any IVA exc]]+CalculPressup[[#This Row],[import 2n any IVA exc]])-(CalculPressup[[#This Row],[import 2023 IVA exc]]+CalculPressup[[#This Row],[import 2024 IVA exc]]) -> 37671.233 | P8: =SUM(CalculPressup[[#This Row],[import 2023 IVA exc]:[import 2025 IVA exc]]) -> 100000 | Q8: =(CalculPressup[[#This Row],[Import Total IVA exclòs]]/2)/12 -> 4166.6667 | S8: Serveis professionals de suport
C9: TOTAL | D9: SUBSERVEI 1 | J9: =SUM(J6:J8) -> 801140.98 | P9: =SUM(P6:P8) -> 662100
C10: Servei administració, operació i manteniment | D10: Administració i operació Cloud | E10: =K10*1.21 -> 60500 | F10: =L10*1.21 -> 121000 | G10: =CalculPressup[[#This Row],[import 2023 IVA exc]]*1.21 -> 14917.808 | H10: =CalculPressup[[#This Row],[import 2024 IVA exc]]*1.21 -> 75417.808 | I10: =CalculPressup[[#This Row],[import 2025 IVA exc]]*1.21 -> 91164.382 | J10: =SUM(CalculPressup[[#This Row],[import 2023 IVA inc]:[import 2025 IVA inc]]) -> 181500 | K10: 50000 | L10: 100000 | M10: =(CalculPressup[[#This Row],[import 1r any IVA exc]]/365)*$I$4 -> 12328.767 | N10: =(CalculPressup[[#This Row],[import 1r any IVA exc]]-CalculPressup[[#This Row],[import 2023 IVA exc]])+(CalculPressup[[#This Row],[import 2n any IVA exc]]/365)*$I$4 -> 62328.767 | O10: =(CalculPressup[[#This Row],[import 1r any IVA exc]]+CalculPressup[[#This Row],[import 2n any IVA exc]])-(CalculPressup[[#This Row],[import 2023 IVA exc]]+CalculPressup[[#This Row],[import 2024 IVA exc]])-0.001 -> 75342.465 | P10: =SUM(CalculPressup[[#This Row],[import 2023 IVA exc]:[import 2025 IVA exc]]) -> 150000 | Q10: =(CalculPressup[[#This Row],[Import Total IVA exclòs]]/2)/12 -> 6250 | S10: Administració i operació Cloud
D11: Manteniment Plataforma | E11: =K11*1.21 -> 0 | F11: =L11*1.21 -> 181500 | G11: =CalculPressup[[#This Row],[import 2023 IVA exc]]*1.21 -> 0 | H11: =CalculPressup[[#This Row],[import 2024 IVA exc]]*1.21 -> 44753.425 | I11: =CalculPressup[[#This Row],[import 2025 IVA exc]]*1.21 -> 136746.58 | J11: =SUM(CalculPressup[[#This Row],[import 2023 IVA inc]:[import 2025 IVA inc]]) -> 181500 | K11: 0 | L11: 150000 | M11: =(CalculPressup[[#This Row],[import 1r any IVA exc]]/365)*$I$4 -> 0 | N11: =(CalculPressup[[#This Row],[import 1r any IVA exc]]-CalculPressup[[#This Row],[import 2023 IVA exc]])+(CalculPressup[[#This Row],[import 2n any IVA exc]]/365)*$I$4 -> 36986.301 | O11: =(CalculPressup[[#This Row],[import 1r any IVA exc]]+CalculPressup[[#This Row],[import 2n any IVA exc]])-(CalculPressup[[#This Row],[import 2023 IVA exc]]+CalculPressup[[#This Row],[import 2024 IVA exc]]) -> 113013.7 | P11: =SUM(CalculPressup[[#This Row],[import 2023 IVA exc]:[import 2025 IVA exc]]) -> 150000 | Q11: =(CalculPressup[[#This Row],[Import Total IVA exclòs]]/2)/12 -> 6250 | S11: Manteniment Plataforma
C12: TOTAL | D12: SUBSERVEI 2 | J12: =SUM(J10:J11) -> 363000 | P12: =SUM(P10:P11) -> 300000
C13: Llicències | D13: Llicències | E13: =K13*1.21 -> 465850 | F13: =L13*1.21 -> 465850 | G13: =CalculPressup[[#This Row],[import 2023 IVA exc]]*1.21 -> 114867.12 | H13: =CalculPressup[[#This Row],[import 2024 IVA exc]]*1.21 -> 465850 | I13: =CalculPressup[[#This Row],[import 2025 IVA exc]]*1.21 -> 350982.88 | J13: =SUM(CalculPressup[[#This Row],[import 2023 IVA inc]:[import 2025 IVA inc]]) -> 931700 | K13: 385000 | L13: 385000 | M13: =(CalculPressup[[#This Row],[import 1r any IVA exc]]/365)*$I$4 -> 94931.507 | N13: =(CalculPressup[[#This Row],[import 1r any IVA exc]]-CalculPressup[[#This Row],[import 2023 IVA exc]])+(CalculPressup[[#This Row],[import 2n any IVA exc]]/365)*$I$4 -> 385000 | O13: =(CalculPressup[[#This Row],[import 1r any IVA exc]]+CalculPressup[[#This Row],[import 2n any IVA exc]])-(CalculPressup[[#This Row],[import 2023 IVA exc]]+CalculPressup[[#This Row],[import 2024 IVA exc]]) -> 290068.49 | P13: =SUM(CalculPressup[[#This Row],[import 2023 IVA exc]:[import 2025 IVA exc]]) -> 770000 | Q13: =(CalculPressup[[#This Row],[Import Total IVA exclòs]]/2)/12 -> 32083.333 | S13: Llicències
C14: TOTAL | D14: SUBSERVEI 3 | J14: =SUM(J13) -> 931700 | P14: =SUM(P13) -> 770000 | V14: =1000*2+500*4+250*8 -> 6000
C15: Servei Desenvolupament | D15: Desenvolupament programari | E15: =K15*1.21 -> 544500 | F15: =L15*1.21 -> 0 | G15: =CalculPressup[[#This Row],[import 2023 IVA exc]]*1.21 -> 134260.27 | H15: =CalculPressup[[#This Row],[import 2024 IVA exc]]*1.21 -> 410239.73 | I15: =CalculPressup[[#This Row],[import 2025 IVA exc]]*1.21 -> 0 | J15: =SUM(CalculPressup[[#This Row],[import 2023 IVA inc]:[import 2025 IVA inc]]) -> 544500 | K15: 450000 | L15: 0 | M15: =(CalculPressup[[#This Row],[import 1r any IVA exc]]/365)*$I$4 -> 110958.9 | N15: =(CalculPressup[[#This Row],[import 1r any IVA exc]]-CalculPressup[[#This Row],[import 2023 IVA exc]])+(CalculPressup[[#This Row],[import 2n any IVA exc]]/365)*$I$4 -> 339041.1 | O15: =(CalculPressup[[#This Row],[import 1r any IVA exc]]+CalculPressup[[#This Row],[import 2n any IVA exc]])-(CalculPressup[[#This Row],[import 2023 IVA exc]]+CalculPressup[[#This Row],[import 2024 IVA exc]]) -> 0 | P15: =SUM(CalculPressup[[#This Row],[import 2023 IVA exc]:[import 2025 IVA exc]]) -> 450000 | Q15: =(CalculPressup[[#This Row],[Import Total IVA exclòs]]/2)/12 -> 18750 | S15: Desenvolupament programari | U15: =CalculPressup[[#This Row],[Import Total IVA exclòs]]/H54 -> 5598.4076 | V15: 2 integracions altas + 4 int media + 8 int basicas
D16: Digitalització de serveis públics | E16: =K16*1.21 -> 211750 | F16: =L16*1.21 -> 332750 | G16: =CalculPressup[[#This Row],[import 2023 IVA exc]]*1.21 -> 52212.329 | H16: =CalculPressup[[#This Row],[import 2024 IVA exc]]*1.21 -> 241585.62 | I16: =CalculPressup[[#This Row],[import 2025 IVA exc]]*1.21 -> 250702.05 | J16: =SUM(CalculPressup[[#This Row],[import 2023 IVA inc]:[import 2025 IVA inc]]) -> 544500 | K16: 175000 | L16: 275000 | M16: =(CalculPressup[[#This Row],[import 1r any IVA exc]]/365)*$I$4 -> 43150.685 | N16: =(CalculPressup[[#This Row],[import 1r any IVA exc]]-CalculPressup[[#This Row],[import 2023 IVA exc]])+(CalculPressup[[#This Row],[import 2n any IVA exc]]/365)*$I$4+0.001 -> 199657.54 | O16: =(CalculPressup[[#This Row],[import 1r any IVA exc]]+CalculPressup[[#This Row],[import 2n any IVA exc]])-(CalculPressup[[#This Row],[import 2023 IVA exc]]+CalculPressup[[#This Row],[import 2024 IVA exc]]) -> 207191.78 | P16: =SUM(CalculPressup[[#This Row],[import 2023 IVA exc]:[import 2025 IVA exc]]) -> 450000 | Q16: =(CalculPressup[[#This Row],[Import Total IVA exclòs]]/2)/12 -> 18750 | S16: Digitalització de serveis públics | U16: =CalculPressup[[#This Row],[Import Total IVA exclòs]]/K55 -> 6012.8274 | V16: 2 cas us alt+3 cas mig +4 cas simple
C17: TOTAL | D17: SUBSERVEI 4 | J17: =SUM(J15:J16) -> 1089000 | P17: =SUM(P15:P16) -> 900000 | V17: =800*3+300*3+100*3 -> 3600
C18: Servei Gestió projecte i transició | D18: Gestió projecte | E18: =K18*1.21 -> 121000 | F18: =L18*1.21 -> 121000 | G18: =CalculPressup[[#This Row],[import 2023 IVA exc]]*1.21 -> 29835.616 | H18: =CalculPressup[[#This Row],[import 2024 IVA exc]]*1.21 -> 121000 | I18: =CalculPressup[[#This Row],[import 2025 IVA exc]]*1.21 -> 91164.384 | J18: =SUM(CalculPressup[[#This Row],[import 2023 IVA inc]:[import 2025 IVA inc]]) -> 242000 | K18: 100000 | L18: 100000 | M18: =(CalculPressup[[#This Row],[import 1r any IVA exc]]/365)*$I$4 -> 24657.534 | N18: =(CalculPressup[[#This Row],[import 1r any IVA exc]]-CalculPressup[[#This Row],[import 2023 IVA exc]])+(CalculPressup[[#This Row],[import 2n any IVA exc]]/365)*$I$4 -> 100000 | O18: =(CalculPressup[[#This Row],[import 1r any IVA exc]]+CalculPressup[[#This Row],[import 2n any IVA exc]])-(CalculPressup[[#This Row],[import 2023 IVA exc]]+CalculPressup[[#This Row],[import 2024 IVA exc]]) -> 75342.466 | P18: =SUM(CalculPressup[[#This Row],[import 2023 IVA exc]:[import 2025 IVA exc]]) -> 200000 | Q18: =(CalculPressup[[#This Row],[Import Total IVA exclòs]]/2)/12 -> 8333.3333 | S18: Gestió projecte
D19: Transició | E19: =K19*1.21 -> 0 | F19: =L19*1.21 -> 30250 | G19: =CalculPressup[[#This Row],[import 2023 IVA exc]]*1.21 -> 0 | H19: =CalculPressup[[#This Row],[import 2024 IVA exc]]*1.21 -> 0 | I19: =CalculPressup[[#This Row],[import 2025 IVA exc]]*1.21 -> 30250 | J19: =SUM(CalculPressup[[#This Row],[import 2023 IVA inc]:[import 2025 IVA inc]]) -> 30250 | K19: 0 | L19: =(Q10+Q11+Q15+Q16)/2 -> 25000 | M19: =(CalculPressup[[#This Row],[import 1r any IVA exc]]/365)*$I$4 -> 0 | N19: =0 -> 0 | O19: =(CalculPressup[[#This Row],[import 1r any IVA exc]]+CalculPressup[[#This Row],[import 2n any IVA exc]])-(CalculPressup[[#This Row],[import 2023 IVA exc]]+CalculPressup[[#This Row],[import 2024 IVA exc]]) -> 25000 | P19: =SUM(CalculPressup[[#This Row],[import 2023 IVA exc]:[import 2025 IVA exc]]) -> 25000 | S19: Transició
C20: TOTAL | D20: SUBSERVEI 5 | J20: =SUM(J18:J19) -> 272250 | P20: =SUM(P18:P19) -> 225000
D21: Import total licitació | E21: =SUBTOTAL(109,CalculPressup[Import 1r any IVA inc]) -> 1955420.5 | F21: =SUBTOTAL(109,CalculPressup[Import 2n any IVA inc]) -> 1501670.5 | G21: =SUBTOTAL(109,CalculPressup[import 2023 IVA inc]) -> 482158.48 | H21: =SUBTOTAL(109,CalculPressup[import 2024 IVA inc]) -> 1836078 | I21: =SUBTOTAL(109,CalculPressup[import 2025 IVA inc]) -> 1138854.5 | J21: =J9+J12+J14+J17+J20 -> 3457091 | K21: =SUBTOTAL(109,CalculPressup[import 1r any IVA exc]) -> 1616050 | L21: =SUBTOTAL(109,CalculPressup[import 2n any IVA exc]) -> 1241050 | M21: =SUBTOTAL(109,CalculPressup[import 2023 IVA exc]) -> 398478.08 | N21: =SUBTOTAL(109,CalculPressup[import 2024 IVA exc])+0.001 -> 1517419.9 | O21: =SUBTOTAL(109,CalculPressup[import 2025 IVA exc]) -> 941202.05 | P21: =P9+P12+P14+P17+P20 -> 2857100 | Q21: =SUM(Q6:Q19) -> 118004.17
D24: Servei LOT 2 | E24: Import 1r any IVA inc | F24: Import 2n any IVA inc | G24: import 2023 IVA inc | H24: import 2024 IVA inc | I24: import 2025 IVA inc | J24: Import Total IVA inclòs | K24: Import 1r any IVA exc | L24: Import 2n any IVA exc | M24: import 2023 IVA exc | N24: import 2024 IVA exc | O24: import 2025 IVA exc | P24: Import Total IVA exclòs
D25: PMO | E25: =K25*1.21 -> 326700 | F25: =L25*1.21 -> 326700 | G25: =Taula1[import 2023 IVA exc]*1.21 -> 80556.164 | H25: =Taula1[import 2024 IVA exc]*1.21 -> 326700 | I25: =Taula1[import 2025 IVA exc]*1.21 -> 246143.84 | J25: =SUM(Taula1[[import 2023 IVA inc]:[import 2025 IVA inc]]) -> 653400 | K25: 270000 | L25: 270000 | M25: =(Taula1[[#This Row],[Import 1r any IVA exc]]/365)*$I$4 -> 66575.342 | N25: =(Taula1[[#This Row],[Import 1r any IVA exc]]-Taula1[[#This Row],[import 2023 IVA exc]])+(Taula1[[#This Row],[Import 2n any IVA exc]]/365)*$I$4 -> 270000 | O25: =(Taula1[[#This Row],[Import 2n any IVA exc]]/365)*(365-$I$4) -> 203424.66 | P25: =SUM(Taula1[[#This Row],[import 2023 IVA exc]:[import 2025 IVA exc]]) -> 540000 | Q25: =(Taula1[Import Total IVA exclòs]/2)/12 -> 22500
D26: Transició | E26: =Taula1[[#Totals],[Import 1r any IVA exc]]*1.21 -> 0 | F26: =Taula1[[#Totals],[Import 2n any IVA exc]]*1.21 -> 13612.5 | I26: =Taula1[[#Totals],[import 2025 IVA exc]]*1.21 -> 13612.5 | J26: =Taula1[[#Totals],[import 2025 IVA inc]] -> 13612.5 | K26: 0 | L26: =Q25/2 -> 11250 | M26: =Taula1[[#Totals],[Import 1r any IVA exc]]*$I$4 -> 0 | N26: - € | O26: =(Taula1[[#Totals],[Import 2n any IVA exc]]) -> 11250 | P26: =SUM(Taula1[[#Totals],[import 2023 IVA exc]:[import 2025 IVA exc]]) -> 11250
D27: Import total licitació | E27: =SUM(Taula1[[#Data],[#Totals],[Import 1r any IVA inc]]) -> 326700 | F27: =SUM(Taula1[[#Data],[#Totals],[Import 2n any IVA inc]]) -> 340312.5 | G27: =SUBTOTAL(109,Taula1[import 2023 IVA inc]) -> 80556.164 | H27: =SUBTOTAL(109,Taula1[import 2024 IVA inc]) -> 326700 | I27: =SUM(Taula1[[#Data],[#Totals],[import 2025 IVA inc]]) -> 259756.34 | J27: =SUM(Taula1[[#Data],[#Totals],[Import Total IVA inclòs]]) -> 667012.5 | K27: =SUBTOTAL(109,Taula1[Import 1r any IVA exc]) -> 270000 | L27: =SUM(Taula1[[#Data],[#Totals],[Import 2n any IVA exc]]) -> 281250 | M27: =SUM(Taula1[[#Data],[#Totals],[import 2023 IVA exc]]) -> 66575.342 | N27: =SUM(Taula1[[#Data],[#Totals],[import 2024 IVA exc]]) -> 270000 | O27: =SUM(Taula1[[#Data],[#Totals],[import 2025 IVA exc]]) -> 214674.66 | P27: =SUM(Taula1[[#Data],[#Totals],[Import Total IVA exclòs]]) -> 551250 | Q27: =SUM(Q25) -> 22500
G29: IVA INCLÒS | H29: IVA EXCLÒS | I29: IVA
F30: LOT 1 | G30: =CalculPressup[[#Totals],[Import Total IVA inclòs]] -> 3457091 | H30: =CalculPressup[[#Totals],[Import Total IVA exclòs]] -> 2857100 | I30: =G30-H30 -> 599990.98
F31: LOT 2 | G31: =J27 -> 667012.5 | H31: =P27 -> 551250 | I31: =G31-H31 -> 115762.5
F32: TOTAL PROJECTE | G32: =SUM(G30:G31) -> 4124103.5 | H32: =G32/1.21 -> 3408350 | I32: =SUM(I30:I31) -> 715753.48
A34: 2023 | G34: 2023 IVA INCLÒS
A35: Servei | B35: Nom Servei | C35: Codi Aplicació | D35: LOT1 | E35: Nom Aplicació | F35: Criticitat | G35: Infraestructura | H35: HORES Instal·lació i configuració | I35: Preu/hora IVA INCLÒS | J35: IMPORT Instal·lació i configuració | K35: HORES Serveis prof suport | L35: Preu/hora IVA INCLÒS | M35: IMPORT Serveis prof suport | O35: Data inici transició | P35: Data inici servei
D36: Servei d’Aprovisionament i configuració | E36: Aprovisionament Infraestructura cloud | G36: =G6 -> 46558.479
E37: Instal·lació i configuració | H37: =J37/I37 -> 859.71693 | I37: =Perfils!$G$6 -> 86.76 | J37: =G7 -> 74589.041
E38: Serveis professionals de suport | K38: =M38/L38 -> 191.42574 | L38: =Perfils!G16 -> 77.93 | M38: =G8 -> 14917.808
A39: Total | G39: =SUM(G36:G38) -> 46558.479 | J39: =SUM(J36:J38) -> 74589.041 | M39: =SUM(M36:M38) -> 14917.808 | N39: =SUM(G39:M39) -> 136065.33
A41: 2023 | G41: 2023 IVA INCLÒS
A42: Servei | B42: Nom Servei | C42: Codi Aplicació | D42: LOT1 | E42: Nom Aplicació | F42: Criticitat | G42: HORES Administració i operació Cloud | H42: Preu/hora IVA INCLÒS | I42: IMPORT Administració i operació Cloud | J42: HORES Manteniment Plataforma | K42: Preu/hora IVA INCLÒS | L42: IMPORT Manteniment Plataforma
D43: Servei administració, operació i manteniment | E43: Administració i operació Cloud | G43: =I43/H43 -> 301.91881 | H43: =Perfils!$G$9 -> 49.41 | I43: =G10 -> 14917.808 | O43: =+$B$2 -> 45202 | P43: =+$B$3 -> 45202
E44: Manteniment Plataforma | J44: =L44/K44 -> 0 | K44: =Perfils!$G$13 -> 65.66 | L44: =G11 -> 0
A45: Total | I45: =SUM(I43:I44) -> 14917.808 | L45: =SUM(L43:L44) -> 0 | M45: =SUM(I45:L45) -> 14917.808
A47: 2023
A48: Servei | B48: Nom Servei | C48: Codi Aplicació | D48: LOT1 | E48: Nom Aplicació | F48: Criticitat | G48: IMPORT Llicències
D49: Servei de llicències | E49: Llicències | G49: =G13 -> 114867.12 | O49: =+$B$2 -> 45202 | P49: =+$B$3 -> 45202
A50: Total | G50: =SUM(G49) -> 114867.12 | H50: =SUM(G50) -> 114867.12
A52: 2023 | G52: 2023 IVA INCLÒS
A53: Servei | B53: Nom Servei | C53: Codi Aplicació | D53: LOT1 | E53: Nom Aplicació | F53: Criticitat | G53: HORES Desenvolupament programari | H53: Preu/hora IVA INCLÒS | I53: IMPORT Desenvolupament programari | J53: HORES Digitalització de serveis públics | K53: Preu/hora IVA INCLÒS | L53: IMPORT Digitalització de serveis públics
D54: Servei de desenvolupament | E54: Desenvolupament programari | G54: =I54/H54 -> 1670.3194 | H54: =Perfils!$G$21 -> 80.38 | I54: =G15 -> 134260.27
E55: Digitalització de serveis públics | J55: =L55/K55 -> 697.65271 | K55: =Perfils!$G$27 -> 74.84 | L55: =G16 -> 52212.329 | O55: =+$B$2 -> 45202 | P55: =+$B$3 -> 45202
A56: Total | I56: =SUM(I54:I55) -> 134260.27 | L56: =SUM(L54:L55) -> 52212.329 | M56: =SUM(I56:L56) -> 186472.6
A58: 2023 | G58: 2023 IVA INCLÒS
A59: Servei | B59: Nom Servei | C59: Codi Aplicació | D59: LOT1 | E59: Nom Aplicació | F59: Criticitat | G59: HORES Gestió projecte | H59: Preu/hora IVA INCLÒS | I59: IMPORT Gestió projecte | J59: HORES Transició | K59: Preu/hora IVA INCLÒS | L59: IMPORT Transició
D60: Servei Gestió projecte i transició | E60: Gestió projecte | G60: =I60/H60 -> 306.82452 | H60: =Perfils!$G$32 -> 97.24 | I60: =G18 -> 29835.616
E61: Transició | J61: 0 | K61: =Perfils!G30 -> 68.82 | L61: =G19 -> 0
A62: Total | I62: =SUM(I60:I61) -> 29835.616 | L62: =SUM(L60:L61) -> 0 | M62: =SUM(I62:L62) -> 29835.616
A64: 2023 | D64: Columna2 | E64: Columna1 | G64: 2023 IVA INCLÒS
A65: Servei | B65: Nom Servei | C65: Codi Aplicació | D65: LOT2 | E65: Nom Aplicació | F65: Criticitat | G65: HORES Gestió projecte | H65: Preu/hora IVA INCLÒS | I65: IMPORT Gestió projecte | J65: HORES Transició | K65: Preu/hora IVA INCLÒS | L65: IMPORT Transició
E66: PMO | G66: =I66/H66 -> 1368.1414 | H66: =Perfils!G38 -> 58.88 | I66: =Taula1[import 2023 IVA inc] -> 80556.164
E67: Transició | J67: =L67/K67 -> 0 | K67: =Perfils!G38 -> 58.88 | L67: =Taula1[[#Totals],[import 2023 IVA inc]] -> 0
A68: Total | I68: =SUM(I66) -> 80556.164 | M68: =SUM(I68) -> 80556.164
A71: 2024 | G71: 2024 IVA INCLÒS
A72: Servei | B72: Nom Servei | C72: Codi Aplicació | D72: LOT1 | E72: Nom Aplicació | F72: Criticitat | G72: Infraestructura | H72: HORES Instal·lació i configuració | I72: Preu/hora IVA INCLÒS | J72: IMPORT Instal·lació i configuració | K72: HORES Serveis prof suport | L72: Preu/hora IVA INCLÒS | M72: IMPORT Serveis prof suport
D73: Servei d’Aprovisionament i configuració | E73: Aprovisionament Infraestructura cloud | G73: =H6 -> 188820.5
E74: Instal·lació i configuració | H74: =J74/I74 -> 2626.9127 | I74: =Perfils!$G$6 -> 86.76 | J74: =H7 -> 227910.95
E75: Serveis professionals de suport | K75: =M75/L75 -> 776.33774 | L75: =Perfils!G16 -> 77.93 | M75: =H8 -> 60500
A76: Total | G76: =SUM(G73:G75) -> 188820.5 | J76: =SUM(J73:J75) -> 227910.95 | M76: =SUM(M73:M75) -> 60500 | N76: =SUM(G76:M76) -> 477231.45
A78: 2024 | G78: 2024 IVA INCLÒS
A79: Servei | B79: Nom Servei | C79: Codi Aplicació | D79: LOT1 | E79: Nom Aplicació | F79: Criticitat | G79: HORES Administració i operació Cloud | H79: Preu/hora IVA INCLÒS | I79: IMPORT Administració i operació Cloud | J79: HORES Manteniment Plataforma | K79: Preu/hora IVA INCLÒS | L79: IMPORT Manteniment Plataforma
D80: Servei administració, operació i manteniment | E80: Administració i operació Cloud | G80: =I80/H80 -> 1526.3673 | H80: =Perfils!$G$9 -> 49.41 | I80: =H10 -> 75417.808
E81: Manteniment Plataforma | J81: =L81/K81 -> 681.59343 | K81: =Perfils!$G$13 -> 65.66 | L81: =H11 -> 44753.425
A82: Total | I82: =SUM(I80:I81) -> 75417.808 | L82: =SUM(L80:L81) -> 44753.425 | M82: =SUM(I82:L82) -> 120171.23
A84: 2024 | G84: 2024 IVA INCLÒS
A85: Servei | B85: Nom Servei | C85: Codi Aplicació | D85: LOT1 | E85: Nom Aplicació | F85: Criticitat | G85: IMPORT Llicències
D86: Servei de llicències | E86: Llicències | G86: =H13 -> 465850
A87: Total | G87: =SUM(G86) -> 465850 | H87: =SUM(G87) -> 465850
A89: 2024 | G89: 2024 IVA INCLÒS
A90: Servei | B90: Nom Servei | C90: Codi Aplicació | D90: LOT1 | E90: Nom Aplicació | F90: Criticitat | G90: HORES Desenvolupament programari | H90: Preu/hora IVA INCLÒS | I90: IMPORT Desenvolupament programari | J90: HORES Digitalització de serveis públics | K90: Preu/hora IVA INCLÒS | L90: IMPORT Digitalització de serveis públics
D91: Servei de desenvolupament | E91: Desenvolupament programari | G91: =I91/H91 -> 5103.7537 | H91: =Perfils!$G$21 -> 80.38 | I91: =H15 -> 410239.73
E92: Digitalització de serveis públics | J92: =L92/K92 -> 3228.028 | K92: =Perfils!$G$27 -> 74.84 | L92: =H16 -> 241585.62
A93: Total | I93: =SUM(I91:I92) -> 410239.73 | L93: =SUM(L91:L92) -> 241585.62 | M93: =SUM(I93:L93) -> 651825.34
A95: 2024 | G95: 2024 IVA INCLÒS
A96: Servei | B96: Nom Servei | C96: Codi Aplicació | D96: LOT1 | E96: Nom Aplicació | F96: Criticitat | G96: HORES Gestió projecte | H96: Preu/hora IVA INCLÒS | I96: IMPORT Gestió projecte | J96: HORES Transició | K96: Preu/hora IVA INCLÒS | L96: IMPORT Transició
D97: Servei Gestió projecte i transició | E97: Gestió projecte | G97: =I97/H97 -> 1244.3439 | H97: =Perfils!$G$32 -> 97.24 | I97: =H18 -> 121000
E98: Transició | J98: 0 | K98: =Perfils!G61 -> 0 | L98: =H19 -> 0
A99: Total | I99: =SUM(I97:I98) -> 121000 | L99: =SUM(L97:L98) -> 0 | M99: =SUM(I99:L99) -> 121000
A101: 2024 | F101: 2024 IVA INCLÒS | G101: 2024 IVA INCLÒS
A102: Servei | B102: Nom Servei | C102: Codi Aplicació | D102: LOT2 | E102: Nom Aplicació | F102: Criticitat | G102: HORES Gestió projecte | H102: Preu/hora IVA INCLÒS | I102: IMPORT Gestió projecte | J102: HORES Transició | K102: Preu/hora IVA INCLÒS | L102: IMPORT Transició
E103: PMO | G103: =I103/H103 -> 5548.5734 | H103: =Perfils!G38 -> 58.88 | I103: =Taula1[import 2024 IVA inc] -> 326700
E104: Transició | K104: =Perfils!G38 -> 58.88 | L104: =Taula1[[#Totals],[import 2024 IVA inc]] -> 0
A105: Total | I105: =SUM(I103) -> 326700 | L105: =SUM(L104) -> 0 | M105: =I105+L105 -> 326700
A107: 2025 | G107: 2025 IVA INCLÒS
A108: Servei | B108: Nom Servei | C108: Codi Aplicació | D108: LOT1 | E108: Nom Aplicació | F108: Criticitat | G108: Infraestructura | H108: HORES Instal·lació i configuració | I108: Preu/hora IVA INCLÒS | J108: IMPORT Instal·lació i configuració | K108: HORES Serveis prof suport | L108: Preu/hora IVA INCLÒS | M108: IMPORT Serveis prof suport
D109: Servei d’Aprovisionament i configuració | E109: Aprovisionament Infraestructura cloud | G109: =I6 -> 142262.02
E110: Instal·lació i configuració | H110: =J110/I110 -> 0 | I110: =Perfils!$G$6 -> 86.76 | J110: =I7 -> 0
E111: Serveis professionals de suport | K111: =M111/L111 -> 584.912 | L111: =Perfils!G16 -> 77.93 | M111: =I8 -> 45582.192
A112: Total | G112: =SUM(G109:G111) -> 142262.02 | J112: =SUM(J109:J111) -> 0 | M112: =SUM(M109:M111) -> 45582.192 | N112: =SUM(G112:M112) -> 187844.21
A114: 2025 | G114: 2025 IVA INCLÒS
A115: Servei | B115: Nom Servei | C115: Codi Aplicació | D115: LOT1 | E115: Nom Aplicació | F115: Criticitat | G115: HORES Administració i operació Cloud | H115: Preu/hora IVA INCLÒS | I115: IMPORT Administració i operació Cloud | J115: HORES Manteniment Plataforma | K115: Preu/hora IVA INCLÒS | L115: IMPORT Manteniment Plataforma
D116: Servei administració, operació i manteniment | E116: Administració i operació Cloud | G116: =I116/H116 -> 1845.0593 | H116: =Perfils!$G$9 -> 49.41 | I116: =I10 -> 91164.382
E117: Manteniment Plataforma | J117: =L117/K117 -> 2082.6466 | K117: =Perfils!$G$13 -> 65.66 | L117: =I11 -> 136746.58
A118: Total | I118: =SUM(I116:I117) -> 91164.382 | L118: =SUM(L116:L117) -> 136746.58 | M118: =SUM(I118:L118) -> 227910.96
...

Sheet Perfils
B2: Servei plec | C2: Perfil | D2: % dedicació | E2: Preu perfil IVA inclòs | F2: Preu perfil IVA exclòs | G2: Preu / hora /perfil (IVA inclòs) | I2: Preu / hora /perfil (IVA exc) | K2: Perfils LOT 1 | L2: FTEs | M2: Suma de % dedicació
A3: LOT 1 | B3: Instal·lació i configuració | C3: =C45 -> Arquitecte/a | D3: 0.2 | E3: =+D45 -> 104.73 | F3: =+ROUND(E3/1.21,2) -> 86.55 | G3: =ROUND(E3*D3,4) -> 20.946 | I3: =G3/1.21 -> 17.310744 | K3: Administrador/a i Tècnic/a de Sistemes - Consultor júnior | L3: 1.3 | M3: =GETPIVOTDATA("% dedicació",$K$2,"Perfil","Arquitecte/a")/H33 -> 0.05625
C4: =C46 -> Tècnic/a especialista productes - Consultor/a especialista | D4: 0.6 | E4: =+D46 -> 89.76 | F4: =+ROUND(E4/1.21,2) -> 74.18 | G4: =ROUND(E4*D4,4) -> 53.856 | I4: =G4/1.21 -> 44.509091 | K4: Analista programador/a - analista user experience -Programador/a sènior | L4: 0.9 | M4: =GETPIVOTDATA("% dedicació",$K$2,"Perfil","Cap de projecte - Responsable dels serveis")/H33 -> 0.175
C5: =C47 -> Administrador/a i Tècnic/a de Sistemes - Consultor júnior | D5: 0.2 | E5: =+D47 -> 59.85 | F5: =+ROUND(E5/1.21,2) -> 49.46 | G5: =ROUND(E5*D5,4) -> 11.97 | I5: =G5/1.21 -> 9.892562 | K5: Arquitecte/a | L5: 0.45 | M5: =GETPIVOTDATA("% dedicació",$K$2,"Perfil","Tècnic/a especialista productes - Consultor/a especialista")/H33 -> 0.2625
C6: Preu perfil tipus | G6: =ROUND(SUM(G3:G5),2)-0.01 -> 86.76 | H6: =SUM(D3:D5) -> 1 | I6: =G6/1.21 -> 71.702479 | K6: Cap de projecte - Responsable dels serveis | L6: 1.4 | M6: =GETPIVOTDATA("% dedicació",$K$2,"Perfil","Administrador/a i Tècnic/a de Sistemes - Consultor júnior")/H33 -> 0.1625
B7: Administració I operació | C7: =C47 -> Administrador/a i Tècnic/a de Sistemes - Consultor júnior | D7: 0.4 | E7: =+D47 -> 59.85 | F7: =+ROUND(E7/1.21,2) -> 49.46 | G7: =E7*D7 -> 23.94 | I7: =G7/1.21 -> 19.785124 | K7: Programador/a júnior | L7: 1 | M7: =GETPIVOTDATA("% dedicació",$K$2,"Perfil","Tècnic/a sistemes júnior - Tecnic testing")/H33 -> 0.10625
C8: =C49 -> Tècnic/a sistemes júnior - Tecnic testing | D8: 0.6 | E8: =+D49 -> 42.45 | F8: =+ROUND(E8/1.21,2) -> 35.08 | G8: =E8*D8 -> 25.47 | I8: =G8/1.21 -> 21.049587 | K8: Tècnic/a especialista productes - Consultor/a especialista | L8: 2.1 | M8: =GETPIVOTDATA("% dedicació",$K$2,"Perfil","Programador/a júnior")/H33 -> 0.125
C9: Preu perfil tipus | G9: =ROUND(SUM(G7:G8),2) -> 49.41 | H9: =SUM(D7:D8) -> 1 | I9: =G9/1.21 -> 40.834711 | K9: Tècnic/a sistemes júnior - Tecnic testing | L9: 0.85 | M9: =GETPIVOTDATA("% dedicació",$K$2,"Perfil","Analista programador/a - analista user experience -Programador/a sènior")/H33 -> 0.1125
B10: Manteniment Plataforma | C10: =C50 -> Programador/a júnior | D10: 0.7 | E10: =+D50 -> 53.19 | F10: =+ROUND(E10/1.21,2) -> 43.96 | G10: =ROUND(E10*D10,4) -> 37.233 | I10: =G10/1.21 -> 30.771074 | K10: Total general | L10: 8 | M10: =SUM(M3:M9) -> 1
C11: =C45 -> Arquitecte/a | D11: 0.1 | E11: =+D45 -> 104.73 | F11: =+ROUND(E11/1.21,2) -> 86.55 | G11: =ROUND(E11*D11,4) -> 10.473 | I11: =G11/1.21 -> 8.6553719
C12: =C46 -> Tècnic/a especialista productes - Consultor/a especialista | D12: 0.2 | E12: =+D46 -> 89.76 | F12: =+ROUND(E12/1.21,2) -> 74.18 | G12: =ROUND(E12*D12,4) -> 17.952 | I12: =G12/1.21 -> 14.836364
C13: Preu perfil tipus | G13: =ROUND(SUM(G10:G12),2) -> 65.66 | H13: =SUM(D10:D12) -> 1 | I13: =G13/1.21 -> 54.264463
B14: Serveis professionals de suport | C14: =C46 -> Tècnic/a especialista productes - Consultor/a especialista | D14: 0.75 | E14: =D46 -> 89.76 | F14: =+ROUND(E14/1.21,2) -> 74.18 | G14: =ROUND(E14*D14,4) -> 67.32 | I14: =G14/1.21 -> 55.636364
C15: =C49 -> Tècnic/a sistemes júnior - Tecnic testing | D15: 0.25 | E15: =D49 -> 42.45 | F15: =+ROUND(E15/1.21,2) -> 35.08 | G15: =ROUND(E15*D15,4) -> 10.6125 | I15: =G15/1.21 -> 8.7706612
C16: Preu perfil tipus | G16: =ROUND(SUM(G14:G15),2) -> 77.93 | H16: =SUM(D14:D15) -> 1 | I16: =G16/1.21 -> 64.404959
B17: Desenvolupament de programari | C17: =C44 -> Cap de projecte - Responsable dels serveis | D17: 0.2 | E17: =D44 -> 97.24 | F17: =+ROUND(E17/1.21,2) -> 80.36 | G17: =ROUND(E17*D17,4) -> 19.448 | I17: =G17/1.21 -> 16.072727
C18: =C45 -> Arquitecte/a | D18: 0.1 | E18: =D45 -> 104.73 | F18: =+ROUND(E18/1.21,2) -> 86.55 | G18: =ROUND(E18*D18,4) -> 10.473 | I18: =G18/1.21 -> 8.6553719
C19: =C46 -> Tècnic/a especialista productes - Consultor/a especialista | D19: 0.1 | E19: =D46 -> 89.76 | F19: =+ROUND(E19/1.21,2) -> 74.18 | G19: =ROUND(E19*D19,4) -> 8.976 | I19: =G19/1.21 -> 7.4181818
C20: =C48 -> Analista programador/a - analista user experience -Programador/a sènior | D20: 0.6 | E20: =+D48 -> 69.15 | F20: =+ROUND(E20/1.21,2) -> 57.15 | G20: =ROUND(E20*D20,4) -> 41.49 | I20: =G20/1.21 -> 34.289256
C21: Preu perfil tipus | G21: =ROUND(SUM(G17:G20),2)-0.01 -> 80.38 | H21: =SUM(D17:D20) -> 1 | I21: =G21/1.21 -> 66.429752
B22: Digitalització de serveis públics | C22: =C44 -> Cap de projecte - Responsable dels serveis | D22: 0.2 | E22: =D44 -> 97.24 | F22: =+ROUND(E22/1.21,2) -> 80.36 | G22: =ROUND(E22*D22,4) -> 19.448 | I22: =G22/1.21 -> 16.072727
C23: =C45 -> Arquitecte/a | D23: 0.05 | E23: =D45 -> 104.73 | F23: =+ROUND(E23/1.21,2) -> 86.55 | G23: =ROUND(E23*D23,4) -> 5.2365 | I23: =G23/1.21 -> 4.327686
C24: =C46 -> Tècnic/a especialista productes - Consultor/a especialista | D24: 0.15 | E24: =D46 -> 89.76 | F24: =+ROUND(E24/1.21,2) -> 74.18 | G24: =ROUND(E24*D24,4) -> 13.464 | I24: =G24/1.21 -> 11.127273
C25: =C48 -> Analista programador/a - analista user experience -Programador/a sènior | D25: 0.3 | E25: =D48 -> 69.15 | F25: =+ROUND(E25/1.21,2) -> 57.15 | G25: =ROUND(E25*D25,4) -> 20.745 | I25: =G25/1.21 -> 17.144628
C26: =C50 -> Programador/a júnior | D26: 0.3 | E26: =D50 -> 53.19 | F26: =+ROUND(E26/1.21,2) -> 43.96 | G26: =ROUND(E26*D26,4) -> 15.957 | I26: =G26/1.21 -> 13.187603
C27: Preu perfil tipus | G27: =ROUND(SUM(G22:G26),2)-0.01 -> 74.84 | H27: =SUM(D22:D26) -> 1 | I27: =G27/1.21 -> 61.85124
B28: Transició | C28: =C46 -> Tècnic/a especialista productes - Consultor/a especialista | D28: 0.3 | E28: =+D46 -> 89.76 | F28: =+ROUND(E28/1.21,2) -> 74.18 | G28: =ROUND(E28*D28,4) -> 26.928 | I28: =G28/1.21 -> 22.254545
C29: =C47 -> Administrador/a i Tècnic/a de Sistemes - Consultor júnior | D29: 0.7 | E29: =+D47 -> 59.85 | F29: =+ROUND(E29/1.21,2) -> 49.46 | G29: =ROUND(E29*D29,4) -> 41.895 | I29: =G29/1.21 -> 34.623967
C30: Preu perfil tipus | G30: =ROUND(SUM(G28:G29),2) -> 68.82 | H30: =SUM(D28:D29) -> 1 | I30: =G30/1.21 -> 56.876033
B31: Gestió projecte | C31: =C44 -> Cap de projecte - Responsable dels serveis | D31: 1 | E31: =D44 -> 97.24 | F31: =+ROUND(E31/1.21,2) -> 80.36 | G31: =E31*D31 -> 97.24 | I31: =G31/1.21 -> 80.363636
C32: Preu perfil tipus | G32: =SUM(G31) -> 97.24 | H32: =SUM(D31:D31) -> 1 | I32: =G32/1.21 -> 80.363636
H33: =SUM(H32,H30,H27,H21,H16,H13,H9,H6) -> 8
B35: Servei plec | C35: Perfil | D35: % dedicació | E35: Preu perfil IVA inclòs | F35: Preu perfil IVA exclòs | G35: Preu / hora /perfil (IVA inclòs) | I35: Preu / hora /perfil (IVA exc) | K35: Perfils LOT2 | L35: FTEs | M35: Suma de % dedicació
A36: LOT 2 | B36: PMO | C36: =C44 -> Cap de projecte - Responsable dels serveis | D36: 0.3 | E36: =D44 -> 97.24 | F36: =+ROUND(E36/1.21,2) -> 80.36 | G36: =E36*D36 -> 29.172 | I36: =G36/1.21 -> 24.109091 | K36: Cap de projecte - Responsable dels serveis | L36: 0.3 | M36: 0.3
C37: =C49 -> Tècnic/a sistemes júnior - Tecnic testing | D37: 0.7 | E37: =D49 -> 42.45 | F37: =+ROUND(E37/1.21,2) -> 35.08 | G37: =E37*D37 -> 29.715 | I37: =G37/1.21 -> 24.557851 | K37: Tècnic/a sistemes júnior - Tecnic testing | L37: 0.7 | M37: 0.7
C38: Preu perfil tipus | G38: =ROUND(SUM(G36:G37),2)-0.01 -> 58.88 | H38: =SUM(D36:D37) -> 1 | I38: =G38/1.21 -> 48.661157 | K38: Total general | L38: 1
D43: Preu/hora IVA inclòs | E43: Preu/hora IVA exclòs
C44: Cap de projecte - Responsable dels serveis | D44: 97.24 | E44: 80.36
C45: Arquitecte/a | D45: 104.73 | E45: 86.55
C46: Tècnic/a especialista productes - Consultor/a especialista | D46: 89.76 | E46: 74.18
C47: Administrador/a i Tècnic/a de Sistemes - Consultor júnior | D47: 59.85 | E47: 49.46
C48: Analista programador/a - analista user experience -Programador/a sènior | D48: 69.15 | E48: 57.15
C49: Tècnic/a sistemes júnior - Tecnic testing | D49: 42.45 | E49: 35.08
C50: Programador/a júnior | D50: 53.19 | E50: 43.96

Sheet Taules IJ
A1: LOT 1
A2: Distribució de pressupost per any i per servei
C4: 2023 | F4: 2024 | I4: 2025
A5: Serveis | B5: Sub Servei | C5: Import net 2023 | D5: IVA 21% 2023 | E5: Import total 2023 | F5: Import net 2024 | G5: IVA 21% 2024 | H5: Import total 2024 | I5: Import net 2025 | J5: IVA 21% 2025 | K5: Import total 2025 | L5: Total import net | M5: Total IVA 21% | N5: Total import contracte
A6: Servei d’Aprovisionament i configuració | B6: Aprovisionament Infraestructura cloud+ comunicacions | C6: =CalculPressup[[#This Row],[import 2023 IVA exc]] -> 38478.082 | D6: =ROUND(C6*0.21,2) -> 8080.4 | E6: =+C6+D6 -> 46558.482 | F6: =CalculPressup[[#This Row],[import 2024 IVA exc]] -> 156050 | G6: =ROUND(F6*0.21,2) -> 32770.5 | H6: =+F6+G6 -> 188820.5 | I6: ='Càlcul pressupost '!O6 -> 117571.92 | J6: =ROUND(I6*0.21,2) -> 24690.1 | K6: =TServeiLot1[[#This Row],[Import net 2025]]+TServeiLot1[[#This Row],[IVA 21% 2025]] -> 142262.02 | L6: =TServeiLot1[[#This Row],[Import net 2023]]+TServeiLot1[[#This Row],[Import net 2024]]+TServeiLot1[[#This Row],[Import net 2025]] -> 312100 | M6: =TServeiLot1[[#This Row],[IVA 21% 2023]]+TServeiLot1[[#This Row],[IVA 21% 2024]]+TServeiLot1[[#This Row],[IVA 21% 2025]] -> 65541 | N6: =TServeiLot1[[#This Row],[Total import net]]+TServeiLot1[[#This Row],[Total IVA 21%]] -> 377641
B7: Instal·lació i configuració | C7: =CalculPressup[[#This Row],[import 2023 IVA exc]] -> 61643.836 | D7: =ROUND(C7*0.21,2)-0.01 -> 12945.2 | E7: =+C7+D7 -> 74589.036 | F7: =CalculPressup[[#This Row],[import 2024 IVA exc]] -> 188356.16 | G7: =ROUND(F7*0.21,2) -> 39554.79 | H7: =+F7+G7 -> 227910.95 | I7: ='Càlcul pressupost '!O7 -> 0 | J7: =ROUND(I7*0.21,2) -> 0 | K7: =TServeiLot1[[#This Row],[Import net 2025]]+TServeiLot1[[#This Row],[IVA 21% 2025]] -> 0 | L7: =TServeiLot1[[#This Row],[Import net 2023]]+TServeiLot1[[#This Row],[Import net 2024]]+TServeiLot1[[#This Row],[Import net 2025]] -> 250000 | M7: =TServeiLot1[[#This Row],[IVA 21% 2023]]+TServeiLot1[[#This Row],[IVA 21% 2024]]+TServeiLot1[[#This Row],[IVA 21% 2025]]-0.01 -> 52499.98 | N7: =TServeiLot1[[#This Row],[Total import net]]+TServeiLot1[[#This Row],[Total IVA 21%]] -> 302499.98
B8: Serveis professionals de suport | C8: =CalculPressup[[#This Row],[import 2023 IVA exc]] -> 12328.767 | D8: =ROUND(C8*0.21,2) -> 2589.04 | E8: =+C8+D8 -> 14917.807 | F8: =CalculPressup[[#This Row],[import 2024 IVA exc]] -> 50000 | G8: =ROUND(F8*0.21,2) -> 10500 | H8: =+F8+G8 -> 60500 | I8: ='Càlcul pressupost '!O8 -> 37671.233 | J8: =ROUND(I8*0.21,2) -> 7910.96 | K8: =TServeiLot1[[#This Row],[Import net 2025]]+TServeiLot1[[#This Row],[IVA 21% 2025]] -> 45582.193 | L8: =TServeiLot1[[#This Row],[Import net 2023]]+TServeiLot1[[#This Row],[Import net 2024]]+TServeiLot1[[#This Row],[Import net 2025]] -> 100000 | M8: =TServeiLot1[[#This Row],[IVA 21% 2023]]+TServeiLot1[[#This Row],[IVA 21% 2024]]+TServeiLot1[[#This Row],[IVA 21% 2025]] -> 21000 | N8: =TServeiLot1[[#This Row],[Total import net]]+TServeiLot1[[#This Row],[Total IVA 21%]] -> 121000
A9: Servei administració, operació i manteniment | B9: Administració i operació Cloud | C9: ='Càlcul pressupost '!M10 -> 12328.767 | D9: =ROUND(C9*0.21,2) -> 2589.04 | E9: =+C9+D9 -> 14917.807 | F9: ='Càlcul pressupost '!N10 -> 62328.767 | G9: =ROUND(F9*0.21,2) -> 13089.04 | H9: =+F9+G9 -> 75417.807 | I9: ='Càlcul pressupost '!O10 -> 75342.465 | J9: =ROUND(I9*0.21,2) -> 15821.92 | K9: =TServeiLot1[[#This Row],[Import net 2025]]+TServeiLot1[[#This Row],[IVA 21% 2025]] -> 91164.385 | L9: =TServeiLot1[[#This Row],[Import net 2023]]+TServeiLot1[[#This Row],[Import net 2024]]+TServeiLot1[[#This Row],[Import net 2025]] -> 150000 | M9: =TServeiLot1[[#This Row],[IVA 21% 2023]]+TServeiLot1[[#This Row],[IVA 21% 2024]]+TServeiLot1[[#This Row],[IVA 21% 2025]] -> 31500 | N9: =TServeiLot1[[#This Row],[Total import net]]+TServeiLot1[[#This Row],[Total IVA 21%]] -> 181500
B10: Manteniment Plataforma | C10: ='Càlcul pressupost '!M11 -> 0 | D10: =ROUND(C10*0.21,2) -> 0 | E10: =+C10+D10 -> 0 | F10: ='Càlcul pressupost '!N11 -> 36986.301 | G10: =ROUND(F10*0.21,2) -> 7767.12 | H10: =+F10+G10 -> 44753.421 | I10: ='Càlcul pressupost '!O11 -> 113013.7 | J10: =ROUND(I10*0.21,2) -> 23732.88 | K10: =TServeiLot1[[#This Row],[Import net 2025]]+TServeiLot1[[#This Row],[IVA 21% 2025]] -> 136746.58 | L10: =TServeiLot1[[#This Row],[Import net 2023]]+TServeiLot1[[#This Row],[Import net 2024]]+TServeiLot1[[#This Row],[Import net 2025]] -> 150000 | M10: =TServeiLot1[[#This Row],[IVA 21% 2023]]+TServeiLot1[[#This Row],[IVA 21% 2024]]+TServeiLot1[[#This Row],[IVA 21% 2025]] -> 31500 | N10: =TServeiLot1[[#This Row],[Total import net]]+TServeiLot1[[#This Row],[Total IVA 21%]] -> 181500
A11: Llicències | B11: Llicències | C11: ='Càlcul pressupost '!M13 -> 94931.507 | D11: =ROUND(C11*0.21,2)-0.01 -> 19935.61 | E11: =+C11+D11 -> 114867.12 | F11: ='Càlcul pressupost '!N13 -> 385000 | G11: =ROUND(F11*0.21,2) -> 80850 | H11: =+F11+G11 -> 465850 | I11: ='Càlcul pressupost '!O13 -> 290068.49 | J11: =ROUND(I11*0.21,2)+0.01 -> 60914.39 | K11: =TServeiLot1[[#This Row],[Import net 2025]]+TServeiLot1[[#This Row],[IVA 21% 2025]] -> 350982.88 | L11: =TServeiLot1[[#This Row],[Import net 2023]]+TServeiLot1[[#This Row],[Import net 2024]]+TServeiLot1[[#This Row],[Import net 2025]] -> 770000 | M11: =TServeiLot1[[#This Row],[IVA 21% 2023]]+TServeiLot1[[#This Row],[IVA 21% 2024]]+TServeiLot1[[#This Row],[IVA 21% 2025]] -> 161700 | N11: =TServeiLot1[[#This Row],[Total import net]]+TServeiLot1[[#This Row],[Total IVA 21%]] -> 931700
A12: Servei Desenvolupament | B12: Desenvolupament programari | C12: ='Càlcul pressupost '!M15 -> 110958.9 | D12: =ROUND(C12*0.21,2) -> 23301.37 | E12: =+C12+D12 -> 134260.27 | F12: ='Càlcul pressupost '!N15 -> 339041.1 | G12: =ROUND(F12*0.21,2) -> 71198.63 | H12: =+F12+G12 -> 410239.73 | I12: ='Càlcul pressupost '!O15 -> 0 | J12: =ROUND(I12*0.21,2) -> 0 | K12: =TServeiLot1[[#This Row],[Import net 2025]]+TServeiLot1[[#This Row],[IVA 21% 2025]] -> 0 | L12: =TServeiLot1[[#This Row],[Import net 2023]]+TServeiLot1[[#This Row],[Import net 2024]]+TServeiLot1[[#This Row],[Import net 2025]] -> 450000 | M12: =TServeiLot1[[#This Row],[IVA 21% 2023]]+TServeiLot1[[#This Row],[IVA 21% 2024]]+TServeiLot1[[#This Row],[IVA 21% 2025]] -> 94500 | N12: =TServeiLot1[[#This Row],[Total import net]]+TServeiLot1[[#This Row],[Total IVA 21%]] -> 544500
B13: Digitalització de serveis públics | C13: ='Càlcul pressupost '!M16 -> 43150.685 | D13: =ROUND(C13*0.21,2)+0.01 -> 9061.65 | E13: =+C13+D13 -> 52212.335 | F13: ='Càlcul pressupost '!N16 -> 199657.54 | G13: =ROUND(F13*0.21,2) -> 41928.08 | H13: =+F13+G13 -> 241585.62 | I13: ='Càlcul pressupost '!O16 -> 207191.78 | J13: =ROUND(I13*0.21,2) -> 43510.27 | K13: =TServeiLot1[[#This Row],[Import net 2025]]+TServeiLot1[[#This Row],[IVA 21% 2025]] -> 250702.05 | L13: =TServeiLot1[[#This Row],[Import net 2023]]+TServeiLot1[[#This Row],[Import net 2024]]+TServeiLot1[[#This Row],[Import net 2025]] -> 450000 | M13: =TServeiLot1[[#This Row],[IVA 21% 2023]]+TServeiLot1[[#This Row],[IVA 21% 2024]]+TServeiLot1[[#This Row],[IVA 21% 2025]] -> 94500 | N13: =TServeiLot1[[#This Row],[Total import net]]+TServeiLot1[[#This Row],[Total IVA 21%]] -> 544500
A14: Servei Gestió projecte i transició | B14: Gestió projecte | C14: ='Càlcul pressupost '!M18 -> 24657.534 | D14: =ROUND(C14*0.21,2)+0.01 -> 5178.09 | E14: =+C14+D14 -> 29835.624 | F14: ='Càlcul pressupost '!N18 -> 100000 | G14: =ROUND(F14*0.21,2) -> 21000 | H14: =+F14+G14 -> 121000 | I14: ='Càlcul pressupost '!O18 -> 75342.466 | J14: =ROUND(I14*0.21,2)-0.001 -> 15821.919 | K14: =TServeiLot1[[#This Row],[Import net 2025]]+TServeiLot1[[#This Row],[IVA 21% 2025]] -> 91164.385 | L14: =TServeiLot1[[#This Row],[Import net 2023]]+TServeiLot1[[#This Row],[Import net 2024]]+TServeiLot1[[#This Row],[Import net 2025]] -> 200000 | M14: =TServeiLot1[[#This Row],[IVA 21% 2023]]+TServeiLot1[[#This Row],[IVA 21% 2024]]+TServeiLot1[[#This Row],[IVA 21% 2025]]-0.01 -> 41999.999 | N14: =TServeiLot1[[#This Row],[Total import net]]+TServeiLot1[[#This Row],[Total IVA 21%]] -> 242000
B15: Transició | C15: ='Càlcul pressupost '!M19 -> 0 | D15: =ROUND(C15*0.21,2) -> 0 | E15: =+C15+D15 -> 0 | F15: ='Càlcul pressupost '!N19 -> 0 | G15: =ROUND(F15*0.21,2) -> 0 | H15: =+F15+G15 -> 0 | I15: ='Càlcul pressupost '!O19 -> 25000 | J15: =ROUND(I15*0.21,2) -> 5250 | K15: =TServeiLot1[[#This Row],[Import net 2025]]+TServeiLot1[[#This Row],[IVA 21% 2025]] -> 30250 | L15: =TServeiLot1[[#This Row],[Import net 2023]]+TServeiLot1[[#This Row],[Import net 2024]]+TServeiLot1[[#This Row],[Import net 2025]] -> 25000 | M15: =TServeiLot1[[#This Row],[IVA 21% 2023]]+TServeiLot1[[#This Row],[IVA 21% 2024]]+TServeiLot1[[#This Row],[IVA 21% 2025]] -> 5250 | N15: =TServeiLot1[[#This Row],[Total import net]]+TServeiLot1[[#This Row],[Total IVA 21%]] -> 30250
C16: =SUBTOTAL(109,TServeiLot1[Import net 2023]) -> 398478.08 | D16: =SUBTOTAL(109,TServeiLot1[IVA 21% 2023]) -> 83680.4 | E16: =SUBTOTAL(109,TServeiLot1[Import total 2023]) -> 482158.48 | F16: =SUBTOTAL(109,TServeiLot1[Import net 2024])+0.001 -> 1517419.9 | G16: =SUBTOTAL(109,TServeiLot1[IVA 21% 2024]) -> 318658.16 | H16: =SUBTOTAL(109,TServeiLot1[Import total 2024])+0.001 -> 1836078 | I16: =SUBTOTAL(109,TServeiLot1[Import net 2025]) -> 941202.05 | J16: =SUBTOTAL(109,TServeiLot1[IVA 21% 2025]) -> 197652.44 | K16: =SUBTOTAL(109,TServeiLot1[Import total 2025])-0.01 -> 1138854.5 | L16: =SUBTOTAL(109,TServeiLot1[Total import net]) -> 2857100 | M16: =SUBTOTAL(109,TServeiLot1[Total IVA 21%])+0.02 -> 599991 | N16: =SUBTOTAL(109,TServeiLot1[Total import contracte])+0.02 -> 3457091
I17: x suma | K17: x suma
A19: LOT 2
C20: 2023 | F20: 2024 | I20: 2025
A21: Serveis | B21: Sub Servei | C21: Import net 2023 | D21: IVA 21% 2023 | E21: Import total 2023 | F21: Import net 2024 | G21: IVA 21% 2024 | H21: Import total 2024 | I21: Import net 2025 | J21: IVA 21% 2025 | K21: Import total 2025 | L21: Total import net | M21: Total IVA 21% | N21: Total import contracte
A22: PMO | B22: PMO | C22: =Taula1[import 2023 IVA exc] -> 66575.342 | D22: =ROUND(C22*0.21,2) -> 13980.82 | E22: =+C22+D22 -> 80556.162 | F22: =Taula1[import 2024 IVA exc] -> 270000 | G22: =ROUND(F22*0.21,2) -> 56700 | H22: =+F22+G22 -> 326700 | I22: =Taula1[import 2025 IVA exc] -> 203424.66 | J22: =ROUND(I22*0.21,2) -> 42719.18 | K22: =I22+J22 -> 246143.84 | L22: =C22+F22+I22 -> 540000 | M22: =D22+G22+J22 -> 113400 | N22: =E22+H22+K22 -> 653400
B23: Transició | C23: 0 | D23: 0 | E23: =Taula1[[#Totals],[import 2023 IVA inc]] -> 0 | F23: 0 | G23: 0 | H23: =Taula1[[#Totals],[import 2024 IVA inc]] -> 0 | I23: =Taula1[[#Totals],[import 2025 IVA exc]] -> 11250 | J23: =I23*0.21 -> 2362.5 | K23: =Taula1[[#Totals],[import 2025 IVA inc]] -> 13612.5 | L23: =I23 -> 11250 | M23: =L23*0.21 -> 2362.5 | N23: =L23+M23 -> 13612.5
B24: TOTALS | C24: =SUM(C22:C23) -> 66575.342 | D24: =SUM(D22:D23) -> 13980.82 | E24: =SUM(E22:E23) -> 80556.162 | F24: =SUM(F22:F23) -> 270000 | G24: =SUM(G22:G23) -> 56700 | H24: =SUM(H22:H23) -> 326700 | I24: =SUM(I22:I23) -> 214674.66 | J24: =SUM(J22:J23) -> 45081.68 | ... N24: =SUM(N22:N23) -> 667012.5
A25: Distribució de pressupost per any
H26: Lot | I26: Pressupost 2023 | J26: Pressupost 2024 | K26: Pressupost 2025 | L26: Import màxim total
A27: TOTAL
A28: Any | B28: Capítol | C28: Pressupost net | D28: IVA | E28: Import total | H28: Lot 1 | I28: =C16 -> 398478.08 | J28: =TServeiLot1[[#Totals],[Import net 2024]] -> 1517419.9 | K28: =TServeiLot1[[#Totals],[Import net 2025]] -> 941202.05 | L28: =SUM(I28:K28) -> 2857100
A29: 2023 | B29: VI | C29: =TServeiLot1[[#Totals],[Import net 2023]]+TserveisLot2[Import net 2023] -> 465053.42 | D29: =C29*0.21 -> 97661.219 | E29: =C29+D29 -> 562714.64 | H29: Lot 2 | I29: =TserveisLot2[Import net 2023] -> 66575.342 | J29: =TserveisLot2[Import net 2024] -> 270000 | K29: =I24 -> 214674.66 | L29: =SUM(I29:K29) -> 551250
A30: 2024 | B30: VI | C30: =TServeiLot1[[#Totals],[Import net 2024]]+TserveisLot2[Import net 2024] -> 1787419.9 | D30: =C30*0.21 -> 375358.17 | E30: =C30+D30 -> 2162778 | G30: =CalculPressup[[#Totals],[Import Total IVA inclòs]] -> 3457091 | H30: Sub_TOTAL | I30: =I28+I29 -> 465053.42 | J30: =SUM(J28:J29) -> 1787419.9 | K30: =SUM(K28:K29) -> 1155876.7 | L30: =SUM(L28:L29) -> 3408350
A31: 2025 | B31: VI | C31: =TServeiLot1[[#Totals],[Import net 2025]]+I24 -> 1155876.7 | D31: =C31*0.21 -> 242734.11 | E31: =C31+D31 -> 1398610.8 | H31: IVA | I31: =I30*0.21 -> 97661.219 | J31: =J30*0.21 -> 375358.17 | K31: =K30*0.21 -> 242734.11 | L31: =L30*0.21 -> 715753.5 | M31: x resta
A32: Total | C32: =SUBTOTAL(109,TCapitol[Pressupost net]) -> 3408350 | D32: =SUBTOTAL(109,TCapitol[IVA]) -> 715753.5 | E32: =SUBTOTAL(109,TCapitol[Import total]) -> 4124103.5 | H32: TOTAL (IVA inc) | I32: =SUM(I30:I31) -> 562714.64 | J32: =SUM(J30:J31) -> 2162778 | K32: =SUM(K30:K31) -> 1398610.8 | L32: =SUM(L30:L31) -> 4124103.5
D33: x resta | E33: x resta
A36: Modificacions de contracte: ampliació / disminució | H36: Modificacions de contracte LOT1: ampliació / disminució
A37: Causes previstes de modificació | B37: Import contracte (IVA inclòs) | C37: % Ampliació sobre import del contracte | D37: Import màxim ampliació (amb IVA) | E37: % Disminució sobre import del contracte | F37: Import màxim disminució (amb IVA) | H37: Causes previstes de modificació | I37: Import contracte (IVA inclòs) | J37: % Ampliació sobre import del contracte | K37: Import màxim ampliació (amb IVA) | L37: % Disminució sobre import del contracte | M37: Import màxim disminució (amb IVA) | O37: Modificacions de contracte LOT2: ampliació / disminució
A38: Modificacions per augment o disminució de volumetries en Serveis/Aplicacions | B38: =TCapitol[[#Totals],[Import total]] -> 4124103.5 | C38: 0.2 | D38: =+ROUND(B38*C38,2) -> 824820.7 | E38: 0.2 | F38: =+ROUND(B38*E38,2) -> 824820.7 | H38: Modificacions per augment o disminució de volumetries en Serveis/Aplicacions | I38: =TServeiLot1[[#Totals],[Total import contracte]] -> 3457091 | J38: 0.2 | K38: =+ROUND(I38*J38,2) -> 691418.2 | L38: 0.2 | M38: =+ROUND(I38*L38,2) -> 691418.2 | O38: Causes previstes de modificació | P38: Import contracte (IVA inclòs) | Q38: % Ampliació sobre import del contracte | R38: Import màxim ampliació (amb IVA) | S38: % Disminució sobre import del contracte | T38: Import màxim disminució (amb IVA)
A39: TOTAL | B39: =SUM(B38:B38) -> 4124103.5 | C39: =SUM(C38:C38) -> 0.2 | D39: =SUM(D38:D38) -> 824820.7 | E39: =SUM(E38:E38) -> 0.2 | F39: =SUM(F38:F38) -> 824820.7 | H39: TOTAL | I39: =SUM(I38:I38) -> 3457091 | J39: =SUM(J38:J38) -> 0.2 | K39: =SUM(K38:K38) -> 691418.2 | L39: =SUM(L38:L38) -> 0.2 | M39: =SUM(M38:M38) -> 691418.2 | O39: Modificacions per augment o disminució de volumetries en Serveis/Aplicacions | P39: ='Càlcul pressupost '!J27 -> 667012.5 | Q39: 0.2 | R39: =+ROUND(P39*Q39,2) -> 133402.5 | S39: 0.2 | T39: =+ROUND(P39*S39,2) -> 133402.5
D40: =+ROUND(D39/1.21,2) -> 681670 | F40: =+ROUND(F39/1.21,2) -> 681670 | K40: =+ROUND(K39/1.21,2) -> 571420 | M40: =+ROUND(M39/1.21,2) -> 571420 | O40: TOTAL | P40: =SUM(P39:P39) -> 667012.5 | Q40: =SUM(Q39:Q39) -> 0.2 | R40: =SUM(R39:R39) -> 133402.5 | S40: =SUM(S39:S39) -> 0.2 | T40: =SUM(T39:T39) -> 133402.5
D41: IVA EXCLÒS | F41: IVA EXCLÒS | K41: IVA EXCLÒS | M41: IVA EXCLÒS | R41: =+ROUND(R40/1.21,2) -> 110250 | T41: =+ROUND(T40/1.21,2) -> 110250
A42: VEC LOT1 - LOT 2 | R42: IVA EXCLÒS | T42: IVA EXCLÒS
A44: IMPORTS SENSE IVA | B44: VE prestació | C44: VE eventuals pròrrogues | D44: VE modificacions contracte amb increment de cost previstes | E44: VE modificacions contracte amb disminució de cost previstes | F44: SUMA
A45: 2023 | B45: =C29 -> 465053.42 | D45: =ROUND(G45/$G$49*$D$40,2) -> 62227.73 | E45: =ROUND(-G45/$G$49*$F$40,2) -> -62227.73 | F45: =SUM(B45:D45) -> 527281.15 | G45: =B45+C45 -> 465053.42
A46: 2024 | B46: =C30 -> 1787419.9 | D46: =ROUND(G46/$G$49*$D$40,2) -> 239170.56 | E46: =ROUND(-G46/$G$49*$F$40,2) -> -239170.56 | F46: =SUM(B46:D46) -> 2026590.4 | G46: =B46+C46 -> 1787419.9
A47: 2025 | B47: =C31 -> 1155876.7 | C47: =('Càlcul pressupost '!Q21)*3+('Càlcul pressupost '!Q25)*3 -> 421512.5 | D47: =ROUND(G47/$G$49*$D$40,2) -> 211066.84 | E47: =ROUND(-G47/$G$49*$F$40,2) -> -211066.84 | F47: =SUM(B47:D47) -> 1788456.1 | G47: =B47+C47 -> 1577389.2
A48: 2026 | C48: =('Càlcul pressupost '!Q21)*9+('Càlcul pressupost '!Q25)*9 -> 1264537.5 | D48: =ROUND(G48/$G$49*$D$40,2) -> 169204.87 | E48: =ROUND(-G48/$G$49*$F$40,2) -> -169204.87 | F48: =SUM(B48:D48) -> 1433742.4 | G48: =B48+C48 -> 1264537.5
A49: Total | B49: =SUM(B45:B48) -> 3408350 | C49: =SUM(C47:C48) -> 1686050 | D49: =SUM(D45:D48) -> 681670 | E49: =SUM(E45:E48) -> -681670 | F49: =SUM(F45:F48) -> 5776070 | G49: =B49+C49 -> 5094400
A52: VEC | B52: Marges possibles solvènvia LOT 1 - LOT 2
A53: =L30 -> 3408350 | B53: Solvència económica | D53: Solvència tècnica
A54: Anys de contracte | B54: ACONSELLABLE | C54: MÀXIM | D54: MÍNIM | E54: MÀXIM
A55: 3 | B55: =+C55/A55 -> 852087.5 | C55: =1.5*(A53/2) -> 2556262.5 | D55: =ROUND(A53*2/3/A55,2) -> 757411.11 | E55: =+C55 -> 2556262.5
B56: 1,5 x VEC / anys de contracte | C56: 1,5 x VEC | D56: 2/3 VEC / anys de contracte | E56: 1,5 x VEC
A60: VEC LOT1
A62: IMPORTS SENSE IVA | B62: VE prestació | C62: VE eventuals pròrrogues | D62: VE modificacions contracte amb increment de cost previstes | E62: VE modificacions contracte amb disminució de cost previstes | F62: SUMA | H62: Import total lot1 | I62: Marges possibles solvènvia LOT 1
A63: 2023 | B63: =TServeiLot1[[#Totals],[Import net 2023]] -> 398478.08 | D63: =ROUND(G63/$G$49*$D$40,2) -> 53319.44 | E63: =ROUND(-G63/$G$49*$F$40,2) -> -53319.44 | F63: =SUM(B63:D63) -> 451797.52 | G63: =B63+C63 -> 398478.08 | H63: =L16 -> 2857100 | I63: Solvència económica | K63: Solvència tècnica
A64: 2024 | B64: =TServeiLot1[[#Totals],[Import net 2024]] -> 1517419.9 | D64: =ROUND(G64/$G$49*$D$40,2) -> 203042.48 | E64: =ROUND(-G64/$G$49*$F$40,2) -> -203042.48 | F64: =SUM(B64:D64) -> 1720462.3 | G64: =B64+C64 -> 1517419.9 | H64: Anys de contracte | I64: ACONSELLABLE | J64: MÀXIM | K64: MÍNIM | L64: MÀXIM
A65: 2025 | B65: =TServeiLot1[[#Totals],[Import net 2025]] -> 941202.05 | C65: =('Càlcul pressupost '!Q21)*3 -> 354012.5 | D65: =ROUND(G65/$G$49*$D$40,2) -> 173309.69 | E65: =ROUND(-G65/$G$49*$F$40,2) -> -173309.69 | F65: =SUM(B65:D65) -> 1468524.2 | G65: =B65+C65 -> 1295214.6 | H65: 2 | I65: =+J65/H65 -> 1071412.5 | J65: =(H63/2)*1.5 -> 2142825 | K65: =ROUND(H63*2/3/H65,2) -> 952366.67 | L65: =+J65 -> 2142825
A66: 2026 | C66: =('Càlcul pressupost '!Q21)*9 -> 1062037.5 | D66: =ROUND(G66/$G$49*$D$40,2) -> 142108.81 | E66: =ROUND(-G66/$G$49*$F$40,2) -> -142108.81 | F66: =SUM(B66:D66) -> 1204146.3 | G66: =B66+C66 -> 1062037.5 | I66: 1,5 x VEC / anys de contracte | J66: 1,5 x VEC | K66: 2/3 VEC / anys de contracte | L66: 1,5 x VEC
A67: Total | B67: =SUM(B63:B66) -> 2857100 | C67: =SUM(C65:C66) -> 1416050 | D67: =SUM(D63:D66) -> 571780.42 | E67: =SUM(E63:E66) -> -571780.42 | F67: =SUM(F63:F66) -> 4844930.4 | G67: =B67+C67 -> 4273150
A71: VEC LOT 2
A73: IMPORTS SENSE IVA | B73: VE prestació | C73: VE eventuals pròrrogues | D73: VE modificacions contracte amb increment de cost previstes | E73: VE modificacions contracte amb disminució de cost previstes | F73: SUMA | H73: Import total lot2 | I73: Marges possibles solvènvia LOT 2
A74: 2023 | B74: ='Càlcul pressupost '!M27 -> 66575.342 | D74: =ROUND(G74/$G$49*$D$40,2) -> 8908.29 | E74: =ROUND(-G74/$G$49*$F$40,2) -> -8908.29 | F74: =SUM(B74:D74) -> 75483.632 | G74: =B74+C74 -> 66575.342 | H74: =L22 -> 540000 | I74: Solvència económica | K74: Solvència tècnica
A75: 2024 | B75: ='Càlcul pressupost '!N27 -> 270000 | D75: =ROUND(G75/$G$49*$D$40,2) -> 36128.08 | E75: =ROUND(-G75/$G$49*$F$40,2) -> -36128.08 | F75: =SUM(B75:D75) -> 306128.08 | G75: =B75+C75 -> 270000 | H75: Anys de contracte | I75: ACONSELLABLE | J75: MÀXIM | K75: MÍNIM | L75: MÀXIM
A76: 2025 | B76: ='Càlcul pressupost '!O27 -> 214674.66 | C76: =('Càlcul pressupost '!Q27*3) -> 67500 | D76: =ROUND(G76/$G$49*$D$40,2) -> 37757.14 | E76: =ROUND(-G76/$G$49*$F$40,2) -> -37757.14 | F76: =SUM(B76:D76) -> 319931.8 | G76: =B76+C76 -> 282174.66 | H76: 2 | I76: =+J76/H76 -> 202500 | J76: =(H74/2)*1.5 -> 405000 | K76: =ROUND(H74*2/3/H76,2) -> 180000 | L76: =+J76 -> 405000
A77: 2026 | C77: ='Càlcul pressupost '!Q27*9 -> 202500 | D77: =ROUND(G77/$G$49*$D$40,2) -> 27096.06 | E77: =ROUND(-G77/$G$49*$F$40,2) -> -27096.06 | F77: =SUM(B77:D77) -> 229596.06 | G77: =B77+C77 -> 202500 | I77: 1,5 x VEC / anys de contracte | J77: 1,5 x VEC | K77: 2/3 VEC / anys de contracte | L77: 1,5 x VEC
A78: Total | B78: =SUM(B74:B77) -> 551250 | C78: =SUM(C76:C77) -> 270000 | D78: =SUM(D74:D77) -> 109889.57 | E78: =SUM(E74:E77) -> -109889.57 | F78: =SUM(F74:F77) -> 931139.57 | G78: =B78+C78 -> 821250
B84: Serveis a tant alçat | C84: Servei d’Aprovisionament i configuració | D84: Aprovisionament Infraestructura cloud i comunicacions | E84: 312100
D85: Instal·lació i configuració | E85: 250000
D86: Serveis professionals de suport | E86: 100000
C87: TOTAL | D87: SUBSERVEI 1 | E87: 662100
B88: Serveis a tant alçat | C88: Servei administració, operació i manteniment | D88: Administració i operació Cloud | E88: 150000 | G88: Serveis a tant alçat | H88: =E87+E90+E92+E98 -> 1957100
D89: Manteniment Plataforma | E89: 150000 | G89: Cost serveis a preus unitaris | H89: =E95 -> 900000
C90: TOTAL | D90: SUBSERVEI 2 | E90: 300000
B91: Serveis a tant alçat | C91: Llicències | D91: Llicències | E91: 770000
C92: TOTAL | D92: SUBSERVEI 3 | E92: 770000
C93: Servei Desenvolupament | D93: Desenvolupament programari | E93: 450000
D94: Digitalització de serveis públics | E94: 450000
C95: TOTAL | D95: SUBSERVEI 4 | E95: 900000
B96: Serveis a tant alçat | C96: Servei Gestió projecte i transició | D96: Gestió projecte | E96: 200000
D97: Transició | E97: 25000
C98: TOTAL | D98: SUBSERVEI 5 | E98: 225000
E99: 2857100

Sheet Costos Indirectes
A2: CÀLCUL COSTOS DIRECTES I INDIRECTES PEL PROJECTE
C4: Preu IVA exclòs | D4: Benefici Industrial (20%) | E4: Cost Total | F4: Cost Indirecte (6,4%) | G4: Suma costos Indirectes | H4: Costos directes | I4: Cost personal | J4: Seguretat Social (34%) | K4: Salari Brut | L4: Infraestructura
C5: =TCapitol[[#Totals],[Pressupost net]] -> 3408350 | D5: =ROUND(C5*0.2, 2) -> 681670 | E5: =ROUND(C5-D5, 2) -> 2726680 | F5: =ROUND(E5*0.064, 2) -> 174507.52 | G5: =ROUND(D5+F5, 2) -> 856177.52 | H5: =ROUND(E5-F5, 2) -> 2552172.5 | I5: =+H5-L5 -> 2240072.5 | J5: =ROUND(I5*(0.34/1.34), 2) -> 568376.6 | K5: =+I5-J5 -> 1671695.9 | L5: ='Càlcul pressupost '!P6 -> 312100
C7: Costos directes:
C8: Infraestructura** | D8: =+L5 -> 312100
C9: Costos salarials - Salari Brut | D9: =+K5 -> 1671695.9
C10: Costos salarials - Seguretat Social (34%)* | D10: =+J5 -> 568376.6
C11: TOTAL (Suma costos directes) | D11: =+H5 -> 2552172.5
C13: Costos indirectes:
C14: Despeses generals d’estructura (6,4%)*** | D14: =F5 -> 174507.52
C15: Benefici industrial (20%) | D15: =D5 -> 681670
C16: TOTAL (Suma costos indirectes) | D16: =G5 -> 856177.52
C18: TOTAL DE COSTOS (directes + indirectes): | D18: =D11+D16 -> 3408350
C21: LOT 1
C22: Preu IVA exclòs | D22: Benefici Industrial (20%) | E22: Cost Total | F22: Cost Indirecte (6,4%) | G22: Suma costos Indirectes | H22: Costos directes | I22: Cost personal | J22: Seguretat Social (34%) | K22: Salari Brut | L22: Infraestructura
C23: =TServeiLot1[[#Totals],[Total import net]] -> 2857100 | D23: =ROUND(C23*0.2, 2) -> 571420 | E23: =ROUND(C23-D23, 2) -> 2285680 | F23: =ROUND(E23*0.064, 2) -> 146283.52 | G23: =ROUND(D23+F23, 2) -> 717703.52 | H23: =ROUND(E23-F23, 2) -> 2139396.5 | I23: =+H23-L23 -> 1827296.5 | J23: =ROUND(I23*(0.34/1.34), 2) -> 463642.39 | K23: =+I23-J23 -> 1363654.1 | L23: ='Taules IJ'!L6 -> 312100
C25: Costos directes:
C26: Infraestructura** | D26: =+L23 -> 312100
C27: Costos salarials - Salari Brut | D27: =+K23 -> 1363654.1
C28: Costos salarials - Seguretat Social (34%)* | D28: =+J23 -> 463642.39
C29: TOTAL (Suma costos directes) | D29: =+H23 -> 2139396.5
G30: =CalculPressup[[#Totals],[Import Total IVA inclòs]] -> 3457091
C31: Costos indirectes:
C32: Despeses generals d’estructura (6,4%)*** | D32: =F23 -> 146283.52
C33: Benefici industrial (20%) | D33: =D23 -> 571420
C34: TOTAL (Suma costos indirectes) | D34: =G23 -> 717703.52
C36: TOTAL DE COSTOS (directes + indirectes): | D36: =D29+D34 -> 2857100
C40: LOT 2
C41: Preu IVA exclòs | D41: Benefici Industrial (20%) | E41: Cost Total | F41: Cost Indirecte (6,4%) | G41: Suma costos Indirectes | H41: Costos directes | I41: Cost personal | J41: Seguretat Social (34%) | K41: Salari Brut | L41: Infraestructura
C42: ='Càlcul pressupost '!P27 -> 551250 | D42: =ROUND(C42*0.2, 2) -> 110250 | E42: =ROUND(C42-D42, 2) -> 441000 | F42: =ROUND(E42*0.064, 2) -> 28224 | G42: =ROUND(D42+F42, 2) -> 138474 | H42: =ROUND(E42-F42, 2) -> 412776 | I42: =+H42-L42 -> 412776 | J42: =ROUND(I42*(0.34/1.34), 2) -> 104734.21 | K42: =+I42-J42 -> 308041.79 | L42: 0
C44: Costos directes:
C45: Infraestructura** | D45: =+L42 -> 0
C46: Costos salarials - Salari Brut | D46: =+K42 -> 308041.79
C47: Costos salarials - Seguretat Social (34%)* | D47: =+J42 -> 104734.21
C48: TOTAL (Suma costos directes) | D48: =+H42 -> 412776
C50: Costos indirectes:
C51: Despeses generals d’estructura (6,4%)*** | D51: =F42 -> 28224
C52: Benefici industrial (20%) | D52: =D42 -> 110250
C53: TOTAL (Suma costos indirectes) | D53: =G42 -> 138474
C55: TOTAL DE COSTOS (directes + indirectes): | D55: =D48+D53 -> 551250

Sheet Infraestructura
B2: Elements comunicacions | C2: cost mensual 1 GB iva exc | D2: cost anual 1 GB iva exc
B3: cost linia comunicacions | C3: 1186.29 | D3: =Taula6[[#This Row],[cost mensual 1 GB iva exc]]*12 -> 14235.48
B4: cost gateway | C4: 1673.16 | D4: =Taula6[[#This Row],[cost mensual 1 GB iva exc]]*12 -> 20077.92
B5: cost encriptació | C5: 400 | D5: =Taula6[[#This Row],[cost mensual 1 GB iva exc]]*12 -> 4800
B6: Backup línia comunicacions | C6: =SUM(C3:C5) -> 3259.45 | D6: =Taula6[[#This Row],[cost mensual 1 GB iva exc]]*12 -> 39113.4
B7: Total | D7: =SUBTOTAL(109,Taula6[cost anual 1 GB iva exc]) -> 78226.8
B10: Espai ciutadà | C10: cost mensual iva exc | D10: cost anual iva exc
B11: Máquina virtual de proposito general: 4 vCPUs, 16 GB RAM | C11: 161.48 | D11: =C11*12 -> 1937.76
B12: Disc SSD 1T | C12: 73.86 | D12: =C12*12 -> 886.32
B13: Total | C13: =SUBTOTAL(109,Taula10[cost mensual iva exc]) -> 235.34 | D13: =SUBTOTAL(109,Taula10[cost anual iva exc]) -> 2824.08
B16: Infraestructura/Manteniment/operació de les comunicacions | C16: cost mensual iva exc | D16: cost anual iva exc
B17: Infraestructura + Manteniment/operació | C17: =Taula7[cost anual iva exc]/12 -> 6250 | D17: =150000/2 -> 75000
B18: Total | D18: =SUBTOTAL(109,Taula7[cost anual iva exc]) -> 75000
B22: TOTAL ANUAL | D22: =Taula6[[#Totals],[cost anual 1 GB iva exc]]+D18+Taula10[[#Totals],[cost anual iva exc]] -> 156050.88
B24: TOTAL 2 ANYS PROJECTE | D24: =D22*2 -> 312101.76
G30: =CalculPressup[[#Totals],[Import Total IVA inclòs]] -> 3457091

Sheet Llicències
B3: Producte CDP 1.500.000 perfils | C3: Cost any IVA Exclòs
B4: Pressupost 1 | C4: =E19 -> 390430
B5: Pressupost 2 | C5: =C25 -> 334000
B6: Pressupost 3 | C6: =D29 -> 480000
B7: Pressupost 4 | C7: =E34 -> 170300
B8: Pressupost 5 | C8: 200000
B9: Pressupost 6 | C9: =E47 -> 348512
B10: Mitjana | C10: =SUBTOTAL(101,Taula9[Cost any IVA Exclòs]) -> 320540.33
B12: Mitjana sense 2 més baix | C12: =(C4+C5+C6+C9)/4 -> 388235.5
B17: Pressupost 1 | C17: Any 1 | D17: Any 2 | E17: Any 3
B18: Perfils | C18: 100.000 | D18: 500.000 | E18: 1.500.000
B19: Preu | C19: 390430 | D19: 390430 | E19: 390430
B21: TOTAL 3 anys | D21: =C19+D19 -> 780860 | E21: =C19+D19+E19 -> 1171290
B24: Pressupost 2 | C24: Any 1 | D24: Any 2
B25: Preu | C25: 334000
B28: Pressupost 3 | C28: Any 1 | D28: Any 2
B29: Preu | C29: =480000 -> 480000 | D29: =480000 -> 480000
G30: =CalculPressup[[#Totals],[Import Total IVA inclòs]] -> 3457091
B32: Pressupost 4 | C32: Any 1 | D32: Any 2 | E32: Any 3
B33: Perfils | C33: 100.000 | D33: 500.000 | E33: 1.500.000
B34: Preu | C34: 86268 | D34: 123500 | E34: 170300
B36: TOTAL 3 anys | D36: =SUM(C32:D32) -> 0 | E36: =C34+D34+E34 -> 380068
B40: Pressupost 5 | C40: Any 1 | D40: Any 2
B41: Preu | C41: 200000 | D41: 200000
B45: Pressupost 6 | C45: Any 1 | D45: Any 2 | E45: Any 3
B46: Perfils | C46: 100.000 | D46: 500.000 | E46: 1.500.000
B47: Preu | C47: 225823 | D47: 315320 | E47: 348512

Sheet SuportProf
B3: SUPORT PROFESSIONAL
B4: mesos | C4: Import
B5: 24 | C5: 280000
B6: 10 | C6: =C5/B5*B6 -> 116666.67
G30: =CalculPressup[[#Totals],[Import Total IVA inclòs]] -> 3457091
