Workbook

Sheet Banc de Preus
A1: Codi | B1: # Capítol | C1: Capítol | D1: # Subcapítol | E1: Subcapítol | F1: Descripció Llarga | G1: Descripció Curta | H1: Unitat | I1: Preu Base
A2: AjB_OC_0001 | B2: 1 | C2: Obra Civil | D2: 1.1 | E2: Canalització Soterrada | F2: Metre lineal de canalització amb mitjans convencionals formada per 2 conductes de 125 mm en vorera, construït segons procediment descrit al document d’especificacions tècniques i incloent: - Detecció de serveis existents mitjançant la utilització de cales o georadar, inclòs part proporcional de realització de cala d'exploració d'acord a la direcció d'obra. - Retirada i acopi de qualsevol element superficial del vial, qualsevol element de mobiliari urbà i de qualsevol element que necessiti de ser retirat per a la execució de la canalització. - Demolició, càrrega sobre camió i transport a l’abocador de peces de qualsevol tipus i gruix inclòs base de formigó i cànon d’abocament. - Excavació i/o demolició de rases i pous, d’amplada entre 0,40 m fins a 0,60 m i profunditat entre 0,60 m fins a 0,80 m (de la part superior del dau de formigó fins al paviment). Executada en qualsevol tipus de terreny, deixant les restes i runes en contenidors, inclòs neteja per aspiració, anivellament de fons de rasa i apuntalament necessari. - Construcció de prisma tubular format per 2 conductes de 125 mm de diàmetre exterior i 107 mm de diàmetre interior disposats segons secció, format per tubs de polietilè d’alta densitat de doble paret, corrugada exterior i llisa interior, lligats progressivament amb els conductes de la base amb una cinta de plàstic, amb separadors instal·lats cada 2m i protegit amb un dau de formigó, inclòs col·locació de cinta de senyalització, separadors, maneguets d’unió i fil guia en els 2 conductes. - Rebliment i piconatge de rases i pous amb formigó o amb material seleccionat d’aportació, en tongades de 25 cm com a màxim, amb compactació del 95% de Proctor modificat (PM), subbase de formigó de 0,10m de sobreample per cada costat i 0,10m de gruix. - Reposició de paviment igual a l’existent de fins 0,80m d’amplada i base de formigó amb sobreample segons la direcció de l’obra, reglejada i vibrada, inclòs acabats i lliuraments a elements superficials del vial, accessos a habitatges o qualsevol element de mobiliari urbà, perfectament quadrat i tallat, totalment acabat. - Inclou senyalització, estrenyiments de carrils, talls de carrils, passos per a vianants, accessos a habitatges i guals i tota la senyalització necessària per a la realització de la canalització. - Càrrega de terres i deixalles sobrants de l’excavació i/o demolició de rases i pous sobre camió i transport a l’abocador, contenidor i/o dúmper, inclòs qualsevol tipus de transport dins l’àmbit d’emplaçament de l’obra i cànon d’abocament. - Mandrinatge, treballs de pintura i subministrament i instal·lació de taps. | G2: Canalització de 2 conductes de 125 mm en vorera. | H2: m | I2: 58.8
A3: AjB_OC_0002 | B3: 1 | C3: Obra Civil | D3: 1.1 | E3: Canalització Soterrada | F3: Metre lineal de canalització amb mitjans convencionals formada per 2 conductes de 125 mm en calçada, construït segons procediment descrit al document d’especificacions tècniques i incloent: - Detecció de serveis existents mitjançant la utilització de cales o georadar, inclòs part proporcional de realització de cala d'exploració d'acord a la direcció d'obra. - Retirada i acopi de qualsevol element superficial del vial, qualsevol element de mobiliari urbà i de qualsevol element que necessiti de ser retirat per a la execució de la canalització. - Tall de qualsevol tipus de paviment, inclòs part proporcional de disc de tall. - Demolició, càrrega sobre camió i transport a l’abocador de paviment de qualsevol tipus, inclòs cànon d’abocament. - Demolició, càrrega sobre camió i transport a l’abocador de formigó en massa de qualsevol resistència o altre tipus de bases per a paviments, inclòs cànon d’abocament. - Arrencada de peça de rigola i base de formigó de qualsevol tipus, càrrega sobre camió i transport a l’abocador, inclòs cànon d’abocament - Arrencada de vorada i base de formigó de qualsevol tipus, càrrega sobre camió i transport a l’abocador, inclòs cànon d’abocament. - Excavació i/o demolició de rases i pous, d’amplada entre 0,40 m fins a 0,60 m i profunditat entre 0,80 m fins a 1,20 m (de la part superior del dau de formigó fins al paviment). Executada en qualsevol tipus de terreny, deixant les restes i runes en contenidors, inclòs neteja per aspiració, anivellament de fons de rasa i apuntalament necessari. - Construcció de prisma tubular format per 2 conductes de 125 mm de diàmetre exterior i 107 mm de diàmetre interior disposats segons secció, amb tubs de polietilè d’alta densitat de doble paret, corrugada exterior i llisa interior, amb separadors instal·lats cada 2m i protegit amb un dau de formigó, inclòs col·locació de cinta de senyalització, separadors i maneguets d’unió i fil guia en els 2 conductes. - Rebliment i piconatge de rases i pous amb material seleccionat d’aportació, en tongades de 25 cm com a màxim, amb compactació del 95% de Proctor modificat (PM), subbase de formigó de 0,20m de sobreample per cada costat i 0,20m de gruix i reposició asfàltica de fins 0,20m de sobreample per cada costat i 0,10m de gruix, respecte la subbase de formigó. - Subministrament i col·locació de vorada de granit segons la direcció de l’obra, inclòs base de formigó, perfectament alineada i anivellada, totalment acabada. - Subministrament i col·locació de rigola segons direcció d’obra sobre base de formigó, perfectament alineada i anivellada inclòs beurada, totalment acabada. - Reposició de paviment igual a l’existent de fins 1,00m d’amplada i base de formigó amb sobreample segons la direcció de l’obra, reglejada i vibrada, inclòs acabats i lliuraments a elements superficials del vial, accessos a habitatges o qualsevol element de mobiliari urbà, perfectament quadrat i tallat, totalment acabat. - Col·locació a l’obra i compactació al 98% de l’assaig Marshall d’aglomerat asfàltic en calent d’estructura densa D-12, inclòs fabricació i transport a l’obra, inclòs segellament de juntes i estesa d’aglomerat en fred provisional en cas de la no reposició immediata de l’anterior. - Col·locació a l’obra i compactació al 98% de l’assaig Marshall rasa segons direcció d’obra en calent d’estructura semidensa, inclòs fabricació i transport a l’obra, inclòs segellament de juntes i estesa d’aglomerat en fred provisional en cas de la no reposició immediata de l’anterior. - Rec d’adherència amb emulsió aniònica tipus EAR-1, inclòs neteja de ferm, rec d’emprimació amb emulsió catiònica ECL-1, inclòs neteja de ferm. Inclosa també reposició de paviment exactament igual a l’existent amb sobreamples segons direcció d’obra. - Inclou senyalització, estrenyiments de carrils, talls de carrils, passos per a vianants, accessos a habitatges i guals i tota la senyalització necessària per a la realització de la canalització. - Càrrega de terres i deixalles sobrants de l’excavació i/o demolició de rases i pous sobre camió i transport a l’abocador, contenidor i/o dúmper i transport a l’abocador, inclòs qualsevol tipus de transport dins l’àmbit d’emplaçament de l’obra i cànon d’abocament. - Inclou mandrinatge, treballs de pintura i subministrament i instal·lació de taps. | G3: Canalització de 2 conductes de 125 mm en calçada. | H3: m | I3: 72.98
A4: AjB_OC_0003 | B4: 1 | C4: Obra Civil | D4: 1.1 | E4: Canalització Soterrada | F4: Metre lineal de canalització amb mitjans convencionals formada per 2 conductes de 125 mm en terres, construït segons procediment descrit al document d’especificacions tècniques i incloent: - Detecció de serveis existents mitjançant la utilització de cales o georadar, inclòs part proporcional de realització de cala d'exploració d'acord a la direcció d'obra. - Retirada i acopi de qualsevol element superficial del vial, qualsevol element de mobiliari urbà i de qualsevol element que necessiti de ser retirat per a la execució de la canalització. - Excavació i/o demolició de rases i pous, d’amplada entre 0,40 m fins a 0,60 m i profunditat entre 0,60 m fins a 0,80 m (de la part superior del dau de formigó fins al paviment). Executada en qualsevol tipus de terreny, deixant les restes i runes en contenidors, inclòs neteja per aspiració, anivellament de fons de rasa i apuntalament necessari. - Construcció de prisma tubular format per 2 conductes de 125 mm de diàmetre exterior i 107 mm de diàmetre interior disposats segons secció, format per tubs de polietilè d’alta densitat de doble paret, corrugada exterior i llisa interior, lligats progressivament amb els conductes de la base amb una cinta de plàstic, amb separadors instal·lats cada 2m i protegit amb un dau de formigó, inclòs col·locació de cinta de senyalització, separadors, maneguets d’unió i fil guia en els 2 conductes. - Rebliment i piconatge de rases i pous amb terres d’aportació, en tongades de 25 cm com a màxim, amb compactació del 95% de Proctor modificat (PM). - Reposició de paviment igual a l’existent, inclòs acabats i lliuraments a elements superficials del vial, accessos a habitatges o qualsevol element de mobiliari urbà, perfectament quadrat i tallat, totalment acabat. - Inclou senyalització, estrenyiments de carrils, talls de carrils, passos per a vianants, accessos a habitatges i guals i tota la senyalització necessària per a la realització de la canalització. - Càrrega de terres i deixalles sobrants de l’excavació i/o demolició de rases i pous sobre camió i transport a l’abocador, contenidor i/o dúmper, inclòs qualsevol tipus de transport dins l’àmbit d’emplaçament de l’obra i cànon d’abocament. - Mandrinatge, treballs de pintura i subministrament i instal·lació de taps. | G4: Canalització de 2 conductes de 125 mm en terres. | H4: m | I4: 37.8
A5: AjB_OC_0004 | B5: 1 | C5: Obra Civil | D5: 1.1 | E5: Canalització Soterrada | F5: Metre lineal de canalització amb mitjans convencionals formada per 4 conductes de 125 mm en vorera, construït segons procediment descrit al document d’especificacions tècniques i incloent: - Detecció de serveis existents mitjançant la utilització de cales o georadar, inclòs part proporcional de realització de cala d'exploració d'acord a la direcció d'obra. - Retirada i acopi de qualsevol element superficial del vial, qualsevol element de mobiliari urbà i de qualsevol element que necessiti de ser retirat per a la execució de la canalització. - Demolició, càrrega sobre camió i transport a l’abocador de peces de qualsevol tipus i gruix inclòs base de formigó i cànon d’abocament. - Excavació i/o demolició de rases i pous, d’amplada entre 0,40 m fins a 0,60 m i profunditat entre 0,60 m fins a 0,80 m (de la part superior del dau de formigó fins al paviment). Executada en qualsevol tipus de terreny, deixant les restes i runes en contenidors, inclòs neteja per aspiració, anivellament de fons de rasa i apuntalament necessari. - Construcció de prisma tubular format per 4 conductes de 125 mm de diàmetre exterior i 107 mm de diàmetre interior disposats segons secció, format per tubs de polietilè d’alta densitat de doble paret, corrugada exterior i llisa interior, lligats progressivament amb els conductes de la base amb una cinta de plàstic, amb separadors instal·lats cada 2m i protegit amb un dau de formigó, inclòs col·locació de cinta de senyalització, separadors, maneguets d’unió i fil guia en els 4 conductes. - Rebliment i piconatge de rases i pous amb formigó o amb material seleccionat d’aportació, en tongades de 25 cm com a màxim, amb compactació del 95% de Proctor modificat (PM), subbase de formigó de 0,10m de sobreample per cada costat i 0,10m de gruix. - Reposició de paviment igual a l’existent de fins 0,80m d’amplada i base de formigó amb sobreample segons la direcció de l’obra, reglejada i vibrada, inclòs acabats i lliuraments a elements superficials del vial, accessos a habitatges o qualsevol element de mobiliari urbà, perfectament quadrat i tallat, totalment acabat. - Inclou senyalització, estrenyiments de carrils, talls de carrils, passos per a vianants, accessos a habitatges i guals i tota la senyalització necessària per a la realització de la canalització. - Càrrega de terres i deixalles sobrants de l’excavació i/o demolició de rases i pous sobre camió i transport a l’abocador, contenidor i/o dúmper, inclòs qualsevol tipus de transport dins l’àmbit d’emplaçament de l’obra i cànon d’abocament. - Mandrinatge, treballs de pintura i subministrament i instal·lació de taps. | G5: Canalització de 4 conductes de 125 mm en vorera. | H5: m | I5: 70.88
A6: AjB_OC_0005 | B6: 1 | C6: Obra Civil | D6: 1.1 | E6: Canalització Soterrada | F6: Metre lineal de canalització amb mitjans convencionals formada per 4 conductes de 125 mm en calçada, construït segons procediment descrit al document d’especificacions tècniques i incloent: - Detecció de serveis existents mitjançant la utilització de cales o georadar, inclòs part proporcional de realització de cala d'exploració d'acord a la direcció d'obra. - Retirada i acopi de qualsevol element superficial del vial, qualsevol element de mobiliari urbà i de qualsevol element que necessiti de ser retirat per a la execució de la canalització. - Tall de qualsevol tipus de paviment, inclòs part proporcional de disc de tall. - Demolició, càrrega sobre camió i transport a l’abocador de paviment de qualsevol tipus, inclòs cànon d’abocament. - Demolició, càrrega sobre camió i transport a l’abocador de formigó en massa de qualsevol resistència o altre tipus de bases per a paviments, inclòs cànon d’abocament. - Arrencada de peça de rigola i base de formigó de qualsevol tipus, càrrega sobre camió i transport a l’abocador, inclòs cànon d’abocament - Arrencada de vorada i base de formigó de qualsevol tipus, càrrega sobre camió i transport a l’abocador, inclòs cànon d’abocament. - Excavació i/o demolició de rases i pous, d’amplada entre 0,40 m fins a 0,60 m i profunditat entre 0,80 m fins a 1,20 m (de la part superior del dau de formigó fins al paviment). Executada en qualsevol tipus de terreny, deixant les restes i runes en contenidors, inclòs neteja per aspiració, anivellament de fons de rasa i apuntalament necessari. - Construcció de prisma tubular format per 4 conductes de 125 mm de diàmetre exterior i 107 mm de diàmetre interior disposats segons secció, amb tubs de polietilè d’alta densitat de doble paret, corrugada exterior i llisa interior, amb separadors instal·lats cada 2m i protegit amb un dau de formigó, inclòs col·locació de cinta de senyalització, separadors i maneguets d’unió i fil guia en els 4 conductes. - Rebliment i piconatge de rases i pous amb material seleccionat d’aportació, en tongades de 25 cm com a màxim, amb compactació del 95% de Proctor modificat (PM), subbase de formigó de 0,20m de sobreample per cada costat i 0,20m de gruix i reposició asfàltica de fins 0,20m de sobreample per cada costat i 0,10m de gruix, respecte la subbase de formigó. - Subministrament i col·locació de vorada de granit segons la direcció de l’obra, inclòs base de formigó, perfectament alineada i anivellada, totalment acabada. - Subministrament i col·locació de rigola segons direcció d’obra sobre base de formigó, perfectament alineada i anivellada inclòs beurada, totalment acabada. - Reposició de paviment igual a l’existent de fins 1,00m d’amplada i base de formigó amb sobreample segons la direcció de l’obra, reglejada i vibrada, inclòs acabats i lliuraments a elements superficials del vial, accessos a habitatges o qualsevol element de mobiliari urbà, perfectament quadrat i tallat, totalment acabat. - Col·locació a l’obra i compactació al 98% de l’assaig Marshall d’aglomerat asfàltic en calent d’estructura densa D-12, inclòs fabricació i transport a l’obra, inclòs segellament de juntes i estesa d’aglomerat en fred provisional en cas de la no reposició immediata de l’anterior. - Col·locació a l’obra i compactació al 98% de l’assaig Marshall rasa segons direcció d’obra en calent d’estructura semidensa, inclòs fabricació i transport a l’obra, inclòs segellament de juntes i estesa d’aglomerat en fred provisional en cas de la no reposició immediata de l’anterior. - Rec d’adherència amb emulsió aniònica tipus EAR-1, inclòs neteja de ferm, rec d’emprimació amb emulsió catiònica ECL-1, inclòs neteja de ferm. Inclosa també reposició de paviment exactament igual a l’existent amb sobreamples segons direcció d’obra. - Inclou senyalització, estrenyiments de carrils, talls de carrils, passos per a vianants, accessos a habitatges i guals i tota la senyalització necessària per a la realització de la canalització. - Càrrega de terres i deixalles sobrants de l’excavació i/o demolició de rases i pous sobre camió i transport a l’abocador, contenidor i/o dúmper i transport a l’abocador, inclòs qualsevol tipus de transport dins l’àmbit d’emplaçament de l’obra i cànon d’abocament. - Inclou mandrinatge, treballs de pintura i subministrament i instal·lació de taps. | G6: Canalització de 4 conductes de 125 mm en calçada. | H6: m | I6: 87.68
A7: AjB_OC_0006 | B7: 1 | C7: Obra Civil | D7: 1.1 | E7: Canalització Soterrada | F7: Metre lineal de canalització amb mitjans convencionals formada per 4 conductes de 125 mm en terres, construït segons procediment descrit al document d’especificacions tècniques i incloent: - Detecció de serveis existents mitjançant la utilització de cales o georadar, inclòs part proporcional de realització de cala d'exploració d'acord a la direcció d'obra. - Retirada i acopi de qualsevol element superficial del vial, qualsevol element de mobiliari urbà i de qualsevol element que necessiti de ser retirat per a la execució de la canalització. - Excavació i/o demolició de rases i pous, d’amplada entre 0,40 m fins a 0,60 m i profunditat entre 0,60 m fins a 0,80 m (de la part superior del dau de formigó fins al paviment). Executada en qualsevol tipus de terreny, deixant les restes i runes en contenidors, inclòs neteja per aspiració, anivellament de fons de rasa i apuntalament necessari. - Construcció de prisma tubular format per 4 conductes de 125 mm de diàmetre exterior i 107 mm de diàmetre interior disposats segons secció, format per tubs de polietilè d’alta densitat de doble paret, corrugada exterior i llisa interior, lligats progressivament amb els conductes de la base amb una cinta de plàstic, amb separadors instal·lats cada 2m i protegit amb un dau de formigó, inclòs col·locació de cinta de senyalització, separadors, maneguets d’unió i fil guia en els 4 conductes. - Rebliment i piconatge de rases i pous amb terres d’aportació, en tongades de 25 cm com a màxim, amb compactació del 95% de Proctor modificat (PM). - Reposició de paviment igual a l’existent, inclòs acabats i lliuraments a elements superficials del vial, accessos a habitatges o qualsevol element de mobiliari urbà, perfectament quadrat i tallat, totalment acabat. - Inclou senyalització, estrenyiments de carrils, talls de carrils, passos per a vianants, accessos a habitatges i guals i tota la senyalització necessària per a la realització de la canalització. - Càrrega de terres i deixalles sobrants de l’excavació i/o demolició de rases i pous sobre camió i transport a l’abocador, contenidor i/o dúmper, inclòs qualsevol tipus de transport dins l’àmbit d’emplaçament de l’obra i cànon d’abocament. - Mandrinatge, treballs de pintura i subministrament i instal·lació de taps. | G7: Canalització de 4 conductes de 125 mm en terres. | H7: m | I7: 45.68
A8: AjB_OC_0007 | B8: 1 | C8: Obra Civil | D8: 1.1 | E8: Canalització Soterrada | F8: Metre lineal de canalització amb mitjans convencionals formada per 6 conductes de 125 mm en vorera, construït segons procediment descrit al document d’especificacions tècniques i incloent: - Detecció de serveis existents mitjançant la utilització de cales o georadar, inclòs part proporcional de realització de cala d'exploració d'acord a la direcció d'obra. - Retirada i acopi de qualsevol element superficial del vial, qualsevol element de mobiliari urbà i de qualsevol element que necessiti de ser retirat per a la execució de la canalització. - Demolició, càrrega sobre camió i transport a l’abocador de peces de qualsevol tipus i gruix inclòs base de formigó i cànon d’abocament. - Excavació i/o demolició de rases i pous, d’amplada entre 0,40 m fins a 0,60 m i profunditat entre 0,60 m fins a 0,80 m (de la part superior del dau de formigó fins al paviment). Executada en qualsevol tipus de terreny, deixant les restes i runes en contenidors, inclòs neteja per aspiració, anivellament de fons de rasa i apuntalament necessari. - Construcció de prisma tubular format per 6 conductes de 125 mm de diàmetre exterior i 107 mm de diàmetre interior disposats segons secció, format per tubs de polietilè d’alta densitat de doble paret, corrugada exterior i llisa interior, lligats progressivament amb els conductes de la base amb una cinta de plàstic, amb separadors instal·lats cada 2m i protegit amb un dau de formigó, inclòs col·locació de cinta de senyalització, separadors, maneguets d’unió i fil guia en els 6 conductes. - Rebliment i piconatge de rases i pous amb formigó o amb material seleccionat d’aportació, en tongades de 25 cm com a màxim, amb compactació del 95% de Proctor modificat (PM), subbase de formigó de 0,10m de sobreample per cada costat i 0,10m de gruix. - Reposició de paviment igual a l’existent de fins 0,80m d’amplada i base de formigó amb sobreample segons la direcció de l’obra, reglejada i vibrada, inclòs acabats i lliuraments a elements superficials del vial, accessos a habitatges o qualsevol element de mobiliari urbà, perfectament quadrat i tallat, totalment acabat. - Inclou senyalització, estrenyiments de carrils, talls de carrils, passos per a vianants, accessos a habitatges i guals i tota la senyalització necessària per a la realització de la canalització. - Càrrega de terres i deixalles sobrants de l’excavació i/o demolició de rases i pous sobre camió i transport a l’abocador, contenidor i/o dúmper, inclòs qualsevol tipus de transport dins l’àmbit d’emplaçament de l’obra i cànon d’abocament. - Mandrinatge, treballs de pintura i subministrament i instal·lació de taps. | G8: Canalització de 6 conductes de 125 mm en vorera. | H8: m | I8: 82.95
A9: AjB_OC_0008 | B9: 1 | C9: Obra Civil | D9: 1.1 | E9: Canalització Soterrada | F9: Metre lineal de canalització amb mitjans convencionals formada per 6 conductes de 125 mm en calçada, construït segons procediment descrit al document d’especificacions tècniques i incloent: - Detecció de serveis existents mitjançant la utilització de cales o georadar, inclòs part proporcional de realització de cala d'exploració d'acord a la direcció d'obra. - Retirada i acopi de qualsevol element superficial del vial, qualsevol element de mobiliari urbà i de qualsevol element que necessiti de ser retirat per a la execució de la canalització. - Tall de qualsevol tipus de paviment, inclòs part proporcional de disc de tall. - Demolició, càrrega sobre camió i transport a l’abocador de paviment de qualsevol tipus, inclòs cànon d’abocament. - Demolició, càrrega sobre camió i transport a l’abocador de formigó en massa de qualsevol resistència o altre tipus de bases per a paviments, inclòs cànon d’abocament. - Arrencada de peça de rigola i base de formigó de qualsevol tipus, càrrega sobre camió i transport a l’abocador, inclòs cànon d’abocament - Arrencada de vorada i base de formigó de qualsevol tipus, càrrega sobre camió i transport a l’abocador, inclòs cànon d’abocament. - Excavació i/o demolició de rases i pous, d’amplada entre 0,40 m fins a 0,60 m i profunditat entre 0,80 m fins a 1,20 m (de la part superior del dau de formigó fins al paviment). Executada en qualsevol tipus de terreny, deixant les restes i runes en contenidors, inclòs neteja per aspiració, anivellament de fons de rasa i apuntalament necessari. - Construcció de prisma tubular format per 6 conductes de 125 mm de diàmetre exterior i 107 mm de diàmetre interior disposats segons secció, amb tubs de polietilè d’alta densitat de doble paret, corrugada exterior i llisa interior, amb separadors instal·lats cada 2m i protegit amb un dau de formigó, inclòs col·locació de cinta de senyalització, separadors i maneguets d’unió i fil guia en els 6 conductes. - Rebliment i piconatge de rases i pous amb material seleccionat d’aportació, en tongades de 25 cm com a màxim, amb compactació del 95% de Proctor modificat (PM), subbase de formigó de 0,20m de sobreample per cada costat i 0,20m de gruix i reposició asfàltica de fins 0,20m de sobreample per cada costat i 0,10m de gruix, respecte la subbase de formigó. - Subministrament i col·locació de vorada de granit segons la direcció de l’obra, inclòs base de formigó, perfectament alineada i anivellada, totalment acabada. - Subministrament i col·locació de rigola segons direcció d’obra sobre base de formigó, perfectament alineada i anivellada inclòs beurada, totalment acabada. - Reposició de paviment igual a l’existent de fins 1,00m d’amplada i base de formigó amb sobreample segons la direcció de l’obra, reglejada i vibrada, inclòs acabats i lliuraments a elements superficials del vial, accessos a habitatges o qualsevol element de mobiliari urbà, perfectament quadrat i tallat, totalment acabat. - Col·locació a l’obra i compactació al 98% de l’assaig Marshall d’aglomerat asfàltic en calent d’estructura densa D-12, inclòs fabricació i transport a l’obra, inclòs segellament de juntes i estesa d’aglomerat en fred provisional en cas de la no reposició immediata de l’anterior. - Col·locació a l’obra i compactació al 98% de l’assaig Marshall rasa segons direcció d’obra en calent d’estructura semidensa, inclòs fabricació i transport a l’obra, inclòs segellament de juntes i estesa d’aglomerat en fred provisional en cas de la no reposició immediata de l’anterior. - Rec d’adherència amb emulsió aniònica tipus EAR-1, inclòs neteja de ferm, rec d’emprimació amb emulsió catiònica ECL-1, inclòs neteja de ferm. Inclosa també reposició de paviment exactament igual a l’existent amb sobreamples segons direcció d’obra. - Inclou senyalització, estrenyiments de carrils, talls de carrils, passos per a vianants, accessos a habitatges i guals i tota la senyalització necessària per a la realització de la canalització. - Càrrega de terres i deixalles sobrants de l’excavació i/o demolició de rases i pous sobre camió i transport a l’abocador, contenidor i/o dúmper i transport a l’abocador, inclòs qualsevol tipus de transport dins l’àmbit d’emplaçament de l’obra i cànon d’abocament. - Inclou mandrinatge, treballs de pintura i subministrament i instal·lació de taps. | G9: Canalització de 6 conductes de 125 mm en calçada. | H9: m | I9: 101.85
A10: AjB_OC_0009 | B10: 1 | C10: Obra Civil | D10: 1.1 | E10: Canalització Soterrada | F10: Metre lineal de canalització amb mitjans convencionals formada per 6 conductes de 125 mm en terres, construït segons procediment descrit al document d’especificacions tècniques i incloent: - Detecció de serveis existents mitjançant la utilització de cales o georadar, inclòs part proporcional de realització de cala d'exploració d'acord a la direcció d'obra. - Retirada i acopi de qualsevol element superficial del vial, qualsevol element de mobiliari urbà i de qualsevol element que necessiti de ser retirat per a la execució de la canalització. - Excavació i/o demolició de rases i pous, d’amplada entre 0,40 m fins a 0,60 m i profunditat entre 0,60 m fins a 0,80 m (de la part superior del dau de formigó fins al paviment). Executada en qualsevol tipus de terreny, deixant les restes i runes en contenidors, inclòs neteja per aspiració, anivellament de fons de rasa i apuntalament necessari. - Construcció de prisma tubular format per 6 conductes de 125 mm de diàmetre exterior i 107 mm de diàmetre interior disposats segons secció, format per tubs de polietilè d’alta densitat de doble paret, corrugada exterior i llisa interior, lligats progressivament amb els conductes de la base amb una cinta de plàstic, amb separadors instal·lats cada 2m i protegit amb un dau de formigó, inclòs col·locació de cinta de senyalització, separadors, maneguets d’unió i fil guia en els 6 conductes. - Rebliment i piconatge de rases i pous amb terres d’aportació, en tongades de 25 cm com a màxim, amb compactació del 95% de Proctor modificat (PM). - Reposició de paviment igual a l’existent, inclòs acabats i lliuraments a elements superficials del vial, accessos a habitatges o qualsevol element de mobiliari urbà, perfectament quadrat i tallat, totalment acabat. - Inclou senyalització, estrenyiments de carrils, talls de carrils, passos per a vianants, accessos a habitatges i guals i tota la senyalització necessària per a la realització de la canalització. - Càrrega de terres i deixalles sobrants de l’excavació i/o demolició de rases i pous sobre camió i transport a l’abocador, contenidor i/o dúmper, inclòs qualsevol tipus de transport dins l’àmbit d’emplaçament de l’obra i cànon d’abocament. - Mandrinatge, treballs de pintura i subministrament i instal·lació de taps. | G10: Canalització de 6 conductes de 125 mm en terres. | H10: m | I10: 56.7
A11: AjB_OC_0010 | B11: 1 | C11: Obra Civil | D11: 1.1 | E11: Canalització Soterrada | F11: Metre lineal de canalització amb mitjans convencionals formada per 1 conducte de 125 mm o 1 tritub de 40mm en vorera, construït segons procediment descrit al document d’especificacions tècniques i incloent: - Detecció de serveis existents mitjançant la utilització de cales o georadar, inclòs part proporcional de realització de cala d'exploració d'acord a la direcció d'obra. - Retirada i acopi de qualsevol element superficial del vial, qualsevol element de mobiliari urbà i de qualsevol element que necessiti de ser retirat per a la execució de la canalització. - Demolició, càrrega sobre camió i transport a l’abocador de peces de qualsevol tipus i gruix inclòs base de formigó i cànon d’abocament. - Excavació i/o demolició de rases i pous, d’amplada entre 0,20 m fins a 0,40 m i profunditat entre 0,45 m fins a 0,70 m (de la part superior del dau de formigó fins al paviment). Executada en qualsevol tipus de terreny, deixant les restes i runes en contenidors, inclòs neteja per aspiració, anivellament de fons de rasa i apuntalament necessari. - Construcció de prisma tubular format per: - 1 conducte de 125 mm de diàmetre exterior i 107 mm de diàmetre interior disposat segons secció, format per tub de polietilè d’alta densitat de doble paret, corrugada exterior i llisa interior, amb separadors instal·lats cada 2m i protegit amb un dau de formigó, inclòs col·locació de cinta de senyalització, separadors, maneguets d’unió i fil guia en el conducte. - 1 tritub de 40 mm de diàmetre exterior i 36 mm de diàmetre interior disposats segons secció per tubs de polietilè d'alta densitat, amb separadors instal·lats cada 2m i protegit amb un dau de formigó, inclòs col·locació de cinta de senyalització, separadors, maneguets d'unió i fil guia en els 3 conductes. - Rebliment i piconatge de rases i pous amb formigó o amb material seleccionat d’aportació, en tongades de 25 cm com a màxim, amb compactació del 95% de Proctor modificat (PM), subbase de formigó de 0,10m de sobreample per cada costat i 0,10m de gruix. - Reposició de paviment igual a l’existent de fins 0,60m d’amplada i base de formigó amb sobreample segons la direcció de l’obra, reglejada i vibrada, inclòs acabats i lliuraments a elements superficials del vial, accessos a habitatges o qualsevol element de mobiliari urbà, perfectament quadrat i tallat, totalment acabat. - Inclou senyalització, estrenyiments de carrils, talls de carrils, passos per a vianants, accessos a habitatges i guals i tota la senyalització necessària per a la realització de la canalització. - Càrrega de terres i deixalles sobrants de l’excavació i/o demolició de rases i pous sobre camió i transport a l’abocador, contenidor i/o dúmper, inclòs qualsevol tipus de transport dins l’àmbit d’emplaçament de l’obra i cànon d’abocament. - Mandrinatge, treballs de pintura i subministrament i instal·lació de taps. | G11: Canalització de 1 conducte 125mm o 1 tritub de 40 mm en vorera. | H11: m | I11: 59.33
A12: AjB_OC_0011 | B12: 1 | C12: Obra Civil | D12: 1.1 | E12: Canalització Soterrada | F12: Metre lineal de canalització amb mitjans convencionals formada per 1 tritub de 40mm o 1 conducte de 125mm en calçada, construït segons procediment descrit al document d’especificacions tècniques i incloent: - Detecció de serveis existents mitjançant la utilització de cales o georadar, inclòs part proporcional de realització de cala d'exploració d'acord a la direcció d'obra. - Retirada i acopi de qualsevol element superficial del vial, qualsevol element de mobiliari urbà i de qualsevol element que necessiti de ser retirat per a la execució de la canalització. - Tall de qualsevol tipus de paviment, inclòs part proporcional de disc de tall. - Demolició, càrrega sobre camió i transport a l’abocador de paviment de qualsevol tipus, inclòs cànon d’abocament. - Demolició, càrrega sobre camió i transport a l’abocador de formigó en massa de qualsevol resistència o altre tipus de bases per a paviments, inclòs cànon d’abocament. - Arrencada de peça de rigola i base de formigó de qualsevol tipus, càrrega sobre camió i transport a l’abocador, inclòs cànon d’abocament - Arrencada de vorada i base de formigó de qualsevol tipus, càrrega sobre camió i transport a l’abocador, inclòs cànon d’abocament. - Excavació i/o demolició de rases i pous, d’amplada entre 0,20 m fins a 0,40 m i profunditat entre 0,45 m fins a 0,70 m (de la part superior del dau de formigó fins al paviment). Executada en qualsevol tipus de terreny, deixant les restes i runes en contenidors, inclòs neteja per aspiració, anivellament de fons de rasa i apuntalament necessari. - Construcció de prisma tubular format per: - 1 conducte de 125 mm de diàmetre exterior i 107 mm de diàmetre interior disposat segons secció, format per tub de polietilè d’alta densitat de doble paret, corrugada exterior i llisa interior, amb separadors instal·lats cada 2m i protegit amb un dau de formigó, inclòs col·locació de cinta de senyalització, separadors, maneguets d’unió i fil guia en el conducte. - 1 tritub de 40 mm de diàmetre exterior i 36 mm de diàmetre interior disposats segons secció per tubs de polietilè d'alta densitat, amb separadors instal·lats cada 2m i protegit amb un dau de formigó, inclòs col·locació de cinta de senyalització, separadors, maneguets d'unió i fil guia en els 3 conductes. - Rebliment i piconatge de rases i pous amb material seleccionat d’aportació, en tongades de 25 cm com a màxim, amb compactació del 95% de Proctor modificat (PM), subbase de formigó de 0,10m de sobreample per cada costat i 0,20m de gruix i reposició asfàltica de fins 0,10m de sobreample per cada costat i 0,10m de gruix, respecte la subbase de formigó. - Subministrament i col·locació de vorada de granit segons la direcció de l’obra, inclòs base de formigó, perfectament alineada i anivellada, totalment acabada. - Subministrament i col·locació de rigola segons direcció d’obra sobre base de formigó, perfectament alineada i anivellada inclòs beurada, totalment acabada. - Reposició de paviment igual a l’existent de fins 0,60m d’amplada i base de formigó amb sobreample segons la direcció de l’obra, reglejada i vibrada, inclòs acabats i lliuraments a elements superficials del vial, accessos a habitatges o qualsevol element de mobiliari urbà, perfectament quadrat i tallat, totalment acabat. - Col·locació a l’obra i compactació al 98% de l’assaig Marshall d’aglomerat asfàltic en calent d’estructura densa D-12, inclòs fabricació i transport a l’obra, inclòs segellament de juntes i estesa d’aglomerat en fred provisional en cas de la no reposició immediata de l’anterior. - Col·locació a l’obra i compactació al 98% de l’assaig Marshall rasa segons direcció d’obra en calent d’estructura semidensa, inclòs fabricació i transport a l’obra, inclòs segellament de juntes i estesa d’aglomerat en fred provisional en cas de la no reposició immediata de l’anterior. - Rec d’adherència amb emulsió aniònica tipus EAR-1, inclòs neteja de ferm, rec d’emprimació amb emulsió catiònica ECL-1, inclòs neteja de ferm. Inclosa també reposició de paviment exactament igual a l’existent amb sobreamples segons direcció d’obra. - Inclou senyalització, estrenyiments de carrils, talls de carrils, passos per a vianants, accessos a habitatges i guals i tota la senyalització necessària per a la realització de la canalització. - Càrrega de terres i deixalles sobrants de l’excavació i/o demolició de rases i pous sobre camió i transport a l’abocador, contenidor i/o dúmper i transport a l’abocador, inclòs qualsevol tipus de transport dins l’àmbit d’emplaçament de l’obra i cànon d’abocament. - Inclou mandrinatge, treballs de pintura i subministrament i instal·lació de taps. | G12: Canalització de 1 conducte 125mm o 1 tritub de 40 mm en Calçada. | H12: m | I12: 54.6
A13: AjB_OC_0012 | B13: 1 | C13: Obra Civil | D13: 1.1 | E13: Canalització Soterrada | F13: Metre lineal de canalització amb mitjans convencionals de 1 tritub de 40mm o 1 conducte de 125mm en terres, construït segons procediment descrit al document d’especificacions tècniques i incloent: - Detecció de serveis existents mitjançant la utilització de cales o georadar, inclòs part proporcional de realització de cala d'exploració d'acord a la direcció d'obra. - Retirada i acopi de qualsevol element superficial del vial, qualsevol element de mobiliari urbà i de qualsevol element que necessiti de ser retirat per a la execució de la canalització. - Excavació i/o demolició de rases i pous, d’amplada entre 0,20 m fins a 0,40 m i profunditat entre 0,45 m fins a 0,70 m (de la part superior del dau de formigó fins al paviment). Executada en qualsevol tipus de terreny, deixant les restes i runes en contenidors, inclòs neteja per aspiració, anivellament de fons de rasa i apuntalament necessari. - Construcció de prisma tubular format per: - 1 conducte de 125 mm de diàmetre exterior i 107 mm de diàmetre interior disposat segons secció, format per tub de polietilè d’alta densitat de doble paret, corrugada exterior i llisa interior, amb separadors instal·lats cada 2m i protegit amb un dau de formigó, inclòs col·locació de cinta de senyalització, separadors, maneguets d’unió i fil guia en el conducte. - 1 tritub de 40 mm de diàmetre exterior i 36 mm de diàmetre interior disposats segons secció per tubs de polietilè d'alta densitat, amb separadors instal·lats cada 2m i protegit amb un dau de formigó, inclòs col·locació de cinta de senyalització, separadors, maneguets d'unió i fil guia en els 3 conductes. - Rebliment i piconatge de rases i pous amb terres d’aportació, en tongades de 25 cm com a màxim, amb compactació del 95% de Proctor modificat (PM). - Reposició de paviment igual a l’existent, inclòs acabats i lliuraments a elements superficials del vial, accessos a habitatges o qualsevol element de mobiliari urbà, perfectament quadrat i tallat, totalment acabat. - Inclou senyalització, estrenyiments de carrils, talls de carrils, passos per a vianants, accessos a habitatges i guals i tota la senyalització necessària per a la realització de la canalització. - Càrrega de terres i deixalles sobrants de l’excavació i/o demolició de rases i pous sobre camió i transport a l’abocador, contenidor i/o dúmper, inclòs qualsevol tipus de transport dins l’àmbit d’emplaçament de l’obra i cànon d’abocament. - Mandrinatge, treballs de pintura i subministrament i instal·lació de taps. | G13: Canalització de 1 conducte 125mm o 1 tritub de 40 mm en Terres. | H13: m | I13: 28.35
... A146: AjB_FO_0114 | B146: 2 | C146: Instal·lacions | D146: 2.5 | E146: Subministrament Elements FO | F146: Subministrament de pont (jumper) monofibra de 2 m de longitud amb connectors SC/APC en els 2 extrems, amb coberta de poliamida. Inclou transport fins a l’obra, assaigs i certificacions. Tot inclòs, segons les especificacions tècniques. | G146: Subministrament pont (jumper) 2 m SC/APC-SC/APC | H146: u. | I146: 12.24

Sheet Amidaments
A1: Codi | B1: # Capítol | C1: Capítol | D1: # Subcapítol | E1: Subcapítol | F1: Descripció Curta | G1: Unitat | H1: Preu Unitari màxim | I1: Amidament Projecte | J1: Preu unitari ofert | K1: Total Oferta empresa
A2: AjB_OC_0001 | B2: =VLOOKUP(A2,'Banc de Preus'!A:I,2,0) -> 1 | C2: =VLOOKUP(A2,'Banc de Preus'!A:I,3,0) -> Obra Civil | D2: =VLOOKUP(A2,'Banc de Preus'!A:I,4,0) -> 1.1 | E2: =VLOOKUP(A2,'Banc de Preus'!A:I,5,0) -> Canalització Soterrada | F2: =VLOOKUP(A2,'Banc de Preus'!A:I,7,0) -> Canalització de 2 conductes de 125 mm en vorera. | G2: =VLOOKUP(A2,'Banc de Preus'!A:I,8,0) -> m | H2: =VLOOKUP(A2,'Banc de Preus'!A:I,9,0) -> 58.8 | I2: 1 | K2: =I2*J2 -> 0
A3: AjB_OC_0002 | B3: =VLOOKUP(A3,'Banc de Preus'!A:I,2,0) -> 1 | C3: =VLOOKUP(A3,'Banc de Preus'!A:I,3,0) -> Obra Civil | D3: =VLOOKUP(A3,'Banc de Preus'!A:I,4,0) -> 1.1 | E3: =VLOOKUP(A3,'Banc de Preus'!A:I,5,0) -> Canalització Soterrada | F3: =VLOOKUP(A3,'Banc de Preus'!A:I,7,0) -> Canalització de 2 conductes de 125 mm en calçada. | G3: =VLOOKUP(A3,'Banc de Preus'!A:I,8,0) -> m | H3: =VLOOKUP(A3,'Banc de Preus'!A:I,9,0) -> 72.98 | I3: 1 | K3: =I3*J3 -> 0
A4: AjB_OC_0003 | B4: =VLOOKUP(A4,'Banc de Preus'!A:I,2,0) -> 1 | C4: =VLOOKUP(A4,'Banc de Preus'!A:I,3,0) -> Obra Civil | D4: =VLOOKUP(A4,'Banc de Preus'!A:I,4,0) -> 1.1 | E4: =VLOOKUP(A4,'Banc de Preus'!A:I,5,0) -> Canalització Soterrada | F4: =VLOOKUP(A4,'Banc de Preus'!A:I,7,0) -> Canalització de 2 conductes de 125 mm en terres. | G4: =VLOOKUP(A4,'Banc de Preus'!A:I,8,0) -> m | H4: =VLOOKUP(A4,'Banc de Preus'!A:I,9,0) -> 37.8 | I4: 1 | K4: =I4*J4 -> 0
A5: AjB_OC_0004 | B5: =VLOOKUP(A5,'Banc de Preus'!A:I,2,0) -> 1 | C5: =VLOOKUP(A5,'Banc de Preus'!A:I,3,0) -> Obra Civil | D5: =VLOOKUP(A5,'Banc de Preus'!A:I,4,0) -> 1.1 | E5: =VLOOKUP(A5,'Banc de Preus'!A:I,5,0) -> Canalització Soterrada | F5: =VLOOKUP(A5,'Banc de Preus'!A:I,7,0) -> Canalització de 4 conductes de 125 mm en vorera. | G5: =VLOOKUP(A5,'Banc de Preus'!A:I,8,0) -> m | H5: =VLOOKUP(A5,'Banc de Preus'!A:I,9,0) -> 70.88 | I5: 1 | K5: =I5*J5 -> 0
A6: AjB_OC_0005 | B6: =VLOOKUP(A6,'Banc de Preus'!A:I,2,0) -> 1 | C6: =VLOOKUP(A6,'Banc de Preus'!A:I,3,0) -> Obra Civil | D6: =VLOOKUP(A6,'Banc de Preus'!A:I,4,0) -> 1.1 | E6: =VLOOKUP(A6,'Banc de Preus'!A:I,5,0) -> Canalització Soterrada | F6: =VLOOKUP(A6,'Banc de Preus'!A:I,7,0) -> Canalització de 4 conductes de 125 mm en calçada. | G6: =VLOOKUP(A6,'Banc de Preus'!A:I,8,0) -> m | H6: =VLOOKUP(A6,'Banc de Preus'!A:I,9,0) -> 87.68 | I6: 1 | K6: =I6*J6 -> 0
A7: AjB_OC_0006 | B7: =VLOOKUP(A7,'Banc de Preus'!A:I,2,0) -> 1 | C7: =VLOOKUP(A7,'Banc de Preus'!A:I,3,0) -> Obra Civil | D7: =VLOOKUP(A7,'Banc de Preus'!A:I,4,0) -> 1.1 | E7: =VLOOKUP(A7,'Banc de Preus'!A:I,5,0) -> Canalització Soterrada | F7: =VLOOKUP(A7,'Banc de Preus'!A:I,7,0) -> Canalització de 4 conductes de 125 mm en terres. | G7: =VLOOKUP(A7,'Banc de Preus'!A:I,8,0) -> m | H7: =VLOOKUP(A7,'Banc de Preus'!A:I,9,0) -> 45.68 | I7: 1 | K7: =I7*J7 -> 0
A8: AjB_OC_0007 | B8: =VLOOKUP(A8,'Banc de Preus'!A:I,2,0) -> 1 | C8: =VLOOKUP(A8,'Banc de Preus'!A:I,3,0) -> Obra Civil | D8: =VLOOKUP(A8,'Banc de Preus'!A:I,4,0) -> 1.1 | E8: =VLOOKUP(A8,'Banc de Preus'!A:I,5,0) -> Canalització Soterrada | F8: =VLOOKUP(A8,'Banc de Preus'!A:I,7,0) -> Canalització de 6 conductes de 125 mm en vorera. | G8: =VLOOKUP(A8,'Banc de Preus'!A:I,8,0) -> m | H8: =VLOOKUP(A8,'Banc de Preus'!A:I,9,0) -> 82.95 | I8: 1 | K8: =I8*J8 -> 0
A9: AjB_OC_0008 | B9: =VLOOKUP(A9,'Banc de Preus'!A:I,2,0) -> 1 | C9: =VLOOKUP(A9,'Banc de Preus'!A:I,3,0) -> Obra Civil | D9: =VLOOKUP(A9,'Banc de Preus'!A:I,4,0) -> 1.1 | E9: =VLOOKUP(A9,'Banc de Preus'!A:I,5,0) -> Canalització Soterrada | F9: =VLOOKUP(A9,'Banc de Preus'!A:I,7,0) -> Canalització de 6 conductes de 125 mm en calçada. | G9: =VLOOKUP(A9,'Banc de Preus'!A:I,8,0) -> m | H9: =VLOOKUP(A9,'Banc de Preus'!A:I,9,0) -> 101.85 | I9: 1 | K9: =I9*J9 -> 0
A10: AjB_OC_0009 | B10: =VLOOKUP(A10,'Banc de Preus'!A:I,2,0) -> 1 | C10: =VLOOKUP(A10,'Banc de Preus'!A:I,3,0) -> Obra Civil | D10: =VLOOKUP(A10,'Banc de Preus'!A:I,4,0) -> 1.1 | E10: =VLOOKUP(A10,'Banc de Preus'!A:I,5,0) -> Canalització Soterrada | F10: =VLOOKUP(A10,'Banc de Preus'!A:I,7,0) -> Canalització de 6 conductes de 125 mm en terres. | G10: =VLOOKUP(A10,'Banc de Preus'!A:I,8,0) -> m | H10: =VLOOKUP(A10,'Banc de Preus'!A:I,9,0) -> 56.7 | I10: 1 | K10: =I10*J10 -> 0
A11: AjB_OC_0010 | B11: =VLOOKUP(A11,'Banc de Preus'!A:I,2,0) -> 1 | C11: =VLOOKUP(A11,'Banc de Preus'!A:I,3,0) -> Obra Civil | D11: =VLOOKUP(A11,'Banc de Preus'!A:I,4,0) -> 1.1 | E11: =VLOOKUP(A11,'Banc de Preus'!A:I,5,0) -> Canalització Soterrada | F11: =VLOOKUP(A11,'Banc de Preus'!A:I,7,0) -> Canalització de 1 conducte 125mm o 1 tritub de 40 mm en vorera. | G11: =VLOOKUP(A11,'Banc de Preus'!A:I,8,0) -> m | H11: =VLOOKUP(A11,'Banc de Preus'!A:I,9,0) -> 59.33 | I11: 1 | K11: =I11*J11 -> 0
A12: AjB_OC_0011 | B12: =VLOOKUP(A12,'Banc de Preus'!A:I,2,0) -> 1 | C12: =VLOOKUP(A12,'Banc de Preus'!A:I,3,0) -> Obra Civil | D12: =VLOOKUP(A12,'Banc de Preus'!A:I,4,0) -> 1.1 | E12: =VLOOKUP(A12,'Banc de Preus'!A:I,5,0) -> Canalització Soterrada | F12: =VLOOKUP(A12,'Banc de Preus'!A:I,7,0) -> Canalització de 1 conducte 125mm o 1 tritub de 40 mm en Calçada. | G12: =VLOOKUP(A12,'Banc de Preus'!A:I,8,0) -> m | H12: =VLOOKUP(A12,'Banc de Preus'!A:I,9,0) -> 54.6 | I12: 1 | K12: =I12*J12 -> 0
A13: AjB_OC_0012 | B13: =VLOOKUP(A13,'Banc de Preus'!A:I,2,0) -> 1 | C13: =VLOOKUP(A13,'Banc de Preus'!A:I,3,0) -> Obra Civil | D13: =VLOOKUP(A13,'Banc de Preus'!A:I,4,0) -> 1.1 | E13: =VLOOKUP(A13,'Banc de Preus'!A:I,5,0) -> Canalització Soterrada | F13: =VLOOKUP(A13,'Banc de Preus'!A:I,7,0) -> Canalització de 1 conducte 125mm o 1 tritub de 40 mm en Terres. | G13: =VLOOKUP(A13,'Banc de Preus'!A:I,8,0) -> m | H13: =VLOOKUP(A13,'Banc de Preus'!A:I,9,0) -> 28.35 | I13: 1 | K13: =I13*J13 -> 0
... A146: AjB_FO_0114 | B146: =VLOOKUP(A146,'Banc de Preus'!A:I,2,0) -> 2 | C146: =VLOOKUP(A146,'Banc de Preus'!A:I,3,0) -> Instal·lacions | D146: =VLOOKUP(A146,'Banc de Preus'!A:I,4,0) -> 2.5 | E146: =VLOOKUP(A146,'Banc de Preus'!A:I,5,0) -> Subministrament Elements FO | F146: =VLOOKUP(A146,'Banc de Preus'!A:I,7,0) -> Subministrament pont (jumper) 2 m SC/APC-SC/APC | G146: =VLOOKUP(A146,'Banc de Preus'!A:I,8,0) -> u. | H146: =VLOOKUP(A146,'Banc de Preus'!A:I,9,0) -> 12.24 | I146: 1 | K146: =I146*J146 -> 0
K147: =SUM(K2:K146) -> 0
