Workbook

Sheet criteris automàtics
A1: CRITERIS VINCULATS A L’OBJECTE DEL CONTRACTE AVALUABLES DE FORMA AUTOMÀTICA (FINS A 51 PUNTS) | D1: màxima puntuació | E1: punts estimats
A2: Preu ofert (fins a 20 punts) | C2: camp automàtic:
B3: Càlcul automàtic import oferta (iva exclòs) a partir d'omplir : de la pestanya Perfils, caselles grogues (de E3 a E10), i pestanya Infraestructura-Talles: caselles grogues (columna G). | C3: ='Càlcul pressupost '!K11 -> 1724996.5 | D3: 20 | E3: (a completar per IMI)
A4: Millora en els Acords de Nivell de Servei (fins a 10 punts) | C4: marcar amb «X» el que correspongui:
B5: Millora en el temps de resolució d’incidències (Inc Treso), per al cas d’aplicacions de criticitat Estratègica:
B6: Millora ANS per a incidències greus a un màxim de 4 hores de temps de resolució:............ 2 punts | D6: 2 | E6: =IF(EXACT(UPPER(C6),"X"),D6,0) -> 0
B7: Millora ANS per a incidències normals a un màxim de 8 hores de temps de resolució:...... 3 punts | D7: 3 | E7: =IF(EXACT(UPPER(C7),"X"),D7,0) -> 0
B9: Millora en el temps de resolució de peticions de configuració d’Administració de sistemes (Pet Treso):
B10: Millora ANS per a peticions a un màxim de 2 dies............................ 3 punts | D10: 3 | E10: =IF(EXACT(UPPER(C10),"X"),D10,0) -> 0
B12: Millora en el temps d’anàlisi i planificació de peticions (Plani):
B13: Millora ANS per a anàlisi i planificació a un màxim de 3 dies.................................................. 2 punts | D13: 2 | E13: =IF(EXACT(UPPER(C13),"X"),D13,0) -> 0
A14: Millora en l’horari del suport tècnic (fins a 10 punts) | C14: marcar amb «X» el que correspongui:
B15: Per una millora al 12x5 (laborables dilluns a divendres, de 8h a 20h).................. 2 punts
B16: Per una millora al 15x5 (laborables dilluns a divendres, de 8h a 23h).................. 4 punts
B17: Per una millora al 15x7 (dilluns a diumenge, incloent festius, de 8h a 23h) …...... 8 punts
B18: Per una millora al 24x7 (dilluns a diumenge, incloent festius, les 24h del dia) ….10 punts | D18: 10 | E18: =IF(EXACT(UPPER(C18),"X"),10, IF(EXACT(UPPER(C17),"X"),8, IF(EXACT(UPPER(C16),"X"),4, IF(EXACT(UPPER(C15),"X"),2,0 )))) -> 0
A19: Experiència de l’equip tècnic assignat a l’execució del contracte (fins a 5 punts) | C19: indicar anys complerts experiència:
B20: 0,5 punts per cada any d’experiència addicional a la mínima requerida pel perfil Arquitecte/a en projectes o serveis de provisionament de infraestructura en l’àmbit d’aplicacions web, fins a un màxim de 3 anys més (1,5 punts). | D20: 1.5 | E20: =MIN(C20*0.5,D20) -> 0
B21: 0,25 punts per cada any d’experiència addicional a la mínima requerida pel perfil Programador de sistemes fins a un màxim de 4 anys més (1 punts) | D21: 1 | E21: =MIN(C21*0.25,D21) -> 0
B22: 0,25 punts per cada any d’experiència addicional a la mínima requerida pel perfil Full Stack Developer en PYTHON, fins a un màxim de 4 anys més (1 punts) | D22: 1 | E22: =MIN(C22*0.25,D22) -> 0
B23: 0,5 punts per cada any d’experiència addicional a la mínima requerida pel perfil Responsable seguretat (Responsable de servei Sènior), fins a un màxim de 3 anys més (1,5 punts) | D23: 1.5 | E23: =MIN(C23*0.5,D23) -> 0
A24: Certificacions de l'equip assignat al contracte ................. (fins a 4 punts) | C24: marcar amb «X» el que correspongui:
B25: Es valorarà que el perfil d’Arquitecte o bé el Programador de sistemes tingui la certificació:
B26: AWS Certified Solutions Architect - Professional (1 punt) | D26: 1 | E26: =IF(EXACT(UPPER(C26),"X"),D26,0) -> 0
B27: Linux LPI , LPIC-1 o superior (0,5 punt) | D27: 0.5 | E27: =IF(EXACT(UPPER(C27),"X"),D27,0) -> 0
B28: Terraform Associate 003 o superior (0,5 punt) | D28: 0.5 | E28: =IF(EXACT(UPPER(C28),"X"),D28,0) -> 0
B29: Es valorarà que el perfil d’Programador PHP tingui la certificació:
B30: W3Schools PHP certification (0,5 punt) | D30: 0.5 | E30: =IF(EXACT(UPPER(C30),"X"),D30,0) -> 0
B31: Es valorarà que el perfil d’Arquitecte PYTHON o bé per a Full Stack Developer en PYTHON tingui la certificació:
B32: Redis for Python developers (0,25 punt) | D32: 0.25 | E32: =IF(EXACT(UPPER(C32),"X"),D32,0) -> 0
B33: Es valorarà que un dels perfils assignats al contracte tingui alguna de les següents certificacions:
B34: Bareos Administration I (o superior) (0,25 punt) | D34: 0.25 | E34: =IF(EXACT(UPPER(C34),"X"),D34,0) -> 0
B35: Certified Kubernetes Administrator (CKA) de The Linux Foundation (0,5 punt) | D35: 0.5 | E35: =IF(EXACT(UPPER(C35),"X"),D35,0) -> 0
B36: ITIL 4 Foundation (0,5 punt) | D36: 0.5 | E36: =IF(EXACT(UPPER(C36),"X"),D36,0) -> 0
A37: Periodicitat revisions ……. (fins a 2 punt) | C37: marcar amb «X» el que correspongui:
B38: Per la millora en la periodicitat de les revisions trimestrals del plec de prescripcions tècniques per passar a periodicitat mensual. | D38: 2 | E38: =IF(EXACT(UPPER(C38),"X"),D38,0) -> 0
A39: total punts:
B40: punts del preu (fins a 20 punts) | D40: 20 | E40: (a completar per IMI)
B41: ANS, horari, experiència, certificacions, periodicitat revisions (fins a 31 punts) | D41: =SUM(D6:D38) -> 31 | E41: =SUM(E6:E38) -> 0

Sheet Perfils
D2: Import €/hora amb IVA | E2: Preu/hora IVA exclòs
C3: Cap de projecte/Responsable del Servei | D3: =ROUND(E3*1.21,2) -> 105.96 | E3: 87.57
C4: Arquitecte | D4: =ROUND(E4*1.21,2) -> 114.13 | E4: 94.32
C5: Responsable seguretat ( tarifa de "Responsable de servei Sènior") | D5: =ROUND(E5*1.21,2) -> 74.95 | E5: 61.94
C6: Programador de sistemes | D6: =ROUND(E6*1.21,2) -> 46.97 | E6: 38.82
C7: Programador PHP | D7: =ROUND(E7*1.21,2) -> 39.76 | E7: 32.86
C8: Full Stack Developer en PYTHON | D8: =ROUND(E8*1.21,2) -> 57.86 | E8: 47.82
C9: Arquitecte PYTHON | D9: =ROUND(E9*1.21,2) -> 66.78 | E9: 55.19
C10: Atenció usuaris | D10: =ROUND(E10*1.21,2) -> 39.48 | E10: 32.63
D11: (Inclou augment IPC fins desembre-2023)
B13: Servei plec | C13: Perfil | D13: % dedicació | E13: Preu perfil IVA inclòs | F13: Preu perfil IVA exclòs | G13: Preu / hora /perfil IVA inclòs
B14: Manteniment correctiu | C14: =$C$3 -> Cap de projecte/Responsable del Servei | D14: 0.05 | E14: =$D$3 -> 105.96 | F14: =$E$3 -> 87.57 | G14: =E14*D14 -> 5.298
C15: =+$C$4 -> Arquitecte | D15: 0.1 | E15: =$D$4 -> 114.13 | F15: =$E$4 -> 94.32 | G15: =E15*D15 -> 11.413
C16: =$C$5 -> Responsable seguretat ( tarifa de "Responsable de servei Sènior") | D16: 0.15 | E16: =$D$5 -> 74.95 | F16: =$E$5 -> 61.94 | G16: =E16*D16 -> 11.2425
C17: =+$C$6 -> Programador de sistemes | D17: 0.3 | E17: =$D$6 -> 46.97 | F17: =$E$6 -> 38.82 | G17: =E17*D17 -> 14.091
C18: =+$C$7 -> Programador PHP | D18: 0.3 | E18: =$D$7 -> 39.76 | F18: =$E$7 -> 32.86 | G18: =E18*D18 -> 11.928
C19: =+$C$8 -> Full Stack Developer en PYTHON | D19: 0.1 | E19: =$D$8 -> 57.86 | F19: =$E$8 -> 47.82 | G19: =E19*D19 -> 5.786
C20: Preu perfil tipus | G20: =ROUND(SUM(G14:G19),2) -> 59.76 | H20: =SUM(D14:D19) -> 1
B21: Manteniment recurrent | C21: =$C$3 -> Cap de projecte/Responsable del Servei | D21: 0.05 | E21: =$D$3 -> 105.96 | F21: =$E$3 -> 87.57 | G21: =E21*D21 -> 5.298
C22: =+$C$4 -> Arquitecte | D22: 0.1 | E22: =$D$4 -> 114.13 | F22: =$E$4 -> 94.32 | G22: =E22*D22 -> 11.413
C23: =$C$5 -> Responsable seguretat ( tarifa de "Responsable de servei Sènior") | D23: 0.05 | E23: =$D$5 -> 74.95 | F23: =$E$5 -> 61.94 | G23: =E23*D23 -> 3.7475
C24: =+$C$6 -> Programador de sistemes | D24: 0.2 | E24: =$D$6 -> 46.97 | F24: =$E$6 -> 38.82 | G24: =E24*D24 -> 9.394
C25: =+$C$7 -> Programador PHP | D25: 0.3 | E25: =$D$7 -> 39.76 | F25: =$E$7 -> 32.86 | G25: =E25*D25 -> 11.928
C26: =+$C$8 -> Full Stack Developer en PYTHON | D26: 0.2 | E26: =$D$8 -> 57.86 | F26: =$E$8 -> 47.82 | G26: =E26*D26 -> 11.572
C27: =+$C$9 -> Arquitecte PYTHON | D27: 0.1 | E27: =$D$9 -> 66.78 | F27: =$E$9 -> 55.19 | G27: =E27*D27 -> 6.678
C28: Preu perfil tipus | G28: =ROUND(SUM(G21:G27),2) -> 60.03 | H28: =SUM(D21:D27) -> 1
B29: Serveis d'evolutius recurrents | C29: =$C$3 -> Cap de projecte/Responsable del Servei | D29: 0.05 | E29: =$D$3 -> 105.96 | F29: =$E$3 -> 87.57 | G29: =E29*D29 -> 5.298
C30: =+$C$4 -> Arquitecte | D30: 0.1 | E30: =$D$4 -> 114.13 | F30: =$E$4 -> 94.32 | G30: =E30*D30 -> 11.413
C31: =$C$5 -> Responsable seguretat ( tarifa de "Responsable de servei Sènior") | D31: 0.05 | E31: =$D$5 -> 74.95 | F31: =$E$5 -> 61.94 | G31: =E31*D31 -> 3.7475
C32: =+$C$6 -> Programador de sistemes | D32: 0.2 | E32: =$D$6 -> 46.97 | F32: =$E$6 -> 38.82 | G32: =E32*D32 -> 9.394
C33: =+$C$7 -> Programador PHP | D33: 0.3 | E33: =$D$7 -> 39.76 | F33: =$E$7 -> 32.86 | G33: =E33*D33 -> 11.928
C34: =+$C$8 -> Full Stack Developer en PYTHON | D34: 0.2 | E34: =$D$8 -> 57.86 | F34: =$E$8 -> 47.82 | G34: =E34*D34 -> 11.572
C35: =+$C$9 -> Arquitecte PYTHON | D35: 0.1 | E35: =$D$9 -> 66.78 | F35: =$E$9 -> 55.19 | G35: =E35*D35 -> 6.678
C36: Preu perfil tipus | G36: =ROUND(SUM(G29:G35),2) -> 60.03 | H36: =SUM(D29:D35) -> 1
B37: Serveis Transversals de Manteniment | C37: =$C$3 -> Cap de projecte/Responsable del Servei | D37: 0.15 | E37: =$D$3 -> 105.96 | F37: =$E$3 -> 87.57 | G37: =E37*D37 -> 15.894
C38: =+$C$4 -> Arquitecte | D38: 0.15 | E38: =$D$4 -> 114.13 | F38: =$E$4 -> 94.32 | G38: =E38*D38 -> 17.1195
C39: =$C$5 -> Responsable seguretat ( tarifa de "Responsable de servei Sènior") | D39: 0.05 | E39: =$D$5 -> 74.95 | F39: =$E$5 -> 61.94 | G39: =E39*D39 -> 3.7475
C40: =+$C$6 -> Programador de sistemes | D40: 0.5 | E40: =$D$6 -> 46.97 | F40: =$E$6 -> 38.82 | G40: =E40*D40 -> 23.485
C41: =+$C$10 -> Atenció usuaris | D41: 0.15 | E41: =$D$10 -> 39.48 | F41: =$E$10 -> 32.63 | G41: =E41*D41 -> 5.922
C42: Preu perfil tipus | G42: =ROUND(SUM(G37:G41),2) -> 66.17 | H42: =SUM(D37:D41) -> 1

Sheet Infraestructura-Talles
A1: Servei d’aprovisionament d’infraestructura
B2: Infraestructura Webs CMS (PaaS)
B4: TALLA | C4: vCPU (*) | D4: RAM (GB) (*) | E4: espai disc SSD (GB) (*) | F4: espai BBDD SSD (GB) (*) | G4: PREU €/mes Iva exclòs | H4: PREU €/mes Iva inclòs | I4: Nombre unitats | J4: Cost total €/mes iva inclòs | K4: Cost total ANUAL € iva inclòs
B5: Web CMS Estàndard | C5: 1/20 | D5: 50 MB | E5: 2 Gb | F5: 0,5 Gb | G5: 5 | H5: =G5*1.21 -> 6.05 | I5: 538 | J5: =I5*H5 -> 3254.9 | K5: =J5*12 -> 39058.8
B6: Web CMS Estratègica | C6: 2/20 | D6: 125 MB | E6: 4 Gb | F6: 1 Gb | G6: 7 | H6: =G6*1.21 -> 8.47 | I6: 57 | J6: =I6*H6 -> 482.79 | K6: =J6*12 -> 5793.48
B7: Web CMS entorn desenvolupament | C7: 0,5/20 | D7: 25 MB | E7: 2 Gb | F7: 0,5 Gb | G7: 3 | H7: =G7*1.21 -> 3.63 | I7: 448 | J7: =I7*H7 -> 1626.24 | K7: =J7*12 -> 19514.88
B8: (*) En promig, veure detall càlculs de recursos al plec. L'Allotjament actual és AWS | I8: =SUM(I5:I7) -> 1043 | J8: =SUM(J5:J7) -> 5363.93 | K8: =SUM(K5:K7) -> 64367.16
B11: Infraestructura Servidors Virtuals Dedicats (IaaS) i Emmagatzematge
B13: TALLA | C13: vCPU | D13: RAM (GB) | E13: SSD (GB) | F13: PROVEIDOR actual | G13: PREU €/mes Iva exclòs (1) | H13: PREU €/mes Iva inclòs | I13: Nombre unitats | J13: Cost total €/mes iva inclòs | K13: Cost total ANUAL € iva inclòs
B14: t3a.micro | C14: 2 | D14: 1 | E14: 50 | F14: AWS | G14: =(5.31 + 4.54) / 1.21 * 1.1 -> 8.9545455 | H14: =G14*1.21 -> 10.835 | I14: 7 | J14: =I14*H14 -> 75.845 | K14: =J14*12 -> 910.14
B15: t3a.small | C15: 2 | D15: 2 | E15: 50 | F15: AWS | G15: =(10.71+ 4.54) / 1.21* 1.1 -> 13.863636 | H15: =G15*1.21 -> 16.775 | I15: 28 | J15: =I15*H15 -> 469.7 | K15: =J15*12 -> 5636.4
B16: t3a.medium | C16: 2 | D16: 4 | E16: 50 | F16: AWS | G16: =(21.33+ 4.54) / 1.21* 1.1 -> 23.518182 | H16: =G16*1.21 -> 28.457 | I16: 11 | J16: =I16*H16 -> 313.027 | K16: =J16*12 -> 3756.324
B17: t3a.large | C17: 2 | D17: 8 | E17: 50 | F17: AWS | G17: =(42.67+ 4.54) / 1.21* 1.1 -> 42.918182 | H17: =G17*1.21 -> 51.931 | I17: 7 | J17: =I17*H17 -> 363.517 | K17: =J17*12 -> 4362.204
B18: t3a.xlarge | C18: 4 | D18: 16 | E18: 50 | F18: AWS | G18: =(85.35+ 4.54) / 1.21* 1.1 -> 81.718182 | H18: =G18*1.21 -> 98.879 | I18: 0 | J18: =I18*H18 -> 0 | K18: =J18*12 -> 0
B19: t3a.2xlarge | C19: 8 | D19: 32 | E19: 50 | F19: AWS | G19: =(170.71+ 4.54) / 1.21* 1.1 -> 159.31818 | H19: =G19*1.21 -> 192.775 | I19: 0.08 | J19: =I19*H19 -> 15.422 | K19: =J19*12 -> 185.064
B20: Servidor dedicat gran | C20: 6 CPU | D20: 64 | E20: 64TB (32TB útils amb RAID) | F20: Hetzner | G20: =98.38/1.21* 1.1 -> 89.436364 | H20: =G20*1.21 -> 108.218 | I20: 2 | J20: =I20*H20 -> 216.436 | K20: =J20*12 -> 2597.232
I21: =SUM(I14:I20) -> 55.08 | J21: =SUM(J14:J20) -> 1453.947 | K21: =SUM(K14:K20) -> 17447.364
B23: Links preus Proveidors | G23: (1) Els imports son:
B24: https://aws.amazon.com/es/s3/pricing/?nc=sn&loc=4 | G24: el real del proveïdor AWS (zona Irlanda) en USD * conversió a Euro 0.94 (a dia 10/11/23).
B25: https://aws.amazon.com/es/ec2/pricing/on-demand/ | G25: En el cas de les EC2 s'indica el preu de reserva durant un any que es un 33% mes barat que baix demanda.
B26: https://www.hetzner.com/cloud | G26: El Preu incou un 10% de marge per afavorir la competència, i assumir el risc de reserva prèvia de recursos.
B27: https://www.digitalocean.com/pricing/ | G27: El preu inclou un disc de 50 Gb a cada servidor (que s'estima que incrementa el preu en 4,54€ iva inclòs cada servidor)
B30: TALLA | E30: TIPUS | F30: PROVEIDOR | G30: PREU € GB/mes IVA exclòs (1) | H30: PREU € GB/mes IVA inclòs | I30: Nombre unitats | J30: Cost total €/mes iva inclòs | K30: Cost total ANUAL € iva inclòs
B31: Volum (EBS) de propòsit general (gp3) | E31: EBS gpt3 | F31: AWS | G31: =0.1/1.21* 1.1 -> 0.090909091 | H31: =G31*1.21 -> 0.11 | I31: 8664 | J31: =I31*H31 -> 953.04 | K31: =J31*12 -> 11436.48
B32: Volum (EBS) de baix rendiment (st1) | E32: EBS st1 | F32: AWS | G32: =0.05687/1.21* 1.1 -> 0.0517 | H32: =G32*1.21 -> 0.062557 | I32: 1725 | J32: =I32*H32 -> 107.91083 | K32: =J32*12 -> 1294.9299
B33: Emmagatzematge compartit en alta disponibilitat | E33: EFS | F33: AWS | G33: =0.375/1.21* 1.1 -> 0.34090909 | H33: =G33*1.21 -> 0.4125 | I33: 0 | J33: =I33*H33 -> 0 | K33: =J33*12 -> 0
B34: Snapshots de disc | E34: Snapshot | F34: Digital Ocean | G34: =0.05687/1.21* 1.1 -> 0.0517 | H34: =G34*1.21 -> 0.062557 | I34: 304 | J34: =I34*H34 -> 19.017328 | K34: =J34*12 -> 228.20794
J35: =SUM(J31:J34) -> 1079.9682 | K35: =SUM(K31:K34) -> 12959.618
B37: Links preus Proveidors | G37: (1) Els imports son:
B38: https://aws.amazon.com/es/s3/pricing/?nc=sn&loc=4 | G38: el real del proveïdor AWS (zona Irlanda) en USD * conversió a Euro 0.94 (a dia 10/11/23).
B39: https://www.digitalocean.com/pricing/ | G39: El Preu incou un 10% de marge per afavorir la competència, i assumir el risc de reserva prèvia de recursos.
B41: Programari com a servei (SaaS)
B43: Servei | E43: Infraestructura | G43: Preu €/mes iva exclòs | H43: Preu €/mes iva inclòs | I43: Nombre unitats | J43: Cost total €/mes iva inclòs | K43: Cost total ANUAL € iva inclòs
B44: CDN Cloudfront | E44: AWS | G44: =H44/1.21 -> 3074.3306 | H44: 3719.94 | I44: 1 | J44: =I44*H44 -> 3719.94 | K44: =J44*12 -> 44639.28
B45: API-Gateway | E45: AWS | G45: =H45/1.21 -> 26.14876 | H45: 31.64 | I45: 1 | J45: =I45*H45 -> 31.64 | K45: =J45*12 -> 379.68
B46: S3, Glacier, Deep Archive (incloent peticions i operacions API) | E46: AWS | G46: =H46/1.21 -> 322.33058 | H46: 390.02 | I46: 1 | J46: =I46*H46 -> 390.02 | K46: =J46*12 -> 4680.24
B47: NextCloud Hetzner | E47: Hetzner (CCX) | G47: =H47/1.21 -> 15.61157 | H47: 18.89 | I47: 1 | J47: =I47*H47 -> 18.89 | K47: =J47*12 -> 226.68
B48: Cookiebot | E48: =B48 -> Cookiebot | G48: =H48/1.21 -> 379.65014 | H48: =351.38+107.9966666 -> 459.37667 | I48: 1 | J48: =I48*H48 -> 459.37667 | K48: =J48*12 -> 5512.52
J49: =SUM(J44:J48) -> 4619.8667 | K49: =SUM(K44:K48) -> 55438.4
B51: TOTAL Servei d’aprovisionament d’infraestructura
J52: =ROUND(J8+J21+J35+J49,2) -> 12517.71 | K52: =ROUND(K8+K21+K35+K49,2) -> 150212.54
I54: (Dades "nombre unitats" de l'octubre 2023)

Sheet Càlcul pressupost 
A1: AM HOSTING IAAS (3 + 2) | F1: 36 mesos
A2: Data inici contracte | B2: 45467 | F2: 1 transició
A3: Data inici servei | B3: 45497 | F3: 35 servei
A4: Data fi del contracte | B4: 46561 | F4: 1 + 5,26 | G4: 12 | H4: 12 | I4: 5.74 | M4: POSSIBLE PRÒRROGA | N4: 6.26 | O4: 12 | P4: 5.74
A5: Data inici possible pròrroga | B5: 46562 | E5: Servei | F5: Import 2024 | G5: Import 2025 | H5: Import 2026 | I5: Import 2027 | J5: Import Total IVA inclòs | K5: Import Total IVA exclòs | M5: Servei | N5: Import 2027 | O5: Import 2028 | P5: Import 2029 | Q5: Import Total IVA inclòs | R5: Import Total IVA exclòs
A6: Data màxima fi pròrroga | B6: 47292 | C6: Treball fet real en incidència. Es paga al final | E6: Manteniment correctiu | F6: =+H20 -> 50294.02 | G6: =+H28 -> 114739.2 | H6: =+H36 -> 114739.2 | I6: =H44 -> 54883.58 | J6: =ROUND(SUM(F6:I6),2) -> 334656 | K6: =+ROUND(J6/1.21,2) -> 276575.21 | M6: Manteniment correctiu | N6: =+H53 -> 59855.62 | O6: =+H61 -> 114739.2 | P6: =+H69 -> 54883.58 | Q6: =SUM(N6:P6) -> 229478.4 | R6: =+ROUND(Q6/1.21,2) -> 189651.57
C7: Treball valorat i acceptat. Es paga al final | E7: Manteniment recurrent | F7: =+K20 -> 30065.65 | G7: =+K28 -> 38605.14 | H7: =+K36 -> 18718.98 | I7: =K44 -> 4993.08 | J7: =ROUND(SUM(F7:I7),2) -> 92382.85 | K7: =+ROUND(J7/1.21,2) -> 76349.46 | M7: Manteniment recurrent | N7: =+K53 -> 5445.41 | O7: =+K61 -> 10438.49 | P7: =+K69 -> 4993.08 | Q7: =SUM(N7:P7) -> 20876.98 | R7: =+ROUND(Q7/1.21,2) -> 17253.7
C8: Treball valorat i acceptat. Es paga al final | E8: Serveis d'evolutius recurrents (cap.6) | F8: =N20 -> 75000 | G8: =N28 -> 150000 | H8: =N36 -> 150000 | I8: =N44 -> 71750 | J8: =ROUND(SUM(F8:I8),2) -> 446750 | K8: =+ROUND(J8/1.21,2) -> 369214.88 | M8: Serveis d'evolutius recurrents | N8: =+N53 -> 78250 | O8: =+N61 -> 150000 | P8: =+N69 -> 71750 | Q8: =SUM(N8:P8) -> 300000 | R8: =+ROUND(Q8/1.21,2) -> 247933.88
C9: Pagament per us | E9: Aprovisionament infraestructura | F9: =+O20 -> 65843.16 | G9: =+O28 -> 157723.17 | H9: =+O36 -> 165609.33 | I9: =+O44 -> 83177.29 | J9: =ROUND(SUM(F9:I9),2) -> 472352.95 | K9: =+ROUND(J9/1.21,2) -> 390374.34 | M9: Aprovisionament infraestructura | N9: =+O53 -> 90712.507 | O9: =+O61 -> 173889.8 | P9: =+O69 -> 83177.286 | Q9: =SUM(N9:P9) -> 347779.59 | R9: =+ROUND(Q9/1.21,2) -> 287421.15
C10: Tarifa plana | E10: Serveis Transversals de Manteniment | F10: =+R20 -> 111377.34 | G10: =+R28 -> 254092.8 | H10: =+R36 -> 254092.8 | I10: =R44 -> 121541.06 | J10: =ROUND(SUM(F10:I10),2) -> 741104 | K10: =+ROUND(J10/1.21,2) -> 612482.64 | M10: Serveis Transversals de Manteniment | N10: =+R53 -> 132551.74 | O10: =+R61 -> 254092.8 | P10: =+R69 -> 121541.06 | Q10: =SUM(N10:P10) -> 508185.6 | R10: =+ROUND(Q10/1.21,2) -> 419988.1
E11: Import total licitació | F11: =SUM(F6:F10) -> 332580.17 | G11: =SUM(G6:G10) -> 715160.31 | H11: =SUM(H6:H10) -> 703160.31 | I11: =SUM(I6:I10) -> 336345.01 | J11: =ROUND(SUM(J6:J10),2) -> 2087245.8 | K11: =ROUND(SUM(K6:K10),2) -> 1724996.5 | M11: Import màxim possible pròrroga | N11: =SUM(N6:N10) -> 366815.28 | O11: =SUM(O6:O10) -> 703160.29 | P11: =SUM(P6:P10) -> 336345.01 | Q11: =SUM(Q6:Q10) -> 1406320.6 | R11: =SUM(R6:R10) -> 1162248.4
E13: cap 2 | F13: =F11-F14 -> 257580.17 | G13: =G11-G14 -> 565160.31 | H13: =H11-H14 -> 553160.31 | I13: =I11-I14 -> 264595.01 | J13: =J11-J14 -> 1640495.8 | K13: =K11-K14 -> 1355781.6
E14: cap 6 | F14: =F8 -> 75000 | G14: =G8 -> 150000 | H14: =H8 -> 150000 | I14: =I8 -> 71750 | J14: =J8 -> 446750 | K14: =K8 -> 369214.88
A16: CONTRACTE
A17: ANY 2024 1 mes de transició + 5,26 mesos de servei | D17: Mesos | E17: 5.26
B18: Servei | C18: Nom Servei | D18: Codi Aplicació | E18: Nom Aplicació | F18: IT Manteniment correctiu | G18: Preu/hora | H18: € Manteniment correctiu | I18: PT Manteniment recurrent | J18: Preu/hora | K18: € Manteniment recurrent | L18: PT Evolutius recurrents | M18: Preu/hora | N18: € Evolutius recurrents | O18: € Aprovisionament infraestructura | P18: TT Serveis Transversals de Manteniment | Q18: Preu/hora | R18: € STM | S18: Data inici transició | T18: Data inici servei | U18: Mesos transició | V18: € Transició (recurrent) | W18: TOTAL
B19: SER0188 | C19: Infraestructures web | D19: - | E19: - | F19: 841.60007 | G19: =+Perfils!$G$20 -> 59.76 | H19: =ROUND(F19*G19,2) -> 50294.02 | I19: 500.84374 | J19: =+Perfils!$G$28 -> 60.03 | K19: =ROUND(I19*J19,2) -> 30065.65 | L19: 1249.3753 | M19: =+Perfils!$G$36 -> 60.03 | N19: =ROUND(L19*M19,2) -> 75000 | O19: =ROUND('Infraestructura-Talles'!$K$52*E17/12,2) -> 65843.16 | P19: 1683.1999 | Q19: =+Perfils!$G$42 -> 66.17 | R19: =ROUND(P19*Q19,2) -> 111377.34 | S19: =+$B$2 -> 45467 | T19: =+$B$3 -> 45497 | U19: 1 | V19: =ROUND((F6+F7+F9+F10)/5.26/2,2) -> 24484.81 | W19: =+H19+K19+R19+N19+O19 -> 332580.17
B20: Total | F20: =SUM(F19:F19) -> 841.60007 | H20: =SUM(H19:H19) -> 50294.02 | I20: =SUM(I19:I19) -> 500.84374 | K20: =SUM(K19:K19) -> 30065.65 | L20: =SUM(L19:L19) -> 1249.3753 | N20: =SUM(N19:N19) -> 75000 | O20: =SUM(O19:O19) -> 65843.16 | P20: =SUM(P19:P19) -> 1683.1999 | R20: =SUM(R19:R19) -> 111377.34 | V20: =SUM(V19:V19) -> 24484.81 | W20: =SUM(W19:W19) -> 332580.17
E22: FTE | F22: =ROUND((F20/$E$17/8)/20,2) -> 1 | I22: =ROUND((I20/$E$17/8)/20,2) -> 0.6 | L22: =ROUND((L20/$E$17/8)/20,2) -> 1.48 | P22: =ROUND((P20/$E$17/8)/20,2) -> 2 | S22: =SUM(I22:R22) -> 4.08
A25: ANY 2025 | D25: Mesos | E25: 12 | O25: +5% respecte any passat
B26: Servei | C26: Nom Servei | D26: Codi Aplicació | E26: Nom Aplicació | F26: IT Manteniment correctiu | G26: Preu/hora | H26: € Manteniment correctiu | I26: PT Manteniment recurrent | J26: Preu/hora | K26: € Manteniment recurrent | L26: PT Evolutius recurrents | M26: Preu/hora | N26: € Evolutius recurrents | O26: € Aprovisionament infraestructura | P26: TT Serveis Transversals de Manteniment | Q26: Preu/hora | R26: € STM | S26: TOTAL
B27: SER0188 | C27: Infraestructures web | D27: - | E27: - | F27: 1920 | G27: =+Perfils!$G$20 -> 59.76 | H27: =ROUND(F27*G27,2) -> 114739.2 | I27: 643.09745 | J27: =+Perfils!$G$28 -> 60.03 | K27: =ROUND(I27*J27,2) -> 38605.14 | L27: 2498.7506 | M27: =+Perfils!$G$36 -> 60.03 | N27: =ROUND(L27*M27,2) -> 150000 | O27: =ROUND('Infraestructura-Talles'!$K$52*1.05,2) -> 157723.17 | P27: 3840 | Q27: =+Perfils!$G$42 -> 66.17 | R27: =ROUND(P27*Q27,2) -> 254092.8 | S27: =+H27+K27+R27+O27+N27 -> 715160.31
B28: Total | F28: =SUM(F27:F27) -> 1920 | H28: =SUM(H27:H27) -> 114739.2 | I28: =SUM(I27:I27) -> 643.09745 | K28: =SUM(K27:K27) -> 38605.14 | L28: =SUM(L27:L27) -> 2498.7506 | N28: =SUM(N27:N27) -> 150000 | O28: =SUM(O27:O27) -> 157723.17 | P28: =SUM(P27:P27) -> 3840 | R28: =SUM(R27:R27) -> 254092.8 | S28: =SUM(S27:S27) -> 715160.31
E30: FTE | F30: =ROUND((F28/$E$25/8)/20,2) -> 1 | I30: =ROUND((I28/$E$25/8)/20,2) -> 0.33 | L30: =ROUND((L28/$E$25/8)/20,2) -> 1.3 | P30: =ROUND((P28/$E$25/8)/20,2) -> 2 | S30: =ROUND(SUM(F30:R30),2) -> 4.63
A33: ANY 2026 | D33: Mesos | E33: 12 | O33: +5% respecte any passat
B34: Servei | C34: Nom Servei | D34: Codi Aplicació | E34: Nom Aplicació | F34: IT Manteniment correctiu | G34: Preu/hora | H34: € Manteniment correctiu | I34: PT Manteniment recurrent | J34: Preu/hora | K34: € Manteniment recurrent | L34: PT Evolutius recurrents | M34: Preu/hora | N34: € Evolutius recurrents | O34: € Aprovisionament infraestructura | P34: TT Serveis Transversals de Manteniment | Q34: Preu/hora | R34: € STM | S34: TOTAL
B35: SER0188 | C35: Infraestructures web | D35: - | E35: - | F35: 1920 | G35: =+Perfils!$G$20 -> 59.76 | H35: =ROUND(F35*G35,2) -> 114739.2 | I35: 311.82709 | J35: =+Perfils!$G$28 -> 60.03 | K35: =ROUND(I35*J35,2) -> 18718.98 | L35: 2498.7506 | M35: =+Perfils!$G$36 -> 60.03 | N35: =ROUND(L35*M35,2) -> 150000 | O35: =ROUND('Infraestructura-Talles'!$K$52*1.05*1.05,2) -> 165609.33 | P35: 3840 | Q35: =+Perfils!$G$42 -> 66.17 | R35: =ROUND(P35*Q35,2) -> 254092.8 | S35: =+H35+K35+R35+O35+N35 -> 703160.31
B36: Total | F36: =SUM(F35:F35) -> 1920 | H36: =SUM(H35:H35) -> 114739.2 | I36: =SUM(I35:I35) -> 311.82709 | K36: =SUM(K35:K35) -> 18718.98 | L36: =SUM(L35:L35) -> 2498.7506 | N36: =SUM(N35:N35) -> 150000 | O36: =SUM(O35:O35) -> 165609.33 | P36: =SUM(P35:P35) -> 3840 | R36: =SUM(R35:R35) -> 254092.8 | S36: =SUM(S35:S35) -> 703160.31
E38: FTE | F38: =ROUND((F36/$E$33/8)/20,2) -> 1 | I38: =ROUND((I36/$E$33/8)/20,2) -> 0.16 | L38: =ROUND((L36/$E$33/8)/20,2) -> 1.3 | P38: =ROUND((P36/$E$33/8)/20,2) -> 2 | S38: =ROUND(SUM(F38:R38),2) -> 4.46
A41: ANY 2027 5,74 mesos de servei | D41: Mesos | E41: 5.74 | O41: +5% respecte any passat
B42: Servei | C42: Nom Servei | D42: Codi Aplicació | E42: Nom Aplicació | F42: IT Manteniment correctiu | G42: Preu/hora | H42: € Manteniment correctiu | I42: PT Manteniment recurrent | J42: Preu/hora | K42: € Manteniment recurrent | L42: PT Evolutius recurrents | M42: Preu/hora | N42: € Evolutius recurrents | O42: € Aprovisionament infraestructura | P42: TT Serveis Transversals de Manteniment | Q42: Preu/hora | R42: € STM | S42: TOTAL
B43: SER0188 | C43: Infraestructures web | D43: - | E43: - | F43: 918.39993 | G43: =+Perfils!$G$20 -> 59.76 | H43: =ROUND(F43*G43,2) -> 54883.58 | I43: 83.17641 | J43: =+Perfils!$G$28 -> 60.03 | K43: =ROUND(I43*J43,2) -> 4993.08 | L43: 1195.2357 | M43: =+Perfils!$G$36 -> 60.03 | N43: =ROUND(L43*M43,2) -> 71750 | O43: =ROUND('Infraestructura-Talles'!$K$52/12*$E$41*1.05*1.05*1.05,2)+0.01 -> 83177.29 | P43: 1836.8001 | Q43: =+Perfils!$G$42 -> 66.17 | R43: =ROUND(P43*Q43,2) -> 121541.06 | S43: =+H43+K43+R43+O43+N43 -> 336345.01
B44: Total | F44: =SUM(F43:F43) -> 918.39993 | H44: =SUM(H43:H43) -> 54883.58 | I44: =SUM(I43:I43) -> 83.17641 | K44: =SUM(K43:K43) -> 4993.08 | L44: =SUM(L43:L43) -> 1195.2357 | N44: =SUM(N43:N43) -> 71750 | O44: =SUM(O43:O43) -> 83177.29 | P44: =SUM(P43:P43) -> 1836.8001 | R44: =SUM(R43:R43) -> 121541.06 | S44: =SUM(S43:S43) -> 336345.01
E46: FTE | F46: =ROUND((F44/$E$41/8)/20,2) -> 1 | I46: =ROUND((I44/$E$41/8)/20,2) -> 0.09 | L46: =ROUND((L44/$E$41/8)/20,2) -> 1.3 | P46: =ROUND((P44/$E$41/8)/20,2) -> 2 | S46: =ROUND(SUM(F46:R46),2) -> 4.39
A49: POSSIBLE PRÒRROGA
A50: ANY 2027 6,26 mesos de servei | D50: Mesos | E50: 6.26
B51: Servei | C51: Nom Servei | D51: Codi Aplicació | E51: Nom Aplicació | F51: IT Manteniment correctiu | G51: Preu/hora | H51: € Manteniment correctiu | I51: PT Manteniment recurrent | J51: Preu/hora | K51: € Manteniment recurrent | L51: PT Evolutius recurrents | M51: Preu/hora | N51: € Evolutius recurrents | O51: € Aprovisionament infraestructura | P51: TT Serveis Transversals de Manteniment | Q51: Preu/hora | R51: € STM | S51: TOTAL
B52: SER0188 | C52: Infraestructures web | D52: - | E52: - | F52: =ROUND(F43/$E$41*$E$50,5)+0.0001 -> 1001.6 | G52: =+Perfils!$G$20 -> 59.76 | H52: =ROUND(F52*G52,2) -> 59855.62 | I52: =ROUND(I43/$E$41*$E$50,5) -> 90.71156 | J52: =+Perfils!$G$28 -> 60.03 | K52: =ROUND(I52*J52,2) -> 5445.41 | L52: =ROUND(L43/$E$41*$E$50,5) -> 1303.5149 | M52: =+Perfils!$G$36 -> 60.03 | N52: =ROUND(L52*M52,2) -> 78250 | O52: =O35*1.05-O43 -> 90712.507 | P52: =ROUND(P43/$E$41*$E$50,5)-0.0001 -> 2003.2 | Q52: =+Perfils!$G$42 -> 66.17 | R52: =ROUND(P52*Q52,2) -> 132551.74 | S52: =+H52+K52+R52+O52+N52 -> 366815.28
B53: Total | F53: =SUM(F52:F52) -> 1001.6 | H53: =SUM(H52:H52) -> 59855.62 | I53: =SUM(I52:I52) -> 90.71156 | K53: =SUM(K52:K52) -> 5445.41 | L53: =SUM(L52:L52) -> 1303.5149 | N53: =SUM(N52:N52) -> 78250 | O53: =SUM(O52:O52) -> 90712.507 | P53: =SUM(P52:P52) -> 2003.2 | R53: =SUM(R52:R52) -> 132551.74 | S53: =SUM(S52:S52) -> 366815.28
E55: FTE | F55: =ROUND((F53/$E$50/8)/20,2) -> 1 | I55: =ROUND((I53/$E$50/8)/20,2) -> 0.09 | L55: =ROUND((L53/$E$50/8)/20,2) -> 1.3 | P55: =ROUND((P53/$E$50/8)/20,2) -> 2 | S55: =ROUND(SUM(F55:R55),2) -> 4.39
A58: ANY 2028 | D58: Mesos | E58: 12
B59: Servei | C59: Nom Servei | D59: Codi Aplicació | E59: Nom Aplicació | F59: IT Manteniment correctiu | G59: Preu/hora | H59: € Manteniment correctiu | I59: PT Manteniment recurrent | J59: Preu/hora | K59: € Manteniment recurrent | L59: PT Evolutius recurrents | M59: Preu/hora | N59: € Evolutius recurrents | O59: € Aprovisionament infraestructura | P59: TT Serveis Transversals de Manteniment | Q59: Preu/hora | R59: € STM | S59: TOTAL
B60: SER0188 | C60: Infraestructures web | D60: - | E60: - | F60: =ROUND(F43/$E$41*$E$58,5)+0.0001 -> 1919.9999 | G60: =+Perfils!$G$20 -> 59.76 | H60: =ROUND(F60*G60,2) -> 114739.2 | I60: =ROUND(I43/$E$41*$E$58,5) -> 173.88797 | J60: =+Perfils!$G$28 -> 60.03 | K60: =ROUND(I60*J60,2) -> 10438.49 | L60: =ROUND(L43/$E$41*$E$58,5) -> 2498.7506 | M60: =+Perfils!$G$36 -> 60.03 | N60: =ROUND(L60*M60,2) -> 150000 | O60: =O35*1.05 -> 173889.8 | P60: =ROUND(P43/$E$41*$E$58,5)-0.0001 -> 3840 | Q60: =+Perfils!$G$42 -> 66.17 | R60: =ROUND(P60*Q60,2) -> 254092.8 | S60: =+H60+K60+R60+O60+N60 -> 703160.29
B61: Total | F61: =SUM(F60:F60) -> 1919.9999 | H61: =SUM(H60:H60) -> 114739.2 | I61: =SUM(I60:I60) -> 173.88797 | K61: =SUM(K60:K60) -> 10438.49 | L61: =SUM(L60:L60) -> 2498.7506 | N61: =SUM(N60:N60) -> 150000 | O61: =SUM(O60:O60) -> 173889.8 | P61: =SUM(P60:P60) -> 3840 | R61: =SUM(R60:R60) -> 254092.8 | S61: =SUM(S60:S60) -> 703160.29
E63: FTE | F63: =ROUND((F61/$E$58/8)/20,2) -> 1 | I63: =ROUND((I61/$E$58/8)/20,2) -> 0.09 | L63: =ROUND((L61/$E$58/8)/20,2) -> 1.3 | P63: =ROUND((P61/$E$58/8)/20,2) -> 2 | S63: =ROUND(SUM(F63:R63),2) -> 4.39
A66: ANY 2029 5,74 mesos de servei | D66: Mesos | E66: 5.74
B67: Servei | C67: Nom Servei | D67: Codi Aplicació | E67: Nom Aplicació | F67: IT Manteniment correctiu | G67: Preu/hora | H67: € Manteniment correctiu | I67: PT Manteniment recurrent | J67: Preu/hora | K67: € Manteniment recurrent | L67: PT Evolutius recurrents | M67: Preu/hora | N67: € Evolutius recurrents | O67: € Aprovisionament infraestructura | P67: TT Serveis Transversals de Manteniment | Q67: Preu/hora | R67: € STM | S67: TOTAL
B68: SER0188 | C68: Infraestructures web | D68: - | E68: - | F68: =ROUND(F43/$E$41*$E$66,5) -> 918.39993 | G68: =+Perfils!$G$20 -> 59.76 | H68: =ROUND(F68*G68,2) -> 54883.58 | I68: =ROUND(I43/$E$41*$E$66,5) -> 83.17641 | J68: =+Perfils!$G$28 -> 60.03 | K68: =ROUND(I68*J68,2) -> 4993.08 | L68: =ROUND(L43/$E$41*$E$66,5) -> 1195.2357 | M68: =+Perfils!$G$36 -> 60.03 | N68: =ROUND(L68*M68,2) -> 71750 | O68: =O60/12*E66 -> 83177.286 | P68: =ROUND(P43/$E$41*$E$66,5) -> 1836.8001 | Q68: =+Perfils!$G$42 -> 66.17 | R68: =ROUND(P68*Q68,2) -> 121541.06 | S68: =+H68+K68+R68+O68+N68 -> 336345.01
B69: Total | F69: =SUM(F68:F68) -> 918.39993 | H69: =SUM(H68:H68) -> 54883.58 | I69: =SUM(I68:I68) -> 83.17641 | K69: =SUM(K68:K68) -> 4993.08 | L69: =SUM(L68:L68) -> 1195.2357 | N69: =SUM(N68:N68) -> 71750 | O69: =SUM(O68:O68) -> 83177.286 | P69: =SUM(P68:P68) -> 1836.8001 | R69: =SUM(R68:R68) -> 121541.06 | S69: =SUM(S68:S68) -> 336345.01
E71: FTE | F71: =ROUND((F69/$E$66/8)/20,2) -> 1 | I71: =ROUND((I69/$E$66/8)/20,2) -> 0.09 | L71: =ROUND((L69/$E$66/8)/20,2) -> 1.3 | P71: =ROUND((P69/$E$66/8)/20,2) -> 2 | S71: =ROUND(SUM(F71:R71),2) -> 4.39
