Workbook

Sheet Càlcul pressupost 
A1: AM HOSTING IAAS (3 + 2) | F1: 36 mesos
A2: Data inici contracte | B2: 45467 | F2: 1 transició
A3: Data inici servei | B3: 45497 | F3: 35 servei
A4: Data fi del contracte | B4: 46561 | F4: 1 + 5,26 | G4: 12 | H4: 12 | I4: 5.74 | M4: POSSIBLE PRÒRROGA | N4: 6.26 | O4: 12 | P4: 5.74
A5: Data inici possible pròrroga | B5: 46562 | E5: Servei | F5: Import 2024 | G5: Import 2025 | H5: Import 2026 | I5: Import 2027 | J5: Import Total IVA inclòs | K5: Import Total IVA exclòs | M5: Servei | N5: Import 2027 | O5: Import 2028 | P5: Import 2029 | Q5: Import Total IVA inclòs | R5: Import Total IVA exclòs
A6: Data màxima fi pròrroga | B6: 47292 | C6: Treball fet real en incidència. Es paga al final | E6: Manteniment correctiu | F6: =+H20 -> 50294.02 | G6: =+H28 -> 114739.2 | H6: =+H36 -> 114739.2 | I6: =H44 -> 54883.58 | J6: =ROUND(SUM(F6:I6),2) -> 334656 | K6: =+ROUND(J6/1.21,2) -> 276575.21 | M6: Manteniment correctiu | N6: =+H53 -> 59855.62 | O6: =+H61 -> 114739.2 | P6: =+H69 -> 54883.58 | Q6: =SUM(N6:P6) -> 229478.4 | R6: =+ROUND(Q6/1.21,2) -> 189651.57
C7: Treball valorat i acceptat. Es paga al final | E7: Manteniment recurrent | F7: =+K20 -> 30065.65 | G7: =+K28 -> 38605.14 | H7: =+K36 -> 18718.98 | I7: =K44 -> 4993.08 | J7: =ROUND(SUM(F7:I7),2) -> 92382.85 | K7: =+ROUND(J7/1.21,2) -> 76349.46 | M7: Manteniment recurrent | N7: =+K53 -> 5445.41 | O7: =+K61 -> 10438.49 | P7: =+K69 -> 4993.08 | Q7: =SUM(N7:P7) -> 20876.98 | R7: =+ROUND(Q7/1.21,2) -> 17253.7
C8: Treball valorat i acceptat. Es paga al final | E8: Serveis d'evolutius recurrents (cap.6) | F8: =N20 -> 75000 | G8: =N28 -> 150000 | H8: =N36 -> 150000 | I8: =N44 -> 71750 | J8: =ROUND(SUM(F8:I8),2) -> 446750 | K8: =+ROUND(J8/1.21,2) -> 369214.88 | M8: Serveis d'evolutius recurrents | N8: =+N53 -> 78250 | O8: =+N61 -> 150000 | P8: =+N69 -> 71750 | Q8: =SUM(N8:P8) -> 300000 | R8: =+ROUND(Q8/1.21,2) -> 247933.88
C9: Pagament per us | E9: Aprovisionament infraestructura | F9: =+O20 -> 65843.16 | G9: =+O28 -> 157723.17 | H9: =+O36 -> 165609.33 | I9: =+O44 -> 83177.29 | J9: =ROUND(SUM(F9:I9),2) -> 472352.95 | K9: =+ROUND(J9/1.21,2) -> 390374.34 | M9: Aprovisionament infraestructura | N9: =+O53 -> 90712.507 | O9: =+O61 -> 173889.8 | P9: =+O69 -> 83177.286 | Q9: =SUM(N9:P9) -> 347779.59 | R9: =+ROUND(Q9/1.21,2) -> 287421.15
C10: Tarifa plana | E10: Serveis Transversals de Manteniment | F10: =+R20 -> 111377.34 | G10: =+R28 -> 254092.8 | H10: =+R36 -> 254092.8 | I10: =R44 -> 121541.06 | J10: =ROUND(SUM(F10:I10),2) -> 741104 | K10: =+ROUND(J10/1.21,2) -> 612482.64 | M10: Serveis Transversals de Manteniment | N10: =+R53 -> 132551.74 | O10: =+R61 -> 254092.8 | P10: =+R69 -> 121541.06 | Q10: =SUM(N10:P10) -> 508185.6 | R10: =+ROUND(Q10/1.21,2) -> 419988.1
E11: Import total licitació | F11: =SUM(F6:F10) -> 332580.17 | G11: =SUM(G6:G10) -> 715160.31 | H11: =SUM(H6:H10) -> 703160.31 | I11: =SUM(I6:I10) -> 336345.01 | J11: =ROUND(SUM(J6:J10),2) -> 2087245.8 | K11: =ROUND(SUM(K6:K10),2) -> 1724996.5 | M11: Import màxim possible pròrroga | N11: =SUM(N6:N10) -> 366815.28 | O11: =SUM(O6:O10) -> 703160.29 | P11: =SUM(P6:P10) -> 336345.01 | Q11: =SUM(Q6:Q10) -> 1406320.6 | R11: =SUM(R6:R10) -> 1162248.4
E13: cap 2 | F13: =F11-F14 -> 257580.17 | G13: =G11-G14 -> 565160.31 | H13: =H11-H14 -> 553160.31 | I13: =I11-I14 -> 264595.01 | J13: =J11-J14 -> 1640495.8 | K13: =K11-K14 -> 1355781.6
E14: cap 6 | F14: =F8 -> 75000 | G14: =G8 -> 150000 | H14: =H8 -> 150000 | I14: =I8 -> 71750 | J14: =J8 -> 446750 | K14: =K8 -> 369214.88
A16: CONTRACTE
A17: ANY 2024 1 mes de transició + 5,26 mesos de servei | D17: Mesos | E17: 5.26
B18: Servei | C18: Nom Servei | D18: Codi Aplicació | E18: Nom Aplicació | F18: IT Manteniment correctiu | G18: Preu/hora | H18: € Manteniment correctiu | I18: PT Manteniment recurrent | J18: Preu/hora | K18: € Manteniment recurrent | L18: PT Evolutius recurrents | M18: Preu/hora | N18: € Evolutius recurrents | O18: € Aprovisionament infraestructura | P18: TT Serveis Transversals de Manteniment | Q18: Preu/hora | R18: € STM | S18: Data inici transició | T18: Data inici servei | U18: Mesos transició | V18: € Transició (recurrent) | W18: TOTAL
B19: SER0188 | C19: Infraestructures web | D19: - | E19: - | F19: 841.60007 | G19: =+Perfils!$G$20 -> 59.76 | H19: =ROUND(F19*G19,2) -> 50294.02 | I19: 500.84374 | J19: =+Perfils!$G$28 -> 60.03 | K19: =ROUND(I19*J19,2) -> 30065.65 | L19: 1249.3753 | M19: =+Perfils!$G$36 -> 60.03 | N19: =ROUND(L19*M19,2) -> 75000 | O19: =ROUND('Infraestructura-Talles'!$K$52*E17/12,2) -> 65843.16 | P19: 1683.1999 | Q19: =+Perfils!$G$42 -> 66.17 | R19: =ROUND(P19*Q19,2) -> 111377.34 | S19: =+$B$2 -> 45467 | T19: =+$B$3 -> 45497 | U19: 1 | V19: =ROUND((F6+F7+F9+F10)/5.26/2,2) -> 24484.81 | W19: =+H19+K19+R19+N19+O19 -> 332580.17
B20: Total | F20: =SUM(F19:F19) -> 841.60007 | H20: =SUM(H19:H19) -> 50294.02 | I20: =SUM(I19:I19) -> 500.84374 | K20: =SUM(K19:K19) -> 30065.65 | L20: =SUM(L19:L19) -> 1249.3753 | N20: =SUM(N19:N19) -> 75000 | O20: =SUM(O19:O19) -> 65843.16 | P20: =SUM(P19:P19) -> 1683.1999 | R20: =SUM(R19:R19) -> 111377.34 | V20: =SUM(V19:V19) -> 24484.81 | W20: =SUM(W19:W19) -> 332580.17
E22: FTE | F22: =ROUND((F20/$E$17/8)/20,2) -> 1 | I22: =ROUND((I20/$E$17/8)/20,2) -> 0.6 | L22: =ROUND((L20/$E$17/8)/20,2) -> 1.48 | P22: =ROUND((P20/$E$17/8)/20,2) -> 2 | S22: =SUM(I22:R22) -> 4.08
A25: ANY 2025 | D25: Mesos | E25: 12 | O25: +5% respecte any passat
B26: Servei | C26: Nom Servei | D26: Codi Aplicació | E26: Nom Aplicació | F26: IT Manteniment correctiu | G26: Preu/hora | H26: € Manteniment correctiu | I26: PT Manteniment recurrent | J26: Preu/hora | K26: € Manteniment recurrent | L26: PT Evolutius recurrents | M26: Preu/hora | N26: € Evolutius recurrents | O26: € Aprovisionament infraestructura | P26: TT Serveis Transversals de Manteniment | Q26: Preu/hora | R26: € STM | S26: TOTAL
B27: SER0188 | C27: Infraestructures web | D27: - | E27: - | F27: 1920 | G27: =+Perfils!$G$20 -> 59.76 | H27: =ROUND(F27*G27,2) -> 114739.2 | I27: 643.09745 | J27: =+Perfils!$G$28 -> 60.03 | K27: =ROUND(I27*J27,2) -> 38605.14 | L27: 2498.7506 | M27: =+Perfils!$G$36 -> 60.03 | N27: =ROUND(L27*M27,2) -> 150000 | O27: =ROUND('Infraestructura-Talles'!$K$52*1.05,2) -> 157723.17 | P27: 3840 | Q27: =+Perfils!$G$42 -> 66.17 | R27: =ROUND(P27*Q27,2) -> 254092.8 | S27: =+H27+K27+R27+O27+N27 -> 715160.31
B28: Total | F28: =SUM(F27:F27) -> 1920 | H28: =SUM(H27:H27) -> 114739.2 | I28: =SUM(I27:I27) -> 643.09745 | K28: =SUM(K27:K27) -> 38605.14 | L28: =SUM(L27:L27) -> 2498.7506 | N28: =SUM(N27:N27) -> 150000 | O28: =SUM(O27:O27) -> 157723.17 | P28: =SUM(P27:P27) -> 3840 | R28: =SUM(R27:R27) -> 254092.8 | S28: =SUM(S27:S27) -> 715160.31
E30: FTE | F30: =ROUND((F28/$E$25/8)/20,2) -> 1 | I30: =ROUND((I28/$E$25/8)/20,2) -> 0.33 | L30: =ROUND((L28/$E$25/8)/20,2) -> 1.3 | P30: =ROUND((P28/$E$25/8)/20,2) -> 2 | S30: =ROUND(SUM(F30:R30),2) -> 4.63
A33: ANY 2026 | D33: Mesos | E33: 12 | O33: +5% respecte any passat
B34: Servei | C34: Nom Servei | D34: Codi Aplicació | E34: Nom Aplicació | F34: IT Manteniment correctiu | G34: Preu/hora | H34: € Manteniment correctiu | I34: PT Manteniment recurrent | J34: Preu/hora | K34: € Manteniment recurrent | L34: PT Evolutius recurrents | M34: Preu/hora | N34: € Evolutius recurrents | O34: € Aprovisionament infraestructura | P34: TT Serveis Transversals de Manteniment | Q34: Preu/hora | R34: € STM | S34: TOTAL
B35: SER0188 | C35: Infraestructures web | D35: - | E35: - | F35: 1920 | G35: =+Perfils!$G$20 -> 59.76 | H35: =ROUND(F35*G35,2) -> 114739.2 | I35: 311.82709 | J35: =+Perfils!$G$28 -> 60.03 | K35: =ROUND(I35*J35,2) -> 18718.98 | L35: 2498.7506 | M35: =+Perfils!$G$36 -> 60.03 | N35: =ROUND(L35*M35,2) -> 150000 | O35: =ROUND('Infraestructura-Talles'!$K$52*1.05*1.05,2) -> 165609.33 | P35: 3840 | Q35: =+Perfils!$G$42 -> 66.17 | R35: =ROUND(P35*Q35,2) -> 254092.8 | S35: =+H35+K35+R35+O35+N35 -> 703160.31
B36: Total | F36: =SUM(F35:F35) -> 1920 | H36: =SUM(H35:H35) -> 114739.2 | I36: =SUM(I35:I35) -> 311.82709 | K36: =SUM(K35:K35) -> 18718.98 | L36: =SUM(L35:L35) -> 2498.7506 | N36: =SUM(N35:N35) -> 150000 | O36: =SUM(O35:O35) -> 165609.33 | P36: =SUM(P35:P35) -> 3840 | R36: =SUM(R35:R35) -> 254092.8 | S36: =SUM(S35:S35) -> 703160.31
E38: FTE | F38: =ROUND((F36/$E$33/8)/20,2) -> 1 | I38: =ROUND((I36/$E$33/8)/20,2) -> 0.16 | L38: =ROUND((L36/$E$33/8)/20,2) -> 1.3 | P38: =ROUND((P36/$E$33/8)/20,2) -> 2 | S38: =ROUND(SUM(F38:R38),2) -> 4.46
A41: ANY 2027 5,74 mesos de servei | D41: Mesos | E41: 5.74 | O41: +5% respecte any passat
B42: Servei | C42: Nom Servei | D42: Codi Aplicació | E42: Nom Aplicació | F42: IT Manteniment correctiu | G42: Preu/hora | H42: € Manteniment correctiu | I42: PT Manteniment recurrent | J42: Preu/hora | K42: € Manteniment recurrent | L42: PT Evolutius recurrents | M42: Preu/hora | N42: € Evolutius recurrents | O42: € Aprovisionament infraestructura | P42: TT Serveis Transversals de Manteniment | Q42: Preu/hora | R42: € STM | S42: TOTAL
B43: SER0188 | C43: Infraestructures web | D43: - | E43: - | F43: 918.39993 | G43: =+Perfils!$G$20 -> 59.76 | H43: =ROUND(F43*G43,2) -> 54883.58 | I43: 83.17641 | J43: =+Perfils!$G$28 -> 60.03 | K43: =ROUND(I43*J43,2) -> 4993.08 | L43: 1195.2357 | M43: =+Perfils!$G$36 -> 60.03 | N43: =ROUND(L43*M43,2) -> 71750 | O43: =ROUND('Infraestructura-Talles'!$K$52/12*$E$41*1.05*1.05*1.05,2)+0.01 -> 83177.29 | P43: 1836.8001 | Q43: =+Perfils!$G$42 -> 66.17 | R43: =ROUND(P43*Q43,2) -> 121541.06 | S43: =+H43+K43+R43+O43+N43 -> 336345.01
B44: Total | F44: =SUM(F43:F43) -> 918.39993 | H44: =SUM(H43:H43) -> 54883.58 | I44: =SUM(I43:I43) -> 83.17641 | K44: =SUM(K43:K43) -> 4993.08 | L44: =SUM(L43:L43) -> 1195.2357 | N44: =SUM(N43:N43) -> 71750 | O44: =SUM(O43:O43) -> 83177.29 | P44: =SUM(P43:P43) -> 1836.8001 | R44: =SUM(R43:R43) -> 121541.06 | S44: =SUM(S43:S43) -> 336345.01
E46: FTE | F46: =ROUND((F44/$E$41/8)/20,2) -> 1 | I46: =ROUND((I44/$E$41/8)/20,2) -> 0.09 | L46: =ROUND((L44/$E$41/8)/20,2) -> 1.3 | P46: =ROUND((P44/$E$41/8)/20,2) -> 2 | S46: =ROUND(SUM(F46:R46),2) -> 4.39
A49: POSSIBLE PRÒRROGA
A50: ANY 2027 6,26 mesos de servei | D50: Mesos | E50: 6.26
B51: Servei | C51: Nom Servei | D51: Codi Aplicació | E51: Nom Aplicació | F51: IT Manteniment correctiu | G51: Preu/hora | H51: € Manteniment correctiu | I51: PT Manteniment recurrent | J51: Preu/hora | K51: € Manteniment recurrent | L51: PT Evolutius recurrents | M51: Preu/hora | N51: € Evolutius recurrents | O51: € Aprovisionament infraestructura | P51: TT Serveis Transversals de Manteniment | Q51: Preu/hora | R51: € STM | S51: TOTAL
B52: SER0188 | C52: Infraestructures web | D52: - | E52: - | F52: =ROUND(F43/$E$41*$E$50,5)+0.0001 -> 1001.6 | G52: =+Perfils!$G$20 -> 59.76 | H52: =ROUND(F52*G52,2) -> 59855.62 | I52: =ROUND(I43/$E$41*$E$50,5) -> 90.71156 | J52: =+Perfils!$G$28 -> 60.03 | K52: =ROUND(I52*J52,2) -> 5445.41 | L52: =ROUND(L43/$E$41*$E$50,5) -> 1303.5149 | M52: =+Perfils!$G$36 -> 60.03 | N52: =ROUND(L52*M52,2) -> 78250 | O52: =O35*1.05-O43 -> 90712.507 | P52: =ROUND(P43/$E$41*$E$50,5)-0.0001 -> 2003.2 | Q52: =+Perfils!$G$42 -> 66.17 | R52: =ROUND(P52*Q52,2) -> 132551.74 | S52: =+H52+K52+R52+O52+N52 -> 366815.28
B53: Total | F53: =SUM(F52:F52) -> 1001.6 | H53: =SUM(H52:H52) -> 59855.62 | I53: =SUM(I52:I52) -> 90.71156 | K53: =SUM(K52:K52) -> 5445.41 | L53: =SUM(L52:L52) -> 1303.5149 | N53: =SUM(N52:N52) -> 78250 | O53: =SUM(O52:O52) -> 90712.507 | P53: =SUM(P52:P52) -> 2003.2 | R53: =SUM(R52:R52) -> 132551.74 | S53: =SUM(S52:S52) -> 366815.28
E55: FTE | F55: =ROUND((F53/$E$50/8)/20,2) -> 1 | I55: =ROUND((I53/$E$50/8)/20,2) -> 0.09 | L55: =ROUND((L53/$E$50/8)/20,2) -> 1.3 | P55: =ROUND((P53/$E$50/8)/20,2) -> 2 | S55: =ROUND(SUM(F55:R55),2) -> 4.39
...

Sheet Perfils
D2: Import €/hora amb IVA | E2: Preu/hora IVA exclòs
C3: Cap de projecte/Responsable del Servei | D3: =ROUND(E3*1.21,2) -> 105.96 | E3: 87.57
C4: Arquitecte | D4: =ROUND(E4*1.21,2) -> 114.13 | E4: 94.32
C5: Responsable de seguretat (tarifa de “Responsable de servei Sènior”) | D5: =ROUND(E5*1.21,2) -> 74.95 | E5: 61.94
C6: Programador de sistemes | D6: =ROUND(E6*1.21,2) -> 46.97 | E6: 38.82
C7: Programador PHP | D7: =ROUND(E7*1.21,2) -> 39.76 | E7: 32.86
C8: Full Stack Developer en PYTHON | D8: =ROUND(E8*1.21,2) -> 57.86 | E8: 47.82
C9: Arquitecte PYTHON | D9: =ROUND(E9*1.21,2) -> 66.78 | E9: 55.19
C10: Atenció usuaris | D10: =ROUND(E10*1.21,2) -> 39.48 | E10: 32.63
D11: (Inclou augment IPC fins desembre-2023)
B13: Servei plec | C13: Perfil | D13: % dedicació | E13: Preu perfil IVA inclòs | F13: Preu perfil IVA exclòs | G13: Preu / hora /perfil IVA inclòs
B14: Manteniment correctiu | C14: =$C$3 -> Cap de projecte/Responsable del Servei | D14: 0.05 | E14: =$D$3 -> 105.96 | F14: =$E$3 -> 87.57 | G14: =E14*D14 -> 5.298
C15: =+$C$4 -> Arquitecte | D15: 0.1 | E15: =$D$4 -> 114.13 | F15: =$E$4 -> 94.32 | G15: =E15*D15 -> 11.413
C16: =$C$5 -> Responsable de seguretat (tarifa de “Responsable de servei Sènior”) | D16: 0.15 | E16: =$D$5 -> 74.95 | F16: =$E$5 -> 61.94 | G16: =E16*D16 -> 11.2425
C17: =+$C$6 -> Programador de sistemes | D17: 0.3 | E17: =$D$6 -> 46.97 | F17: =$E$6 -> 38.82 | G17: =E17*D17 -> 14.091
C18: =+$C$7 -> Programador PHP | D18: 0.3 | E18: =$D$7 -> 39.76 | F18: =$E$7 -> 32.86 | G18: =E18*D18 -> 11.928
C19: =+$C$8 -> Full Stack Developer en PYTHON | D19: 0.1 | E19: =$D$8 -> 57.86 | F19: =$E$8 -> 47.82 | G19: =E19*D19 -> 5.786
C20: Preu perfil tipus | G20: =ROUND(SUM(G14:G19),2) -> 59.76 | H20: =SUM(D14:D19) -> 1
B21: Manteniment recurrent | C21: =$C$3 -> Cap de projecte/Responsable del Servei | D21: 0.05 | E21: =$D$3 -> 105.96 | F21: =$E$3 -> 87.57 | G21: =E21*D21 -> 5.298
C22: =+$C$4 -> Arquitecte | D22: 0.1 | E22: =$D$4 -> 114.13 | F22: =$E$4 -> 94.32 | G22: =E22*D22 -> 11.413
C23: =$C$5 -> Responsable de seguretat (tarifa de “Responsable de servei Sènior”) | D23: 0.05 | E23: =$D$5 -> 74.95 | F23: =$E$5 -> 61.94 | G23: =E23*D23 -> 3.7475
C24: =+$C$6 -> Programador de sistemes | D24: 0.2 | E24: =$D$6 -> 46.97 | F24: =$E$6 -> 38.82 | G24: =E24*D24 -> 9.394
C25: =+$C$7 -> Programador PHP | D25: 0.3 | E25: =$D$7 -> 39.76 | F25: =$E$7 -> 32.86 | G25: =E25*D25 -> 11.928
C26: =+$C$8 -> Full Stack Developer en PYTHON | D26: 0.2 | E26: =$D$8 -> 57.86 | F26: =$E$8 -> 47.82 | G26: =E26*D26 -> 11.572
C27: =+$C$9 -> Arquitecte PYTHON | D27: 0.1 | E27: =$D$9 -> 66.78 | F27: =$E$9 -> 55.19 | G27: =E27*D27 -> 6.678
C28: Preu perfil tipus | G28: =ROUND(SUM(G21:G27),2) -> 60.03 | H28: =SUM(D21:D27) -> 1
B29: Serveis d'evolutius recurrents | C29: =$C$3 -> Cap de projecte/Responsable del Servei | D29: 0.05 | E29: =$D$3 -> 105.96 | F29: =$E$3 -> 87.57 | G29: =E29*D29 -> 5.298
C30: =+$C$4 -> Arquitecte | D30: 0.1 | E30: =$D$4 -> 114.13 | F30: =$E$4 -> 94.32 | G30: =E30*D30 -> 11.413
C31: =$C$5 -> Responsable de seguretat (tarifa de “Responsable de servei Sènior”) | D31: 0.05 | E31: =$D$5 -> 74.95 | F31: =$E$5 -> 61.94 | G31: =E31*D31 -> 3.7475
C32: =+$C$6 -> Programador de sistemes | D32: 0.2 | E32: =$D$6 -> 46.97 | F32: =$E$6 -> 38.82 | G32: =E32*D32 -> 9.394
C33: =+$C$7 -> Programador PHP | D33: 0.3 | E33: =$D$7 -> 39.76 | F33: =$E$7 -> 32.86 | G33: =E33*D33 -> 11.928
C34: =+$C$8 -> Full Stack Developer en PYTHON | D34: 0.2 | E34: =$D$8 -> 57.86 | F34: =$E$8 -> 47.82 | G34: =E34*D34 -> 11.572
C35: =+$C$9 -> Arquitecte PYTHON | D35: 0.1 | E35: =$D$9 -> 66.78 | F35: =$E$9 -> 55.19 | G35: =E35*D35 -> 6.678
C36: Preu perfil tipus | G36: =ROUND(SUM(G29:G35),2) -> 60.03 | H36: =SUM(D29:D35) -> 1
B37: Serveis Transversals de Manteniment | C37: =$C$3 -> Cap de projecte/Responsable del Servei | D37: 0.15 | E37: =$D$3 -> 105.96 | F37: =$E$3 -> 87.57 | G37: =E37*D37 -> 15.894
C38: =+$C$4 -> Arquitecte | D38: 0.15 | E38: =$D$4 -> 114.13 | F38: =$E$4 -> 94.32 | G38: =E38*D38 -> 17.1195
C39: =$C$5 -> Responsable de seguretat (tarifa de “Responsable de servei Sènior”) | D39: 0.05 | E39: =$D$5 -> 74.95 | F39: =$E$5 -> 61.94 | G39: =E39*D39 -> 3.7475
C40: =+$C$6 -> Programador de sistemes | D40: 0.5 | E40: =$D$6 -> 46.97 | F40: =$E$6 -> 38.82 | G40: =E40*D40 -> 23.485
C41: =+$C$10 -> Atenció usuaris | D41: 0.15 | E41: =$D$10 -> 39.48 | F41: =$E$10 -> 32.63 | G41: =E41*D41 -> 5.922
C42: Preu perfil tipus | G42: =ROUND(SUM(G37:G41),2) -> 66.17 | H42: =SUM(D37:D41) -> 1

Sheet Infraestructura-Talles
A1: Servei d’aprovisionament d’infraestructura
B2: Infraestructura Webs CMS (PaaS)
B4: TALLA | C4: vCPU (*) | D4: RAM (GB) (*) | E4: espai disc SSD (GB) (*) | F4: espai BBDD SSD (GB) (*) | G4: PREU €/mes Iva exclòs | H4: PREU €/mes Iva inclòs | I4: Nombre unitats | J4: Cost total €/mes iva inclòs | K4: Cost total ANUAL € iva inclòs
B5: Web CMS Estàndard | C5: 1/20 | D5: 50 MB | E5: 2 Gb | F5: 0,5 Gb | G5: 5 | H5: =G5*1.21 -> 6.05 | I5: 538 | J5: =I5*H5 -> 3254.9 | K5: =J5*12 -> 39058.8
B6: Web CMS Estratègica | C6: 2/20 | D6: 125 MB | E6: 4 Gb | F6: 1 Gb | G6: 7 | H6: =G6*1.21 -> 8.47 | I6: 57 | J6: =I6*H6 -> 482.79 | K6: =J6*12 -> 5793.48
B7: Web CMS entorn desenvolupament | C7: 0,5/20 | D7: 25 MB | E7: 2 Gb | F7: 0,5 Gb | G7: 3 | H7: =G7*1.21 -> 3.63 | I7: 448 | J7: =I7*H7 -> 1626.24 | K7: =J7*12 -> 19514.88
B8: (*) En promig, veure detall càlculs de recursos al plec. L'Allotjament actual és AWS | I8: =SUM(I5:I7) -> 1043 | J8: =SUM(J5:J7) -> 5363.93 | K8: =SUM(K5:K7) -> 64367.16
B11: Infraestructura Servidors Virtuals Dedicats (IaaS) i Emmagatzematge
B13: TALLA | C13: vCPU | D13: RAM (GB) | E13: SSD (GB) | F13: PROVEIDOR actual | G13: PREU €/mes Iva exclòs (1) | H13: PREU €/mes Iva inclòs | I13: Nombre unitats | J13: Cost total €/mes iva inclòs | K13: Cost total ANUAL € iva inclòs
B14: t3a.micro | C14: 2 | D14: 1 | E14: 50 | F14: AWS | G14: =(5.31 + 4.54) / 1.21 * 1.1 -> 8.9545455 | H14: =G14*1.21 -> 10.835 | I14: 7 | J14: =I14*H14 -> 75.845 | K14: =J14*12 -> 910.14
B15: t3a.small | C15: 2 | D15: 2 | E15: 50 | F15: AWS | G15: =(10.71+ 4.54) / 1.21* 1.1 -> 13.863636 | H15: =G15*1.21 -> 16.775 | I15: 28 | J15: =I15*H15 -> 469.7 | K15: =J15*12 -> 5636.4
B16: t3a.medium | C16: 2 | D16: 4 | E16: 50 | F16: AWS | G16: =(21.33+ 4.54) / 1.21* 1.1 -> 23.518182 | H16: =G16*1.21 -> 28.457 | I16: 11 | J16: =I16*H16 -> 313.027 | K16: =J16*12 -> 3756.324
B17: t3a.large | C17: 2 | D17: 8 | E17: 50 | F17: AWS | G17: =(42.67+ 4.54) / 1.21* 1.1 -> 42.918182 | H17: =G17*1.21 -> 51.931 | I17: 7 | J17: =I17*H17 -> 363.517 | K17: =J17*12 -> 4362.204
B18: t3a.xlarge | C18: 4 | D18: 16 | E18: 50 | F18: AWS | G18: =(85.35+ 4.54) / 1.21* 1.1 -> 81.718182 | H18: =G18*1.21 -> 98.879 | I18: 0 | J18: =I18*H18 -> 0 | K18: =J18*12 -> 0
B19: t3a.2xlarge | C19: 8 | D19: 32 | E19: 50 | F19: AWS | G19: =(170.71+ 4.54) / 1.21* 1.1 -> 159.31818 | H19: =G19*1.21 -> 192.775 | I19: 0.08 | J19: =I19*H19 -> 15.422 | K19: =J19*12 -> 185.064
B20: Servidor dedicat gran | C20: 6 CPU | D20: 64 | E20: 64TB (32TB útils amb RAID) | F20: Hetzner | G20: =98.38/1.21* 1.1 -> 89.436364 | H20: =G20*1.21 -> 108.218 | I20: 2 | J20: =I20*H20 -> 216.436 | K20: =J20*12 -> 2597.232
I21: =SUM(I14:I20) -> 55.08 | J21: =SUM(J14:J20) -> 1453.947 | K21: =SUM(K14:K20) -> 17447.364
B23: Links preus Proveidors | G23: (1) Els imports son:
B24: https://aws.amazon.com/es/s3/pricing/?nc=sn&loc=4 | G24: el real del proveïdor AWS (zona Irlanda) en USD * conversió a Euro 0.94 (a dia 10/11/23).
B25: https://aws.amazon.com/es/ec2/pricing/on-demand/ | G25: En el cas de les EC2 s'indica el preu de reserva durant un any que es un 33% mes barat que baix demanda.
B26: https://www.hetzner.com/cloud | G26: El Preu incou un 10% de marge per afavorir la competència, i assumir el risc de reserva prèvia de recursos.
B27: https://www.digitalocean.com/pricing/ | G27: El preu inclou un disc de 50 Gb a cada servidor (que s'estima que incrementa el preu en 4,54€ iva inclòs cada servidor)
B30: TALLA | E30: TIPUS | F30: PROVEIDOR | G30: PREU € GB/mes IVA exclòs (1) | H30: PREU € GB/mes IVA inclòs | I30: Nombre unitats | J30: Cost total €/mes iva inclòs | K30: Cost total ANUAL € iva inclòs
B31: Volum (EBS) de propòsit general (gp3) | E31: EBS gpt3 | F31: AWS | G31: =0.1/1.21* 1.1 -> 0.090909091 | H31: =G31*1.21 -> 0.11 | I31: 8664 | J31: =I31*H31 -> 953.04 | K31: =J31*12 -> 11436.48
B32: Volum (EBS) de baix rendiment (st1) | E32: EBS st1 | F32: AWS | G32: =0.05687/1.21* 1.1 -> 0.0517 | H32: =G32*1.21 -> 0.062557 | I32: 1725 | J32: =I32*H32 -> 107.91083 | K32: =J32*12 -> 1294.9299
B33: Emmagatzematge compartit en alta disponibilitat | E33: EFS | F33: AWS | G33: =0.375/1.21* 1.1 -> 0.34090909 | H33: =G33*1.21 -> 0.4125 | I33: 0 | J33: =I33*H33 -> 0 | K33: =J33*12 -> 0
B34: Snapshots de disc | E34: Snapshot | F34: Digital Ocean | G34: =0.05687/1.21* 1.1 -> 0.0517 | H34: =G34*1.21 -> 0.062557 | I34: 304 | J34: =I34*H34 -> 19.017328 | K34: =J34*12 -> 228.20794
J35: =SUM(J31:J34) -> 1079.9682 | K35: =SUM(K31:K34) -> 12959.618
B37: Links preus Proveidors | G37: (1) Els imports son:
B38: https://aws.amazon.com/es/s3/pricing/?nc=sn&loc=4 | G38: el real del proveïdor AWS (zona Irlanda) en USD * conversió a Euro 0.94 (a dia 10/11/23).
B39: https://www.digitalocean.com/pricing/ | G39: El Preu incou un 10% de marge per afavorir la competència, i assumir el risc de reserva prèvia de recursos.
B41: Programari com a servei (SaaS)
B43: Servei | E43: Infraestructura | G43: Preu €/mes iva exclòs | H43: Preu €/mes iva inclòs | I43: Nombre unitats | J43: Cost total €/mes iva inclòs | K43: Cost total ANUAL € iva inclòs
B44: CDN Cloudfront | E44: AWS | G44: =H44/1.21 -> 3074.3306 | H44: 3719.94 | I44: 1 | J44: =I44*H44 -> 3719.94 | K44: =J44*12 -> 44639.28
B45: API-Gateway | E45: AWS | G45: =H45/1.21 -> 26.14876 | H45: 31.64 | I45: 1 | J45: =I45*H45 -> 31.64 | K45: =J45*12 -> 379.68
B46: S3, Glacier, Deep Archive (incloent peticions i operacions API) | E46: AWS | G46: =H46/1.21 -> 322.33058 | H46: 390.02 | I46: 1 | J46: =I46*H46 -> 390.02 | K46: =J46*12 -> 4680.24
B47: NextCloud Hetzner | E47: Hetzner (CCX) | G47: =H47/1.21 -> 15.61157 | H47: 18.89 | I47: 1 | J47: =I47*H47 -> 18.89 | K47: =J47*12 -> 226.68
B48: Cookiebot | E48: =B48 -> Cookiebot | G48: =H48/1.21 -> 379.65014 | H48: =351.38+107.9966666 -> 459.37667 | I48: 1 | J48: =I48*H48 -> 459.37667 | K48: =J48*12 -> 5512.52
J49: =SUM(J44:J48) -> 4619.8667 | K49: =SUM(K44:K48) -> 55438.4
B51: TOTAL Servei d’aprovisionament d’infraestructura
...

Sheet Taules IJ
A2: Distribució de pressupost per any i per servei
B4: 2024 | E4: 2025 | H4: 2026 | K4: 2027
A5: Serveis | B5: Import net | C5: IVA 21% | D5: Import total | E5: Import net | F5: IVA 21% | G5: Import total | H5: Import net | I5: IVA 21% | J5: Import total | K5: Import net | L5: IVA 21% | M5: Import total | N5: Total import net | O5: Total IVA 21% | P5: Total import contracte
A6: Manteniment correctiu | B6: =ROUND('Càlcul pressupost '!F6/1.21,2) -> 41565.31 | C6: =ROUND(B6*0.21,2) -> 8728.72 | D6: ='Càlcul pressupost '!F6 -> 50294.02 | E6: =ROUND('Càlcul pressupost '!G6/1.21,2) -> 94825.79 | F6: =ROUND(E6*0.21,2) -> 19913.42 | G6: ='Càlcul pressupost '!G6 -> 114739.2 | H6: =ROUND('Càlcul pressupost '!H6/1.21,2) -> 94825.79 | I6: =ROUND(H6*0.21,2) -> 19913.42 | J6: ='Càlcul pressupost '!H6 -> 114739.2 | K6: =ROUND('Càlcul pressupost '!I6/1.21,2) -> 45358.33 | L6: =ROUND(K6*0.21,2) -> 9525.25 | M6: ='Càlcul pressupost '!I6 -> 54883.58 | N6: =+B6+E6+H6+K6 -> 276575.22 | O6: =+C6+F6+I6+L6 -> 58080.81 | P6: =+D6+G6+J6+M6 -> 334656
A7: Manteniment recurrent | B7: =ROUND('Càlcul pressupost '!F7/1.21,2) -> 24847.64 | C7: =ROUND(B7*0.21,2) -> 5218 | D7: ='Càlcul pressupost '!F7 -> 30065.65 | E7: =ROUND('Càlcul pressupost '!G7/1.21,2) -> 31905.07 | F7: =ROUND(E7*0.21,2) -> 6700.06 | G7: ='Càlcul pressupost '!G7 -> 38605.14 | H7: =ROUND('Càlcul pressupost '!H7/1.21,2) -> 15470.23 | I7: =ROUND(H7*0.21,2) -> 3248.75 | J7: ='Càlcul pressupost '!H7 -> 18718.98 | K7: =ROUND('Càlcul pressupost '!I7/1.21,2) -> 4126.51 | L7: =ROUND(K7*0.21,2) -> 866.57 | M7: ='Càlcul pressupost '!I7 -> 4993.08 | N7: =+B7+E7+H7+K7 -> 76349.45 | O7: =+C7+F7+I7+L7 -> 16033.38 | P7: =+D7+G7+J7+M7 -> 92382.85
A8: Serveis d'evolutius recurrents | B8: =ROUND('Càlcul pressupost '!F8/1.21,2) -> 61983.47 | C8: =ROUND(B8*0.21,2) -> 13016.53 | D8: ='Càlcul pressupost '!F8 -> 75000 | E8: =ROUND('Càlcul pressupost '!G8/1.21,2) -> 123966.94 | F8: =ROUND(E8*0.21,2) -> 26033.06 | G8: ='Càlcul pressupost '!G8 -> 150000 | H8: =ROUND('Càlcul pressupost '!H8/1.21,2) -> 123966.94 | I8: =ROUND(H8*0.21,2) -> 26033.06 | J8: ='Càlcul pressupost '!H8 -> 150000 | K8: =ROUND('Càlcul pressupost '!I8/1.21,2) -> 59297.52 | L8: =ROUND(K8*0.21,2) -> 12452.48 | M8: ='Càlcul pressupost '!I8 -> 71750 | N8: =+B8+E8+H8+K8 -> 369214.87 | O8: =+C8+F8+I8+L8 -> 77535.13 | P8: =+D8+G8+J8+M8 -> 446750
A9: Aprovisionament infraestructura | B9: =ROUND('Càlcul pressupost '!F9/1.21,2) -> 54415.83 | C9: =ROUND(B9*0.21,2) -> 11427.32 | D9: ='Càlcul pressupost '!F9 -> 65843.16 | E9: =ROUND('Càlcul pressupost '!G9/1.21,2) -> 130349.73 | F9: =ROUND(E9*0.21,2) -> 27373.44 | G9: ='Càlcul pressupost '!G9 -> 157723.17 | H9: =ROUND('Càlcul pressupost '!H9/1.21,2) -> 136867.21 | I9: =ROUND(H9*0.21,2) -> 28742.11 | J9: ='Càlcul pressupost '!H9 -> 165609.33 | K9: =ROUND('Càlcul pressupost '!I9/1.21,2) -> 68741.56 | L9: =ROUND(K9*0.21,2) -> 14435.73 | M9: ='Càlcul pressupost '!I9 -> 83177.29 | N9: =+B9+E9+H9+K9 -> 390374.33 | O9: =+C9+F9+I9+L9 -> 81978.6 | P9: =+D9+G9+J9+M9 -> 472352.95
A10: Serveis Transversals de Manteniment | B10: =ROUND('Càlcul pressupost '!F10/1.21,2) -> 92047.39 | C10: =ROUND(B10*0.21,2) -> 19329.95 | D10: ='Càlcul pressupost '!F10 -> 111377.34 | E10: =ROUND('Càlcul pressupost '!G10/1.21,2) -> 209994.05 | F10: =ROUND(E10*0.21,2) -> 44098.75 | G10: ='Càlcul pressupost '!G10 -> 254092.8 | H10: =ROUND('Càlcul pressupost '!H10/1.21,2) -> 209994.05 | I10: =ROUND(H10*0.21,2) -> 44098.75 | J10: ='Càlcul pressupost '!H10 -> 254092.8 | K10: =ROUND('Càlcul pressupost '!I10/1.21,2) -> 100447.16 | L10: =ROUND(K10*0.21,2) -> 21093.9 | M10: ='Càlcul pressupost '!I10 -> 121541.06 | N10: =+B10+E10+H10+K10 -> 612482.65 | O10: =+C10+F10+I10+L10 -> 128621.35 | P10: =+D10+G10+J10+M10 -> 741104
B11: =ROUND(SUM(B6:B10),2)+0.01 -> 274859.65 | C11: =ROUND(SUM(C6:C10),2) -> 57720.52 | D11: =ROUND(SUM(D6:D10),2) -> 332580.17 | E11: =ROUND(SUM(E6:E10),2) -> 591041.58 | F11: =ROUND(SUM(F6:F10),2) -> 124118.73 | G11: =ROUND(SUM(G6:G10),2) -> 715160.31 | H11: =ROUND(SUM(H6:H10),2) -> 581124.22 | I11: =ROUND(SUM(I6:I10),2) -> 122036.09 | J11: =ROUND(SUM(J6:J10),2) -> 703160.31 | ... M11: =ROUND(SUM(M6:M10),2) -> 336345.01 | N11: =ROUND(SUM(N6:N10),2)+0.01 -> 1724996.5 | O11: =ROUND(SUM(O6:O10),2) -> 362249.27 | P11: =ROUND(SUM(P6:P10),2) -> 2087245.8
B12: (*) B10
A13: Distribució de pressupost per any
A15: TOTAL
A16: Any | B16: Pressupost net | C16: IVA | D16: Import total
A17: 2024 | B17: =+B11 -> 274859.65 | C17: =+C11 -> 57720.52 | D17: =D11 -> 332580.17 | E17: (*) L'import total de l'IVA correspon al sumatori dels imports individuals detallats a la taula anterior (fila 11, columnes C, F, I, L) i no a l'aplicació directa de l'IVA actual del 21% sobre el pressupost net totalitzat (files 16 a 19 columna B).
A18: 2025 | B18: =+E11 -> 591041.58 | C18: =+F11 -> 124118.73 | D18: =+G11 -> 715160.31
A19: 2026 | B19: =+H11 -> 581124.22 | C19: =+I11 -> 122036.09 | D19: =+J11 -> 703160.31
A20: 2027 | B20: =+K11 -> 277971.08 | C20: =+L11 -> 58373.93 | D20: =+M11 -> 336345.01
A21: Total | B21: =N11 -> 1724996.5 | C21: =O11 -> 362249.27 | D21: =P11 -> 2087245.8
D22: =+B21*1.21-D21 -> 0.0012999999
A24: Distribució de pressupost per any | E24: (*) E27 | H24: Import total (IVA inclòs)
A26: Any | B26: Període | C26: Capítol | D26: Import total | E26: Pressupost net | F26: IVA | H26: Any | I26: C2 | J26: C6
A27: 2024 | B27: del 24-6 al 31-12 | C27: II | D27: =D6+D7+D10+D9 -> 257580.17 | E27: =B6+B7+B10+B9+0.01 -> 212876.18 | F27: =C6+C7+C10+C9 -> 44703.99 | H27: =A27 -> 2024 | I27: =+D27 -> 257580.17
A28: 2024 | B28: del 24-6 al 31-12 | C28: VI | D28: =D8 -> 75000 | E28: =B8 -> 61983.47 | F28: =C8 -> 13016.53 | H28: =A28 -> 2024 | J28: =+D28 -> 75000
A29: 2025 | B29: de l'1-1 al 31-12 | C29: II | D29: =G6+G7+G10+G9 -> 565160.31 | E29: =E6+E7+E10+E9 -> 467074.64 | F29: =F6+F7+F10+F9 -> 98085.67 | H29: =A29 -> 2025 | I29: =+D29 -> 565160.31
A30: 2025 | B30: de l'1-1 al 31-12 | C30: VI | D30: =G8 -> 150000 | E30: =E8 -> 123966.94 | F30: =F8 -> 26033.06 | H30: =A30 -> 2025 | J30: =+D30 -> 150000
A31: 2026 | B31: de l'1-1 al 31-12 | C31: II | D31: =J6+J7+J10+J9 -> 553160.31 | E31: =H6+H7+H10+H9 -> 457157.28 | F31: =I6+I7+I10+I9 -> 96003.03 | H31: =A31 -> 2026 | I31: =+D31 -> 553160.31
A32: 2026 | B32: de l'1-1 al 31-12 | C32: VI | D32: =J8 -> 150000 | E32: =H8 -> 123966.94 | F32: =I8 -> 26033.06 | H32: =A32 -> 2026 | J32: =+D32 -> 150000
A33: 2027 | B33: de l'1-1 al 31-7 | C33: II | D33: =M6+M7+M10+M9 -> 264595.01 | E33: =K6+K7+K10+K9 -> 218673.56 | F33: =L6+L7+L10+L9 -> 45921.45 | H33: =A33 -> 2027 | I33: =+D33 -> 264595.01
A34: 2027 | B34: de l'1-1 al 31-7 | C34: VI | D34: =M8 -> 71750 | E34: =K8 -> 59297.52 | F34: =L8 -> 12452.48 | H34: =A34 -> 2027 | J34: =+D34 -> 71750
A35: Total | D35: =P11 -> 2087245.8 | E35: =N11 -> 1724996.5 | F35: =O11 -> 362249.27 | H35: Total | I35: =SUM(I27:I34) -> 1640495.8 | J35: =SUM(J27:J34) -> 446750 | K35: =+I35+J35 -> 2087245.8
D36: =SUM(D27:D34)-D35 -> 0 | E36: =SUM(E27:E34)-E35 -> 0 | F36: =SUM(F27:F34)-F35 -> 0
A37: Modificacions de contracte: ampliació / disminució
A38: Causes previstes de modificació | B38: Import contracte (IVA inclòs) | C38: % Ampliació sobre import del contracte | D38: Import màxim ampliació (amb IVA) | E38: % Disminució sobre import del contracte | F38: Import màxim disminució (amb IVA)
A39: Modificacions per augment o disminució de volumetries en Serveis/Aplicacions, en llicències, o en càrregues de treball | B39: =$D$21 -> 2087245.8 | C39: 0.2 | D39: =+ROUND(B39*C39,2) -> 417449.16 | E39: 0.2 | F39: =+ROUND(B39*E39,2) -> 417449.16
A40: TOTAL | B40: =SUM(B39:B39) -> 2087245.8 | C40: =SUM(C39:C39) -> 0.2 | D40: =SUM(D39:D39) -> 417449.16 | E40: =SUM(E39:E39) -> 0.2 | F40: =SUM(F39:F39) -> 417449.16
D41: =+ROUND(D40/1.21,2) -> 344999.31 | F41: =+ROUND(F40/1.21,2) -> 344999.31
D42: IVA EXCLÒS | F42: IVA EXCLÒS
A43: VEC
B45: VE prestació | C45: VE eventuals pròrrogues | D45: VE modificacions contracte amb increment de cost previstes | E45: VE modificacions contracte amb disminució de cost previstes | F45: SUMA
A46: 2024 | B46: =+B17 -> 274859.65 | D46: =ROUND(G46/$G$52*$D$41,2) -> 32843.21 | E46: =ROUND(-G46/$G$52*$F$41,2) -> -32843.21 | F46: =ROUND(SUM(B46:D46),2) -> 307702.86 | G46: =+B46+C46 -> 274859.65
...

Sheet Costos Indirectes
A2: CÀLCUL COSTOS DIRECTES I INDIRECTES PEL PROJECTE
C4: Preu IVA exclòs | D4: Benefici Industrial (20%) | E4: Cost Total | F4: Cost Indirecte (6,4 %) | G4: Suma costos Indirectes | H4: Cost infraestructura | I4: Cost personal | J4: Seguretat Social (34%) | K4: Salari Brut | L4: Suma costos directes
C5: ='Taules IJ'!B21 -> 1724996.5 | D5: =ROUND(C5*0.2, 2) -> 344999.31 | E5: =ROUND(C5-D5, 2) -> 1379997.2 | F5: =ROUND(C5*0.064, 2) -> 110399.78 | G5: =ROUND(D5+F5, 2) -> 455399.09 | H5: ='Càlcul pressupost '!K9 -> 390374.34 | I5: =ROUND(E5-F5-H5, 2) -> 879223.1 | J5: =ROUND(I5*(0.34/1.34), 2) -> 223086.46 | K5: =ROUND(I5-J5, 2) -> 656136.64 | L5: =+H5+I5 -> 1269597.4
D6: 20% de C | E6: C-D | F6: 6,40% de C | G6: D+F | H6: Cost Infraestructura | I6: E-F-H | J6: Costos salarials - Seguretat Social (34%)* | K6: Costos salarials - Salari Brut , H-I | L6: H+I
C7: Costos directes:
C8: Costos salarials - Salari Brut | D8: =K5 -> 656136.64
C9: Costos salarials - Seguretat Social (34%)* | D9: =J5 -> 223086.46
C10: Cost Infraestructura | D10: =H5 -> 390374.34
C11: TOTAL (Suma costos directes) | D11: =+L5 -> 1269597.4 | E11: =SUM(D8:D10)-D11 -> 0
C13: Costos indirectes:
C14: Despeses generals d’estructura (6,40%)** | D14: =F5 -> 110399.78
C15: Benefici industrial (20%)** | D15: =D5 -> 344999.31
C16: TOTAL (Suma costos indirectes) | D16: =G5 -> 455399.09 | E16: =SUM(D13:D15)-D16 -> 0
C18: TOTAL DE COSTOS (directes + indirectes): | D18: =D11+D16 -> 1724996.5 | E18: =D18-'Càlcul pressupost '!K11 -> 0
C19: *Percentatge calculat sobre el salari brut.
C20: **Percentatge calculat sobre el cost total del contracte.
