Workbook
Name C_Despesa: '[1]Dades auxiliars'!$N$1:$N$9
Name Dades_Servei: '[2]Dades auxiliars'!$A$1:$J$262
Name T_Despesa: '[1]Dades auxiliars'!$M$1:$M$5

Sheet Càlcul pressupost 
A1: AM_MISUUH_(4+1)
A2: Data inici contracte | B2: 45761
A3: Data inici tots serveis | B3: 45869
A4: Data inici devolució si no hi ha pròrrogues | B4: 43466
A5: Data fi del contracte | B5: 47221 | D5: Servei | E5: Import 2025 | F5: Import 2026 | G5: Import 2027 | H5: Import 2028 | I5: Import 2029 | J5: Import Total IVA inclòs | K5: Import Total IVA exclòs
A6: Data inici possible pròrroga | B6: 47222 | C6: Treball fet real en incidència. Es paga al final | D6: Manteniment correctiu | E6: =W47 -> 507275.55 | F6: =W84 -> 1135861 | G6: =W121 -> 1135861 | H6: =W158 -> 1135861 | I6: =W195 -> 320530.64 | J6: =SUM(E6:I6) -> 4235389.3 | K6: =+ROUND(J6/1.21,2) -> 3500321.7
A7: Data màxim possible pròrroga | B7: 47586 | C7: Treball valorat i acceptat. Es paga al final | D7: Manteniment recurrent | E7: =X47 -> 309909.29 | F7: =X84 -> 665077.48 | G7: =X121 -> 665077.48 | H7: =X158 -> 665077.48 | I7: =X195 -> 187679.39 | J7: =SUM(E7:I7) -> 2492821.1 | K7: =+ROUND(J7/1.21,2) -> 2060182.7
A8: Data inici devolució si max pròrroga | B8: 47484 | C8: Tarifa plana | D8: Serveis Transversals de Manteniment | E8: =Y47 -> 184124.78 | F8: =Y84 -> 426062.72 | G8: =Y121 -> 419922.47 | H8: =Y158 -> 418216.7 | I8: =Y195 -> 115671.32 | J8: =SUM(E8:I8) -> 1563998 | K8: =+ROUND(J8/1.21,2) -> 1292560.3
C9: Tarifa plana | D9: - Llicències | E9: =Z47 -> 41630.82 | F9: =Z84 -> 144382 | G9: =Z121 -> 150522.25 | H9: =Z158 -> 152228.02 | I9: =Z195 -> 97948.61 | J9: =SUM(E9:I9) -> 586711.7 | K9: =+ROUND(J9/1.21,2) -> 484885.7
C10: Treball valorat i acceptat. Es paga al final | D10: Servei d'evolutius recurrents | E10: =AA47 -> 1866992.2 | F10: =AA84 -> 2614402 | G10: =AA121 -> 2732325.3 | H10: =AA158 -> 2607387.7 | I10: =AA195 -> 735783.37 | J10: =SUM(E10:I10) -> 10556891 | K10: =+ROUND(J10/1.21,2) -> 8724702.9
D11: Import total licitació | E11: =SUM(E6:E10) -> 2909932.6 | F11: =SUM(F6:F10) -> 4985785.2 | G11: =SUM(G6:G10) -> 5103708.6 | H11: =SUM(H6:H10) -> 4978770.9 | I11: =SUM(I6:I10) -> 1457613.3 | J11: =SUM(J6:J10) -> 19435811 | K11: =SUM(K6:K10) -> 16062653
W13: 46022
C14: PRESSUPOST BASE 2025 | S14: Veure fulla Transició | U14: Inclòs manteniment recurrent | W14: SERVEIS 2025
C15: Servei | D15: Nom Servei | E15: IT Manteniment correctiu | F15: Preu/hora | G15: € Manteniment correctiu | H15: IT Manteniment recurrent | I15: Preu/hora | J15: € Manteniment recurrent | K15: TT Serveis Transversals de Manteniment | L15: Preu/hora | M15: € STM | N15: € Llicències | O15: IT Evolutius recurrents | P15: Preu/hora | Q15: € Evolutius recurrents | R15: € Import TOTAL | S15: Data inici transició | T15: Data inici servei | U15: € Transició (import màxim) | W15: € Manteniment correctiu | X15: € Manteniment recurrent | Y15: € STM | Z15: € Llicències | AA15: € Evolutiu recurrent
C16: SER0073 | D16: Inspeccions | E16: 1303.7133 | F16: =Perfils!$G$9 -> 62.77 | G16: =ROUND(E16*F16,2) -> 81834.08 | H16: 1016.5215 | I16: =Perfils!$G$16 -> 62.77 | J16: =ROUND(H16*I16,2) -> 63807.05 | K16: 774.0798 | L16: =Perfils!$G$23 -> 62.77 | M16: =ROUND(K16*L16,2) -> 48588.99 | N16: 0 | O16: 1218.5526 | P16: =Perfils!$G$30 -> 71.54 | Q16: =ROUND(O16*P16,2) -> 87175.25 | R16: =G16+J16+M16+N16+Q16 -> 281405.37 | S16: =Transició!C3 -> 45761 | T16: =Transició!D3 -> 45869 | U16: 20086.4 | W16: =ROUND(G16*($W$13-$T16-31)/334,2) -> 29891.49 | X16: =ROUND(J16*($W$13-$T16-31)/334,2) -> 23306.77 | Y16: =ROUND(M16*($W$13-$T16-31)/334,2) -> 17748.07 | Z16: =N16 -> 0 | AA16: =Q16 -> 87175.25
C17: SER0075 | D17: Expedient Electrònic - Obres | E17: =4624.5024-0.001 -> 4624.5014 | F17: =Perfils!$G$9 -> 62.77 | G17: =ROUND(E17*F17,2) -> 290279.95 | H17: =1448.6908 -> 1448.6908 | I17: =Perfils!$G$16 -> 62.77 | J17: =ROUND(H17*I17,2) -> 90934.32 | K17: =385.3752-0.0005 -> 385.3747 | L17: =Perfils!$G$23 -> 62.77 | M17: =ROUND(K17*L17,2) -> 24189.97 | N17: 0 | O17: =1595.3874+0.0001 -> 1595.3875 | P17: =Perfils!$G$30 -> 71.54 | Q17: =ROUND(O17*P17,2) -> 114134.02 | R17: =G17+J17+M17+N17+Q17 -> 519538.26 | S17: =Transició!C4 -> 45761 | T17: =Transició!D4 -> 45869 | U17: 28120.96 | W17: =ROUND(G17*($W$13-$T17-31)/334,2) -> 106030.4 | X17: =ROUND(J17*($W$13-$T17-31)/334,2) -> 33215.53 | Y17: =ROUND(M17*($W$13-$T17-31)/334,2) -> 8835.86 | Z17: =N17 -> 0 | AA17: =Q17 -> 114134.02
C18: SER0084 | D18: Paisatge Urbà i Publicitat | E18: 83.7706 | F18: =Perfils!$G$9 -> 62.77 | G18: =ROUND(E18*F18,2) -> 5258.28 | H18: 132.294 | I18: =Perfils!$G$16 -> 62.77 | J18: =ROUND(H18*I18,2) -> 8304.09 | K18: 25.9978 | L18: =Perfils!$G$23 -> 62.77 | M18: =ROUND(K18*L18,2) -> 1631.88 | N18: 0 | O18: 51.3765 | P18: =Perfils!$G$30 -> 71.54 | Q18: =ROUND(O18*P18,2) -> 3675.47 | R18: =G18+J18+M18+N18+Q18 -> 18869.72 | S18: =Transició!C5 -> 45761 | T18: =Transició!D5 -> 45791 | U18: 502.16 | W18: =ROUND(G18*($W$13-$T18-31)/334,2) -> 3148.67 | X18: =ROUND(J18*($W$13-$T18-31)/334,2) -> 4972.51 | Y18: =ROUND(M18*($W$13-$T18-31)/334,2) -> 977.17 | Z18: =N18 -> 0 | AA18: =Q18 -> 3675.47
C19: SER0086 | D19: Natura Espais Verds (inclou Protecció del Verd) | E19: 944.4559 | F19: =Perfils!$G$9 -> 62.77 | G19: =ROUND(E19*F19,2) -> 59283.5 | H19: 1395.2963 | I19: =Perfils!$G$16 -> 62.77 | J19: =ROUND(H19*I19,2) -> 87582.75 | K19: 213.2642 | L19: =Perfils!$G$23 -> 62.77 | M19: =ROUND(K19*L19,2) -> 13386.59 | N19: 0 | O19: 642.7646 | P19: =Perfils!$G$30 -> 71.54 | Q19: =ROUND(O19*P19,2) -> 45983.38 | R19: =G19+J19+M19+N19+Q19 -> 206236.22 | S19: =Transició!C6 -> 45792 | T19: =Transició!D6 -> 45852 | U19: 12051.84 | W19: =ROUND(G19*($W$13-$T19-31)/334,2) -> 24671.88 | X19: =ROUND(J19*($W$13-$T19-31)/334,2) -> 36449.11 | Y19: =ROUND(M19*($W$13-$T19-31)/334,2) -> 5571.07 | Z19: =N19 -> 0 | AA19: =Q19 -> 45983.38
C20: SER0087 | D20: VIGIA (inclou GIS Vigia) | E20: 3456.2458 | F20: =Perfils!$G$9 -> 62.77 | G20: =ROUND(E20*F20,2) -> 216948.55 | H20: 1242.6717 | I20: =Perfils!$G$16 -> 62.77 | J20: =ROUND(H20*I20,2) -> 78002.5 | K20: 942.6125 | L20: =Perfils!$G$23 -> 62.77 | M20: =ROUND(K20*L20,2) -> 59167.79 | N20: 0 | O20: 2490.714 | P20: =Perfils!$G$30 -> 71.54 | Q20: =ROUND(O20*P20,2) -> 178185.68 | R20: =G20+J20+M20+N20+Q20 -> 532304.52 | S20: =Transició!C7 -> 45761 | T20: =Transició!D7 -> 45869 | U20: 28120.96 | W20: =ROUND(G20*($W$13-$T20-31)/334,2) -> 79244.68 | X20: =ROUND(J20*($W$13-$T20-31)/334,2) -> 28491.93 | Y20: =ROUND(M20*($W$13-$T20-31)/334,2) -> 21612.19 | Z20: =N20 -> 0 | AA20: =Q20 -> 178185.68
C21: SER0090 | D21: Natura Inversions | E21: 398.0746 | F21: =Perfils!$G$9 -> 62.77 | G21: =ROUND(E21*F21,2) -> 24987.14 | H21: 152.0247 | I21: =Perfils!$G$16 -> 62.77 | J21: =ROUND(H21*I21,2) -> 9542.59 | K21: 68.8975 | L21: =Perfils!$G$23 -> 62.77 | M21: =ROUND(K21*L21,2) -> 4324.7 | N21: 0 | O21: 167.373 | P21: =Perfils!$G$30 -> 71.54 | Q21: =ROUND(O21*P21,2) -> 11973.86 | R21: =G21+J21+M21+N21+Q21 -> 50828.29 | S21: =Transició!C8 -> 45792 | T21: =Transició!D8 -> 45822 | U21: 2008.64 | W21: =ROUND(G21*($W$13-$T21-31)/334,2) -> 12643.19 | X21: =ROUND(J21*($W$13-$T21-31)/334,2) -> 4828.44 | Y21: =ROUND(M21*($W$13-$T21-31)/334,2) -> 2188.25 | Z21: =N21 -> 0 | AA21: =Q21 -> 11973.86
C22: SER0091 | D22: Catàleg Patrimoni, Monuments i Certificacions | E22: 62.9587 | F22: =Perfils!$G$9 -> 62.77 | G22: =ROUND(E22*F22,2) -> 3951.92 | H22: 40.8018 | I22: =Perfils!$G$16 -> 62.77 | J22: =ROUND(H22*I22,2) -> 2561.13 | K22: 47.696 | L22: =Perfils!$G$23 -> 62.77 | M22: =ROUND(K22*L22,2) -> 2993.88 | N22: 0 | O22: 40.6195 | P22: =Perfils!$G$30 -> 71.54 | Q22: =ROUND(O22*P22,2) -> 2905.92 | R22: =G22+J22+M22+N22+Q22 -> 12412.85 | S22: =Transició!C9 -> 45761 | T22: =Transició!D9 -> 45791 | U22: 251.08 | W22: =ROUND(G22*($W$13-$T22-31)/334,2) -> 2366.42 | X22: =ROUND(J22*($W$13-$T22-31)/334,2) -> 1533.61 | Y22: =ROUND(M22*($W$13-$T22-31)/334,2) -> 1792.74 | Z22: =N22 -> 0 | AA22: =Q22 -> 2905.92
C23: SER0092 | D23: Gestió, Informació i Publicació d'obres municipals | E23: 68.4416 | F23: =Perfils!$G$9 -> 62.77 | G23: =ROUND(E23*F23,2) -> 4296.08 | H23: 39.2068 | I23: =Perfils!$G$16 -> 62.77 | J23: =ROUND(H23*I23,2) -> 2461.01 | K23: 25.6656 | L23: =Perfils!$G$23 -> 62.77 | M23: =ROUND(K23*L23,2) -> 1611.03 | N23: 0 | O23: 39.1782 | P23: =Perfils!$G$30 -> 71.54 | Q23: =ROUND(O23*P23,2) -> 2802.81 | R23: =G23+J23+M23+N23+Q23 -> 11170.93 | S23: =Transició!C10 -> 45792 | T23: =Transició!D10 -> 45822 | U23: 251.08 | W23: =ROUND(G23*($W$13-$T23-31)/334,2) -> 2173.77 | X23: =ROUND(J23*($W$13-$T23-31)/334,2) -> 1245.24 | Y23: =ROUND(M23*($W$13-$T23-31)/334,2) -> 815.16 | Z23: =N23 -> 0 | AA23: =Q23 -> 2802.81
C24: SER0093 | D24: CIEP Autoritat | E24: 18.0606 | F24: =Perfils!$G$9 -> 62.77 | G24: =ROUND(E24*F24,2) -> 1133.66 | H24: 11.6166 | I24: =Perfils!$G$16 -> 62.77 | J24: =ROUND(H24*I24,2) -> 729.17 | K24: 54.1819 | L24: =Perfils!$G$23 -> 62.77 | M24: =ROUND(K24*L24,2) -> 3401 | N24: 0 | O24: 14.247 | P24: =Perfils!$G$30 -> 71.54 | Q24: =ROUND(O24*P24,2) -> 1019.23 | R24: =G24+J24+M24+N24+Q24 -> 6283.06 | S24: =Transició!C11 -> 45792 | T24: =Transició!D11 -> 45822 | U24: 251.08 | W24: =ROUND(G24*($W$13-$T24-31)/334,2) -> 573.62 | X24: =ROUND(J24*($W$13-$T24-31)/334,2) -> 368.95 | Y24: =ROUND(M24*($W$13-$T24-31)/334,2) -> 1720.87 | Z24: =N24 -> 0 | AA24: =Q24 -> 1019.23
C25: SER0099 | D25: Planejament i GIPU | E25: 17.76 | F25: =Perfils!$G$9 -> 62.77 | G25: =ROUND(E25*F25,2) -> 1114.8 | H25: 10.1738 | I25: =Perfils!$G$16 -> 62.77 | J25: =ROUND(H25*I25,2) -> 638.61 | K25: 6.66 | L25: =Perfils!$G$23 -> 62.77 | M25: =ROUND(K25*L25,2) -> 418.05 | N25: 0 | O25: 12.9433 | P25: =Perfils!$G$30 -> 71.54 | Q25: =ROUND(O25*P25,2) -> 925.96 | R25: =G25+J25+M25+N25+Q25 -> 3097.42 | S25: =Transició!C12 -> 45761 | T25: =Transició!D12 -> 45791 | U25: 251.08 | W25: =ROUND(G25*($W$13-$T25-31)/334,2) -> 667.54 | X25: =ROUND(J25*($W$13-$T25-31)/334,2) -> 382.4 | Y25: =ROUND(M25*($W$13-$T25-31)/334,2) -> 250.33 | Z25: =N25 -> 0 | AA25: =Q25 -> 925.96
C26: SER0155 | D26: Expedients OEP de Districtes | E26: 653.5188 | F26: =Perfils!$G$9 -> 62.77 | G26: =ROUND(E26*F26,2) -> 41021.38 | H26: 248.0662 | I26: =Perfils!$G$16 -> 62.77 | J26: =ROUND(H26*I26,2) -> 15571.12 | K26: 47.5286 | L26: =Perfils!$G$23 -> 62.77 | M26: =ROUND(K26*L26,2) -> 2983.37 | N26: 0 | O26: 254.1584 | P26: =Perfils!$G$30 -> 71.54 | Q26: =ROUND(O26*P26,2) -> 18182.49 | R26: =G26+J26+M26+N26+Q26 -> 77758.36 | S26: =Transició!C13 -> 45792 | T26: =Transició!D13 -> 45852 | U26: 2008.64 | W26: =ROUND(G26*($W$13-$T26-31)/334,2) -> 17071.77 | X26: =ROUND(J26*($W$13-$T26-31)/334,2) -> 6480.2 | Y26: =ROUND(M26*($W$13-$T26-31)/334,2) -> 1241.58 | Z26: =N26 -> 0 | AA26: =Q26 -> 18182.49
C27: SER0158 | D27: Mòdul comú d'Informes | E27: 1064.64 | F27: =Perfils!$G$9 -> 62.77 | G27: =ROUND(E27*F27,2) -> 66827.45 | H27: 664.0905 | I27: =Perfils!$G$16 -> 62.77 | J27: =ROUND(H27*I27,2) -> 41684.96 | K27: 292.776 | L27: =Perfils!$G$23 -> 62.77 | M27: =ROUND(K27*L27,2) -> 18377.55 | N27: 0 | O27: 675.0877 | P27: =Perfils!$G$30 -> 71.54 | Q27: =ROUND(O27*P27,2) -> 48295.77 | R27: =G27+J27+M27+N27+Q27 -> 175185.73 | S27: =Transició!C14 -> 45761 | T27: =Transició!D14 -> 45822 | U27: 5021.6 | W27: =ROUND(G27*($W$13-$T27-31)/334,2) -> 33813.89 | X27: =ROUND(J27*($W$13-$T27-31)/334,2) -> 21092.09 | Y27: =ROUND(M27*($W$13-$T27-31)/334,2) -> 9298.82 | Z27: =N27 -> 0 | AA27: =Q27 -> 48295.77
C28: SER0183 | D28: Llicències d'Activitat | E28: 2308.8937 | F28: =Perfils!$G$9 -> 62.77 | G28: =ROUND(E28*F28,2) -> 144929.26 | H28: 1405.0913 | I28: =Perfils!$G$16 -> 62.77 | J28: =ROUND(H28*I28,2) -> 88197.58 | K28: 563.1448 | L28: =Perfils!$G$23 -> 62.77 | M28: =ROUND(K28*L28,2) -> 35348.6 | N28: 0 | O28: 1569.6733 | P28: =Perfils!$G$30 -> 71.54 | Q28: =ROUND(O28*P28,2) -> 112294.43 | R28: =G28+J28+M28+N28+Q28 -> 380769.87 | S28: =Transició!C15 -> 45761 | T28: =Transició!D15 -> 45869 | U28: 20086.4 | W28: =ROUND(G28*($W$13-$T28-31)/334,2) -> 52938.23 | X28: =ROUND(J28*($W$13-$T28-31)/334,2) -> 32215.88 | Y28: =ROUND(M28*($W$13-$T28-31)/334,2) -> 12911.76 | Z28: =N28 -> 0 | AA28: =Q28 -> 112294.43
C29: SER0202 | D29: ParkGüell | E29: 22.8128 | F29: =Perfils!$G$9 -> 62.77 | G29: =ROUND(E29*F29,2) -> 1431.96 | H29: 13.0683 | I29: =Perfils!$G$16 -> 62.77 | J29: =ROUND(H29*I29,2) -> 820.3 | K29: 8.5548 | L29: =Perfils!$G$23 -> 62.77 | M29: =ROUND(K29*L29,2) -> 536.98 | N29: 0 | O29: 15.5588 | P29: =Perfils!$G$30 -> 71.54 | Q29: =ROUND(O29*P29,2) -> 1113.08 | R29: =G29+J29+M29+N29+Q29 -> 3902.32 | S29: =Transició!C16 -> 45761 | T29: =Transició!D16 -> 45791 | U29: 251.08 | W29: =ROUND(G29*($W$13-$T29-31)/334,2) -> 857.46 | X29: =ROUND(J29*($W$13-$T29-31)/334,2) -> 491.2 | Y29: =ROUND(M29*($W$13-$T29-31)/334,2) -> 321.54 | Z29: =N29 -> 0 | AA29: =Q29 -> 1113.08
C30: SER0282 | D30: Portal del Coneixement EU (inclou llicències CartoDB) | E30: 114.0685 | F30: =Perfils!$G$9 -> 62.77 | G30: =ROUND(E30*F30,2) -> 7160.08 | H30: 573.5762 | I30: =Perfils!$G$16 -> 62.77 | J30: =ROUND(H30*I30,2) -> 36003.38 | K30: 185.3613 | L30: =Perfils!$G$23 -> 62.77 | M30: =ROUND(K30*L30,2) -> 11635.13 | N30: 64059.336 | O30: 574.5469 | P30: =Perfils!$G$30 -> 71.54 | Q30: =ROUND(O30*P30,2) -> 41103.09 | R30: =G30+J30+M30+N30+Q30 -> 159961.02 | S30: =Transició!C17 -> 45761 | T30: =Transició!D17 -> 45822 | U30: 3766.2 | W30: =ROUND(G30*($W$13-$T30-31)/334,2) -> 3622.91 | X30: =ROUND(J30*($W$13-$T30-31)/334,2) -> 18217.28 | Y30: =ROUND(M30*($W$13-$T30-31)/334,2) -> 5887.24 | Z30: =N30-62314.2 -> 1745.136 | AA30: =Q30 -> 41103.09
C31: SER0396 | D31: Portal d'Informació Urbanística | E31: 136.8826 | F31: =Perfils!$G$9 -> 62.77 | G31: =ROUND(E31*F31,2) -> 8592.12 | H31: 453.0539 | I31: =Perfils!$G$16 -> 62.77 | J31: =ROUND(H31*I31,2) -> 28438.19 | K31: 114.0688 | L31: =Perfils!$G$23 -> 62.77 | M31: =ROUND(K31*L31,2) -> 7160.1 | N31: 0 | O31: 465.6401 | P31: =Perfils!$G$30 -> 71.54 | Q31: =ROUND(O31*P31,2) -> 33311.89 | R31: =G31+J31+M31+N31+Q31 -> 77502.3 | S31: =Transició!C18 -> 45792 | T31: =Transició!D18 -> 45852 | U31: 3766.2 | W31: =ROUND(G31*($W$13-$T31-31)/334,2) -> 3575.76 | X31: =ROUND(J31*($W$13-$T31-31)/334,2) -> 11835.06 | Y31: =ROUND(M31*($W$13-$T31-31)/334,2) -> 2979.8 | Z31: =N31 -> 0 | AA31: =Q31 -> 33311.89
C32: SER0486 | D32: Aplicacions corporatives Parcs i Jardins | E32: 124.8535 | F32: =Perfils!$G$9 -> 62.77 | G32: =ROUND(E32*F32,2) -> 7837.05 | H32: 150.5732 | I32: =Perfils!$G$16 -> 62.77 | J32: =ROUND(H32*I32,2) -> 9451.48 | K32: 41.6178 | L32: =Perfils!$G$23 -> 62.77 | M32: =ROUND(K32*L32,2) -> 2612.35 | N32: 0 | O32: 64.9682 | P32: =Perfils!$G$30 -> 71.54 | Q32: =ROUND(O32*P32,2) -> 4647.83 | R32: =G32+J32+M32+N32+Q32 -> 24548.71 | S32: =Transició!C19 -> 45792 | T32: =Transició!D19 -> 45822 | U32: 502.16 | W32: =ROUND(G32*($W$13-$T32-31)/334,2) -> 3965.45 | X32: =ROUND(J32*($W$13-$T32-31)/334,2) -> 4782.34 | Y32: =ROUND(M32*($W$13-$T32-31)/334,2) -> 1321.82 | Z32: =N32 -> 0 | AA32: =Q32 -> 4647.83
C33: SER0531 | D33: Registre de temes de Mobilitat | E33: 93.0758 | F33: =Perfils!$G$9 -> 62.77 | G33: =ROUND(E33*F33,2) -> 5842.37 | H33: 20.8247 | I33: =Perfils!$G$16 -> 62.77 | J33: =ROUND(H33*I33,2) -> 1307.17 | K33: 7.0512 | L33: =Perfils!$G$23 -> 62.77 | M33: =ROUND(K33*L33,2) -> 442.6 | N33: 0 | O33: 22.5677 | P33: =Perfils!$G$30 -> 71.54 | Q33: =ROUND(O33*P33,2) -> 1614.49 | R33: =G33+J33+M33+N33+Q33 -> 9206.63 | S33: =Transició!C20 -> 45761 | T33: =Transició!D20 -> 45791 | U33: 251.08 | W33: =ROUND(G33*($W$13-$T33-31)/334,2) -> 3498.43 | X33: =ROUND(J33*($W$13-$T33-31)/334,2) -> 782.74 | Y33: =ROUND(M33*($W$13-$T33-31)/334,2) -> 265.03 | Z33: =N33 -> 0 | AA33: =Q33 -> 1614.49
C34: SER0585 | D34: Seguiment Temes EU | E34: 199.2416 | F34: =Perfils!$G$9 -> 62.77 | G34: =ROUND(E34*F34,2) -> 12506.4 | H34: 48.9777 | I34: =Perfils!$G$16 -> 62.77 | J34: =ROUND(H34*I34,2) -> 3074.33 | K34: 48.0928 | L34: =Perfils!$G$23 -> 62.77 | M34: =ROUND(K34*L34,2) -> 3018.79 | N34: 0 | O34: 51.7574 | P34: =Perfils!$G$30 -> 71.54 | Q34: =ROUND(O34*P34,2) -> 3702.72 | R34: =G34+J34+M34+N34+Q34 -> 22302.24 | S34: =Transició!C21 -> 45761 | T34: =Transició!D21 -> 45791 | U34: 502.16 | W34: =ROUND(G34*($W$13-$T34-31)/334,2) -> 7488.86 | X34: =ROUND(J34*($W$13-$T34-31)/334,2) -> 1840.92 | Y34: =ROUND(M34*($W$13-$T34-31)/334,2) -> 1807.66 | Z34: =N34 -> 0 | AA34: =Q34 -> 3702.72
C35: SER0603 | D35: Ocupació de l'espai públic St Jordi (DRAC) | E35: 256.6555 | F35: =Perfils!$G$9 -> 62.77 | G35: =ROUND(E35*F35,2) -> 16110.27 | H35: 94.3865 | I35: =Perfils!$G$16 -> 62.77 | J35: =ROUND(H35*I35,2) -> 5924.64 | K35: 33.2702 | L35: =Perfils!$G$23 -> 62.77 | M35: =ROUND(K35*L35,2) -> 2088.37 | N35: 0 | O35: 115.2898 | P35: =Perfils!$G$30 -> 71.54 | Q35: =ROUND(O35*P35,2) -> 8247.83 | R35: =G35+J35+M35+N35+Q35 -> 32371.11 | S35: =Transició!C22 -> 45792 | T35: =Transició!D22 -> 45852 | U35: 2008.64 | W35: =ROUND(G35*($W$13-$T35-31)/334,2) -> 6704.57 | X35: =ROUND(J35*($W$13-$T35-31)/334,2) -> 2465.64 | Y35: =ROUND(M35*($W$13-$T35-31)/334,2) -> 869.11 | Z35: =N35 -> 0 | AA35: =Q35 -> 8247.83
C36: SER9999 | D36: Serveis Transversals AM | E36: 0 | F36: =Perfils!$G$9 -> 62.77 | G36: =ROUND(E36*F36,2) -> 0 | H36: 192 | I36: =Perfils!$G$16 -> 62.77 | J36: =ROUND(H36*I36,2) -> 12051.84 | K36: 2029.76 | L36: =Perfils!$G$23 -> 62.77 | M36: =ROUND(K36*L36,2) -> 127408.04 | N36: 0 | O36: 14531.063 | P36: =Perfils!$G$30 -> 71.54 | Q36: =ROUND(O36*P36,2) -> 1039552.2 | R36: =G36+J36+M36+N36+Q36 -> 1179012.1 | S36: =Transició!C23 -> 45761 | T36: =Transició!D23 -> 45869 | U36: 12051.84 | W36: =ROUND(G36*($W$13-$T36-31)/334,2) -> 0 | X36: =ROUND(J36*($W$13-$T36-31)/334,2) -> 4402.17 | Y36: =ROUND(M36*($W$13-$T36-31)/334,2) -> 46538.27 | Z36: =N36 -> 0 | AA36: =Q36 -> 1039552.2
C37: SER0479 | D37: INCA URBANO.Inventari senyalització vial | E37: 0 | F37: =Perfils!$G$9 -> 62.77 | G37: =ROUND(E37*F37,2) -> 0 | H37: 0 | I37: =Perfils!$G$16 -> 62.77 | J37: =ROUND(H37*I37,2) -> 0 | K37: 0 | L37: =Perfils!$G$23 -> 62.77 | M37: =ROUND(K37*L37,2) -> 0 | N37: 53595.21 | O37: 0 | P37: =Perfils!$G$30 -> 71.54 | Q37: =ROUND(O37*P37,2) -> 0 | R37: =G37+J37+M37+N37+Q37 -> 53595.21 | S37: =Transició!C24 -> 45761 | T37: =Transició!D24 -> 45791 | U37: 0 | W37: =ROUND(G37*($W$13-$T37)/365,2) -> 0 | X37: =ROUND(J37*($W$13-$T37)/365,2) -> 0 | Y37: =ROUND(M37*($W$13-$T37)/365,2) -> 0 | Z37: =N37-42391.8*7/11 -> 26618.61 | AA37: =Q37 -> 0
C38: SER0668 | D38: Gestor Estàndard de Projectes - Project Monitor MISU-UH | E38: 0 | F38: =Perfils!$G$9 -> 62.77 | G38: =ROUND(E38*F38,2) -> 0 | H38: 0 | I38: =Perfils!$G$16 -> 62.77 | J38: =ROUND(H38*I38,2) -> 0 | K38: 0 | L38: =Perfils!$G$23 -> 62.77 | M38: =ROUND(K38*L38,2) -> 0 | N38: 25119.6 | O38: 0 | P38: =Perfils!$G$30 -> 71.54 | Q38: =ROUND(O38*P38,2) -> 0 | R38: =G38+J38+M38+N38+Q38 -> 25119.6 | S38: =Transició!C25 -> 45761 | T38: =Transició!D25 -> 45791 | U38: 0 | W38: =ROUND(G38*($W$13-$T38)/365,2) -> 0 | X38: =ROUND(J38*($W$13-$T38)/365,2) -> 0 | Y38: =ROUND(M38*($W$13-$T38)/365,2) -> 0 | Z38: =N38-18625.4*7/11 -> 13267.073 | AA38: =Q38 -> 0
C39: SER0666 | D39: Gestor Integral d'Actuacions (GIAT) | E39: 317.5032 | F39: =Perfils!$G$9 -> 62.77 | G39: =ROUND(E39*F39,2) -> 19929.68 | H39: 254.057 | I39: =Perfils!$G$16 -> 62.77 | J39: =ROUND(H39*I39,2) -> 15947.16 | K39: 90.7152 | L39: =Perfils!$G$23 -> 62.77 | M39: =ROUND(K39*L39,2) -> 5694.19 | N39: 0 | O39: 259.5718 | P39: =Perfils!$G$30 -> 71.54 | Q39: =ROUND(O39*P39,2) -> 18569.77 | R39: =G39+J39+M39+N39+Q39 -> 60140.8 | S39: =Transició!C26 -> 45792 | T39: =Transició!D26 -> 45852 | U39: 2008.64 | W39: =ROUND(G39*($W$13-$T39-31)/334,2) -> 8294.09 | X39: =ROUND(J39*($W$13-$T39-31)/334,2) -> 6636.69 | Y39: =ROUND(M39*($W$13-$T39-31)/334,2) -> 2369.74 | Z39: =N39 -> 0 | AA39: =Q39 -> 18569.77
C40: SER0562 | D40: Avaluació i Gestió Ambiental (inclou Mapa Qualitat Ambiental) | E40: 266.1596 | F40: =Perfils!$G$9 -> 62.77 | G40: =ROUND(E40*F40,2) -> 16706.84 | H40: 232.3345 | I40: =Perfils!$G$16 -> 62.77 | J40: =ROUND(H40*I40,2) -> 14583.64 | K40: 38.0228 | L40: =Perfils!$G$23 -> 62.77 | M40: =ROUND(K40*L40,2) -> 2386.69 | N40: 0 | O40: 239.9429 | P40: =Perfils!$G$30 -> 71.54 | Q40: =ROUND(O40*P40,2) -> 17165.52 | R40: =G40+J40+M40+N40+Q40 -> 50842.69 | S40: =Transició!C27 -> 45792 | T40: =Transició!D27 -> 45822 | U40: 2008.64 | W40: =ROUND(G40*($W$13-$T40-31)/334,2) -> 8453.46 | X40: =ROUND(J40*($W$13-$T40-31)/334,2) -> 7379.15 | Y40: =ROUND(M40*($W$13-$T40-31)/334,2) -> 1207.64 | Z40: =N40 -> 0 | AA40: =Q40 -> 17165.52
C41: SER0715 | D41: Recollida i tractament de dades de canvi climàtic i sostenibilitat | E41: 74.1437 | F41: =Perfils!$G$9 -> 62.77 | G41: =ROUND(E41*F41,2) -> 4654 | H41: 97.2891 | I41: =Perfils!$G$16 -> 62.77 | J41: =ROUND(H41*I41,2) -> 6106.84 | K41: 19.9618 | L41: =Perfils!$G$23 -> 62.77 | M41: =ROUND(K41*L41,2) -> 1253 | N41: 0 | O41: 95.4127 | P41: =Perfils!$G$30 -> 71.54 | Q41: =ROUND(O41*P41,2) -> 6825.82 | R41: =G41+J41+M41+N41+Q41 -> 18839.66 | S41: =Transició!C28 -> 45792 | T41: =Transició!D28 -> 45822 | U41: 502.16 | W41: =ROUND(G41*($W$13-$T41-31)/334,2) -> 2354.87 | X41: =ROUND(J41*($W$13-$T41-31)/334,2) -> 3089.99 | Y41: =ROUND(M41*($W$13-$T41-31)/334,2) -> 634 | Z41: =N41 -> 0 | AA41: =Q41 -> 6825.82
...

Sheet Perfils
B2: Servei plec | C2: Perfil | D2: % dedicació | E2: Preu perfil IVA inclòs | F2: Preu perfil IVA exclòs | G2: Preu / hora /perfil IVA inclòs
B3: Manteniment correctiu | C3: Coordinador del contracte | D3: 0.0075 | E3: =E35 -> 106 | F3: =+ROUND(E3/1.21,2) -> 87.6 | G3: =E3*D3 -> 0.795
C4: Cap de projecte | D4: 0.145 | E4: =E36 -> 88.89 | F4: =+ROUND(E4/1.21,2) -> 73.46 | G4: =E4*D4 -> 12.88905
C5: Responsable de servei | D5: 0 | E5: =E37 -> 74.97 | F5: =+ROUND(E5/1.21,2) -> 61.96 | G5: =E5*D5 -> 0
C6: Arquitecte/a | D6: 0.045 | E6: =E38 -> 114.15 | F6: =+ROUND(E6/1.21,2) -> 94.34 | G6: =E6*D6 -> 5.13675
C7: Analista | D7: 0.23 | E7: =E39 -> 60.46 | F7: =+ROUND(E7/1.21,2) -> 49.97 | G7: =E7*D7 -> 13.9058
C8: Analista programador/a | D8: 0.5725 | E8: =E40 -> 52.48 | F8: =+ROUND(E8/1.21,2) -> 43.37 | G8: =E8*D8 -> 30.0448
C9: Preu perfil tipus | G9: =ROUND(SUM(G3:G8),2) -> 62.77 | H9: =SUM(D3:D8) -> 1
B10: Manteniment recurrent | C10: =C3 -> Coordinador del contracte | D10: =D3 -> 0.0075 | E10: =E3 -> 106 | F10: =+ROUND(E10/1.21,2) -> 87.6 | G10: =E10*D10 -> 0.795
C11: =C4 -> Cap de projecte | D11: =D4 -> 0.145 | E11: =E4 -> 88.89 | F11: =+ROUND(E11/1.21,2) -> 73.46 | G11: =E11*D11 -> 12.88905
C12: =C5 -> Responsable de servei | D12: =D5 -> 0 | E12: =E5 -> 74.97 | F12: =+ROUND(E12/1.21,2) -> 61.96 | G12: =E12*D12 -> 0
C13: =C6 -> Arquitecte/a | D13: =D6 -> 0.045 | E13: =E6 -> 114.15 | F13: =+ROUND(E13/1.21,2) -> 94.34 | G13: =E13*D13 -> 5.13675
C14: =C7 -> Analista | D14: =D7 -> 0.23 | E14: =E7 -> 60.46 | F14: =+ROUND(E14/1.21,2) -> 49.97 | G14: =E14*D14 -> 13.9058
C15: =C8 -> Analista programador/a | D15: =D8 -> 0.5725 | E15: =E8 -> 52.48 | F15: =+ROUND(E15/1.21,2) -> 43.37 | G15: =E15*D15 -> 30.0448
C16: Preu perfil tipus | G16: =ROUND(SUM(G10:G15),2) -> 62.77 | H16: =SUM(D10:D15) -> 1
B17: Serveis Transversals de Manteniment | C17: =C3 -> Coordinador del contracte | D17: =D3 -> 0.0075 | E17: =E3 -> 106 | F17: =+ROUND(E17/1.21,2) -> 87.6 | G17: =E17*D17 -> 0.795
C18: =C4 -> Cap de projecte | D18: =D4 -> 0.145 | E18: =E4 -> 88.89 | F18: =+ROUND(E18/1.21,2) -> 73.46 | G18: =E18*D18 -> 12.88905
C19: =C5 -> Responsable de servei | D19: =D5 -> 0 | E19: =E5 -> 74.97 | F19: =+ROUND(E19/1.21,2) -> 61.96 | G19: =E19*D19 -> 0
C20: =C6 -> Arquitecte/a | D20: =D6 -> 0.045 | E20: =E6 -> 114.15 | F20: =+ROUND(E20/1.21,2) -> 94.34 | G20: =E20*D20 -> 5.13675
C21: =C7 -> Analista | D21: =D7 -> 0.23 | E21: =E7 -> 60.46 | F21: =+ROUND(E21/1.21,2) -> 49.97 | G21: =E21*D21 -> 13.9058
C22: =C8 -> Analista programador/a | D22: =D8 -> 0.5725 | E22: =E8 -> 52.48 | F22: =+ROUND(E22/1.21,2) -> 43.37 | G22: =E22*D22 -> 30.0448
C23: Preu perfil tipus | G23: =ROUND(SUM(G17:G22),2) -> 62.77 | H23: =SUM(D17:D22) -> 1
B24: Evolutius recurrents | C24: =C3 -> Coordinador del contracte | D24: 0.02 | E24: =E3 -> 106 | F24: =+ROUND(E24/1.21,2) -> 87.6 | G24: =E24*D24 -> 2.12
C25: =C4 -> Cap de projecte | D25: 0.15 | E25: =E4 -> 88.89 | F25: =+ROUND(E25/1.21,2) -> 73.46 | G25: =E25*D25 -> 13.3335
C26: Consultor | D26: 0.125 | E26: =E5 -> 74.97 | F26: =+ROUND(E26/1.21,2) -> 61.96 | G26: =E26*D26 -> 9.37125
C27: =C6 -> Arquitecte/a | D27: 0.13 | E27: =E6 -> 114.15 | F27: =+ROUND(E27/1.21,2) -> 94.34 | G27: =E27*D27 -> 14.8395
C28: =C7 -> Analista | D28: 0.2125 | E28: =E7 -> 60.46 | F28: =+ROUND(E28/1.21,2) -> 49.97 | G28: =E28*D28 -> 12.84775
C29: =C8 -> Analista programador/a | D29: 0.3625 | E29: =E8 -> 52.48 | F29: =+ROUND(E29/1.21,2) -> 43.37 | G29: =E29*D29 -> 19.024
C30: Preu perfil tipus | G30: =ROUND(SUM(G24:G29),2) -> 71.54 | H30: =SUM(D24:D29) -> 1
E34: Import €/hora amb IVA | F34: Preu/hora IVA exclòs
C35: Coordinador del contracte | E35: =+ROUND(F35*1.21,2) -> 106 | F35: 87.6
C36: Cap de projecte | E36: =+ROUND(F36*1.21,2) -> 88.89 | F36: 73.46
C37: Responsable de servei / Consultor | E37: =+ROUND(F37*1.21,2) -> 74.97 | F37: 61.96
C38: Arquitecte/a | E38: =+ROUND(F38*1.21,2) -> 114.15 | F38: 94.34
C39: Analista | E39: =+ROUND(F39*1.21,2) -> 60.46 | F39: 49.97
C40: Analista programador/a | E40: =+ROUND(F40*1.21,2) -> 52.48 | F40: 43.37

Sheet Taules IJ
A2: Distribució de pressupost per any i per servei
B4: 2025 | E4: 2026 | H4: 2027 | K4: 2028 | N4: 2029
A5: Serveis | B5: Import net | C5: IVA 21% | D5: Import total | E5: Import net | F5: IVA 21% | G5: Import total | H5: Import net | I5: IVA 21% | J5: Import total | K5: Import net | L5: IVA 21% | M5: Import total | N5: Import net | O5: IVA 21% | P5: Import total | Q5: Total import net | R5: Total IVA 21% | S5: Total import contracte
A6: Manteniment correctiu | B6: =ROUND('Càlcul pressupost '!E6/1.21,2) -> 419235.99 | C6: =ROUND(B6*0.21,2) -> 88039.56 | D6: =+B6+C6 -> 507275.55 | E6: =ROUND('Càlcul pressupost '!F6/1.21,2) -> 938728.13 | F6: =ROUND(E6*0.21,2) -> 197132.91 | G6: =+E6+F6 -> 1135861 | H6: =ROUND('Càlcul pressupost '!G6/1.21,2) -> 938728.13 | I6: =ROUND(H6*0.21,2) -> 197132.91 | J6: =+H6+I6 -> 1135861 | K6: =ROUND('Càlcul pressupost '!H6/1.21,2) -> 938728.13 | L6: =ROUND(K6*0.21,2) -> 197132.91 | M6: =+K6+L6 -> 1135861 | N6: =ROUND('Càlcul pressupost '!I6/1.21,2) -> 264901.36 | O6: =ROUND(N6*0.21,2) -> 55629.29 | P6: =+N6+O6 -> 320530.65 | Q6: =+B6+E6+H6+K6+N6 -> 3500321.7 | R6: =+C6+F6+I6+L6+O6 -> 735067.58 | S6: =+D6+G6+J6+M6+P6 -> 4235389.3
A7: Manteniment recurrent | B7: =ROUND('Càlcul pressupost '!E7/1.21,2) -> 256123.38 | C7: =ROUND(B7*0.21,2) -> 53785.91 | D7: =+B7+C7 -> 309909.29 | E7: =ROUND('Càlcul pressupost '!F7/1.21,2) -> 549650.81 | F7: =ROUND(E7*0.21,2) -> 115426.67 | G7: =+E7+F7 -> 665077.48 | H7: =ROUND('Càlcul pressupost '!G7/1.21,2) -> 549650.81 | I7: =ROUND(H7*0.21,2) -> 115426.67 | J7: =+H7+I7 -> 665077.48 | K7: =ROUND('Càlcul pressupost '!H7/1.21,2) -> 549650.81 | L7: =ROUND(K7*0.21,2) -> 115426.67 | M7: =+K7+L7 -> 665077.48 | N7: =ROUND('Càlcul pressupost '!I7/1.21,2) -> 155106.93 | O7: =ROUND(N7*0.21,2) -> 32572.46 | P7: =+N7+O7 -> 187679.39 | Q7: =+B7+E7+H7+K7+N7 -> 2060182.7 | R7: =+C7+F7+I7+L7+O7 -> 432638.38 | S7: =+D7+G7+J7+M7+P7 -> 2492821.1
A8: Serveis d’evolutius recurrents | B8: =ROUND('Càlcul pressupost '!E10/1.21,2) -> 1542968.7 | C8: =ROUND(B8*0.21,2) -> 324023.44 | D8: =+B8+C8 -> 1866992.2 | E8: =ROUND('Càlcul pressupost '!F10/1.21,2) -> 2160662.8 | F8: =ROUND(E8*0.21,2) -> 453739.19 | G8: =+E8+F8 -> 2614402 | H8: =ROUND('Càlcul pressupost '!G10/1.21,2) -> 2258120.1 | I8: =ROUND(H8*0.21,2) -> 474205.22 | J8: =+H8+I8 -> 2732325.3 | K8: =ROUND('Càlcul pressupost '!H10/1.21,2) -> 2154865.9 | L8: =ROUND(K8*0.21,2) -> 452521.83 | M8: =+K8+L8 -> 2607387.7 | N8: =ROUND('Càlcul pressupost '!I10/1.21,2) -> 608085.43 | O8: =ROUND(N8*0.21,2) -> 127697.94 | P8: =+N8+O8 -> 735783.37 | Q8: =+B8+E8+H8+K8+N8 -> 8724702.9 | R8: =+C8+F8+I8+L8+O8 -> 1832187.6 | S8: =+D8+G8+J8+M8+P8 -> 10556891
A9: Serveis Transversals de Manteniment | B9: =ROUND('Càlcul pressupost '!E8/1.21,2) -> 152169.24 | C9: =ROUND(B9*0.21,2) -> 31955.54 | D9: =+B9+C9 -> 184124.78 | E9: =ROUND('Càlcul pressupost '!F8/1.21,2) -> 352117.95 | F9: =ROUND(E9*0.21,2) -> 73944.77 | G9: =+E9+F9 -> 426062.72 | H9: =ROUND('Càlcul pressupost '!G8/1.21,2) -> 347043.36 | I9: =ROUND(H9*0.21,2) -> 72879.11 | J9: =+H9+I9 -> 419922.47 | K9: =ROUND('Càlcul pressupost '!H8/1.21,2) -> 345633.64 | L9: =ROUND(K9*0.21,2) -> 72583.06 | M9: =+K9+L9 -> 418216.7 | N9: =ROUND('Càlcul pressupost '!I8/1.21,2)+0.01 -> 95596.14 | O9: =ROUND(N9*0.21,2)-0.01 -> 20075.18 | P9: =+N9+O9 -> 115671.32 | Q9: =+B9+E9+H9+K9+N9 -> 1292560.3 | R9: =+C9+F9+I9+L9+O9 -> 271437.66 | S9: =+D9+G9+J9+M9+P9 -> 1563998
A10: Llicències | B10: =ROUND('Càlcul pressupost '!E9/1.21,2) -> 34405.64 | C10: =ROUND(B10*0.21,2) -> 7225.18 | D10: =+B10+C10 -> 41630.82 | E10: =ROUND('Càlcul pressupost '!F9/1.21,2) -> 119323.97 | F10: =ROUND(E10*0.21,2) -> 25058.03 | G10: =+E10+F10 -> 144382 | H10: =ROUND('Càlcul pressupost '!G9/1.21,2) -> 124398.55 | I10: =ROUND(H10*0.21,2) -> 26123.7 | J10: =+H10+I10 -> 150522.25 | K10: =ROUND('Càlcul pressupost '!H9/1.21,2) -> 125808.28 | L10: =ROUND(K10*0.21,2) -> 26419.74 | M10: =+K10+L10 -> 152228.02 | N10: =ROUND('Càlcul pressupost '!I9/1.21,2) -> 80949.26 | O10: =ROUND(N10*0.21,2) -> 16999.34 | P10: =+N10+O10 -> 97948.6 | Q10: =+B10+E10+H10+K10+N10 -> 484885.7 | R10: =+C10+F10+I10+L10+O10 -> 101825.99 | S10: =+D10+G10+J10+M10+P10 -> 586711.69
B11: =SUM(B6:B10) -> 2404903 | C11: =SUM(C6:C10) -> 505029.63 | D11: =SUM(D6:D10) -> 2909932.6 | E11: =SUM(E6:E10) -> 4120483.7 | F11: =SUM(F6:F10) -> 865301.57 | G11: =SUM(G6:G10) -> 4985785.2 | H11: =SUM(H6:H10) -> 4217940.9 | I11: =SUM(I6:I10) -> 885767.61 | ... S11: =SUM(S6:S10) -> 19435811
A13: Distribució de pressupost per any
A15: TOTAL
A16: Any | B16: Pressupost net | C16: IVA | D16: Import total
A17: 2025 | B17: =+B11 -> 2404903 | C17: =+C11 -> 505029.63 | D17: =+B17+C17 -> 2909932.6 | E17: (*) L'import total de l'IVA correspon al sumatori dels imports individuals detallats a la taula anterior (fila 11, columnes C, F, I, L, O) i no a l'aplicació directa de l'IVA actual del 21% sobre el pressupost net totalitzat (files 17 a 21 columna B).
A18: 2026 | B18: =+E11 -> 4120483.7 | C18: =+F11 -> 865301.57 | D18: =+B18+C18 -> 4985785.2
A19: 2027 | B19: =+H11 -> 4217940.9 | C19: =+I11 -> 885767.61 | D19: =+B19+C19 -> 5103708.5
A20: 2028 | B20: =+K11 -> 4114686.7 | C20: =+L11 -> 864084.21 | D20: =+B20+C20 -> 4978770.9
A21: 2029 | B21: =+N11 -> 1204639.1 | C21: =+O11 -> 252974.21 | D21: =+B21+C21 -> 1457613.3
A22: Total | B22: =SUM(B17:B21) -> 16062653 | C22: =SUM(C17:C21) -> 3373157.2 | D22: =SUM(D17:D21) -> 19435811
D23: =+B22*1.21 -> 19435811
A25: Distribució de pressupost per any
A27: Any | B27: Període | C27: Capítol | D27: Import total | E27: Pressupost net | F27: IVA | H27: Any | I27: C2 | J27: C6
A28: 2025 | B28: de l'14-4 al 31-12 | C28: II | D28: =D6+D7+D9+D10 -> 1042940.4 | E28: =B6+B7+B9+B10 -> 861934.25 | F28: =C6+C7+C9+C10 -> 181006.19 | H28: 2025 | I28: =D28 -> 1042940.4
A29: 2025 | B29: de l'14-4 al 31-12 | C29: VI | D29: =D8 -> 1866992.2 | E29: =B8 -> 1542968.7 | F29: =C8 -> 324023.44 | H29: 2025 | J29: =D29 -> 1866992.2
A30: 2026 | B30: de l'1-1 al 31-12 | C30: II | D30: =G6+G7+G9+G10 -> 2371383.2 | E30: =E6+E7+E9+E10 -> 1959820.9 | F30: =F6+F7+F9+F10 -> 411562.38 | H30: 2026 | I30: =D30 -> 2371383.2
A31: 2026 | B31: de l'1-1 al 31-12 | C31: VI | D31: =G8 -> 2614402 | E31: =E8 -> 2160662.8 | F31: =F8 -> 453739.19 | H31: 2026 | J31: =D31 -> 2614402
A32: 2027 | B32: de l'1-1 al 31-12 | C32: II | D32: =J6+J7+J9+J10 -> 2371383.2 | E32: =H6+H7+H9+H10 -> 1959820.8 | F32: =I6+I7+I9+I10 -> 411562.39 | H32: 2027 | I32: =D32 -> 2371383.2
A33: 2027 | B33: de l'1-1 al 31-12 | C33: VI | D33: =J8 -> 2732325.3 | E33: =H8 -> 2258120.1 | F33: =I8 -> 474205.22 | H33: 2027 | J33: =D33 -> 2732325.3
A34: 2028 | B34: de l'1-1 al 31-12 | C34: II | D34: =M6+M7+M9+M10 -> 2371383.2 | E34: =K6+K7+K9+K10 -> 1959820.9 | F34: =L6+L7+L9+L10 -> 411562.38 | H34: 2028 | I34: =D34 -> 2371383.2
A35: 2028 | B35: de l'1-1 al 31-12 | C35: VI | D35: =+M8 -> 2607387.7 | E35: =+K8 -> 2154865.9 | F35: =+L8 -> 452521.83 | H35: 2028 | J35: =+D35 -> 2607387.7
A36: 2029 | B36: de l'1-1 al 13-4 | C36: II | D36: =P6+P7+P9+P10 -> 721829.96 | E36: =N6+N7+N9+N10 -> 596553.69 | F36: =O6+O7+O9+O10 -> 125276.27 | H36: 2029 | I36: =D36 -> 721829.96
A37: 2029 | B37: de l'1-1 al 13-4 | C37: VI | D37: =+P8 -> 735783.37 | E37: =+N8 -> 608085.43 | F37: =+O8 -> 127697.94 | H37: 2029 | J37: =+D37 -> 735783.37
A38: Total | D38: =SUM(D28:D37) -> 19435811 | E38: =SUM(E28:E37) -> 16062653 | F38: =SUM(F28:F37) -> 3373157.2 | H38: Total | I38: =SUM(I28:I37) -> 8878920.1 | J38: =SUM(J28:J37) -> 10556891 | K38: =I38+J38 -> 19435811
A41: Pròrroga
A43: Any | B43: Període | C43: Capítol | D43: Import total | E43: Pressupost net | F43: IVA | H43: Any | I43: C2 | J43: C6
A44: 2029 | B44: de l'14-4 al 31-12 | C44: II | D44: =D34-D36 -> 1649553.3 | E44: =E34-E36 -> 1363267.2 | F44: =F34-F36 -> 286286.11 | H44: 2025 | I44: =D44 -> 1649553.3
A45: 2029 | B45: de l'14-4 al 31-12 | C45: VI | D45: =D35-D37 -> 1871604.3 | E45: =E35-E37 -> 1546780.4 | F45: =F35-F37 -> 324823.89 | H45: 2025 | J45: =D45 -> 1871604.3
A46: 2030 | B46: de l'1-1 al 13-4 | C46: II | D46: =D36 -> 721829.96 | E46: =E36 -> 596553.69 | F46: =F36 -> 125276.27 | H46: 2026 | I46: =D46 -> 721829.96
A47: 2030 | B47: de l'1-1 al 13-4 | C47: VI | D47: =D37 -> 735783.37 | E47: =E37 -> 608085.43 | F47: =F37 -> 127697.94 | H47: 2026 | J47: =D47 -> 735783.37
A51: Modificacions de contracte: ampliació / disminució
A52: Causes previstes de modificació | B52: Import contracte (IVA inclòs) | C52: % Ampliació sobre import del contracte | D52: Import màxim ampliació (amb IVA) | E52: % Disminució sobre import del contracte | F52: Import màxim disminució (amb IVA)
...

Sheet Quadre desglossament
A1: CÀLCUL COSTOS DIRECTES I INDIRECTES PEL PROJECTE
A3: Salari Brut | B3: Altres
A4: 9405740.5 | B4: 0
A6: Costos directes:
A7: Costos salarials - Salari Brut | B7: =A4 -> 9405740.5
A8: Costos salarials - Seguretat Social (34%) | B8: =+ROUND((B7*0.34),2) -> 3197951.8
A9: Costos formació i prevenció (1%) | B9: =+ROUND(((B7)*0.01),2) -> 94057.41
A10: Altres | B10: =B4 -> 0
A11: TOTAL (Suma costos directes) | B11: =SUM(B7:B10) -> 12697750
A13: Costos indirectes:
A14: Despeses generals d’estructura (15%) | B14: =+ROUND((B11*0.15),2)-0.01 -> 1904662.4
A15: TOTAL (Suma costos directes + indirectes) | B15: =B11+B14 -> 14602412
A16: Benefici industrial (10%) | B16: =B15*10% -> 1460241.2
A17: TOTAL DE COSTOS CONTRACTE | B17: =ROUND((B15+B16),2) -> 16062653
A18: IVA (21%) | B18: ='Taules IJ'!C22 -> 3373157.2

Sheet Relació de Tractaments
B1: AREA GOVERN | C1: GERÈNCIA | D1: CODI TRACTAMENT | E1: NOM TRACTAMENT | F1: FINALITAT TRACTAMENT | G1: CESSIONS | H1: TRANSF INTERNACIONALS | I1: PERSONES AFECTADES | J1: LEGITIMACIÓ | K1: TIPOLOGIA DE DADES | L1: PROCEDÈNCIA | M1: TERMINI DE CONSERVACIÓ | N1: SEGURETAT
B2: 1a Tin. ALCALDIA Urbanisme, Transició Ecològica, Serveis Urbans i Habitatge | C2: Gerència d'Àrea de Mobilitat, Infraestructures i Serveis Urbans | D2: 46 | E2: Gestió del Centre d'Acollida d'Animals de Companyia (CAAC) | F2: Prestar servei d'assistència als animals de companyia (gats, gossos i fures) perduts i abandonats a la via pública o comissats pels cossos de seguretat. Fomentar les adopcions dels animals de companyia, localitzar els propietaris dels animals perduts, fomentar el voluntariat amb animals de companyia. | G2: Les establertes obligatòriament a la legislació vigent (Jutjats i tribunals i cossos i forces de seguretat) | H2: No | I2: Propietaris dels animals intervinguts, perduts, potencials adoptants, els adoptants i les persones adscrites als Acords de Voluntariat | J2: Obligació legal del Responsable, Articles 12 i 20 de l'Ordenança Protecció Tinença i Venda d'animals de 2014; Llei 25/2015, del voluntariat i de foment de l'associacionisme. | K2: Dades identificatives, dades personals, dades socials, imatges, veu, dades salut, dades violència de gènere, dades menors d'edat, dades altres tipus de persones vulnerables | L2: Procedència dades de la persona afectada, Procedència dades d'administracions públiques, Procedència dades de registres públics, Procedència dades de sistemes automàtics de captura, Agents de la Guàrdia Urbana, Inspectors municipals i mitjans de captació de dades (microxips,.....) i altres administracions | M2: Les vostres dades seran eliminades un cop complert el termini d'arxiu corresponent en cada cas. | N2: Les mesures de seguretat implantades es corresponen amb les previstes a l’Annex II del Reial Decret 311/2022, de 3 de maig, pel que es regula l’Esquema Nacional de Seguretat (ENS) per a garantir la seguretat dels sistemes d’informació que donen suport als diferents tractaments de dades duts a terme per l’Ajuntament de Barcelona
B3: 1a Tin. ALCALDIA Urbanisme, Transició Ecològica, Serveis Urbans i Habitatge | C3: Gerència d'Àrea de Mobilitat, Infraestructures i Serveis Urbans | D3: 157 | E3: Infracció a ordenances municipals de l'Àrea d'Ecologia Urbana | F3: Gestió del procediment de disciplina per infracció i sancions a les ordenances municipals competència de Medi Ambient i Serveis Urbans, Mobilitat, Obres i Serveis a la via pública. | G3: Comunicacions de dades a entitats de dret públic, Agència de Residus de Catalunya, Agencia Estatal de la Administración Tributaria, Agència Tributària de Catalunya i les establertes obligatòriament a la legislació vigent (Jutjats i tribunals i cossos i forces de seguretat) | H3: No | I3: Persones subjectes a procediment sancionador derivat d'ordenances municipals | J3: Missió d'interès públic - exercici de poders públics, Art. 25.2 LRBRL, art. 66.2 del TR de la Llei municipal i de règim local de Catalunya; art. 102 de la Llei de la Carta municipal de Barcelona; Llei estatal 7/2022, de residus i sòls contaminats per una economia circular; TR de la Llei reguladora dels residus (Decret Legislatiu 1/2009). I les següents ordenances municipals: (i) del medi ambient de Barcelona, (ii) d'obres i instal·lacions de serveis en el domini públic municipal, (iii) d'ús de les vies i els espais públics de Barcelona i (iv) reguladora del procediment sancionador | K3: Dades identificatives, dades personals, dades comercials | L3: Procedència dades de la persona afectada, Procedència dades de registres públics, Llicències i altres resolucions del propi Ajuntament | M3: Les dades s'han de conservar mentre l'expedient no s'hagi finalitzat, també en fase de recaptació. El termini de conservació dels expedients sancionadors abreujats és de 10 anys, els expedients sancionadors ordinaris són de conservació permanent. | N3: Les mesures de seguretat implantades es corresponen amb les previstes a l’Annex II del Reial Decret 311/2022, de 3 de maig, pel que es regula l’Esquema Nacional de Seguretat (ENS) per a garantir la seguretat dels sistemes d’informació que donen suport als diferents tractaments de dades duts a terme per l’Ajuntament de Barcelona
B4: 1a Tin. ALCALDIA Urbanisme, Transició Ecològica, Serveis Urbans i Habitatge | C4: Gerència d'Àrea de Mobilitat, Infraestructures i Serveis Urbans | D4: 163 | E4: Accés a zones restringides a la circulació i/o aparcament | F4: Plataforma de gestió dels permisos d'accés a zones de circulació restringida (pilones d'accés i altres sistemes) | G4: Les establertes obligatòriament a la legislació vigent (Jutjats i tribunals i cossos i forces de seguretat) | H4: No | I4: Persones amb autorització d’aparcament o accés en zones d’horari limitat o regulat | J4: Missió d'interès públic - exercici de poders públics, Art. 25.2.g de la Llei 7/1985, Reguladora de les Bases de Règim Local | K4: Dades identificatives, dades personals | L4: Procedència dades de la persona afectada | M4: Mentre el/la sol·licitant compleixi els criteris d'accés a les zones d'accés restringit | N4: Les mesures de seguretat implantades es corresponen amb les previstes a l’Annex II del Reial Decret 311/2022, de 3 de maig, pel que es regula l’Esquema Nacional de Seguretat (ENS) per a garantir la seguretat dels sistemes d’informació que donen suport als diferents tractaments de dades duts a terme per l’Ajuntament de Barcelona
B5: 1a Tin. ALCALDIA Urbanisme, Transició Ecològica, Serveis Urbans i Habitatge | C5: Gerència d'Urbanisme | D5: 140 | E5: Règims d'intervenció administrativa (llicències i comunicats) | F5: Gestió de llicències d'obres i activitats o d'ocupació d'espai públic | G5: Comunicacions de dades a entitats de dret públic, Generalitat de Catalunya, Agencia Tributaria, Agència Tributària de Catalunya i les establertes obligatòriament a la legislació vigent (Jutjats i tribunals i cossos i forces de seguretat) | H5: No | I5: Persones que demanen llicències d'obres i activitats o d'ocupació d'espai públic | J5: Consentiment informat, específic i explícit, Obligació legal del Responsable, Art. 234, 235 i 236 Llei Municipal de Règim Local de Catalunya; Art. 70, 88 i 90 Text Refós en matèria de Règim Local; Art. 84, 84bis i 84ter Llei Reguladora de les Bases de Règim Local i Art. 71 Carta Municipal de Barcelona | K5: Dades identificatives, dades socials, dades professionals, dades comercials, dades econòmiques | L5: Procedència dades de la persona afectada, Procedència dades d'administracions públiques, Procedència dades de registres públics, Amb els departaments de Generalitat de Catalunya amb competències en Turisme i Medi Ambient | M5: Les vostres dades seran eliminades en funció dels expedients i de la normativa aplicable. | N5: Les mesures de seguretat implantades es corresponen amb les previstes a l’Annex II del Reial Decret 311/2022, de 3 de maig, pel que es regula l’Esquema Nacional de Seguretat (ENS) per a garantir la seguretat dels sistemes d’informació que donen suport als diferents tractaments de dades duts a terme per l’Ajuntament de Barcelona
B6: 1a Tin. ALCALDIA Urbanisme, Transició Ecològica, Serveis Urbans i Habitatge | C6: Gerència d'Urbanisme | D6: 383 | E6: Gestió de consultes a Pla de la Ciutat | F6: Gestionar les peticions i consultes cartogràfiques realitzades a Pla de la Ciutat. | G6: Les establertes obligatòriament a la legislació vigent (Jutjats i tribunals i cossos i forces de seguretat) | H6: No | I6: Persones que demanen informacions o accions de Pla de la Ciutat | J6: Consentiment informat, específic i explícit, Missió d'interès públic - exercici de poders públics, Article 3 de l'Ordenança sobre l'ús de les vies i els espais públics de Barcelona | K6: Dades identificatives, dades professionals | L6: Procedència dades de la persona afectada | M6: Cinc anys | N6: Les mesures de seguretat implantades es corresponen amb les previstes a l’Annex II del Reial Decret 311/2022, de 3 de maig, pel que es regula l’Esquema Nacional de Seguretat (ENS) per a garantir la seguretat dels sistemes d’informació que donen suport als diferents tractaments de dades duts a terme per l’Ajuntament de Barcelona
B7: 1a Tin. ALCALDIA Urbanisme, Transició Ecològica, Serveis Urbans i Habitatge | C7: Gerència d'Urbanisme | D7: 588 | E7: Informes i Certificats Urbanístics | F7: Emetre informe/certificat sobre el règim urbanístic de les finques i el planejament aplicable | G7: Les establertes obligatòriament a la legislació vigent (Jutjats i tribunals i cossos i forces de seguretat) | H7: No | I7: Persones que demanen certificats o informes urbanístics | J7: Obligació legal del Responsable, Text Refós de la Llei d’Urbanisme 1/2010 i Reglament 305/2006 | K7: Dades identificatives | L7: Procedència dades de la persona afectada | M7: Per informes i alineacions, 5 anys, i per certificats, 15 anys. | N7: Les mesures de seguretat implantades es corresponen amb les previstes a l’Annex II del Reial Decret 311/2022, de 3 de maig, pel que es regula l’Esquema Nacional de Seguretat (ENS) per a garantir la seguretat dels sistemes d’informació que donen suport als diferents tractaments de dades duts a terme per l’Ajuntament de Barcelona
B8: 1a Tin. ALCALDIA Urbanisme, Transició Ecològica, Serveis Urbans i Habitatge | C8: Gerència d'Urbanisme | D8: 591 | E8: Actuacions de Planejament urbanístic | F8: Subministrament d’informació urbanística a la ciutadania en la tramitació de nou planejament o la seva modificació, així com la resolució de les possibles al·legacions que es presentin o l' execució de les sentències que se'n derivin. | G8: Al Dep de Territori de la Generalitat, com a obligació legal en el procés de tramitació del planejament d'acord al TRLUC i les establertes obligatòriament a la legislació vigent (Jutjats i tribunals i cossos i forces de seguretat) | H8: No | I8: Persones afectades pel planejament urbanístic en curs. | J8: Obligació legal del Responsable, Art. 25.2 d) L7/1985, Llei Reguladora de les Bases de Règim Local; Art. 66.3 d) DL 2/2003, Text refós de la Llei municipal i de règim local de Catalunya | K8: Dades identificatives | L8: Procedència dades de la persona afectada, Procedència dades d'altres no afectats, Procedència dades de registres públics, Promotors de planejament privat d'acord al TRLUC. | M8: Mentre sigui vigent el planejament objecte del tractament de dades personals | N8: Les mesures de seguretat implantades es corresponen amb les previstes a l’Annex II del Reial Decret 311/2022, de 3 de maig, pel que es regula l’Esquema Nacional de Seguretat (ENS) per a garantir la seguretat dels sistemes d’informació que donen suport als diferents tractaments de dades duts a terme per l’Ajuntament de Barcelona
B9: 1a Tin. ALCALDIA Urbanisme, Transició Ecològica, Serveis Urbans i Habitatge | C9: Gerència d'Urbanisme | D9: 628 | E9: Gestió dels expedients de disciplina urbanística | F9: Gestió dels expedients de disciplina urbanística, d’activitats i via pública i d’expedients sancionadors | G9: Les establertes obligatòriament a la legislació vigent (Jutjats i tribunals i cossos i forces de seguretat) | H9: No | I9: Persones físiques que sol·liciten o front a les quals s'obren expedients administratius de disciplina urbanística. | J9: Obligació legal del Responsable, Art. 25.2 L7/1985 Llei Reguladora de les Bases de Règim Local + Art. 66.3 del TR de la Llei Municipal i de Règim Local de Catalunya i Carta Municipal de Barcelona (preceptes referits a la potestat sancionadora) | K9: Dades identificatives, dades personals | L9: Procedència dades de la persona afectada, Procedència dades d'altres no afectats, Procedència dades de registres públics, Registre de la propietat, HUT, mercantil | M9: En funció dels expedients i de la normativa aplicable. | N9: Les mesures de seguretat implantades es corresponen amb les previstes a l’Annex II del Reial Decret 311/2022, de 3 de maig, pel que es regula l’Esquema Nacional de Seguretat (ENS) per a garantir la seguretat dels sistemes d’informació que donen suport als diferents tractaments de dades duts a terme per l’Ajuntament de Barcelona
B10: 1a Tin. ALCALDIA Urbanisme, Transició Ecològica, Serveis Urbans i Habitatge | C10: Institut Municipal de l'Habitatge i la Rehabilitació de Barcelona | D10: 664 | E10: Gestió dels serveis públics vinculats a l'habitatge a la ciutat de Barcelona | F10: Gestionar els serveis d’habitatge de Barcelona que inclouen donar informació i assistència a la ciutadania i cercar possibles solucions a les diferents demandes que pugui plantejar, facilitar l’accés a un habitatge digne i assequible mitjançant les borses d'habitatge de lloguer privat així com les promocions d'habitatge amb protecció oficial públiques i privades, especialment als col·lectius més vulnerables, atorgar prestacions econòmiques per al pagament del lloguer o deutes de rendes o per obres de rehabilitació i assessorar i mediar per a solucionar conflictes entre propietaris i inquilins o per situacions de pèrdua d’habitatge i ocupacions. Realitzar estudis i/o enquestes en relació a l'àmbit d'habitatge. | G10: Comunicacions de dades a entitats de dret públic, Comunicacions de dades a entitats privades, Es comuniquen dades a diferents administracions (Agència de l'Habitatge de Catalunya, Serveis Socials, jutjats, etc...), a promotors públic i privats, a entitats i persones privades i les establertes obligatòriament a la legislació vigent (Jutjats i tribunals i cossos i forces de seguretat) | H10: No | I10: * Ciutadania i usuaris/àries que requereixen dels serveis del Consorci de l'Habitatge de Barcelona. * Persones propietàries i promotors públics i privats que intervenen i/o requereixen dels serveis d'habitatge | J10: Consentiment informat, específic i explícit, Obligació legal del Responsable, Missió d'interès públic - exercici de poders públics, Llei 18/2007, del 28 de desembre, del dret a l'habitatge; Llei 22/1998, de 30 de desembre, de la Carta Municipal de Barcelona; Estatuts del Consorci de l'Habitatge de Barcelona, del 31 d'agost del 2009; Decret 75/2014, del 27 de maig, del Pla del Dret a l'Habitatge i tota aquella altra legislació i normativa en matèria d'habitatge que sigui d'aplicació. | K10: Dades identificatives, dades personals, dades socials, dades ocupació laboral, dades econòmiques, dades salut, dades violència de gènere, dades menors d'edat, dades altres tipus de persones vulnerables | L10: Procedència dades de la persona afectada, Procedència dades d'administracions públiques, Procedència dades de registres públics, Administracions públiques, de Registres públics (Registre de la propietat, Registre Civil, etc…) i de serveis socials | M10: Les vostres dades seran eliminades un cop complertes les obligacions legals derivades de la gestió de l'activitat | N10: Les mesures de seguretat implantades es corresponen amb les previstes a l’Annex II del Reial Decret 311/2022, de 3 de maig, pel que es regula l’Esquema Nacional de Seguretat (ENS) per a garantir la seguretat dels sistemes d’informació que donen suport als diferents tractaments de dades duts a terme per l’Ajuntament de Barcelona
B11: 1a Tin. ALCALDIA Urbanisme, Transició Ecològica, Serveis Urbans i Habitatge | C11: Institut Municipal de Parcs i Jardins | D11: 678 | E11: Gestor d'Expedients de Protecció del Verd | F11: Gestió d'expedients d'informes i valoracions del verd, tant públic com privat, per llicències, reclamacions de danys, autoritzacions amb afectació al verd, i pressupostos comercials | G11: Comunicacions de dades a entitats de dret públic, Les establertes obligatòriament a la legislació vigent (Jutjats i tribunals i cossos i forces de seguretat) | H11: No | I11: Ciutadans que demanen llicències o informes per intervencions en verd, o valoracions de desperfectes instats per Jutjat o Ajuntament | J11: Contracte entre l'Ajuntament de Barcelona i l'afectat, Obligació legal del Responsable, Missió d'interès públic - exercici de poders públics, Llei 7/1985, Reguladora de Bases de Règim Local i Carta Municipal de Barcelona | K11: Dades identificatives, dades personals, dades socials, dades professionals, imatges, dades infraccions penals, geoposicionament | L11: Procedència dades de la persona afectada, Procedència dades d'administracions públiques, Procedència dades de registres públics, Jutjats i altres departaments de l'Ajuntament, o consulta a padró. | M11: Un cop tancat l'expedient, es guardaran 4 anys més quan hi ha contingut econòmic. | N11: Les mesures de seguretat implantades es corresponen amb les previstes a l’Annex II del Reial Decret 311/2022, de 3 de maig, pel que es regula l’Esquema Nacional de Seguretat (ENS) per a garantir la seguretat dels sistemes d’informació que donen suport als diferents tractaments de dades duts a terme per l’Ajuntament de Barcelona

Sheet Transició
B1: Data inici servei | C1: ='Càlcul pressupost '!B2 -> 45761
A2: Codi Servei | B2: Nom Servei | C2: Data inici transició | D2: Data fi transició | F2: Abril | H2: Maig | J2: Juny | L2: Juliol
A3: SER0073 | B3: Inspeccions | C3: =$C$1 -> 45761 | D3: 45869 | E3: ONADA 4
A4: SER0075 | B4: Expedient Electrònic - Obres | C4: =$C$1 -> 45761 | D4: 45869 | E4: ONADA 4
A5: SER0084 | B5: Paisatge Urbà i Publicitat | C5: =$C$1 -> 45761 | D5: 45791 | E5: ONADA 1
A6: SER0086 | B6: Natura Espais Verds (inclou Protecció del Verd) | C6: 45792 | D6: 45852 | E6: ONADA 3
A7: SER0087 | B7: VIGIA (inclou GIS Vigia) | C7: =$C$1 -> 45761 | D7: 45869 | E7: ONADA 4
A8: SER0090 | B8: Natura Inversions | C8: 45792 | D8: 45822 | E8: ONADA 2
A9: SER0091 | B9: Catàleg Patrimoni, Monuments i Certificacions | C9: =$C$1 -> 45761 | D9: 45791 | E9: ONADA 1
A10: SER0092 | B10: Gestió, Informació i Publicació d'obres municipals | C10: 45792 | D10: 45822 | E10: ONADA 2
A11: SER0093 | B11: CIEP Autoritat | C11: 45792 | D11: 45822 | E11: ONADA 2
A12: SER0099 | B12: Planejament i GIPU | C12: =$C$1 -> 45761 | D12: 45791 | E12: ONADA 1
A13: SER0155 | B13: Expedients OEP de Districtes | C13: 45792 | D13: 45852 | E13: ONADA 3
A14: SER0158 | B14: Mòdul comú d'Informes | C14: =C1 -> 45761 | D14: 45822 | E14: ONADA 2
A15: SER0183 | B15: Llicències d'Activitat | C15: =$C$1 -> 45761 | D15: 45869 | E15: ONADA 4
A16: SER0202 | B16: ParkGüell | C16: =$C$1 -> 45761 | D16: 45791 | E16: ONADA 1
A17: SER0282 | B17: Portal del Coneixement EU (inclou llicències CartoDB) | C17: =C1 -> 45761 | D17: 45822 | E17: ONADA 2 | I17: Llicència
A18: SER0396 | B18: Portal d'Informació Urbanística | C18: 45792 | D18: 45852 | E18: ONADA 3
A19: SER0486 | B19: Aplicacions corporatives Parcs i Jardins | C19: 45792 | D19: 45822 | E19: ONADA 2
A20: SER0531 | B20: Registre de temes de Mobilitat | C20: =$C$1 -> 45761 | D20: 45791 | E20: ONADA 1
A21: SER0585 | B21: Seguiment Temes EU | C21: =$C$1 -> 45761 | D21: 45791 | E21: ONADA 1
A22: SER0603 | B22: Ocupació de l'espai públic St Jordi (DRAC) | C22: 45792 | D22: 45852 | E22: ONADA 3
A23: SER9999 | B23: Serveis Transversals AM | C23: =$C$1 -> 45761 | D23: 45869 | E23: ONADA 4
A24: SER0479 | B24: INCA URBANO.Inventari senyalització vial | C24: =C1 -> 45761 | D24: 45791 | E24: ONADA 1 | I24: Llicència
A25: SER0668 | B25: Gestor Estàndard de Projectes - Project Monitor MISU-UH | C25: =C1 -> 45761 | D25: 45791 | E25: ONADA 1 | I25: Llicència
A26: SER0666 | B26: Gestor Integral d'Actuacions (GIAT) | C26: 45792 | D26: 45852 | E26: ONADA 3
A27: SER0562 | B27: Avaluació i Gestió Ambiental (inclou Mapa Qualitat Ambiental) | C27: 45792 | D27: 45822 | E27: ONADA 2
A28: SER0715 | B28: Recollida i tractament de dades de canvi climàtic i sostenibilitat | C28: 45792 | D28: 45822 | E28: ONADA 2
A29: SER0721 | B29: Zones regulades d'accés de transit | C29: =$C$1 -> 45761 | D29: 45791 | E29: NOU EN AM
A30: SERCELIA | B30: Cens de locals i activitats (Nou CELIA) | C30: =$C$1 -> 45761 | D30: 45822 | E30: NOU EN AM
A31: SER0574 | B31: Registre de sol·licitants d’habitatge | C31: =$C$1 -> 45761 | D31: 45869 | E31: NOU EN AM
A32: SER0522 | B32: Gestió del Centre Acollida Animals de Companyia (CAACB) | C32: =$C$1 -> 45761 | D32: 45791 | E32: NOU EN AM

Sheet Taula LOT-SERV-APP
A1: Contracte | B1: Servei | C1: Aplicació | D1: Lot X | E1: 2 lots!!
A2: G0389 | B2: SER0044 | C2: APP0860-SAP Subvencions | D2: 2
A3: G0389 | B3: SER0044 | C3: APP0861-SAP Convenis | D3: 2
A4: G0389 | B4: SER0044 | C4: APP0943-Expedient bustia etica | D4: 2
A5: G0389 | B5: SER0412 | C5: APP0867-Recepció factura electrònica | D5: 2
A6: G0389 | B6: SER0412 | C6: APP0864-Emissio factura electrònica | D6: 2
A7: G0389 | B7: SER0411 | C7: APP0866-FENS | D7: 2
A8: G0389 | B8: SER0474 | C8: APP0896-Gestió de bestretes | D8: 2
A9: G0389 | B9: SER0473 | C9: APP0895-Expedients economics(core) | D9: 2
A10: G0389 | B10: SER0038 | C10: APP0150-Compres | D10: 2
A11: G0389 | B11: SER0474 | C11: APP0898-Autorització de viatges | D11: 2
A13: G0389 | B13: SER0031 | C13: APP0176-COPERNICO | D13: 1
A14: G0389 | B14: SER0031 | C14: APP0719-Digitalització actes del plenari | D14: 1
... A34: G0074 | B34: SER0150 | C34: APP0071-Autorització comissió de servei | D34: 1
A36: Quden fora d'abast:
A37: GR | B37: SER0028 | C37: APP0360-Inmagic | D37: No | E37: Producte
A38: GR | B38: SER0028 | C38: APP0859-Unicorn-hyperion | D38: No
A39: GR | B39: SER0028 | C39: APP0868-Albala | D39: No
A40: GR | B40: SER0044 | C40: APP0262-eSubvencions | D40: No | E40: Contrato a parte
A41: GR | B41: Governança de serveis i projectes | D41: No
A42: GR | B42: Governança de gestió d'actius | D42: No
A43: GR | B43: Bustia etica | D43: No
A45: G0026 | B45: SER0028 | C45: APP0858-BCNROC | D45: No | E45: Producte
A46: G0024 | B46: SER0204 | C46: APP0862-Gestió Actius | D46: No
A47: G0004 | B47: SER0032 | C47: APP0373-INFOLEX | D47: No | E47: Producte
A48: G0004 | B48: SER0032 | C48: APP0865-Infolex de consulta | D48: No | E48: Producte
A49: G0018 | B49: SER0046 | C49: APP0169-Consums energetics | D49: No
A50: G0018 | B50: SER0047 | C50: APP0421-Manteniment Edificis | D50: No
A51: ? | C51: BKM | D51: No | E51: Producte
A52: Mediacloud | B52: SER0031 | C52: APP0478-Organismes Municipals | D52: No

Sheet Taula Estimació de dades
A1: LOT 2
A2: Contracte | B2: Servei | C2: Aplicació | D2: h Manteniment correctiu | E2: Preu/hora | F2: € Manteniment correctiu | G2: h Manteniment recurrent | H2: Preu/hora | I2: € Manteniment recurrent | J2: h OT | K2: Preu/hora | L2: € OT | M2: DATA INICI NOUS SERVEIS
A3: G0389 | B3: SER0044 | C3: APP0860-SAP Subvencions | D3: 75.29 | E3: 53.57 | F3: =D3*E3 -> 4033.2853 | G3: 570 | H3: 53.57 | I3: =G3*H3 -> 30534.9 | J3: 96.7935 | K3: 57.5 | L3: =J3*K3 -> 5565.6263
A4: G0389 | B4: SER0044 | C4: APP0861-SAP Convenis | D4: 288.60029 | E4: 53.57 | F4: =D4*E4 -> 15460.317 | G4: 577.20058 | H4: 53.57 | I4: =G4*H4 -> 30920.635 | J4: 129.87013 | K4: 57.5 | L4: =J4*K4 -> 7467.5325
A5: G0389 | B5: SER0044 | C5: APP0943-Expedient bustia etica | D5: 29.106349 | E5: 53.57 | F5: =D5*E5 -> 1559.2271 | G5: 89.798846 | H5: 53.57 | I5: =G5*H5 -> 4810.5242 | J5: 17.835779 | K5: 57.5 | L5: =J5*K5 -> 1025.5573
A6: G0389 | B6: SER0412 | C6: APP0867-Recepció factura electrònica | D6: 200 | E6: 53.57 | F6: =D6*E6 -> 10714 | G6: 220 | H6: 53.57 | I6: =G6*H6 -> 11785.4 | J6: 63 | K6: 57.5 | L6: =J6*K6 -> 3622.5
A7: G0389 | B7: SER0412 | C7: APP0864-Emissio factura electrònica | D7: 36.492063 | E7: 53.57 | F7: =D7*E7 -> 1954.8798 | G7: 72.984127 | H7: 53.57 | I7: =G7*H7 -> 3909.7597 | J7: 16.421429 | K7: 57.5 | L7: =J7*K7 -> 944.23214
A8: G0389 | B8: SER0411 | C8: APP0866-FENS | D8: 20 | E8: 53.57 | F8: =D8*E8 -> 1071.4 | G8: 85 | H8: 53.57 | I8: =G8*H8 -> 4553.45 | J8: 15.75 | K8: 57.5 | L8: =J8*K8 -> 905.625
A9: G0389 | B9: SER0474 | C9: APP0896-Gestió de bestretes | D9: 103.671 | E9: 53.57 | F9: =D9*E9 -> 5553.6552 | G9: 434.23719 | H9: 53.57 | I9: =G9*H9 -> 23262.086 | J9: 80.686227 | K9: 57.5 | L9: =J9*K9 -> 4639.4581
A10: G0389 | B10: SER0473 | C10: APP0895-Expedients economics(core) | D10: 0 | E10: 53.57 | F10: =D10*E10 -> 0 | G10: 202.4 | H10: 53.57 | I10: =G10*H10 -> 10842.568 | J10: 30.36 | K10: 57.5 | L10: =J10*K10 -> 1745.7
A11: G0389 | B11: SER0038 | C11: APP0150-Compres | D11: 0 | E11: 53.57 | F11: =D11*E11 -> 0 | G11: 159.03 | H11: 53.57 | I11: =G11*H11 -> 8519.2371 | J11: 23.8545 | K11: 57.5 | L11: =J11*K11 -> 1371.6337 | N11: Varia de molt poc
A12: G0389 | B12: SER0474 | C12: APP0898-Autorització de viatges | D12: 0 | E12: 53.57 | F12: =D12*E12 -> 0 | G12: 0 | H12: 53.57 | I12: =G12*H12 -> 0 | J12: 0 | K12: 57.5 | L12: =J12*K12 -> 0
A13: GR | B13: SER0044 | C13: APP0262-eSubvencions | D13: 288.60029 | E13: 53.57 | F13: =D13*E13 -> 15460.317 | G13: 649.35065 | H13: 53.57 | I13: =G13*H13 -> 34785.714 | J13: 140.69264 | K13: 57.5 | L13: =J13*K13 -> 8089.8268 | M13: 43466
D14: =SUM(D3:D13) -> 1041.76 | F14: =SUM(F3:F13) -> 55807.082 | G14: =SUM(G3:G13) -> 3060.0014 | I14: =SUM(I3:I13) -> 163924.27 | J14: =SUM(J3:J13) -> 615.26421 | L14: =SUM(L3:L13) -> 35377.692
A16: A partir de 16/05/2018
