Workbook
Name C_Despesa: '[1]Dades auxiliars'!$N$1:$N$9
Name Dades_Servei: '[2]Dades auxiliars'!$A$1:$J$262
Name T_Despesa: '[1]Dades auxiliars'!$M$1:$M$5

Sheet Càlcul pressupost 
A1: CITYOS 2025
A2: Data inici contracte | B2: 45748 | G2: =B2 -> 45748
A3: Data inici servei | B3: 45748 | G3: =+B4 -> 46387
A4: Data fi del contracte | B4: 46387 | G4: =G3-G2+1 -> 640
C5: Servei | E5: cap | F5: Import 2025 IVA inclòs | G5: Import 2026 IVA inclòs | H5: Import Total IVA inclòs | I5: Import Total IVA exclòs
C6: Infraestructura i línies de comunicacions | E6: II | F6: =F19 -> 297361.5 | G6: =F27 -> 458174.27 | H6: =SUM(F6:G6) -> 755535.77 | I6: =+ROUND(H6/1.21,2) -> 624409.73
C7: Administració, Manteniment i Operació | E7: II | F7: =I19 -> 40362 | G7: =I27 -> 52134.25 | H7: =SUM(F7:G7) -> 92496.25 | I7: =+ROUND(H7/1.21,2) -> 76443.18
C8: Desenvolupament casos d’us i processos comuns | E8: VI | F8: =L19 -> 271321.6 | G8: =L27 -> 271321.6 | H8: =SUM(F8:G8) -> 542643.2 | I8: =+ROUND(H8/1.21,2) -> 448465.45
C9: Oficina de Gestió del servei CityOS | E9: II | F9: =+O19 -> 127215 | G9: =O27 -> 169620 | H9: =SUM(F9:G9) -> 296835 | I9: =+ROUND(H9/1.21,2) -> 245318.18
C10: Servei 24x7 | E10: II | F10: =R19 -> 37692 | G10: =R27 -> 50256 | H10: =SUM(F10:G10) -> 87948 | I10: =+ROUND(H10/1.21,2) -> 72684.3
C11: Devolució servei | E11: II | G11: =U27 -> 17424 | H11: =SUM(F11:G11) -> 17424 | I11: =+ROUND(H11/1.21,2) -> 14400
D12: Import total licitació | F12: =SUM(F6:F11) -> 773952.1 | G12: =SUM(G6:G11) -> 1018930.1 | H12: =SUM(H6:H11) -> 1792882.2 | I12: =SUM(I6:I11) -> 1481720.8
H13: =H12-I12 -> 311161.38
A14: 2025
A15: Servei | B15: Nom Servei | C15: Codi Aplicació | D15: Nom Aplicació | E15: Criticitat | F15: Infraestructura IVA INCLÒS | G15: =$C$7 -> Administració, Manteniment i Operació | H15: Preu/hora IVA INCLÒS | I15: € Servei | J15: =$C$8 -> Desenvolupament casos d’us i processos comuns | K15: Preu/hora IVA INCLÒS | L15: € Servei | M15: =$C$9 -> Oficina de Gestió del servei CityOS | N15: Preu/hora IVA INCLÒS | O15: € Servei | P15: =$C$10 -> Servei 24x7 | Q15: Preu/hora IVA INCLÒS | R15: € Servei | S15: =$C$11 -> Devolució servei | T15: Preu/hora IVA INCLÒS | U15: € Servei | V15: Data inici transició | W15: Data inici servei
A16: SER0490 | B16: CITY OS Servei Regular | C16: APP0974 | D16: CITY OS Servei Regular | E16: 1 | F16: =ROUND(Infraestr2!G9,2) -> 297361.5 | G16: 600 | H16: =+Perfils!G5 -> 67.27 | I16: =ROUND(H16*G16,2) -> 40362 | P16: =ROUND(600*9/12,2) -> 450 | Q16: =+Perfils!G18 -> 83.76 | R16: =ROUND(Q16*P16,2) -> 37692 | V16: =+$B$2 -> 45748 | W16: =+$B$3 -> 45748
A17: SER0502 | B17: CITY OS COSMO | C17: APP0974 | D17: CITY OS COSMO | E17: 1 | M17: =ROUND(2000*9/12,2) -> 1500 | N17: =+Perfils!G13 -> 84.81 | O17: =ROUND(N17*M17,2) -> 127215 | V17: =+$B$2 -> 45748 | W17: =+$B$3 -> 45748
B18: Desenvolupaments | J18: 3280 | K18: =+Perfils!G9 -> 82.72 | L18: =ROUND(K18*J18,2) -> 271321.6 | V18: =+$B$2 -> 45748 | W18: =+$B$3 -> 45748
A19: Total | F19: =SUM(F16:F17) -> 297361.5 | G19: =SUM(G16:G17) -> 600 | I19: =SUM(I16:I17) -> 40362 | J19: =SUM(J16:J18) -> 3280 | L19: =SUM(L16:L18) -> 271321.6 | M19: =SUM(M16:M17) -> 1500 | O19: =SUM(O16:O17) -> 127215 | P19: =SUM(P16:P17) -> 450 | R19: =SUM(R16:R17) -> 37692 | S19: =SUM(S16:S18) -> 0
A22: 2026
A23: Servei | B23: Nom Servei | C23: Codi Aplicació | D23: Nom Aplicació | E23: Criticitat | F23: Infraestructura IVA INCLÒS | G23: =$C$7 -> Administració, Manteniment i Operació | H23: Preu/hora IVA INCLÒS | I23: € Servei | J23: =$C$8 -> Desenvolupament casos d’us i processos comuns | K23: Preu/hora IVA INCLÒS | L23: € Servei | M23: =$C$9 -> Oficina de Gestió del servei CityOS | N23: Preu/hora IVA INCLÒS | O23: € Servei | P23: =$C$10 -> Servei 24x7 | Q23: Preu/hora IVA INCLÒS | R23: € Servei | S23: =$C$11 -> Devolució servei | T23: Preu/hora IVA INCLÒS | U23: € Servei | V23: Data inici transició | W23: Data inici servei
A24: SER0490 | B24: CITY OS Servei Regular | C24: APP0974 | D24: CITY OS Servei Regular | E24: 1 | F24: =+Infraestr2!I9 -> 458174.27 | G24: 775 | H24: =+Perfils!G5 -> 67.27 | I24: =ROUND(H24*G24,2) -> 52134.25 | P24: 600 | Q24: =+Perfils!G18 -> 83.76 | R24: =ROUND(Q24*P24,2) -> 50256 | S24: 200 | T24: =Perfils!G23 -> 87.12 | U24: =ROUND(T24*S24,2) -> 17424 | V24: =+$B$2 -> 45748 | W24: =+$B$3 -> 45748
A25: SER0502 | B25: CITY OS COSMO | C25: APP0974 | D25: CITY OS COSMO | E25: 1 | M25: 2000 | N25: =+Perfils!G13 -> 84.81 | O25: =ROUND(N25*M25,2) -> 169620 | V25: =+$B$2 -> 45748 | W25: =+$B$3 -> 45748
B26: Desenvolupaments | J26: 3280 | K26: =+Perfils!G9 -> 82.72 | L26: =ROUND(K26*J26,2) -> 271321.6 | V26: =+$B$2 -> 45748 | W26: =+$B$3 -> 45748
A27: Total | F27: =SUM(F24:F25) -> 458174.27 | G27: =SUM(G24:G25) -> 775 | I27: =SUM(I24:I25) -> 52134.25 | J27: =SUM(J24:J26) -> 3280 | L27: =SUM(L24:L26) -> 271321.6 | M27: =SUM(M24:M25) -> 2000 | O27: =SUM(O24:O25) -> 169620 | P27: =SUM(P24:P25) -> 600 | R27: =SUM(R24:R25) -> 50256 | S27: =SUM(S24:S26) -> 200 | U27: =SUM(U24:U25) -> 17424

Sheet Perfils
B2: Servei plec | C2: Perfil | D2: % dedicació | E2: Preu perfil IVA inclòs | F2: Preu perfil IVA exclòs | G2: Preu/hora/perfil (IVA inclòs)
B3: ='Càlcul pressupost '!C7 -> Administració, Manteniment i Operació | C3: Cap de projecte / Responsable dels serveis | D3: 0.05 | E3: =+$C$28 -> 106 | F3: =+ROUND(E3/1.21,2) -> 87.6 | G3: =ROUND(E3*D3,2) -> 5.3
C4: Administradors i Tècnic de Sistemes | D4: 0.95 | E4: =+$C$31 -> 65.23 | F4: =+ROUND(E4/1.21,2) -> 53.91 | G4: =ROUND(E4*D4,2) -> 61.97
C5: Preu perfil tipus | G5: =SUM(G3:G4) -> 67.27 | H5: =SUM(D3:D4) -> 1
B6: ='Càlcul pressupost '!C8 -> Desenvolupament casos d’us i processos comuns | C6: Cap de projecte / Responsable dels serveis | D6: 0.05 | E6: =$C$28 -> 106 | F6: =+ROUND(E6/1.21,2) -> 87.6 | G6: =ROUND(E6*D6,2) -> 5.3
C7: Arquitecte / enginyer de dades | D7: 0.15 | E7: =$C$29 -> 114.15 | F7: =+ROUND(E7/1.21,2) -> 94.34 | G7: =ROUND(E7*D7,2) -> 17.12
C8: Programador senior / Analista programador | D8: 0.8 | E8: =+$C$32 -> 75.38 | F8: =+ROUND(E8/1.21,2) -> 62.3 | G8: =ROUND(E8*D8,2) -> 60.3
C9: Preu perfil tipus | G9: =SUM(G6:G8) -> 82.72 | H9: =SUM(D6:D8) -> 1
B10: ='Càlcul pressupost '!C9 -> Oficina de Gestió del servei CityOS | C10: Cap de projecte / Responsable dels serveis | D10: 0.15 | E10: =+$C$28 -> 106 | F10: =+ROUND(E10/1.21,2) -> 87.6 | G10: =ROUND(E10*D10,2) -> 15.9
C11: Tècnic sistemes junior / Consultor Júnior | D11: 0.3 | E11: =+$C$31 -> 65.23 | F11: =+ROUND(E11/1.21,2) -> 53.91 | G11: =ROUND(E11*D11,2) -> 19.57
C12: Tècnic infraestructures/sistemes / Consultor sènior | D12: 0.55 | E12: =+$C$34 -> 89.7 | F12: =+ROUND(E12/1.21,2) -> 74.13 | G12: =ROUND(E12*D12,2) -> 49.34
C13: Preu perfil tipus | G13: =SUM(G10:G12) -> 84.81 | H13: =SUM(D10:D12) -> 1
B14: ='Càlcul pressupost '!C10 -> Servei 24x7 | C14: Cap de projecte / Responsable dels serveis | D14: 0.1 | E14: =$C$28 -> 106 | F14: =+ROUND(E14/1.21,2) -> 87.6 | G14: =ROUND(E14*D14,2) -> 10.6
C15: Tècnic sistemes junior / Consultor Júnior | D15: 0.31 | E15: =+$C$33 -> 65.26 | F15: =+ROUND(E15/1.21,2) -> 53.93 | G15: =ROUND(E15*D15,2) -> 20.23
C16: Tècnic infraestructures/sistemes / Consultor sènior | D16: 0.44 | E16: =+$C$34 -> 89.7 | F16: =+ROUND(E16/1.21,2) -> 74.13 | G16: =ROUND(E16*D16,2) -> 39.47
C17: Tècnic especialista productes / Consultor sènior | D17: 0.15 | E17: =+$C$35 -> 89.7 | F17: =+ROUND(E17/1.21,2) -> 74.13 | G17: =ROUND(E17*D17,2) -> 13.46
C18: Preu perfil tipus | G18: =SUM(G14:G17) -> 83.76 | H18: =SUM(D14:D17) -> 1
B19: ='Càlcul pressupost '!C11 -> Devolució servei | C19: Cap de projecte / Responsable dels serveis | D19: 0.1 | E19: =$C$28 -> 106 | F19: =+ROUND(E19/1.21,2) -> 87.6 | G19: =ROUND(E19*D19,2) -> 10.6
C20: =B32 -> Programador senior / Analista programador | D20: 0.55 | E20: =$C$32 -> 75.38 | F20: =D32 -> 62.3 | G20: =ROUND(E20*D20,2) -> 41.46
C21: Tècnic infraestructures/sistemes / Consultor sènior | D21: 0.2 | E21: =+$C$34 -> 89.7 | F21: =D33 -> 53.93 | G21: =ROUND(E21*D21,2) -> 17.94
C22: =B29 -> Arquitecte / enginyer de dades | D22: 0.15 | E22: =$C$29 -> 114.15 | F22: =D29 -> 94.34 | G22: =ROUND(E22*D22,2) -> 17.12
C23: Preu perfil tipus | G23: =SUM(G19:G22) -> 87.12 | H23: =SUM(D19:D22) -> 1
B27: Perfil Basic | C27: Import €/hora amb IVA | D27: Preu/hora IVA exclòs
B28: Cap de projecte / Responsable dels serveis | C28: =ROUND(D28*1.21,2) -> 106 | D28: 87.6
B29: Arquitecte / enginyer de dades | C29: =ROUND(D29*1.21,2) -> 114.15 | D29: 94.34
B30: Tècnic especialista / Consultor sènior | C30: =ROUND(D30*1.21,2) -> 97.85 | D30: 80.87
B31: Administradors i Tècnic de Sistemes | C31: =ROUND(D31*1.21,2) -> 65.23 | D31: 53.91
B32: Programador senior / Analista programador | C32: =ROUND(D32*1.21,2) -> 75.38 | D32: 62.3
B33: Tècnic sistemes junior / Consultor Júnior | C33: =ROUND(D33*1.21,2) -> 65.26 | D33: 53.93
B34: Tècnic infraest/sistemes / Consultor sènior | C34: =ROUND(D34*1.21,2) -> 89.7 | D34: 74.13
B35: Tècnic especialista productes / Consultor sènior | C35: =ROUND(D35*1.21,2) -> 89.7 | D35: 74.13

Sheet Infraestr2
A2: Infraestructura i Operació: Opció 8x5Mini Lite | F2: Cost any 2025 (IVA EXCLÒS) | G2: Cost any 2025 (IVA INCLÒS) | H2: Cost any 2026 (IVA EXCLÒS) | I2: Cost any 2026 (IVA INCLÒS)
A3: Infraestructura i línies de comunicacions | B3: Infraestructura Cloud | C3: Servidors (2 entorns) | F3: =G29 -> 220167.05 | G3: =ROUND(F3*1.21,2) -> 266402.14 | H3: =G48 -> 352541.42 | I3: =ROUND(H3*1.21,2) -> 426575.12
C4: Administració S.O.
C5: Backups (PRO i PRE)
C6: Monitoratge dels servidors i serveis
B7: Linia Comunicacions (Enllaç CPD) | F7: =E54 -> 10500 | G7: =ROUND(F7*1.21,2) -> 12705 | H7: =F54 -> 6000 | I7: =ROUND(H7*1.21,2) -> 7260
B8: Conectivitat | C8: equips de comunicacions | F8: =H8*9/12 -> 15086.25 | G8: =ROUND(F8*1.21,2) -> 18254.36 | H8: 20115 | I8: =ROUND(H8*1.21,2) -> 24339.15
C9: Total | F9: =SUM(F3:F8) -> 245753.3 | G9: =SUM(G3:G8) -> 297361.5 | H9: =SUM(H3:H8) -> 378656.42 | I9: =SUM(I3:I8) -> 458174.27
B11: Capacitat actual de CityOS | C11: CPU | D11: RAM | E11: HDD
C12: =$K$35+$O$43 -> 259 | D12: =$L$35+$P$43 -> 1742 | E12: =$M$35+$Q$43 -> 65550
A14: COSTOS PRESENTAT PER NEXICA
A15: Recurs Cloud | B15: Detall del Recurs 2025 | C15: Periode | D15: Cost unitari | E15: Número de unitats | F15: Cost mensual | G15: cost anual | H15: cost anual (IVA Inc)
C16: cost | K16: PRE S.O. Idem 2025 - 2026 | O16: PRO S.O. 2025 | S16: PRO S.O. 2026
A17: Infraestructura CLOUD | B17: vCPU On Demand XL (3.0 Ghz) | C17: x hora | D17: 0.014383 | E17: =$K$35+$O$43 -> 259 | F17: =D17*E17*720 -> 2682.1418 | G17: =+F17*12 -> 32185.702 | H17: =G17*1.21 -> 38944.7 | K17: CPU | L17: RAM (GB) | M17: HDD (GB) | O17: CPU | P17: RAM (GB) | Q17: HDD (GB) | S17: CPU | T17: RAM (GB) | U17: HDD (GB)
B18: GB RAM On Demand | C18: x hora | D18: 0.006667 | E18: =$L$35+$P$43 -> 1742 | F18: =D18*E18*720 -> 8362.0181 | G18: =+F18*12 -> 100344.22 | H18: =G18*1.21 -> 121416.5 | K18: 1 | L18: 4 | M18: 30 | O18: 1 | P18: 4 | Q18: 30 | S18: 1 | T18: 4 | U18: 30
B19: GB Storage Local OnDemand SSD | C19: x hora | D19: 0.000151 | E19: =$M$35+$Q$43 -> 65550 | F19: =D19*E19*720 -> 7126.596 | G19: =+F19*12 -> 85519.152 | H19: =G19*1.21 -> 103478.17 | K19: 1 | L19: 4 | M19: 30 | O19: 1 | P19: 4 | Q19: 30 | S19: 1 | T19: 4 | U19: 30
A20: Modalitats | B20: Backup VM (VM protegida) | C20: x mes | D20: 9.72408 | E20: 23 | F20: =D20*E20 -> 223.65384 | G20: =+F20*12 -> 2683.8461 | H20: =G20*1.21 -> 3247.4538 | K20: 1 | L20: 4 | M20: 100 | O20: 1 | P20: 4 | Q20: 100 | S20: 1 | T20: 4 | U20: 100
A21: Backups | B21: GB Backup VM (R. Setmanal) | C21: x mes | D21: 0.027 | E21: 50 | F21: =D21*E21 -> 1.35 | G21: =+F21*12 -> 16.2 | H21: =G21*1.21 -> 19.602 | K21: 4 | L21: 8 | M21: 50 | O21: 4 | P21: 16 | Q21: 50 | S21: 4 | T21: 16 | U21: 50
B22: GB Backup VM (R. Mensual) | C22: x mes | D22: 0.087 | E22: 791 | F22: =D22*E22 -> 68.817 | G22: =+F22*12 -> 825.804 | H22: =G22*1.21 -> 999.22284 | K22: 4 | L22: 8 | M22: 50 | O22: 4 | P22: 16 | Q22: 50 | S22: 4 | T22: 16 | U22: 50
B23: GB Backup VM (R. Trimestral) | C23: x mes | D23: 0.18125 | F23: =D23*E23 -> 0 | G23: =+F23*12 -> 0 | H23: =G23*1.21 -> 0 | K23: 4 | L23: 4 | M23: 50 | O23: 8 | P23: 16 | Q23: 500 | S23: 8 | T23: 16 | U23: 500
B24: GB Backup VM (R. Anual)Personalitzada | C24: x mes | D24: 0.321 | E24: 14762 | F24: =D24*E24 -> 4738.602 | G24: =+F24*12 -> 56863.224 | H24: =G24*1.21 -> 68804.501 | K24: 2 | L24: 4 | M24: 40 | O24: 2 | P24: 4 | Q24: 40 | S24: 2 | T24: 4 | U24: 40
A25: Interconexió MMR | B25: U's de Espacio en NexicaData | C25: x mes | D25: 132 | E25: 2 | F25: =D25*E25 -> 264 | G25: =+F25*12 -> 3168 | H25: =G25*1.21 -> 3833.28 | K25: 6 | L25: 48 | M25: 380 | O25: 8 | P25: 72 | Q25: 300 | S25: 8 | T25: 72 | U25: 300
B26: Interconexión Fibra SingleMode BCN MRR | C26: x mes | D26: 215.82732 | E26: 1 | F26: =D26*E26 -> 215.82732 | G26: =+F26*12 -> 2589.9278 | H26: =G26*1.21 -> 3133.8127 | K26: 4 | L26: 6 | M26: 50 | O26: 5 | P26: 64 | Q26: 130 | S26: 5 | T26: 64 | U26: 130
B27: Service Manager | C27: x mes | D27: 780 | E27: 1 | F27: =D27*E27 -> 780 | G27: =+F27*12 -> 9360 | H27: =G27*1.21 -> 11325.6 | K27: 4 | L27: 16 | M27: 200 | O27: 8 | P27: 16 | Q27: 200 | S27: 8 | T27: 16 | U27: 200
B28: Total | F28: =SUM(F17:F27) -> 24463.006 | G28: =+F28*12 -> 293556.07 | H28: =G28*1.21 -> 355202.85 | K28: 4 | L28: 16 | M28: 200 | O28: 2 | P28: 4 | Q28: 30 | S28: 2 | T28: 4 | U28: 30
E29: 9mesos | F29: =F28 -> 24463.006 | G29: =+F29*9 -> 220167.05 | H29: =G29*1.21 -> 266402.14 | K29: 4 | L29: 16 | M29: 200 | O29: 4 | P29: 16 | Q29: 200 | S29: 4 | T29: 16 | U29: 200
K30: 8 | L30: 96 | M30: 2174 | O30: 4 | P30: 16 | Q30: 200 | S30: 4 | T30: 16 | U30: 200
K31: 8 | L31: 96 | M31: 2174 | O31: 4 | P31: 16 | Q31: 200 | S31: 4 | T31: 16 | U31: 200
K32: 8 | L32: 96 | M32: 2174 | O32: 16 | P32: 128 | Q32: 5272 | S32: 16 | T32: 256 | U32: 5272
K33: 2 | L33: 4 | M33: 30 | O33: 16 | P33: 128 | Q33: 5272 | S33: 16 | T33: 256 | U33: 5272
K34: 2 | L34: 4 | M34: 30 | O34: 16 | P34: 128 | Q34: 5272 | S34: 16 | T34: 256 | U34: 5272
A35: Recurs Cloud | B35: Detall del Recurs 2026 | C35: Periode | D35: Cost unitari | E35: Número de unitats | F35: Cost mensual | G35: cost anual | H35: cost anual (IVA Inc) | K35: =SUM(K18:K34) -> 67 | L35: =SUM(L18:L34) -> 434 | M35: =SUM(M18:M34) -> 7962 | O35: 16 | P35: 128 | Q35: 5272 | S35: 16 | T35: 256 | U35: 5272
C36: cost | O36: 16 | P36: 128 | Q36: 5272 | S36: 16 | T36: 256 | U36: 5272
A37: Infraestructura CLOUD | B37: vCPU On Demand XL (3.0 Ghz) | C37: x hora | D37: 0.014383 | E37: =$K$35+$O$43 -> 259 | F37: =D37*E37*720 -> 2682.1418 | G37: =+F37*12 -> 32185.702 | H37: =G37*1.21 -> 38944.7 | O37: 16 | P37: 128 | Q37: 5272 | S37: 16 | T37: 256 | U37: 5272
B38: GB RAM On Demand | C38: x hora | D38: 0.006667 | E38: =$L$35+$T$43 -> 2766 | F38: =D38*E38*720 -> 13277.464 | G38: =+F38*12 -> 159329.57 | H38: =G38*1.21 -> 192788.77 | O38: 16 | P38: 128 | Q38: 5272 | S38: 16 | T38: 256 | U38: 5272
B39: GB Storage Local OnDemand SSD | C39: x hora | D39: 0.000151 | E39: =$M$35+$Q$43 -> 65550 | F39: =D39*E39*720 -> 7126.596 | G39: =+F39*12 -> 85519.152 | H39: =G39*1.21 -> 103478.17 | O39: 16 | P39: 128 | Q39: 5272 | S39: 16 | T39: 256 | U39: 5272
A40: Modalitats | B40: Backup VM (VM protegida) | C40: x mes | D40: 9.72408 | E40: 23 | F40: =D40*E40 -> 223.65384 | G40: =+F40*12 -> 2683.8461 | H40: =G40*1.21 -> 3247.4538 | O40: 4 | P40: 8 | Q40: 13292 | S40: 4 | T40: 8 | U40: 13292
A41: Backups | B41: GB Backup VM (R. Setmanal) | C41: x mes | D41: 0.027 | E41: 50 | F41: =D41*E41 -> 1.35 | G41: =+F41*12 -> 16.2 | H41: =G41*1.21 -> 19.602 | O41: 2 | P41: 4 | Q41: 30 | S41: 2 | T41: 4 | U41: 30
B42: GB Backup VM (R. Mensual) | C42: x mes | D42: 0.087 | E42: 791 | F42: =D42*E42 -> 68.817 | G42: =+F42*12 -> 825.804 | H42: =G42*1.21 -> 999.22284 | O42: 2 | P42: 4 | Q42: 30 | S42: 2 | T42: 4 | U42: 30
B43: GB Backup VM (R. Trimestral) | C43: x mes | D43: 0.18125 | F43: =D43*E43 -> 0 | G43: =+F43*12 -> 0 | H43: =G43*1.21 -> 0 | O43: =SUM(O18:O42) -> 192 | P43: =SUM(P18:P42) -> 1308 | Q43: =SUM(Q18:Q42) -> 57588 | S43: =SUM(S18:S42) -> 192 | T43: =SUM(T18:T42) -> 2332 | U43: =SUM(U18:U42) -> 57588
...

Sheet Taules IJ
A2: Distribució de pressupost per any i per servei
D4: 2025 | G4: 2026
A5: Serveis | B5: Capítol | C5: Import net | D5: IVA 21% | E5: Import total | F5: Import net | G5: IVA 21% | H5: Import total | I5: Total import net | J5: Total IVA 21% | K5: Total import contracte
A6: Infraestructura i línies de comunicacions | B6: II | C6: =ROUND(E6/1.21,2) -> 245753.31 | D6: =E6-C6 -> 51608.19 | E6: ='Càlcul pressupost '!F6 -> 297361.5 | F6: =ROUND(H6/1.21,2) -> 378656.42 | G6: =H6-F6 -> 79517.85 | H6: ='Càlcul pressupost '!G6 -> 458174.27 | I6: =ROUND(K6/1.21,2) -> 624409.73 | J6: =+D6+G6 -> 131126.04 | K6: =+E6+H6 -> 755535.77
A7: Administració, Manteniment i Operació | B7: II | C7: =ROUND(E7/1.21,2) -> 33357.02 | D7: =E7-C7 -> 7004.98 | E7: ='Càlcul pressupost '!F7 -> 40362 | F7: =ROUND(H7/1.21,2) -> 43086.16 | G7: =H7-F7 -> 9048.09 | H7: ='Càlcul pressupost '!G7 -> 52134.25 | I7: =ROUND(K7/1.21,2) -> 76443.18 | J7: =+D7+G7 -> 16053.07 | K7: =+E7+H7 -> 92496.25
A8: Desenvolupament | B8: VI | C8: =ROUND(E8/1.21,2) -> 224232.73 | D8: =E8-C8 -> 47088.87 | E8: ='Càlcul pressupost '!F8 -> 271321.6 | F8: =ROUND(H8/1.21,2) -> 224232.73 | G8: =H8-F8 -> 47088.87 | H8: ='Càlcul pressupost '!G8 -> 271321.6 | I8: =ROUND(K8/1.21,2) -> 448465.45 | J8: =+D8+G8 -> 94177.74 | K8: =+E8+H8 -> 542643.2
A9: Oficina de Gestió del servei CityOS | B9: II | C9: =ROUND(E9/1.21,2) -> 105136.36 | D9: =E9-C9 -> 22078.64 | E9: ='Càlcul pressupost '!F9 -> 127215 | F9: =ROUND(H9/1.21,2) -> 140181.82 | G9: =H9-F9 -> 29438.18 | H9: ='Càlcul pressupost '!G9 -> 169620 | I9: =ROUND(K9/1.21,2) -> 245318.18 | J9: =+D9+G9 -> 51516.82 | K9: =+E9+H9 -> 296835
A10: Servei 24x7 | B10: II | C10: =ROUND(E10/1.21,2) -> 31150.41 | D10: =E10-C10 -> 6541.59 | E10: ='Càlcul pressupost '!F10 -> 37692 | F10: =ROUND(H10/1.21,2) -> 41533.88 | G10: =H10-F10 -> 8722.12 | H10: ='Càlcul pressupost '!G10 -> 50256 | I10: =ROUND(K10/1.21,2) -> 72684.3 | J10: =+D10+G10 -> 15263.71 | K10: =+E10+H10 -> 87948
A11: Transició-devolució servei | B11: II | C11: =ROUND(E11/1.21,2) -> 0 | D11: =E11-C11 -> 0 | E11: ='Càlcul pressupost '!F11 -> 0 | F11: =ROUND(H11/1.21,2) -> 14400 | G11: =H11-F11 -> 3024 | H11: ='Càlcul pressupost '!G11 -> 17424 | I11: =ROUND(K11/1.21,2) -> 14400 | J11: =+D11+G11 -> 3024 | K11: =+E11+H11 -> 17424
C12: =SUM(C6:C11) -> 639629.83 | D12: =SUM(D6:D11) -> 134322.27 | E12: =SUM(E6:E11) -> 773952.1 | F12: =SUM(F6:F11) -> 842091.01 | G12: =SUM(G6:G11) -> 176839.11 | H12: =SUM(H6:H11) -> 1018930.1 | I12: =SUM(I6:I11) -> 1481720.8 | J12: =K12-I12 -> 311161.38 | K12: =SUM(K6:K11) -> 1792882.2
A14: Distribució de pressupost per any
B15: Any | C15: Capítol | D15: Pressupost net | E15: IVA | F15: Import total
B16: 2025 | C16: II | D16: =C6+C7+C9+C10+C11 -> 415397.1 | E16: =D6+D7+D9+D10+D11 -> 87233.4 | F16: =D16+E16 -> 502630.5
B17: 2026 | C17: II | D17: =F6+F7+F9+F10+F11 -> 617858.28 | E17: =G6+G7+G9+G10+G11 -> 129750.24 | F17: =D17+E17 -> 747608.52
B18: Total | C18: II | D18: =D16+D17 -> 1033255.4 | E18: =E16+E17 -> 216983.64 | F18: =D18+E18 -> 1250239
B19: 2025 | C19: VI | D19: =C8 -> 224232.73 | E19: =D8 -> 47088.87 | F19: =D19+E19 -> 271321.6
B20: 2026 | C20: VI | D20: =F8 -> 224232.73 | E20: =G8 -> 47088.87 | F20: =D20+E20 -> 271321.6
B21: Total | C21: VI | D21: =D19+D20 -> 448465.46 | E21: =E19+E20 -> 94177.74 | F21: =F19+F20 -> 542643.2
B22: TOTAL | D22: =D18+D21 -> 1481720.8 | E22: =E18+E21 -> 311161.38 | F22: =F18+F21 -> 1792882.2
A23: Modificacions de contracte: ampliació / disminució
A24: Causes previstes de modificació | B24: Cap | C24: Import contracte (IVA inclòs) | D24: % Ampliació sobre import del contracte | E24: Import màxim ampliació (IVA inc) | F24: % Disminució sobre import del contracte | G24: Import màxim disminució (IVA inc)
A25: Modificacions en les volumetries | C25: =K12 -> 1792882.2 | D25: =20%-(D26+D27) -> 0.12 | E25: =+ROUND(C25*D25,2) -> 215145.87 | F25: =20%-(F26+F27) -> 0.11028157 | G25: =+ROUND(C25*F25,2) -> 197721.87
A26: Modificacions en la relació Serveis/Subserveis de l’abast | C26: =K12 -> 1792882.2 | D26: 0.08 | E26: =+ROUND(C26*D26,2) -> 143430.58 | F26: 0.08 | G26: =+ROUND(C26*F26,2) -> 143430.58
A27: Modificacions per disminució del servei de Transició(mateix Adjudicatari) | C27: =K12 -> 1792882.2 | D27: 0 | E27: =+ROUND(C27*D27,2) -> 0 | F27: =$H$11/$K$12 -> 0.0097184298 | G27: =+ROUND(C27*F27,2) -> 17424
A28: TOTAL | C28: =SUM(C27:C27) -> 1792882.2 | D28: =SUM(D25:D27) -> 0.2 | E28: =SUM(E25:E27) -> 358576.45 | F28: =SUM(F25:F27) -> 0.2 | G28: =SUM(G25:G27) -> 358576.45
D29: IVA EXCLÒS | E29: =+ROUND(E28/1.21,2) -> 296344.17 | G29: =+ROUND(G28/1.21,2) -> 296344.17
A31: VEC
C33: VE prestació | D33: VE eventuals pròrrogues | E33: VE modificacions contracte amb increment de cost previstes | F33: VE modificacions contracte amb disminució de cost previstes | G33: SUMA
A34: 2025 | C34: =C12 -> 639629.83 | E34: =ROUND((H34/$H$38)*$E$29,2) -> 60422.17 | F34: =ROUND(-H34/$H$38*$G$29,2) -> -60422.17 | G34: =SUM(C34:E34) -> 700052 | H34: =+C34 -> 639629.83
A35: 2026 | C35: =F12 -> 842091.01 | E35: =ROUND(H35/$H$38*$E$29,2) -> 79547.52 | F35: =ROUND(-H35/$H$38*$G$29,2) -> -79547.52 | G35: =SUM(C35:E35) -> 921638.53 | H35: =+C35+D35 -> 842091.01
A36: 2027 | C36: 0 | D36: =+C35-F11 -> 827691.01 | E36: =ROUND(H36/$H$38*$E$29,2) -> 78187.24 | F36: =ROUND(-H36/$H$38*$G$29,2) -> -78187.24 | G36: =SUM(C36:E36) -> 905878.25 | H36: =+D36 -> 827691.01
A37: 2028 | C37: 0 | D37: =+C35-F11 -> 827691.01 | E37: =ROUND(H37/$H$38*$E$29,2) -> 78187.24 | F37: =ROUND(-H37/$H$38*$G$29,2)-0.01 -> -78187.25 | G37: =SUM(C37:E37) -> 905878.25 | H37: =+D37 -> 827691.01
A38: Total | C38: =SUM(C34:C37) -> 1481720.8 | D38: =SUM(D34:D37) -> 1655382 | E38: =SUM(E34:E37) -> 296344.17 | F38: =SUM(F34:F37) -> -296344.18 | G38: =SUM(C38:E38) -> 3433447 | H38: =SUM(H34:H37) -> 3137102.9

Sheet Quadre desglossament
A2: CÀLCUL COSTOS DIRECTES I INDIRECTES PEL PROJECTE
A4: Salari Net | B4: Altres | C4: Total
A5: ='Càlcul pressupost '!I12-'Càlcul pressupost '!I6 -> 857311.11 | B5: ='Càlcul pressupost '!I6 -> 624409.73 | C5: =A5+B5 -> 1481720.8
A7: Costos directes:
A8: Costos salarials - Salari Brut | B8: =A5*0.5855658 -> 502012.07
A9: Costos salarials - Seguretat Social (34%) | B9: =B8*0.34 -> 170684.1
A10: Costos formació i prevenció (1%) | B10: =B8*0.01 -> 5020.1207
A11: TOTAL (Suma costos Salarials+Formacio) | B11: =SUM(B8:B10) -> 677716.29
A12: Infraestructura Cloud | B12: =B5 -> 624409.73
A13: TOTAL (Suma costos directes) | B13: =SUM(B11:B12) -> 1302126
A15: Costos indirectes:
A16: Despeses generals d’estructura (15%) | B16: =B11*0.15 -> 101657.44
A17: TOTAL (Suma costos Salarials+Formacio+Estruct) | B17: =B16 -> 101657.44
A19: TOTAL (Suma costos directes + indirectes) | B19: =B13+B17 -> 1403783.5
A20: Benefici industrial (10%) | B20: =(B11+B17)*0.1 -> 77937.373
A21: TOTAL DE COSTOS CONTRACTE | B21: =B19+B20 -> 1481720.8
A22: IVA (21%) | B22: ='Càlcul pressupost '!H13 -> 311161.38
A24: TOTAL IVA INCL | B24: =B21+B22 -> 1792882.2

Sheet Full1
J1: Serveis del contracte | K1: Modificacions per augment o disminució de volumetries en Serveis/Aplicacions
E2: 2025 | J2: Infraestructura | K2: X
C3: Cap | D3: Import net | E3: IVA 21% | F3: Import | J3: Administració, Manteniment i Operació | K3: X
B4: Infraestructura i línies de comunicacions | C4: II | D4: ='Taules IJ'!C6 -> 245753.31 | E4: ='Taules IJ'!D6 -> 51608.19 | F4: ='Taules IJ'!E6 -> 297361.5 | J4: Desenvolupament | K4: X
B5: Administració, Manteniment i Operació | C5: II | D5: ='Taules IJ'!C7 -> 33357.02 | E5: ='Taules IJ'!D7 -> 7004.98 | F5: ='Taules IJ'!E7 -> 40362 | J5: Oficina de Gestió del servei CityOS | K5: X
B6: Desenvolupament | C6: VI | D6: ='Taules IJ'!C8 -> 224232.73 | E6: ='Taules IJ'!D8 -> 47088.87 | F6: ='Taules IJ'!E8 -> 271321.6 | J6: Servei 24x7 | K6: X
B7: Oficina de Gestió del servei CityOS | C7: II | D7: ='Taules IJ'!C9 -> 105136.36 | E7: ='Taules IJ'!D9 -> 22078.64 | F7: ='Taules IJ'!E9 -> 127215
B8: Servei 24x7 | C8: II | D8: ='Taules IJ'!C10 -> 31150.41 | E8: ='Taules IJ'!D10 -> 6541.59 | F8: ='Taules IJ'!E10 -> 37692
B9: Devolució servei | C9: II | D9: ='Taules IJ'!C11 -> 0 | E9: ='Taules IJ'!D11 -> 0 | F9: ='Taules IJ'!E11 -> 0
D10: ='Taules IJ'!C12 -> 639629.83 | E10: ='Taules IJ'!D12 -> 134322.27 | F10: ='Taules IJ'!E12 -> 773952.1
E11: 2026
C12: Cap | D12: Import net | E12: IVA 21% | F12: Import
B13: Infraestructura i línies de comunicacions | C13: II | D13: ='Taules IJ'!F6 -> 378656.42 | E13: ='Taules IJ'!G6 -> 79517.85 | F13: ='Taules IJ'!H6 -> 458174.27
B14: Administració, Manteniment i Operació | C14: II | D14: ='Taules IJ'!F7 -> 43086.16 | E14: ='Taules IJ'!G7 -> 9048.09 | F14: ='Taules IJ'!H7 -> 52134.25
B15: Desenvolupament | C15: VI | D15: ='Taules IJ'!F8 -> 224232.73 | E15: ='Taules IJ'!G8 -> 47088.87 | F15: ='Taules IJ'!H8 -> 271321.6
B16: Oficina de Gestió del servei CityOS | C16: II | D16: ='Taules IJ'!F9 -> 140181.82 | E16: ='Taules IJ'!G9 -> 29438.18 | F16: ='Taules IJ'!H9 -> 169620
B17: Servei 24x7 | C17: II | D17: ='Taules IJ'!F10 -> 41533.88 | E17: ='Taules IJ'!G10 -> 8722.12 | F17: ='Taules IJ'!H10 -> 50256
B18: Devolució servei | C18: II | D18: ='Taules IJ'!F11 -> 14400 | E18: ='Taules IJ'!G11 -> 3024 | F18: ='Taules IJ'!H11 -> 17424
D19: ='Taules IJ'!F12 -> 842091.01 | E19: ='Taules IJ'!G12 -> 176839.11 | F19: ='Taules IJ'!H12 -> 1018930.1
E20: TOTAL
C21: Cap | D21: Import net | E21: IVA 21% | F21: Import
B22: Infraestructura i línies de comunicacions | C22: II | D22: ='Taules IJ'!I6 -> 624409.73 | E22: ='Taules IJ'!J6 -> 131126.04 | F22: ='Taules IJ'!K6 -> 755535.77
B23: Administració, Manteniment i Operació | C23: II | D23: ='Taules IJ'!I7 -> 76443.18 | E23: ='Taules IJ'!J7 -> 16053.07 | F23: ='Taules IJ'!K7 -> 92496.25
B24: Desenvolupament | C24: VI | D24: ='Taules IJ'!I8 -> 448465.45 | E24: ='Taules IJ'!J8 -> 94177.74 | F24: ='Taules IJ'!K8 -> 542643.2
B25: Oficina de Gestió del servei CityOS | C25: II | D25: ='Taules IJ'!I9 -> 245318.18 | E25: ='Taules IJ'!J9 -> 51516.82 | F25: ='Taules IJ'!K9 -> 296835
B26: Servei 24x7 | C26: II | D26: ='Taules IJ'!I10 -> 72684.3 | E26: ='Taules IJ'!J10 -> 15263.71 | F26: ='Taules IJ'!K10 -> 87948
B27: Devolució servei | C27: II | D27: ='Taules IJ'!I11 -> 14400 | E27: ='Taules IJ'!J11 -> 3024 | F27: ='Taules IJ'!K11 -> 17424
D28: ='Taules IJ'!I12 -> 1481720.8 | E28: ='Taules IJ'!J12 -> 311161.38 | F28: ='Taules IJ'!K12 -> 1792882.2
B31: Modificacions en les volumetries / casos d'us | C31: Cap | D31: Import (IVA inc) | E31: % Ampliació sobre import | F31: Import màxim ampliació (IVA inc) | G31: % Disminució sobre import | H31: Import màxim disminució (IVA inc)
B32: Infraestructura i línies de comunicacions | C32: II | D32: ='Taules IJ'!K6 -> 755535.77 | E32: =F32/$D$38 -> 0.084281694 | F32: =ROUND(D32*I32,2) -> 151107.15 | G32: =H32/$D$38 -> 0.084281694 | H32: =ROUND(D32*I32,2) -> 151107.15 | I32: 0.2
B33: Administració, Manteniment i Operació | C33: II | D33: ='Taules IJ'!K7 -> 92496.25 | E33: =F33/$D$38 -> 0.010318162 | F33: =ROUND(D33*I33,2) -> 18499.25 | G33: =H33/$D$38 -> 0.010318162 | H33: =ROUND(D33*I33,2) -> 18499.25 | I33: 0.2
B34: Desenvolupament | C34: VI | D34: ='Taules IJ'!K8 -> 542643.2 | E34: =F34/$D$38 -> 0.060533056 | F34: =ROUND(D34*I34,2) -> 108528.64 | G34: =H34/$D$38 -> 0.060533056 | H34: =ROUND(D34*I34,2) -> 108528.64 | I34: 0.2
B35: Oficina de Gestió del servei CityOS | C35: II | D35: ='Taules IJ'!K9 -> 296835 | E35: =F35/$D$38 -> 0.033112605 | F35: =ROUND(D35*I35,2) -> 59367 | G35: =H35/$D$38 -> 0.033112605 | H35: =ROUND(D35*I35,2) -> 59367 | I35: 0.2
B36: Servei 24x7 | C36: II | D36: ='Taules IJ'!K10 -> 87948 | E36: =F36/$D$38 -> 0.009810795 | F36: =ROUND(D36*I36,2) -> 17589.6 | G36: =H36/$D$38 -> 0.009810795 | H36: =ROUND(D36*I36,2) -> 17589.6 | I36: 0.2
B38: TOTAL | D38: ='Taules IJ'!K12 -> 1792882.2 | E38: =SUM(E32:E37) -> 0.19805631 | F38: =SUM(F32:F37) -> 355091.64 | G38: =SUM(G32:G37) -> 0.19805631 | H38: =SUM(H32:H37) -> 355091.64
E39: IVA EXCLÒS | F39: =+ROUND(F38/1.21,2) -> 293464.17 | H39: =+ROUND(H38/1.21,2) -> 293464.17
C42: Cap | D42: VE prestació | E42: VE eventuals pròrrogues | F42: VE modificacions contracte amb increment de cost previstes | G42: VE modificacions contracte amb disminució de cost previstes | H42: SUMA
A43: 2025 | B43: Infraestructura i línies de comunicacions | C43: II | D43: =D4 -> 245753.31 | F43: =ROUND(((D43+E43)/(SUM($D$43:$E$48,$D$50:$E$55,$D$57:$E$62,$D$64:$E$69)))*$F$39,2) -> 22989.3 | G43: =-F43 -> -22989.3 | H43: =SUM(D43:F43) -> 268742.61
A44: 2025 | B44: Administració, Manteniment i Operació | C44: II | D44: =D5 -> 33357.02 | F44: =ROUND(((D44+E44)/(SUM($D$43:$E$48,$D$50:$E$55,$D$57:$E$62,$D$64:$E$69)))*$F$39,2) -> 3120.42 | G44: =-F44 -> -3120.42 | H44: =SUM(D44:F44) -> 36477.44
A45: 2025 | B45: Desenvolupament | C45: VI | D45: =D6 -> 224232.73 | F45: =ROUND(((D45+E45)/(SUM($D$43:$E$48,$D$50:$E$55,$D$57:$E$62,$D$64:$E$69)))*$F$39,2) -> 20976.13 | G45: =-F45 -> -20976.13 | H45: =SUM(D45:F45) -> 245208.86
...

Sheet Full2
B1: Infraestructura Cloud i línies de comunicacions | C1: Cost any 2025 (IVA EXCLÒS) | D1: Cost any 2025 (IVA INCLÒS) | E1: Cost any 2026 (IVA EXCLÒS) | F1: Cost any 2026 (IVA INCLÒS) | G1: Cost TOTAL (IVA EXCLÒS) | H1: Cost TOTAL (IVA INCLÒS)
B2: Infraestructura Cloud | C2: =Infraestr2!F3 -> 220167.05 | D2: =Infraestr2!G3 -> 266402.14 | E2: =Infraestr2!H3 -> 352541.42 | F2: =Infraestr2!I3 -> 426575.12 | G2: =C2+E2 -> 572708.48 | H2: =D2+F2 -> 692977.26
B3: Conectivitat(equips com.) | C3: =Infraestr2!F8 -> 15086.25 | D3: =Infraestr2!G8 -> 18254.36 | E3: =Infraestr2!H8 -> 20115 | F3: =Infraestr2!I8 -> 24339.15 | G3: =C3+E3 -> 35201.25 | H3: =D3+F3 -> 42593.51
B4: Linia Comunicacions | C4: =Infraestr2!F7 -> 10500 | D4: =Infraestr2!G7 -> 12705 | E4: =Infraestr2!H7 -> 6000 | F4: =Infraestr2!I7 -> 7260 | G4: =C4+E4 -> 16500 | H4: =D4+F4 -> 19965
B5: TOTAL | C5: =Infraestr2!F9 -> 245753.3 | D5: =Infraestr2!G9 -> 297361.5 | E5: =Infraestr2!H9 -> 378656.42 | F5: =Infraestr2!I9 -> 458174.27 | G5: =C5+E5 -> 624409.73 | H5: =D5+F5 -> 755535.77
H6: =H5-G5 -> 131126.04
