Workbook
Name M_Bossa_hores: #REF!
Name M_Garantia: #REF!
Name M_Hores: #REF!
Name M_Hores_addicionals: #REF!
Name M_Reduccio_Terminis: #REF!
Name Subjectiu_1: #REF!
Name Subjectiu_2: #REF!
Name Subjectiu_3: #REF!
Name Subjectiu_4: #REF!
Name Subjectiu_5: #REF!

Sheet NMA
D8: CONSTRUCCIÓ PREU CONTRACTE ACOMP ANUAL
D9: CONSTRUCCIÓ PREU CONTRACTE ANUAL | F9: Seguretat Social | G9: Formació | H9: Despeses indirectes | I9: Benefici industrial
E10: SALARI BASE | F10: 0.34 | G10: 0.01 | H10: 0.15 | I10: 0.1 | J10: Número recursos | K10: Total anual
B11: Perfils | D11: Responsable de Qualitat | E11: 37539.511 | F11: =E11*(1+$F$10) -> 50302.945 | G11: =F11*(1+$G$10) -> 50805.974 | H11: =G11*(1+$H$10) -> 58426.87 | I11: =H11*(1+$I$10) -> 64269.557 | J11: 1 | K11: =ROUND(I11*J11,2) -> 64269.56
D12: Responsable de Gestió del Canvi | E12: 38208.728 | F12: =E12*(1+$F$10) -> 51199.695 | G12: =F12*(1+$G$10) -> 51711.692 | H12: =G12*(1+$H$10) -> 59468.446 | I12: =H12*(1+$I$10) -> 65415.291 | J12: 1 | K12: =ROUND(I12*J12,2) -> 65415.29
D13: Responsable de Gestió del Coneixement | E13: 38230.258 | F13: =E13*(1+$F$10) -> 51228.545 | G13: =F13*(1+$G$10) -> 51740.831 | H13: =G13*(1+$H$10) -> 59501.955 | I13: =H13*(1+$I$10) -> 65452.151 | J13: 1 | K13: =ROUND(I13*J13,2) -> 65452.15
D14: Responsable de Millora Contínua | E14: 38534.188 | F14: =E14*(1+$F$10) -> 51635.812 | G14: =F14*(1+$G$10) -> 52152.17 | H14: =G14*(1+$H$10) -> 59974.995 | I14: =H14*(1+$I$10) -> 65972.495 | J14: 1 | K14: =ROUND(I14*J14,2) -> 65972.49
D15: Coordinador dels blocs de servei (remot, presencial tècnic, presencial funcional) | E15: 36688.8 | F15: =E15*(1+$F$10) -> 49162.992 | G15: =F15*(1+$G$10) -> 49654.622 | H15: =G15*(1+$H$10) -> 57102.815 | I15: =H15*(1+$I$10) -> 62813.097 | J15: 3 | K15: =ROUND(I15*J15,2) -> 188439.29
D16: Gestor del servei (Service Manager) | E16: 54853.608 | F16: =E16*(1+$F$10) -> 73503.835 | G16: =F16*(1+$G$10) -> 74238.874 | H16: =G16*(1+$H$10) -> 85374.705 | I16: =H16*(1+$I$10) -> 93912.175 | J16: 1 | K16: =ROUND(I16*J16,2) -> 93912.18
D17: Tècnic Suport Remot N1 | E17: 24858.473 | F17: =E17*(1+$F$10) -> 33310.354 | G17: =F17*(1+$G$10) -> 33643.457 | H17: =G17*(1+$H$10) -> 38689.976 | I17: =H17*(1+$I$10) -> 42558.973 | J17: 12 | K17: =ROUND(I17*J17,2) -> 510707.68
D18: Tècnic Suport Remot N2 | E18: 28272.669 | F18: =E18*(1+$F$10) -> 37885.377 | G18: =F18*(1+$G$10) -> 38264.231 | H18: =G18*(1+$H$10) -> 44003.865 | I18: =H18*(1+$I$10) -> 48404.252 | J18: 13 | K18: =ROUND(I18*J18,2) -> 629255.27
D19: Tècnic Suport Presencial Tècnic | E19: 29157.547 | F19: =E19*(1+$F$10) -> 39071.114 | G19: =F19*(1+$G$10) -> 39461.825 | H19: =G19*(1+$H$10) -> 45381.099 | I19: =H19*(1+$I$10) -> 49919.208 | J19: 8 | K19: =ROUND(I19*J19,2) -> 399353.67
D20: Tècnic Suport Presencial Funcional | E20: 33958.817 | F20: =E20*(1+$F$10) -> 45504.814 | G20: =F20*(1+$G$10) -> 45959.862 | H20: =G20*(1+$H$10) -> 52853.842 | I20: =H20*(1+$I$10) -> 58139.226 | J20: 27 | K20: =ROUND(I20*J20,2) -> 1569759.1
G22: Costos directes | H22: Despeses indirectes | I22: Benefici industrial
H23: 0.15 | I23: 0.1
C24: Preus unitaris | D24: Material reparacions + petit material | G24: ='MATERIAL I REPARACIONS'!M17 -> 54387.431 | H24: =G24*(1+$H$10) -> 62545.545 | I24: =H24*(1+$I$10) -> 68800.1 | K24: =ROUND(I24,2) -> 68800.1
G25: Preu hora costos directes | H25: Despeses indirectes | I25: Benefici industrial | J25: Número d'hores
H26: 0.15 | I26: 0.1
C27: Preus unitaris | D27: Ma d'obra | G27: ='MATERIAL I REPARACIONS'!L15 -> 35.353277 | H27: =G27*(1+$H$10) -> 40.656269 | I27: =H27*(1+$I$10) -> 44.721896 | J27: ='MATERIAL I REPARACIONS'!L16 -> 690 | K27: =ROUND(I27*J27,2) -> 30858.11
G28: Preu promig anual costos directes | H28: Despeses indirectes | I28: Benefici industrial | J28: Número de llicències
H29: 0.15 | I29: 0.1
B30: Eines | C30: Preus unitaris | D30: Confluence (anual) | G30: =ROUND('CONFLUENCE-POWERBI'!O3,2) -> 133.67 | H30: =ROUND(G30*(1+$H$10),2) -> 153.72 | I30: =ROUND(H30*(1+$I$10),2) -> 169.09 | J30: 70 | K30: =ROUND(I30*J30,2) -> 11836.3
D31: Power BI PRO | G31: =ROUND('CONFLUENCE-POWERBI'!N8,2) -> 109.94 | H31: =ROUND(G31*(1+$H$10),2) -> 126.43 | I31: =ROUND(H31*(1+$I$10),2) -> 139.07 | J31: 1 | K31: =ROUND(I31*J31,2) -> 139.07
J34: TOTAL SENSE IVA | K34: =SUM(K11:K31) -> 3764170.3
J35: IVA 21% | K35: =K34*21% -> 790475.75
J36: TOTAL AMB IVA | K36: =K34+K35 -> 4554646
F40: NMA 2027-2028-2029 | G40: CALCUL 2026-2028
B41: 12 mesos | D41: Costos directes: | E41: € | J41: Costos directes: | K41: €
D42: Costos salarials - Salari Brut | E42: =ROUND(E11*J11+E12*J12+E13*J13+E14*J14+E15*J15+E16*J16+E17*J17+E18*J18+E19*J19+E20*J20,2) -> 2133427.5 | G42: =ROUND(E42*2+E61,4) -> 5581981.5 | J42: Costos salarials - Salari Brut | K42: =E42*2+E61 -> 5581981.5
D43: Costos salarials - Seguretat Social (34%)[1]* | E43: =ROUND((F11-E11)*J11+(F12-E12)*J12+(F13-E13)*J13+(F14-E14)*J14+(F15-E15)*J15+(F16-E16)*J16+(F17-E17)*J17+(F18-E18)*J18+(F19-E19)*J19+(F20-E20)*J20,2) -> 725365.35 | G43: =ROUND(E43*2+E62,4) -> 1897873.7 | J43: Costos salarials - Seguretat Social (34%)[1]* | K43: =E43*2+E62 -> 1897873.7
D44: Costos formació i prevenció (1,34%)2* | E44: =ROUND((G12-F12)*J12+(G13-F13)*J13+(G14-F14)*J14+(G15-F15)*J15+(G16-F16)*J16+(G17-F17)*J17+(G18-F18)*J18+(G19-F19)*J19+(G20-F20)*J20+(G11-F11)*J11,2) -> 28587.93 | G44: =ROUND(E44*2+E63,4) -> 74798.56 | J44: Costos formació i prevenció (1,34%)2* | K44: =E44*2+E63 -> 74798.56
D45: Altres despeses directes** | E45: 0 | G45: =ROUND(E45*2+E64,2) -> 0 | J45: Altres despeses directes** | K45: =E45*2+E64 -> 0
D46: Subministraments objecte del contracte*** | E46: =ROUND(G24+G27*J27+G30*J30+G31*J31,2) -> 88248.03 | G46: =ROUND(E46*2+E65,4) -> 230895.53 | J46: Subministraments objecte del contracte*** | K46: =E46*2+E65 -> 230895.53
D47: TOTAL (Suma costos directes) | E47: =ROUND(SUM(E42:E46),2) -> 2975628.8 | G47: =ROUND(E47*2+E66,4) -> 7785549.3 | J47: TOTAL (Suma costos directes) | K47: =E47*2+E66 -> 7785549.3
D48: Costos indirectes: | E48: € | J48: Costos indirectes: | K48: €
D49: Despeses generals d’estructura (15%)2**** | E49: =ROUND((H11-G11)*J11+(H12-G12)*J12+(H13-G13)*J13+(H14-G14)*J14+(H15-G15)*J15+(H16-G16)*J16+(H17-G17)*J17+(H18-G18)*J18+(H19-G19)*J19+(H20-G20)*J20+(H24-G24)+(H27-G27)*J27+(H30-G30)*J30+(H31-G31)*J31,2) -> 446344.28 | G49: =ROUND(E49*2+E68,4) -> 1167832.3 | H49: =G47*0.15 -> 1167832.4 | J49: Despeses generals d’estructura (15%)2**** | K49: =E49*2+E68 -> 1167832.3
D50: TOTAL (Suma costos directes + indirectes) | E50: =ROUND(E47+E49,2) -> 3421973.1 | G50: =ROUND(E50*2+E69,4) -> 8953381.6 | J50: TOTAL (Suma costos directes + indirectes) | K50: =E50*2+E69 -> 8953381.6
D51: Benefici industrial (10%)2***** | E51: =ROUND((I13-H13)*J13+(I14-H14)*J14+(I15-H15)*J15+(I16-H16)*J16+(I17-H17)*J17+(I18-H18)*J18+(I19-H19)*J19+(I20-H20)*J20+(I11-H11)*J11+(I12-H12)*J12+(I24-H24)+(I27-H27)*J27+(I30-H30)*J30+(I31-H31)*J31,2) -> 342197.17 | G51: =ROUND(E51*2+E70,4) -> 895337.8 | J51: Benefici industrial (10%)2***** | K51: =E51*2+E70 -> 895337.8
D52: TOTAL DE COSTOS (directes + indirectes) + benefici industrial: | E52: =ROUND(E50+E51,2) -> 3764170.2 | G52: =ROUND(E52*2+E71,4) -> 9848719.4 | J52: TOTAL DE COSTOS (directes + indirectes) + benefici industrial: | K52: =E52*2+E71 -> 9848719.4
D53: TOTAL AMB IVA 21% | E53: =ROUND(E52*1.21,2) -> 4554646 | G53: =E53*2+E72 -> 11916950 | J53: TOTAL AMB IVA 21% | K53: =K52*1.21 -> 11916950
...

Sheet MATERIAL I REPARACIONS
C2: Preu/Hora ma d'obra màxim | D2: Preu Hora Tècnic de Camp + 20% Preu Hora Gestor de servei | E2: =(NMA!I20+0.2*NMA!I16)/1720 -> 44.721896
C5: Tipus actuació | D5: Preu / hora ma d’obra màxim (IVA exclòs) | E5: Hores esforç efectiu | F5: Total | G5: Preu peces recanvi | H5: Unitats | I5: Total sense IVA
C6: Instal·lació impressora en xarxa | D6: =$E$2 -> 44.721896 | E6: 2 | F6: =D6*E6 -> 89.443792 | G6: 0 | H6: 100 | I6: =H6*(F6+G6) -> 8944.3792
C7: Reparació bateria portàtil | D7: =$E$2 -> 44.721896 | E7: 1 | F7: =D7*E7 -> 44.721896 | G7: =L34 -> 173.2 | H7: 50 | I7: =H7*(F7+G7) -> 10896.095
C8: Reparació pantalla portàtil | D8: =$E$2 -> 44.721896 | E8: 2 | F8: =D8*E8 -> 89.443792 | G8: =D34 -> 279 | H8: 50 | I8: =H8*(F8+G8) -> 18422.19
C9: Reparació font alimentació portàtil | D9: =$E$2 -> 44.721896 | E9: 1 | F9: =D9*E9 -> 44.721896 | G9: =L34 -> 173.2 | H9: 50 | I9: =H9*(F9+G9) -> 10896.095
C10: Reparació placa base portàtil | D10: =$E$2 -> 44.721896 | E10: 2 | F10: =D10*E10 -> 89.443792 | G10: =I34 -> 606.83 | H10: 20 | I10: =H10*(F10+G10) -> 13925.476
C11: Reparació teclat portàtil | D11: =$E$2 -> 44.721896 | E11: 1 | F11: =D11*E11 -> 44.721896 | G11: =E34 -> 78.6 | H11: 50 | I11: =H11*(F11+G11) -> 6166.0948
C12: Reparació Touchpad portàtil | D12: =$E$2 -> 44.721896 | E12: 1 | F12: =D12*E12 -> 44.721896 | G12: =F34 -> 46 | H12: 50 | I12: =H12*(F12+G12) -> 4536.0948
C13: Reparació càmera portàtil | D13: =$E$2 -> 44.721896 | E13: 1 | F13: =D13*E13 -> 44.721896 | G13: =G34 -> 38.6 | H13: 50 | I13: =H13*(F13+G13) -> 4166.0948
C14: Reparació ventilador portàtil | D14: =$E$2 -> 44.721896 | E14: 1 | F14: =D14*E14 -> 44.721896 | G14: =J34 -> 60.5 | H14: 50 | I14: =H14*(F14+G14) -> 5261.0948
C15: Reparació RAM portàtil | D15: =$E$2 -> 44.721896 | E15: 1 | F15: =D15*E15 -> 44.721896 | G15: =K34 -> 161.17 | H15: 50 | I15: =H15*(F15+G15) -> 10294.595 | K15: Preu/hora | L15: =D15/1.1/1.15 -> 35.353277
C16: SUBTOTAL PETIT MATERIAL | I16: =SUM(I6:I15) -> 93508.208 | K16: Hores | L16: =SUMPRODUCT(E6:E15,H6:H15) -> 690
C17: Tipus Petit Material | D17: Preu / hora ma d’obra màxim (IVA exclòs) | E17: Hores esforç efectiu | F17: Total | G17: Preu material | H17: Unitats | I17: Total | K17: Material | L17: =SUMPRODUCT(G6:G15,H6:H15)+SUMPRODUCT(G18:G21,H18:H21) -> 68800.1 | M17: =L17/1.1/1.15 -> 54387.431
C18: =D39 -> Cable USB | D18: 0 | E18: 0 | F18: =D18*E18 -> 0 | G18: =D40 -> 8 | H18: 100 | I18: =H18*G18 -> 800
C19: =E39 -> Cable HDMI | D19: 0 | E19: 0 | F19: =D19*E19 -> 0 | G19: =E40 -> 18 | H19: 100 | I19: =H19*G19 -> 1800
C20: =F39 -> Ratolí | D20: 0 | E20: 0 | F20: =D20*E20 -> 0 | G20: =F40 -> 18 | H20: 100 | I20: =H20*G20 -> 1800
C21: =G39 -> Teclat | D21: 0 | E21: 0 | F21: =D21*E21 -> 0 | G21: =G40 -> 35 | H21: 50 | I21: =H21*G21 -> 1750
C22: SUBTOTAL PETIT MATERIAL | I22: =SUM(I18:I21) -> 6150
C23: TOTAL PART A PREUS UNITARIS (A EFECTES DE MODIFICACIÓ) | I23: =I16+I22 -> 99658.208
D32: PECES DE RECANVI
C33: Tipus Material | D33: LCD | E33: Teclat | F33: Touchpad | G33: Càmera | H33: CPU | I33: Placa Base | J33: Ventilador | K33: RAM | L33: Bateria | M33: Adaptador alimentació | N33: Cable alimentació | O33: Connector alimentació
C34: Import màxim (€) IVA exclòs | D34: 279 | E34: 78.6 | F34: 46 | G34: 38.6 | H34: 523 | I34: 606.83 | J34: 60.5 | K34: 161.17 | L34: 173.2 | M34: 63.67 | N34: 36 | O34: 29.2
C35: Cost Directe (€) IVA exclòs | D35: =D34/1.1/1.15 -> 220.55336 | E35: =E34/1.1/1.15 -> 62.134387 | F35: =F34/1.1/1.15 -> 36.363636 | G35: =G34/1.1/1.15 -> 30.513834 | H35: =H34/1.1/1.15 -> 413.43874 | I35: =I34/1.1/1.15 -> 479.70751 | J35: =J34/1.1/1.15 -> 47.826087 | K35: =K34/1.1/1.15 -> 127.40711 | ... O35: =O34/1.1/1.15 -> 23.083004
D38: PETIT MATERIAL
D39: Cable USB | E39: Cable HDMI | F39: Ratolí | G39: Teclat
C40: Impot màxim (€) IVA exclòs | D40: 8 | E40: 18 | F40: 18 | G40: 35
C41: Cost Directe (€) IVA exclòs | D41: =D40/1.1/1.15 -> 6.3241107 | E41: =E40/1.1/1.15 -> 14.229249 | F41: =F40/1.1/1.15 -> 14.229249 | G41: =G40/1.1/1.15 -> 27.667984

Sheet CONFLUENCE-POWERBI
B2: Producte | C2: Preu/mes/usuari | D2: Usuaris | E2: Mesos | F2: Descompte Any 1 | G2: Descompte Any 2 | H2: Canvi EUR/USD | I2: Total Any1 | J2: Total Any2 | K2: Total Any3 | L2: Total Any4 | M2: Total Any5 | N2: Promig Cost Directe | O2: Promig cost directe anual / usuari
B3: Confluence Premium | C3: 12.3 | D3: 70 | E3: 12 | F3: 0.2 | G3: 0.1 | H3: 0.9292 | I3: =C3*D3*E3*H3*(1-F3) -> 7680.3955 | J3: =C3*1.05*D3*E3*H3*(1-G3) -> 9072.4672 | K3: =J3*1.05 -> 9526.0906 | L3: =K3*1.05 -> 10002.395 | M3: =L3*1.05 -> 10502.515 | N3: =AVERAGE(I3:M3) -> 9356.7726 | O3: =N3/D3 -> 133.66818
B7: Producte | C7: Preu/mes/usuari | D7: Usuaris | E7: Mesos | F7: Descompte Any 1 | G7: Descompte Any 2 | H7: Total Any1 | I7: Total Any2 | J7: Total Any3 | K7: Total Any4 | L7: Total Any5 | M7: Promig Cost Directe | N7: Promig cost directe anual / usuari
B8: Power BI PRO | C8: 9.4 | D8: 1 | E8: 12 | F8: 0.2 | G8: 0.1 | H8: =C8*D8*E8*(1-F8) -> 90.24 | I8: =C8*1.05*D8*E8*(1-G8) -> 106.596 | J8: =I8*1.05 -> 111.9258 | K8: =J8*1.05 -> 117.52209 | L8: =K8*1.05 -> 123.39819 | M8: =AVERAGE(H8:L8) -> 109.93642 | N8: =M8/D8 -> 109.93642

Sheet OGNMA
C2: CONSTRUCCIÓ PREU CONTRACTE ANUAL | E2: Seguretat Social | F2: Formació | G2: Despeses indirectes | H2: Benefici industrial
B3: Perfils | D3: SALARI BASE | E3: 0.34 | F3: 0.01 | G3: 0.15 | H3: 0.1 | I3: Número recursos | J3: Total anual
B4: AM - Cap Projecte | C4: Cap projecte | D4: 53935.309 | E4: =D4*(1+$E$3) -> 72273.314 | F4: =E4*(1+$F$3) -> 72996.047 | G4: =F4*(1+$G$3) -> 83945.455 | H4: =G4*(1+$H$3) -> 92340 | I4: 1 | J4: =H4*I4 -> 92340
B5: AM - Consultor senior BI | C5: BI | D5: 35851.736 | E5: =D5*(1+$E$3) -> 48041.326 | F5: =E5*(1+$F$3) -> 48521.739 | G5: =F5*(1+$G$3) -> 55800 | H5: =G5*(1+$H$3) -> 61380 | I5: 1 | J5: =H5*I5 -> 61380
B6: AM - Consultor senior | C6: Tècnics( Consultor Senior) | D6: 45639.996 | E6: =D6*(1+$E$3) -> 61157.594 | F6: =E6*(1+$F$3) -> 61769.17 | G6: =F6*(1+$G$3) -> 71034.545 | H6: =G6*(1+$H$3) -> 78138 | I6: 3 | J6: =H6*I6 -> 234414
B7: AM - Consultor | C7: SLA | D7: 40656.499 | E7: =D7*(1+$E$3) -> 54479.709 | F7: =E7*(1+$F$3) -> 55024.506 | G7: =F7*(1+$G$3) -> 63278.182 | H7: =G7*(1+$H$3) -> 69606 | I7: 1 | J7: =H7*I7 -> 69606
B8: AM - Consultor | C8: Qualitat i Gcanvi | D8: 40656.499 | E8: =D8*(1+$E$3) -> 54479.709 | F8: =E8*(1+$F$3) -> 55024.506 | G8: =F8*(1+$G$3) -> 63278.182 | H8: =G8*(1+$H$3) -> 69606 | I8: 1 | J8: =H8*I8 -> 69606
C10: Preu promig anual costos directes | D10: Despeses indirectes | E10: Benefici industrial | I10: Número de llicències
D11: 0.15 | E11: 0.1
B12: Power BI PRO | C12: ='CONFLUENCE-POWERBI'!N8 -> 109.93642 | D12: =C12*(1+D11) -> 126.42688 | E12: =D12*(1+E11) -> 139.06957 | I12: 2 | J12: =I12*E12 -> 278.13913
I14: TOTAL SENSE IVA | J14: =SUM(J2:J12) -> 527624.14
I15: IVA 21% | J15: =J14*21% -> 110801.07
I16: TOTAL AMB IVA | J16: =J14+J15 -> 638425.21
C20: OGACOMP 2026-2030
I21: Costos directes: | J21: €
B22: 12 mesos | C22: Costos directes: | D22: € | F22: TOTAL 2026-28 | I22: Costos salarials - Salari Brut | J22: =ROUND(F23,2) -> 924060.09
C23: Costos salarials - Salari Brut | D23: =ROUND(D4*I4+D5*I5+D6*I6+D7*I7+D8*I8,2) -> 308020.03 | F23: =ROUND(D23*3,2) -> 924060.09 | I23: Costos salarials - Seguretat Social (34%)[1]* | J23: =ROUND(F24,2) -> 314180.43
C24: Costos salarials - Seguretat Social (34%)[1]* | D24: =ROUND((E4-D4)*I4+(E5-D5)*I5+(E6-D6)*I6+(E7-D7)*I7+(E8-D8)*I8,2) -> 104726.81 | F24: =ROUND(D24*3,2) -> 314180.43 | I24: Costos formació i prevenció (1,34%)2* | J24: =ROUND(F25,2) -> 12382.41
C25: Costos formació i prevenció (1,34%)2* | D25: =ROUND((F5-E5)*I5+(F6-E6)*I6+(F7-E7)*I7+(F8-E8)*I8+(F4-E4)*I4,2) -> 4127.47 | F25: =ROUND(D25*3,2) -> 12382.41 | I25: Altres despeses directes** | J25: =ROUND(F26,2) -> 0
C26: Altres despeses directes** | D26: 0 | F26: =ROUND(D26*3,2) -> 0 | I26: Subministraments objecte del contracte*** | J26: =ROUND(F27,2) -> 659.61
C27: Subministraments objecte del contracte*** | D27: =ROUND(C12*I12,2) -> 219.87 | F27: =ROUND(D27*3,2) -> 659.61 | I27: TOTAL (Suma costos directes) | J27: =ROUND(F28,2) -> 1251282.5
C28: TOTAL (Suma costos directes) | D28: =ROUND(SUM(D23:D27),2) -> 417094.18 | F28: =ROUND(D28*3,2) -> 1251282.5 | I28: Costos indirectes: | J28: €
C29: Costos indirectes: | D29: € | I29: Despeses generals d’estructura (15%)2**** | J29: =ROUND(F30,2) -> 187692.39
C30: Despeses generals d’estructura (15%)2**** | D30: =ROUND((G4-F4)*I4+(G5-F5)*I5+(G6-F6)*I6+(G7-F7)*I7+(G8-F8)*I8+(D12-C12)*I12,2) -> 62564.13 | F30: =ROUND(D30*3,2) -> 187692.39 | I30: TOTAL (Suma costos directes + indirectes) | J30: =ROUND(F31,2) -> 1438974.9
C31: TOTAL (Suma costos directes + indirectes) | D31: =ROUND(D28+D30,2) -> 479658.31 | F31: =ROUND(D31*3,2) -> 1438974.9 | I31: Benefici industrial (10%)2***** | J31: =ROUND(F32,2) -> 143897.49
C32: Benefici industrial (10%)2***** | D32: =ROUND((H6-G6)*I6+(H7-G7)*I7+(H8-G8)*I8+(H4-G4)*I4+(H5-G5)*I5+(E12-D12)*I12,2) -> 47965.83 | F32: =ROUND(D32*3,2) -> 143897.49 | I32: TOTAL DE COSTOS (directes + indirectes) + benefici industrial: | J32: =ROUND(J30+J31,2) -> 1582872.4
C33: TOTAL DE COSTOS (directes + indirectes) + benefici industrial: | D33: =ROUND(D31+D32,2) -> 527624.14 | F33: =ROUND(D33*3,2) -> 1582872.4 | I33: IVA 21% | J33: =ROUND(J32*1.21,2) -> 1915275.6
C34: IVA 21% | D34: =ROUND(D33*1.21,2) -> 638425.21 | F34: =ROUND(D34*3,2) -> 1915275.6

Sheet TOTAL NMA+OGNMA
D5: Any | E5: Pressupost net Lot 1 - ACOMP | F5: Pressupost net Lot 2 - OGACOMP | G5: Pressupost net | H5: IVA | I5: Import total
B6: ACOMP+OGACOMP | C6: 225d (+59d transiciói) + 12 mesos | D6: 2026 | E6: =ROUND(NMA!E71,2) -> 2320378.9 | F6: =ROUND(OGNMA!D33,2) -> 527624.14 | G6: =E6+F6 -> 2848003.1 | H6: =ROUND(G6*0.21+0.003,2) -> 598080.65 | I6: =G6+H6 -> 3446083.7
B7: ACOMP+OGACOMP | C7: 12 mesos | D7: 2027 | E7: =ROUND(NMA!E52,2) -> 3764170.2 | F7: =ROUND(OGNMA!D33,2) -> 527624.14 | G7: =E7+F7 -> 4291794.4 | H7: =ROUND(G7*0.21,2) -> 901276.82 | I7: =G7+H7 -> 5193071.2
B8: ACOMP+OGACOMP | C8: 12 mesos | D8: 2028 | E8: =ROUND(NMA!E52,2) -> 3764170.2 | F8: =ROUND(OGNMA!D33,2) -> 527624.14 | G8: =E8+F8 -> 4291794.4 | H8: =ROUND(G8*0.21,2) -> 901276.82 | I8: =G8+H8 -> 5193071.2
D9: Total | E9: =SUM(E6:E8) -> 9848719.4 | F9: =SUM(F6:F8) -> 1582872.4 | G9: =SUM(G6:G8) -> 11431592 | H9: =SUM(H6:H8) -> 2400634.3 | I9: =SUM(I6:I8) -> 13832226
D11: IVA | E11: =E9*0.21 -> 2068231.1 | F11: =F9*0.21 -> 332403.21
D12: Total | E12: =E9+E11 -> 11916950 | F12: =F9+F11 -> 1915275.6
C13: VEC LOT 1 ACOMP
D14: Anualitat | E14: VE prestació | F14: VE eventuals pròrrogues | G14: VE modificacions contracte amb increment de cost previstes | H14: VE modificacions contracte amb disminució de cost previstes | I14: SUMA
D15: 2026 | E15: =E6 -> 2320378.9 | F15: 0 | G15: =ROUND($E$9*0.2/5,2) -> 393948.78 | H15: =ROUND($F$40/365*225,2) -> 68815.22 | I15: =SUM(E15:G15) -> 2714327.7 | J15: 225D + 58D TRANSICIÓ
D16: 2027 | E16: =E7 -> 3764170.2 | F16: 0 | G16: =ROUND($E$9*0.2/5,2) -> 393948.78 | H16: =ROUND($F$40,2) -> 111633.58 | I16: =SUM(E16:G16) -> 4158119 | J16: 12M
D17: 2028 | E17: =E8 -> 3764170.2 | F17: 0 | G17: =ROUND($E$9*0.2/5,2) -> 393948.78 | H17: =ROUND($F$40,2) -> 111633.58 | I17: =SUM(E17:G17) -> 4158119 | J17: 12M
D18: 2029 | E18: 0 | F18: =E17 -> 3764170.2 | G18: =ROUND($E$9*0.2/5,2) -> 393948.78 | H18: =ROUND($F$40,2) -> 111633.58 | I18: =SUM(E18:G18) -> 4158119 | J18: 12M
D19: 2030 | E19: 0 | F19: =E17 -> 3764170.2 | G19: =ROUND($E$9*0.2/5,2) -> 393948.78 | H19: =ROUND($F$40,2) -> 111633.58 | I19: =SUM(E19:G19) -> 4158119 | J19: 12M
D20: Total | E20: =SUM(E15:E19) -> 9848719.4 | F20: =SUM(F15:F19) -> 7528340.5 | G20: =SUM(G15:G19) -> 1969743.9 | H20: =SUM(H15:H19) -> 515349.54 | I20: =SUM(I15:I19) -> 19346804
C21: VEC LOT 2 OGACOMP
D22: Anualitat | E22: VE prestació | F22: VE eventuals pròrrogues | G22: VE modificacions contracte amb increment de cost previstes | H22: VE modificacions contracte amb disminució de cost previstes | I22: SUMA
D23: 2026 | E23: =F6 -> 527624.14 | F23: 0 | G23: =ROUND($F$9*0.2/5,2) -> 63314.9 | H23: =F41 -> 278.13913 | I23: =SUM(E23:G23) -> 590939.04 | J23: 12M
D24: 2027 | E24: =F7 -> 527624.14 | F24: 0 | G24: =ROUND($F$9*0.2/5,2) -> 63314.9 | H24: =F41 -> 278.13913 | I24: =SUM(E24:G24) -> 590939.04 | J24: 12M
D25: 2028 | E25: =F8 -> 527624.14 | F25: 0 | G25: =ROUND($F$9*0.2/5,2) -> 63314.9 | H25: =F41 -> 278.13913 | I25: =SUM(E25:G25) -> 590939.04 | J25: 12M
D26: 2029 | E26: 0 | F26: =E25 -> 527624.14 | G26: =ROUND($F$9*0.2/5,2) -> 63314.9 | H26: =F41 -> 278.13913 | I26: =SUM(E26:G26) -> 590939.04 | J26: 12M
D27: 2030 | E27: 0 | F27: =E25 -> 527624.14 | G27: =ROUND($F$9*0.2/5,2) -> 63314.9 | H27: =F41 -> 278.13913 | I27: =SUM(E27:G27) -> 590939.04 | J27: 12M
D28: Total | E28: =SUM(E23:E27) -> 1582872.4 | F28: =SUM(F23:F27) -> 1055248.3 | G28: =SUM(G23:G27) -> 316574.5 | H28: =SUM(H23:H27) -> 1390.6957 | I28: =SUM(I23:I27) -> 2954695.2
C29: VEC TOTAL
D30: Anualitat | E30: VE prestació | F30: VE eventuals pròrrogues | G30: VE modificacions contracte amb increment de cost previstes | H30: VE modificacions contracte amb disminució de cost previstes | I30: SUMA
D31: 2026 | E31: =E15+E23 -> 2848003.1 | F31: =F15+F23 -> 0 | G31: =G15+G23 -> 457263.68 | H31: =H15+H23 -> 69093.359 | I31: =I15+I23 -> 3305266.7 | J31: 225D NMA + 12 m OGNMA
D32: 2027 | E32: =E16+E24 -> 4291794.4 | F32: =F16+F24 -> 0 | G32: =G16+G24 -> 457263.68 | H32: =H16+H24 -> 111911.72 | I32: =I16+I24 -> 4749058.1 | J32: 12 m NMA + OGNMA
D33: 2028 | E33: =E17+E25 -> 4291794.4 | F33: =F17+F25 -> 0 | G33: =G17+G25 -> 457263.68 | H33: =H17+H25 -> 111911.72 | I33: =I17+I25 -> 4749058.1 | J33: 12 m NMA + OGNMA
D34: 2029 | E34: =E18+E26 -> 0 | F34: =F18+F26 -> 4291794.4 | G34: =G18+G26 -> 457263.68 | H34: =H18+H26 -> 111911.72 | I34: =I18+I26 -> 4749058.1 | J34: 12 m NMA + OGNMA
D35: 2030 | E35: =E19+E27 -> 0 | F35: =F19+F27 -> 4291794.4 | G35: =G19+G27 -> 457263.68 | H35: =H19+H27 -> 111911.72 | I35: =I19+I27 -> 4749058.1 | J35: 12 m NMA + OGNMA
D36: Total | E36: =E20+E28 -> 11431592 | F36: =F20+F28 -> 8583588.8 | G36: =G20+G28 -> 2286318.4 | H36: =H20+H28 -> 516740.24 | I36: =I20+I28 -> 22301499
F38: Anualitat | G38: Total Període Contracte
D39: Increment contracte (20% pressupost net) | F39: 457263.68 | G39: =F39*5 -> 2286318.4
D40: Decrement total (reparacions, instal·lacions, petit material i llicències) NMA | F40: 111633.58 | G40: =F40*(225/365+4) -> 515349.54
D41: Decrement anual (llicències) OGNMA | F41: 278.13913 | G41: =F41*5 -> 1390.6957
D43: Causes previstes de modificació | E43: Import contracte | F43: % Ampliació sobre import del contracte | G43: Import màxim ampliació | H43: Import contracte (reparacions, instal·lacions, petit material i llicències) (IVA inclpos) | I43: % Disminució sobre import del contracte (reparacions, instal·lacions, petit material i llicències) (IVA inclòs) | J43: Import màxim disminució (part preus unitaris)
E44: (IVA inclòs) | G44: (IVA inclòs) | J44: (IVA inclòs)
D45: Modificacions per augment o disminució de volumetries en Serveis | E45: =I9 -> 13832226 | F45: 0.2 | G45: =E45*F45 -> 2766445.2 | H45: =H36*1.21 -> 625255.69 | I45: 1 | J45: =-H36*1.21 -> -625255.69
D46: TOTAL | E46: =E45 -> 13832226 | F46: 0.2 | G46: =G45 -> 2766445.2 | H46: =H45 -> 625255.69 | I46: 1 | J46: =J45 -> -625255.69
C49: MÍNIMS CONTRACTE
...

Sheet Dates
D2: PERÍODE INICIAL CONTRACTE | P2: PRÒRROGUES
D3: Inici Transició | E3: Final Transició | F3: Dies Transició | G3: Inici Prestació | H3: Final Prestació | I3: Dies Prestació | J3: Inici | K3: Final | L3: Dies | M3: Inici | N3: Final | O3: Dies | P3: Inici | Q3: Final | R3: Dies | S3: Inici | T3: Final | U3: Dies
C4: OGACOMP | F4: 0 | G4: 46023 | H4: 46387 | I4: =_xlfn.DAYS(H4,G4)+1 -> 365 | J4: 46388 | K4: 46752 | L4: =_xlfn.DAYS(K4,J4)+1 -> 365 | M4: 46753 | N4: 47118 | O4: =_xlfn.DAYS(N4,M4)+1 -> 366 | P4: 47119 | Q4: 47483 | R4: =_xlfn.DAYS(Q4,P4)+1 -> 365 | S4: 47484 | T4: 47848 | U4: =_xlfn.DAYS(T4,S4)+1 -> 365
C5: ACOMP | D5: 46104 | E5: 46162 | F5: =_xlfn.DAYS(E5,D5)+1 -> 59 | G5: 46163 | H5: 46387 | I5: =_xlfn.DAYS(H5,G5)+1 -> 225 | J5: 46388 | K5: 46752 | L5: =_xlfn.DAYS(K5,J5)+1 -> 365 | M5: 46753 | N5: 47118 | O5: =_xlfn.DAYS(N5,M5)+1 -> 366 | P5: 47119 | Q5: 47483 | R5: =_xlfn.DAYS(Q5,P5)+1 -> 365 | S5: 47484 | T5: 47848 | U5: =_xlfn.DAYS(T5,S5)+1 -> 365
G7: 46143
D11: Contracte (mesos) | E11: Període | F11: Facturable (mesos) | G11: Període | H11: Pròrroga 1 (mesos) | I11: Període | J11: Pròrroga 2 (mesos) | K11: Període
C12: OGACOMP | D12: =12+12+12 -> 36 | E12: 1/1/26-31/3/28 | F12: =D12 -> 36 | G12: 1/1/26-31/12/28 | H12: 12 | I12: 1/1/29-31/12/29 | J12: 12 | K12: 1/1/30-31/12/30 | M12: =F12+H12+J12 -> 60
C13: ACOMP | D13: =(_xlfn.DAYS(H5,D5)+1)/365*12+12+12 -> 33.336986 | E13: 21/3/26-31/12/28 | F13: =(_xlfn.DAYS(H5,G5)+1)/365*12+12+12+3 -> 34.39726 | G13: 21/5/26-31/12/28 | H13: 12 | I13: 1/1/29-31/12/29 | J13: 12 | K13: 1/1/30-31/12/30 | M13: =D13+H13+J13 -> 57.336986
D14: 33 mesos i 9 dies | F14: 34 mesos i 12 dies | M14: 57 mesos i 9 dies
