Workbook
Name OLE_LINK2: EXPERIENCIA_REQUERIDA_PERFIL!$F$2

Sheet RESUM_EQUIP_TÈCNIC
B1: exp: 21000049 - CONTRACTE DE SERVEIS PER A LA PRESTACIÓ DELS SERVEIS DE MANTENIMENT I EVOLUCIÓ D’APLICACIONS INFORMÀTIQUES (AM) DE LA GERÈNCIA D’ECOLOGIA URBANA DE L’AJUNTAMENT DE BARCELONA, AMB MESURES DE CONTRACTACIÓ PÚBLICA SOSTENIBLE.
B3: DECLARACIÓ DE DADES RESUM EQUIP TÈCNIC
A7: El/la senyor/a
A8: domiciliat/ada a
A9: amb DNI/NIF núm
A10: , major d’edat, en nom propi, o en representació de l’empresa
A11: , NIF núm. | D11: , amb domicili a
A12: assabentat/ada de les condicions exigides per optar a l’adjudicació del contracte número d’expedient 21000049 que té per objecte la contractació dels serveis de manteniment i evolució d’aplicacions informàtiques (AM) de la Gerència d’Ecologia Urbana de l’Ajuntament de Barcelona, amb mesures de contractació pública sostenible, es compromet a realitzar-lo amb subjecció al plec de clàusules administratives particulars i al de prescripcions tècniques i amb els següents detall en les millores de l'experiència de l'equip tècnic:
A16: Nom de perfil del plec | B16: Inicials | C16: Nom | D16: Dedicació prevista | E16: Solvència
A17: Responsable tècnic/a de seguretat i tecnologies | D17: N/A | E17: N/A
A18: =#REF! -> #REF! | B18: =#REF! -> #REF! | C18: =#REF! -> #REF! | D18: =#REF! -> #REF! | E18: =#REF! -> #REF!
A19: =#REF! -> #REF! | B19: =#REF! -> #REF! | C19: =#REF! -> #REF! | D19: =#REF! -> #REF! | E19: =#REF! -> #REF!
A20: =#REF! -> #REF! | B20: =#REF! -> #REF! | C20: =#REF! -> #REF! | D20: =#REF! -> #REF! | E20: =#REF! -> #REF!
A21: =#REF! -> #REF! | B21: =#REF! -> #REF! | C21: =#REF! -> #REF! | D21: =#REF! -> #REF! | E21: =#REF! -> #REF!
A22: =#REF! -> #REF! | B22: =#REF! -> #REF! | C22: =#REF! -> #REF! | D22: =#REF! -> #REF! | E22: =#REF! -> #REF!
A23: =#REF! -> #REF! | B23: =#REF! -> #REF! | C23: =#REF! -> #REF! | D23: =#REF! -> #REF! | E23: =#REF! -> #REF!
A24: =#REF! -> #REF! | B24: =#REF! -> #REF! | C24: =#REF! -> #REF! | D24: =#REF! -> #REF! | E24: =#REF! -> #REF!
A25: =#REF! -> #REF! | B25: =#REF! -> #REF! | C25: =#REF! -> #REF! | D25: =#REF! -> #REF! | E25: =#REF! -> #REF!
A26: =#REF! -> #REF! | B26: =#REF! -> #REF! | C26: =#REF! -> #REF! | D26: =#REF! -> #REF! | E26: =#REF! -> #REF!
A27: =#REF! -> #REF! | B27: =#REF! -> #REF! | C27: =#REF! -> #REF! | D27: =#REF! -> #REF! | E27: =#REF! -> #REF!
A28: =#REF! -> #REF! | B28: =#REF! -> #REF! | C28: =#REF! -> #REF! | D28: =#REF! -> #REF! | E28: =#REF! -> #REF!
A29: =#REF! -> #REF! | B29: =#REF! -> #REF! | C29: =#REF! -> #REF! | D29: =#REF! -> #REF! | E29: =#REF! -> #REF!
... A84: =#REF! -> #REF! | B84: =#REF! -> #REF! | C84: =#REF! -> #REF! | D84: =#REF! -> #REF! | E84: =#REF! -> #REF!
A90: Control Millores | B90: Millora ofertada | C90: Millora detall equip | D90: Resultat
A91: Cap de projecte Sènior | B91: 3 | C91: =#REF! -> #REF! | D91: =#REF! -> #REF!
A92: Cap de projecte funcional / tecnològic | B92: 3 | C92: =#REF! -> #REF! | D92: =#REF! -> #REF!
A93: Arquitecte/a especialista en les tecnologies del plec | B93: 2 | C93: =#REF! -> #REF! | D93: =#REF! -> #REF!
A94: Analista J2EE | B94: 6 | C94: =#REF! -> #REF! | D94: =#REF! -> #REF!
A95: Analista GIS | B95: 2 | C95: =#REF! -> #REF! | D95: =#REF! -> #REF!
A96: Analista programador J2EE | B96: 5 | C96: =#REF! -> #REF! | D96: =#REF! -> #REF!

Sheet EXPERIENCIA_REQUERIDA_PERFIL
A1: Num perfil | B1: Nom del perfil | C1: Certificació | D1: Obligatoria? | E1: Punts adicionals | F1: Descripció experiència 1 | G1: Anys experiència mínima | H1: Màxims anys addicionals experiència | I1: Màxims punts per anys experiència addicional | J1: Bloc d'anys per punt adicional | K1: Punts adicionals per cada bloc d'anys | L1: Descripció experiència 2 | M1: Anys experiència mínima | N1: Màxims anys addicionals experiència | O1: Màxims punts per anys experiència addicional | P1: Bloc d'anys per punt adicional | Q1: Punts adicionals per cada bloc d'anys | R1: Descripció experiència 3 | S1: Anys experiència mínima | T1: Màxim anys addicionals experiència | U1: Màxims punts per anys experiència addicional | V1: Bloc d'anys per punt adicional | W1: Punt adicional per cada bloc d'anys | X1: Descripció experiència 4 | Y1: Anys experiència mínima | Z1: Màxim anys addicionals experiència | AA1: Màxim punts per anys experiència addicional | AB1: Bloc d'anys per punt adicional | AC1: Punt adicional per cada bloc d'anys | AD1: Descripció experiència 5 | AE1: Anys experiència mínima | AF1: Màxim anys addicionals experiència | AG1: Màxim punts per anys experiència addicional | AH1: Bloc d'anys per punt adicional | AI1: Punt adicional per cada bloc d'anys
A2: 1 | B2: Coordinador/a del contracte / Cap de projecte / Responsable de seguretat | F2: Coordinador/a del contracte/Cap de Projecte en projectes/serveis de gestió de serveis TI sobre plataformes ITSM amb més de 25.000 usuaris i més de 80.000 incidències anuals gestionades | G2: 3 | H2: 6 | I2: =H2*K2 -> 4.5 | J2: 1 | K2: 0.75
A3: 2 | B3: Consultor/a sènior (Easyvista / Arquitecte) | C3: EV Service Manager Foundation | D3: No | E3: 1 | F3: Consultor/a sènior (Easyvista /Arquitecte) en diferents rols relacionats amb configuració, desplegament i integració d’EasyVista, incloent arquitectura de sistemes i seguretat TIC sempre relacionada amb la plataforma Easyvista | G3: 3 | H3: 7 | I3: =H3*K3 -> 7 | J3: 1 | K3: 1
A4: 3 | B4: Analista programador/a PHP | C4: EV Service Manager Foundation | D4: No | E4: 0,5 per certificació Màxim 1 punt | F4: Analista programador/a PHP en diferents rols relacionats amb desenvolupament d’aplicacions PHP i mòduls d’Easyvista | G4: 2 | H4: 6 | I4: =H4*K4 -> 4.5 | J4: 1 | K4: 0.75
C5: EV Service Apps | D5: No | E5: 1 per certificació Màxim 1 punt
A6: 4 | B6: Analista programador/a BI | C6: EV Service Manager Foundation | D6: No | E6: 0,5 per certificació Màxim 1 punt | F6: Analista programador/a BI en diferents rols relacionats amb l’anàlisi de dades, creació de dashboards i integració amb sistemes de reporting Power BI i Report Server de Microsoft, amb dades provinents d’EasyVista o sistemes de gestió de serveis ITSM similars | G6: 3 | H6: 3 | I6: =H6*K6 -> 3 | J6: 1 | K6: 1
C7: EV Service Apps | D7: No | E7: 1 per certificació Màxim 1 punt

Sheet Valors
A1: Perfils | C1: Opcions
C2: SI
C3: NO
C4: N/D

Sheet 1. Coordinador_Cap_proj
D2: DECLARACIÓ DE DADES DETALL EQUIP TÈCNIC
A7: Omplir només les caselles en Verd, les caselles grises s'ompliran automàticament. A la primera taula una fila per cada treballador del perfil. A la segona taula tantes files com experiències diferents tinguin els teballadors.
A8: En cas de que en una mateixa persona hagi participat en dos o més projectes o serveis alhora, la suma de la dedicació a tots ells no podrà superar el 100%
A10: 1 | B10: =VLOOKUP(A10,EXPERIENCIA_REQUERIDA_PERFIL!A:B,2,FALSE) -> Coordinador/a del contracte / Cap de projecte / Responsable de seguretat
AD11: Bloc d'anys addicionals per cada punt | AE11: =VLOOKUP($A$10,EXPERIENCIA_REQUERIDA_PERFIL!A:BD,10,FALSE) -> 1 | AF11: =VLOOKUP($A$10,EXPERIENCIA_REQUERIDA_PERFIL!A:BD,16,FALSE) -> 0 | AG11: =VLOOKUP($A$10,EXPERIENCIA_REQUERIDA_PERFIL!A:BD,22,FALSE) -> 0 | AH11: =VLOOKUP($A$10,EXPERIENCIA_REQUERIDA_PERFIL!A:BD,28,FALSE) -> 0 | AI11: =VLOOKUP($A$10,EXPERIENCIA_REQUERIDA_PERFIL!A:BD,34,FALSE) -> 0
AD12: Punts addicionals per cada bloc d'anys | AE12: =VLOOKUP($A$10,EXPERIENCIA_REQUERIDA_PERFIL!A:BD,11,FALSE) -> 0.75 | AF12: =VLOOKUP($A$10,EXPERIENCIA_REQUERIDA_PERFIL!A:BD,17,FALSE) -> 0 | AG12: =VLOOKUP($A$10,EXPERIENCIA_REQUERIDA_PERFIL!A:BD,23,FALSE) -> 0 | AH12: =VLOOKUP($A$10,EXPERIENCIA_REQUERIDA_PERFIL!A:BD,29,FALSE) -> 0 | AI12: =VLOOKUP($A$10,EXPERIENCIA_REQUERIDA_PERFIL!A:BD,35,FALSE) -> 0 | AJ12: =VLOOKUP($A$10,EXPERIENCIA_REQUERIDA_PERFIL!A:BD,5,FALSE) -> 0
M13: Experiència 1. Anys experiència mínima | P13: =VLOOKUP($A$10,EXPERIENCIA_REQUERIDA_PERFIL!A:BD,7,FALSE) -> 3 | Q13: Experiència 2. Anys experiència mínima | W13: =VLOOKUP($A$10,EXPERIENCIA_REQUERIDA_PERFIL!A:BD,13,FALSE) -> 0 | X13: Experiència 3. Anys experiència mínima | Y13: =VLOOKUP($A$10,EXPERIENCIA_REQUERIDA_PERFIL!A:BD,19,FALSE) -> 0 | Z13: Experiència 4. Anys experiència mínima | AA13: =VLOOKUP($A$10,EXPERIENCIA_REQUERIDA_PERFIL!A:BD,25,FALSE) -> 0 | AB13: Experiència 5. Anys experiència mínima | AC13: =VLOOKUP($A$10,EXPERIENCIA_REQUERIDA_PERFIL!A:BD,31,FALSE) -> 0 | AD13: Màxim punts | AE13: =VLOOKUP($A$10,EXPERIENCIA_REQUERIDA_PERFIL!A:BD,9,FALSE) -> 4.5 | AF13: =VLOOKUP($A$10,EXPERIENCIA_REQUERIDA_PERFIL!A:BD,15,FALSE) -> 0 | AG13: =VLOOKUP($A$10,EXPERIENCIA_REQUERIDA_PERFIL!A:BD,21,FALSE) -> 0 | AH13: =VLOOKUP($A$10,EXPERIENCIA_REQUERIDA_PERFIL!A:BD,27,FALSE) -> 0 | AI13: =VLOOKUP($A$10,EXPERIENCIA_REQUERIDA_PERFIL!A:BD,33,FALSE) -> 0 | AJ13: =VLOOKUP($A$10,EXPERIENCIA_REQUERIDA_PERFIL!A:BD,5,FALSE) -> 0
B14: Nom de perfil del plec | E14: Inicials del treballador/a | F14: Nom del treballador/a | G14: Dedicació prevista | H14: Anys fent les tasques demanades en aquest perfil | L14: =IF(VLOOKUP($A$10,EXPERIENCIA_REQUERIDA_PERFIL!A:C,3,FALSE)="","",VLOOKUP($A$10,EXPERIENCIA_REQUERIDA_PERFIL!A:C,3,FALSE)) | M14: =IF(VLOOKUP($A$10,EXPERIENCIA_REQUERIDA_PERFIL!A:BD,6,FALSE)="","",VLOOKUP($A$10,EXPERIENCIA_REQUERIDA_PERFIL!A:BD,6,FALSE)) -> Coordinador/a del contracte/Cap de Projecte en projectes/serveis de gestió de serveis TI sobre plataformes ITSM amb més de 25.000 usuaris i més de 80.000 incidències anuals gestionades | Q14: =IF(VLOOKUP($A$10,EXPERIENCIA_REQUERIDA_PERFIL!A:BD,12,FALSE)="","",VLOOKUP($A$10,EXPERIENCIA_REQUERIDA_PERFIL!A:BD,12,FALSE)) | X14: =IF(VLOOKUP($A$10,EXPERIENCIA_REQUERIDA_PERFIL!A:BD,18,FALSE)="","",VLOOKUP($A$10,EXPERIENCIA_REQUERIDA_PERFIL!A:BD,18,FALSE)) | Z14: =IF(VLOOKUP($A$10,EXPERIENCIA_REQUERIDA_PERFIL!A:BD,24,FALSE)="","",VLOOKUP($A$10,EXPERIENCIA_REQUERIDA_PERFIL!A:BD,24,FALSE)) | AB14: =IF(VLOOKUP($A$10,EXPERIENCIA_REQUERIDA_PERFIL!A:BD,30,FALSE)="","",VLOOKUP($A$10,EXPERIENCIA_REQUERIDA_PERFIL!A:BD,30,FALSE)) | AD14: Compleix amb l'experiència mínima requerida | AE14: =IF(AE13=0,"",CONCATENATE("Millora aportada en ",M14)) -> Millora aportada en Coordinador/a del contracte/Cap de Projecte en projectes/serveis de gestió de serveis TI sobre plataformes ITSM amb més de 25.000 usuaris i més de 80.000 incidències anuals gestionades | AF14: =IF(AF13=0,"",CONCATENATE("Millora aportada en ",Q14)) | AG14: =IF(AG13=0,"",CONCATENATE("Millora aportada en ",X14)) | AH14: =IF(AH13=0,"",CONCATENATE("Millora aportada en ",Z14)) | AI14: =IF(AI13=0,"",CONCATENATE("Millora aportada en ",AB14)) | AJ14: =IF(AJ12=0,"",VLOOKUP($A$10,EXPERIENCIA_REQUERIDA_PERFIL!A:BD,3,FALSE))
A15: 1 | B15: =$B$10 -> Coordinador/a del contracte / Cap de projecte / Responsable de seguretat | E15: TR1 | F15: Treballador exemple 1 | G15: 100 | H15: 5 | L15: N/D | M15: =IF($M$14="","",ROUND(SUMIF($AE$24:$AE$88,CONCATENATE(E15,"SI"),$AD$24:$AD$88)/12,2)) -> 4 | Q15: =IF($Q$14="","",ROUND(SUMIF($AF$24:$AF$63,CONCATENATE(E15,"SI"),$AD$24:$AD$63)/12,2)) | X15: =IF($X$14="","",ROUND(SUMIF($AG$24:$AG$63,CONCATENATE(E15,"SI"),$AD$24:$AD$63)/12,2)) | Z15: =IF($Z$14="","",ROUND(SUMIF($AH$24:$AH$63,CONCATENATE(E15,"SI"),$AD$24:$AD$63)/12,2)) | AB15: =IF($AB$14="","",ROUND(SUMIF($AI$24:$AI$63,CONCATENATE(E15,"SI"),$AD$24:$AD$63)/12,2)) | AD15: =IF(OR(E15="",M14=""),"N/A",IF(AND(IF($L$14="","SI",IF(VLOOKUP($A$10,EXPERIENCIA_REQUERIDA_PERFIL!A:BD,4,FALSE)="NO","SI",L15))="SI",M15>=$P$13,Q15>=$W$13,X15>=$Y$13,Z15>=$AA$13,AB15>=$AC$13),"OK","KO")) -> OK | AE15: =IF(OR($E15="",$M$14="",AE$13=0),"",MAX(TRUNC((M15-$P$13)/AE$11),0)) -> 1 | AF15: =IF(OR($E15="",$Q$14="",AF$13=0),"",MAX(TRUNC((Q15-$W$13)/AF$11),0)) | AG15: =IF(OR($E15="",$X$14="",AG$13=0),"",MAX(TRUNC((X15-$Y$13)/AG$11),0)) | AH15: =IF(OR($E15="",$Z$14="",AH$13=0),"",MAX(TRUNC(($Z15-$AA$13)/AH$11),0)) | AI15: =IF(OR($E15="",$AB$14="",AI$13=0),"",MAX(TRUNC(($AB15-$AC$13)/AI$11),0)) | AJ15: =IF($AJ$12=0,"",IF(L15="SI",$AJ$12,0))
A16: =A15+1 -> 2 | B16: =$B$10 -> Coordinador/a del contracte / Cap de projecte / Responsable de seguretat | L16: N/D | M16: =IF($M$14="","",ROUND(SUMIF($AE$24:$AE$88,CONCATENATE(E16,"SI"),$AD$24:$AD$88)/12,2)) -> 0 | Q16: =IF($Q$14="","",ROUND(SUMIF($AF$24:$AF$63,CONCATENATE(E16,"SI"),$AD$24:$AD$63)/12,2)) | X16: =IF($X$14="","",ROUND(SUMIF($AG$24:$AG$63,CONCATENATE(E16,"SI"),$AD$24:$AD$63)/12,2)) | Z16: =IF($Z$14="","",ROUND(SUMIF($AH$24:$AH$63,CONCATENATE(E16,"SI"),$AD$24:$AD$63)/12,2)) | AB16: =IF($AB$14="","",ROUND(SUMIF($AI$24:$AI$63,CONCATENATE(E16,"SI"),$AD$24:$AD$63)/12,2)) | AD16: =IF(OR(E16="",M15=""),"N/A",IF(AND(IF($L$14="","SI",IF(VLOOKUP($A$10,EXPERIENCIA_REQUERIDA_PERFIL!A:BD,4,FALSE)="NO","SI",L16))="SI",M16>=$P$13,Q16>=$W$13,X16>=$Y$13),"OK","KO")) -> N/A | AE16: =IF(OR($E16="",$M$14="",AE$13=0),"",MAX(TRUNC((M16-$P$13)/AE$11),0)) | AF16: =IF(OR($E16="",$Q$14="",AF$13=0),"",MAX(TRUNC((Q16-$W$13)/AF$11),0)) | AG16: =IF(OR($E16="",$X$14="",AG$13=0),"",MAX(TRUNC((X16-$Y$13)/AG$11),0)) | AH16: =IF(OR($E16="",$Z$14="",AH$13=0),"",MAX(TRUNC(($Z16-$AA$13)/AH$11),0)) | AI16: =IF(OR($E16="",$AB$14="",AI$13=0),"",MAX(TRUNC(($AB16-$AC$13)/AI$11),0)) | AJ16: =IF($AJ$12=0,"",IF(L16="SI",$AJ$12,0))
A17: =A16+1 -> 3 | B17: =$B$10 -> Coordinador/a del contracte / Cap de projecte / Responsable de seguretat | L17: N/D | M17: =IF($M$14="","",ROUND(SUMIF($AE$24:$AE$88,CONCATENATE(E17,"SI"),$AD$24:$AD$88)/12,2)) -> 0 | Q17: =IF($Q$14="","",ROUND(SUMIF($AF$24:$AF$63,CONCATENATE(E17,"SI"),$AD$24:$AD$63)/12,2)) | X17: =IF($X$14="","",ROUND(SUMIF($AG$24:$AG$63,CONCATENATE(E17,"SI"),$AD$24:$AD$63)/12,2)) | Z17: =IF($Z$14="","",ROUND(SUMIF($AH$24:$AH$63,CONCATENATE(E17,"SI"),$AD$24:$AD$63)/12,2)) | AB17: =IF($AB$14="","",ROUND(SUMIF($AI$24:$AI$63,CONCATENATE(E17,"SI"),$AD$24:$AD$63)/12,2)) | AD17: =IF(OR(E17="",M16=""),"N/A",IF(AND(IF($L$14="","SI",IF(VLOOKUP($A$10,EXPERIENCIA_REQUERIDA_PERFIL!A:BD,4,FALSE)="NO","SI",L17))="SI",M17>=$P$13,Q17>=$W$13,X17>=$Y$13),"OK","KO")) -> N/A | AE17: =IF(OR($E17="",$M$14="",AE$13=0),"",MAX(TRUNC((M17-$P$13)/AE$11),0)) | AF17: =IF(OR($E17="",$Q$14="",AF$13=0),"",MAX(TRUNC((Q17-$W$13)/AF$11),0)) | AG17: =IF(OR($E17="",$X$14="",AG$13=0),"",MAX(TRUNC((X17-$Y$13)/AG$11),0)) | AH17: =IF(OR($E17="",$Z$14="",AH$13=0),"",MAX(TRUNC(($Z17-$AA$13)/AH$11),0)) | AI17: =IF(OR($E17="",$AB$14="",AI$13=0),"",MAX(TRUNC(($AB17-$AC$13)/AI$11),0)) | AJ17: =IF($AJ$12=0,"",IF(L17="SI",$AJ$12,0))
A18: =A17+1 -> 4 | B18: =$B$10 -> Coordinador/a del contracte / Cap de projecte / Responsable de seguretat | L18: N/D | M18: =IF($M$14="","",ROUND(SUMIF($AE$24:$AE$88,CONCATENATE(E18,"SI"),$AD$24:$AD$88)/12,2)) -> 0 | Q18: =IF($Q$14="","",ROUND(SUMIF($AF$24:$AF$63,CONCATENATE(E18,"SI"),$AD$24:$AD$63)/12,2)) | X18: =IF($X$14="","",ROUND(SUMIF($AG$24:$AG$63,CONCATENATE(E18,"SI"),$AD$24:$AD$63)/12,2)) | Z18: =IF($Z$14="","",ROUND(SUMIF($AH$24:$AH$63,CONCATENATE(E18,"SI"),$AD$24:$AD$63)/12,2)) | AB18: =IF($AB$14="","",ROUND(SUMIF($AI$24:$AI$63,CONCATENATE(E18,"SI"),$AD$24:$AD$63)/12,2)) | AD18: =IF(OR(E18="",M17=""),"N/A",IF(AND(IF($L$14="","SI",IF(VLOOKUP($A$10,EXPERIENCIA_REQUERIDA_PERFIL!A:BD,4,FALSE)="NO","SI",L18))="SI",M18>=$P$13,Q18>=$W$13,X18>=$Y$13),"OK","KO")) -> N/A | AE18: =IF(OR($E18="",$M$14="",AE$13=0),"",MAX(TRUNC((M18-$P$13)/AE$11),0)) | AF18: =IF(OR($E18="",$Q$14="",AF$13=0),"",MAX(TRUNC((Q18-$W$13)/AF$11),0)) | AG18: =IF(OR($E18="",$X$14="",AG$13=0),"",MAX(TRUNC((X18-$Y$13)/AG$11),0)) | AH18: =IF(OR($E18="",$Z$14="",AH$13=0),"",MAX(TRUNC(($Z18-$AA$13)/AH$11),0)) | AI18: =IF(OR($E18="",$AB$14="",AI$13=0),"",MAX(TRUNC(($AB18-$AC$13)/AI$11),0)) | AJ18: =IF($AJ$12=0,"",IF(L18="SI",$AJ$12,0))
A19: =A18+1 -> 5 | B19: =$B$10 -> Coordinador/a del contracte / Cap de projecte / Responsable de seguretat | L19: N/D | M19: =IF($M$14="","",ROUND(SUMIF($AE$24:$AE$88,CONCATENATE(E19,"SI"),$AD$24:$AD$88)/12,2)) -> 0 | Q19: =IF($Q$14="","",ROUND(SUMIF($AF$24:$AF$63,CONCATENATE(E19,"SI"),$AD$24:$AD$63)/12,2)) | X19: =IF($X$14="","",ROUND(SUMIF($AG$24:$AG$63,CONCATENATE(E19,"SI"),$AD$24:$AD$63)/12,2)) | Z19: =IF($Z$14="","",ROUND(SUMIF($AH$24:$AH$63,CONCATENATE(E19,"SI"),$AD$24:$AD$63)/12,2)) | AB19: =IF($AB$14="","",ROUND(SUMIF($AI$24:$AI$63,CONCATENATE(E19,"SI"),$AD$24:$AD$63)/12,2)) | AD19: =IF(OR(E19="",M18=""),"N/A",IF(AND(IF($L$14="","SI",IF(VLOOKUP($A$10,EXPERIENCIA_REQUERIDA_PERFIL!A:BD,4,FALSE)="NO","SI",L19))="SI",M19>=$P$13,Q19>=$W$13,X19>=$Y$13),"OK","KO")) -> N/A | AE19: =IF(OR($E19="",$M$14="",AE$13=0),"",MAX(TRUNC((M19-$P$13)/AE$11),0)) | AF19: =IF(OR($E19="",$Q$14="",AF$13=0),"",MAX(TRUNC((Q19-$W$13)/AF$11),0)) | AG19: =IF(OR($E19="",$X$14="",AG$13=0),"",MAX(TRUNC((X19-$Y$13)/AG$11),0)) | AH19: =IF(OR($E19="",$Z$14="",AH$13=0),"",MAX(TRUNC(($Z19-$AA$13)/AH$11),0)) | AI19: =IF(OR($E19="",$AB$14="",AI$13=0),"",MAX(TRUNC(($AB19-$AC$13)/AI$11),0)) | AJ19: =IF($AJ$12=0,"",IF(L19="SI",$AJ$12,0))
AD20: Total blocs de punts | AE20: =SUM(AE15:AE19) -> 1 | AF20: =SUM(AF15:AF19) -> 0 | AG20: =SUM(AG15:AG19) -> 0 | AH20: =SUM(AH15:AH19) -> 0 | AI20: =SUM(AI15:AI19) -> 0 | AJ20: =SUM(AJ15:AJ19) -> 0
AD21: Total punts limitant amb màxim | AE21: =MIN(AE13,AE12*AE20) -> 0.75 | AF21: =MIN(AF13,AF12*AF20) -> 0 | AG21: =MIN(AG13,AG12*AG20) -> 0 | AH21: =MIN(AH13,AH12*AH20) -> 0 | AI21: =MIN(AI13,AI12*AI20) -> 0 | AJ21: =MIN($AJ$13,SUM(AJ15:AJ19)) -> 0
B23: Nom administració / empresa, tantes files com administracions / empreses on hagi assolit l’experiència amb aquest rol | E23: Detall de projecte on es declari el rol realitzat per el recurs i les tecnologies associades, destacant les relatives a l’objecte del contracte, tantes files com projectes on hagi tingut l’experiència amb aquest rol | N23: Núm. expedient / contracte | O23: Inicials del treballador/a | P23: =M14 -> Coordinador/a del contracte/Cap de Projecte en projectes/serveis de gestió de serveis TI sobre plataformes ITSM amb més de 25.000 usuaris i més de 80.000 incidències anuals gestionades | Q23: =Q14 | W23: =X14 | X23: =Z14 | Y23: =AB14 | Z23: Inici amb el rol (DD/MM/AAAA) | AA23: Fi amb el rol (DD/MM/AAAA) | AC23: % Dedicació | AD23: Mesos
B24: Ajuntament 1 | E24: Projecte 1 exemple | O24: TR1 | P24: SI | Q24: SI | W24: SI | X24: SI | Y24: SI | Z24: 43101 | AA24: 44562 | AC24: 1 | AD24: =ROUND((AA24-Z24)/365*12*AC24,2) -> 48.03 | AE24: =CONCATENATE(O24,P24) -> TR1SI | AF24: =CONCATENATE(O24,Q24) -> TR1SI | AG24: =CONCATENATE(O24,W24) -> TR1SI | AH24: =CONCATENATE(O24,X24) -> TR1SI | AI24: =CONCATENATE(O24,Y24) -> TR1SI
P25: N/D | Q25: N/D | W25: N/D | X25: N/D | Y25: N/D | AD25: =ROUND((AA25-Z25)/365*12*AC25,2) -> 0 | AE25: =CONCATENATE(O25,P25) -> N/D | AF25: =CONCATENATE(O25,Q25) -> N/D | AG25: =CONCATENATE(O25,W25) -> N/D | AH25: =CONCATENATE(O25,X25) -> N/D | AI25: =CONCATENATE(O25,Y25) -> N/D
P26: N/D | Q26: N/D | W26: N/D | X26: N/D | Y26: N/D | AD26: =ROUND((AA26-Z26)/365*12*AC26,2) -> 0 | AE26: =CONCATENATE(O26,P26) -> N/D | AF26: =CONCATENATE(O26,Q26) -> N/D | AG26: =CONCATENATE(O26,W26) -> N/D | AH26: =CONCATENATE(O26,X26) -> N/D | AI26: =CONCATENATE(O26,Y26) -> N/D
P27: N/D | Q27: N/D | W27: N/D | X27: N/D | Y27: N/D | AD27: =ROUND((AA27-Z27)/365*12*AC27,2) -> 0 | AE27: =CONCATENATE(O27,P27) -> N/D | AF27: =CONCATENATE(O27,Q27) -> N/D | AG27: =CONCATENATE(O27,W27) -> N/D | AH27: =CONCATENATE(O27,X27) -> N/D | AI27: =CONCATENATE(O27,Y27) -> N/D
P28: N/D | Q28: N/D | W28: N/D | X28: N/D | Y28: N/D | AD28: =ROUND((AA28-Z28)/365*12*AC28,2) -> 0 | AE28: =CONCATENATE(O28,P28) -> N/D | AF28: =CONCATENATE(O28,Q28) -> N/D | AG28: =CONCATENATE(O28,W28) -> N/D | AH28: =CONCATENATE(O28,X28) -> N/D | AI28: =CONCATENATE(O28,Y28) -> N/D
P29: N/D | Q29: N/D | W29: N/D | X29: N/D | Y29: N/D | AD29: =ROUND((AA29-Z29)/365*12*AC29,2) -> 0 | AE29: =CONCATENATE(O29,P29) -> N/D | AF29: =CONCATENATE(O29,Q29) -> N/D | AG29: =CONCATENATE(O29,W29) -> N/D | AH29: =CONCATENATE(O29,X29) -> N/D | AI29: =CONCATENATE(O29,Y29) -> N/D
P30: N/D | Q30: N/D | W30: N/D | X30: N/D | Y30: N/D | AD30: =ROUND((AA30-Z30)/365*12*AC30,2) -> 0 | AE30: =CONCATENATE(O30,P30) -> N/D | AF30: =CONCATENATE(O30,Q30) -> N/D | AG30: =CONCATENATE(O30,W30) -> N/D | AH30: =CONCATENATE(O30,X30) -> N/D | AI30: =CONCATENATE(O30,Y30) -> N/D
P31: N/D | Q31: N/D | W31: N/D | X31: N/D | Y31: N/D | AD31: =ROUND((AA31-Z31)/365*12*AC31,2) -> 0 | AE31: =CONCATENATE(O31,P31) -> N/D | AF31: =CONCATENATE(O31,Q31) -> N/D | AG31: =CONCATENATE(O31,W31) -> N/D | AH31: =CONCATENATE(O31,X31) -> N/D | AI31: =CONCATENATE(O31,Y31) -> N/D
P32: N/D | Q32: N/D | W32: N/D | X32: N/D | Y32: N/D | AD32: =ROUND((AA32-Z32)/365*12*AC32,2) -> 0 | AE32: =CONCATENATE(O32,P32) -> N/D | AF32: =CONCATENATE(O32,Q32) -> N/D | AG32: =CONCATENATE(O32,W32) -> N/D | AH32: =CONCATENATE(O32,X32) -> N/D | AI32: =CONCATENATE(O32,Y32) -> N/D
P33: N/D | Q33: N/D | W33: N/D | X33: N/D | Y33: N/D | AD33: =ROUND((AA33-Z33)/365*12*AC33,2) -> 0 | AE33: =CONCATENATE(O33,P33) -> N/D | AF33: =CONCATENATE(O33,Q33) -> N/D | AG33: =CONCATENATE(O33,W33) -> N/D | AH33: =CONCATENATE(O33,X33) -> N/D | AI33: =CONCATENATE(O33,Y33) -> N/D
P34: N/D | Q34: N/D | W34: N/D | X34: N/D | Y34: N/D | AD34: =ROUND((AA34-Z34)/365*12*AC34,2) -> 0 | AE34: =CONCATENATE(O34,P34) -> N/D | AF34: =CONCATENATE(O34,Q34) -> N/D | AG34: =CONCATENATE(O34,W34) -> N/D | AH34: =CONCATENATE(O34,X34) -> N/D | AI34: =CONCATENATE(O34,Y34) -> N/D
P35: N/D | Q35: N/D | W35: N/D | X35: N/D | Y35: N/D | AD35: =ROUND((AA35-Z35)/365*12*AC35,2) -> 0 | AE35: =CONCATENATE(O35,P35) -> N/D | AF35: =CONCATENATE(O35,Q35) -> N/D | AG35: =CONCATENATE(O35,W35) -> N/D | AH35: =CONCATENATE(O35,X35) -> N/D | AI35: =CONCATENATE(O35,Y35) -> N/D
P36: N/D | Q36: N/D | W36: N/D | X36: N/D | Y36: N/D | AD36: =ROUND((AA36-Z36)/365*12*AC36,2) -> 0 | AE36: =CONCATENATE(O36,P36) -> N/D | AF36: =CONCATENATE(O36,Q36) -> N/D | AG36: =CONCATENATE(O36,W36) -> N/D | AH36: =CONCATENATE(O36,X36) -> N/D | AI36: =CONCATENATE(O36,Y36) -> N/D
... P88: N/D | Q88: N/D | W88: N/D | X88: N/D | Y88: N/D | AD88: =ROUND((AA88-Z88)/365*12*AC88,2) -> 0 | AE88: =CONCATENATE(O88,P88) -> N/D | AF88: =CONCATENATE(O88,Q88) -> N/D | AG88: =CONCATENATE(O88,W88) -> N/D | AH88: =CONCATENATE(O88,X88) -> N/D | AI88: =CONCATENATE(O88,Y88) -> N/D

Sheet 2. Consultor_sènior
D2: DECLARACIÓ DE DADES DETALL EQUIP TÈCNIC
A7: Omplir només les caselles en Verd, les caselles grises s'ompliran automàticament. A la primera taula una fila per cada treballador del perfil. A la segona taula tantes files com experiències diferents tinguin els teballadors.
A8: En cas de que en una mateixa persona hagi participat en dos o més projectes o serveis alhora, la suma de la dedicació a tots ells no podrà superar el 100%
A10: 2 | B10: =VLOOKUP(A10,EXPERIENCIA_REQUERIDA_PERFIL!A:B,2,FALSE) -> Consultor/a sènior (Easyvista / Arquitecte)
AD11: Bloc d'anys addicionals per cada punt | AE11: =VLOOKUP($A$10,EXPERIENCIA_REQUERIDA_PERFIL!A:BD,10,FALSE) -> 1 | AF11: =VLOOKUP($A$10,EXPERIENCIA_REQUERIDA_PERFIL!A:BD,16,FALSE) -> 0 | AG11: =VLOOKUP($A$10,EXPERIENCIA_REQUERIDA_PERFIL!A:BD,22,FALSE) -> 0 | AH11: =VLOOKUP($A$10,EXPERIENCIA_REQUERIDA_PERFIL!A:BD,28,FALSE) -> 0 | AI11: =VLOOKUP($A$10,EXPERIENCIA_REQUERIDA_PERFIL!A:BD,34,FALSE) -> 0
AD12: Punts addicionals per cada bloc d'anys | AE12: =VLOOKUP($A$10,EXPERIENCIA_REQUERIDA_PERFIL!A:BD,11,FALSE) -> 1 | AF12: =VLOOKUP($A$10,EXPERIENCIA_REQUERIDA_PERFIL!A:BD,17,FALSE) -> 0 | AG12: =VLOOKUP($A$10,EXPERIENCIA_REQUERIDA_PERFIL!A:BD,23,FALSE) -> 0 | AH12: =VLOOKUP($A$10,EXPERIENCIA_REQUERIDA_PERFIL!A:BD,29,FALSE) -> 0 | AI12: =VLOOKUP($A$10,EXPERIENCIA_REQUERIDA_PERFIL!A:BD,35,FALSE) -> 0 | AJ12: =VLOOKUP($A$10,EXPERIENCIA_REQUERIDA_PERFIL!A:BD,5,FALSE) -> 1
M13: Experiència 1. Anys experiència mínima | P13: =VLOOKUP($A$10,EXPERIENCIA_REQUERIDA_PERFIL!A:BD,7,FALSE) -> 3 | Q13: Experiència 2. Anys experiència mínima | W13: =VLOOKUP($A$10,EXPERIENCIA_REQUERIDA_PERFIL!A:BD,13,FALSE) -> 0 | X13: Experiència 3. Anys experiència mínima | Y13: =VLOOKUP($A$10,EXPERIENCIA_REQUERIDA_PERFIL!A:BD,19,FALSE) -> 0 | Z13: Experiència 4. Anys experiència mínima | AA13: =VLOOKUP($A$10,EXPERIENCIA_REQUERIDA_PERFIL!A:BD,25,FALSE) -> 0 | AB13: Experiència 5. Anys experiència mínima | AC13: =VLOOKUP($A$10,EXPERIENCIA_REQUERIDA_PERFIL!A:BD,31,FALSE) -> 0 | AD13: Màxim punts | AE13: =VLOOKUP($A$10,EXPERIENCIA_REQUERIDA_PERFIL!A:BD,9,FALSE) -> 7 | AF13: =VLOOKUP($A$10,EXPERIENCIA_REQUERIDA_PERFIL!A:BD,15,FALSE) -> 0 | AG13: =VLOOKUP($A$10,EXPERIENCIA_REQUERIDA_PERFIL!A:BD,21,FALSE) -> 0 | AH13: =VLOOKUP($A$10,EXPERIENCIA_REQUERIDA_PERFIL!A:BD,27,FALSE) -> 0 | AI13: =VLOOKUP($A$10,EXPERIENCIA_REQUERIDA_PERFIL!A:BD,33,FALSE) -> 0 | AJ13: =VLOOKUP($A$10,EXPERIENCIA_REQUERIDA_PERFIL!A:BD,5,FALSE) -> 1
B14: Nom de perfil del plec | E14: Inicials del treballador/a | F14: Nom del treballador/a | G14: Dedicació prevista | H14: Anys fent les tasques demanades en aquest perfil | L14: =IF(VLOOKUP($A$10,EXPERIENCIA_REQUERIDA_PERFIL!A:C,3,FALSE)="","",VLOOKUP($A$10,EXPERIENCIA_REQUERIDA_PERFIL!A:C,3,FALSE)) -> EV Service Manager Foundation | M14: =IF(VLOOKUP($A$10,EXPERIENCIA_REQUERIDA_PERFIL!A:BD,6,FALSE)="","",VLOOKUP($A$10,EXPERIENCIA_REQUERIDA_PERFIL!A:BD,6,FALSE)) -> Consultor/a sènior (Easyvista /Arquitecte) en diferents rols relacionats amb configuració, desplegament i integració d’EasyVista, incloent arquitectura de sistemes i seguretat TIC sempre relacionada amb la plataforma Easyvista | Q14: =IF(VLOOKUP($A$10,EXPERIENCIA_REQUERIDA_PERFIL!A:BD,12,FALSE)="","",VLOOKUP($A$10,EXPERIENCIA_REQUERIDA_PERFIL!A:BD,12,FALSE)) | X14: =IF(VLOOKUP($A$10,EXPERIENCIA_REQUERIDA_PERFIL!A:BD,18,FALSE)="","",VLOOKUP($A$10,EXPERIENCIA_REQUERIDA_PERFIL!A:BD,18,FALSE)) | Z14: =IF(VLOOKUP($A$10,EXPERIENCIA_REQUERIDA_PERFIL!A:BD,24,FALSE)="","",VLOOKUP($A$10,EXPERIENCIA_REQUERIDA_PERFIL!A:BD,24,FALSE)) | AB14: =IF(VLOOKUP($A$10,EXPERIENCIA_REQUERIDA_PERFIL!A:BD,30,FALSE)="","",VLOOKUP($A$10,EXPERIENCIA_REQUERIDA_PERFIL!A:BD,30,FALSE)) | AD14: Compleix amb l'experiència mínima requerida | AE14: =IF(AE13=0,"",CONCATENATE("Millora aportada en ",M14)) -> Millora aportada en Consultor/a sènior (Easyvista /Arquitecte) en diferents rols relacionats amb configuració, desplegament i integració d’EasyVista, incloent arquitectura de sistemes i seguretat TIC sempre relacionada amb la plataforma Easyvista | AF14: =IF(AF13=0,"",CONCATENATE("Millora aportada en ",Q14)) | AG14: =IF(AG13=0,"",CONCATENATE("Millora aportada en ",X14)) | AH14: =IF(AH13=0,"",CONCATENATE("Millora aportada en ",Z14)) | AI14: =IF(AI13=0,"",CONCATENATE("Millora aportada en ",AB14)) | AJ14: =IF(AJ12=0,"",VLOOKUP($A$10,EXPERIENCIA_REQUERIDA_PERFIL!A:BD,3,FALSE)) -> EV Service Manager Foundation
A15: 1 | B15: =$B$10 -> Consultor/a sènior (Easyvista / Arquitecte) | E15: TR1 | F15: Treballador exemple 1 | G15: 100 | H15: 5 | L15: SI | M15: =IF($M$14="","",ROUND(SUMIF($AE$24:$AE$88,CONCATENATE(E15,"SI"),$AD$24:$AD$88)/12,2)) -> 4 | Q15: =IF($Q$14="","",ROUND(SUMIF($AF$24:$AF$63,CONCATENATE(E15,"SI"),$AD$24:$AD$63)/12,2)) | X15: =IF($X$14="","",ROUND(SUMIF($AG$24:$AG$63,CONCATENATE(E15,"SI"),$AD$24:$AD$63)/12,2)) | Z15: =IF($Z$14="","",ROUND(SUMIF($AH$24:$AH$63,CONCATENATE(E15,"SI"),$AD$24:$AD$63)/12,2)) | AB15: =IF($AB$14="","",ROUND(SUMIF($AI$24:$AI$63,CONCATENATE(E15,"SI"),$AD$24:$AD$63)/12,2)) | AD15: =IF(OR(E15="",M14=""),"N/A",IF(AND(IF($L$14="","SI",IF(VLOOKUP($A$10,EXPERIENCIA_REQUERIDA_PERFIL!A:BD,4,FALSE)="NO","SI",L15))="SI",M15>=$P$13,Q15>=$W$13,X15>=$Y$13),"OK","KO")) -> OK | AE15: =IF(OR($E15="",$M$14="",AE$13=0),"",MAX(TRUNC((M15-$P$13)/AE$11),0)) -> 1 | AF15: =IF(OR($E15="",$Q$14="",AF$13=0),"",MAX(TRUNC((Q15-$W$13)/AF$11),0)) | AG15: =IF(OR($E15="",$X$14="",AG$13=0),"",MAX(TRUNC((X15-$Y$13)/AG$11),0)) | AH15: =IF(OR($E15="",$Z$14="",AH$13=0),"",MAX(TRUNC(($Z15-$AA$13)/AH$11),0)) | AI15: =IF(OR($E15="",$AB$14="",AI$13=0),"",MAX(TRUNC(($AB15-$AC$13)/AI$11),0)) | AJ15: =IF($AJ$12=0,"",IF(L15="SI",$AJ$12,0)) -> 1
A16: =A15+1 -> 2 | B16: =$B$10 -> Consultor/a sènior (Easyvista / Arquitecte) | L16: N/D | M16: =IF($M$14="","",ROUND(SUMIF($AE$24:$AE$88,CONCATENATE(E16,"SI"),$AD$24:$AD$88)/12,2)) -> 0 | Q16: =IF($Q$14="","",ROUND(SUMIF($AF$24:$AF$63,CONCATENATE(E16,"SI"),$AD$24:$AD$63)/12,2)) | X16: =IF($X$14="","",ROUND(SUMIF($AG$24:$AG$63,CONCATENATE(E16,"SI"),$AD$24:$AD$63)/12,2)) | Z16: =IF($Z$14="","",ROUND(SUMIF($AH$24:$AH$63,CONCATENATE(E16,"SI"),$AD$24:$AD$63)/12,2)) | AB16: =IF($AB$14="","",ROUND(SUMIF($AI$24:$AI$63,CONCATENATE(E16,"SI"),$AD$24:$AD$63)/12,2)) | AD16: =IF(OR(E16="",M15=""),"N/A",IF(AND(IF($L$14="","SI",IF(VLOOKUP($A$10,EXPERIENCIA_REQUERIDA_PERFIL!A:BD,4,FALSE)="NO","SI",L16))="SI",M16>=$P$13,Q16>=$W$13,X16>=$Y$13),"OK","KO")) -> N/A | AE16: =IF(OR($E16="",$M$14="",AE$13=0),"",MAX(TRUNC((M16-$P$13)/AE$11),0)) | AF16: =IF(OR($E16="",$Q$14="",AF$13=0),"",MAX(TRUNC((Q16-$W$13)/AF$11),0)) | AG16: =IF(OR($E16="",$X$14="",AG$13=0),"",MAX(TRUNC((X16-$Y$13)/AG$11),0)) | AH16: =IF(OR($E16="",$Z$14="",AH$13=0),"",MAX(TRUNC(($Z16-$AA$13)/AH$11),0)) | AI16: =IF(OR($E16="",$AB$14="",AI$13=0),"",MAX(TRUNC(($AB16-$AC$13)/AI$11),0)) | AJ16: =IF($AJ$12=0,"",IF(L16="SI",$AJ$12,0)) -> 0
A17: =A16+1 -> 3 | B17: =$B$10 -> Consultor/a sènior (Easyvista / Arquitecte) | L17: N/D | M17: =IF($M$14="","",ROUND(SUMIF($AE$24:$AE$88,CONCATENATE(E17,"SI"),$AD$24:$AD$88)/12,2)) -> 0 | Q17: =IF($Q$14="","",ROUND(SUMIF($AF$24:$AF$63,CONCATENATE(E17,"SI"),$AD$24:$AD$63)/12,2)) | X17: =IF($X$14="","",ROUND(SUMIF($AG$24:$AG$63,CONCATENATE(E17,"SI"),$AD$24:$AD$63)/12,2)) | Z17: =IF($Z$14="","",ROUND(SUMIF($AH$24:$AH$63,CONCATENATE(E17,"SI"),$AD$24:$AD$63)/12,2)) | AB17: =IF($AB$14="","",ROUND(SUMIF($AI$24:$AI$63,CONCATENATE(E17,"SI"),$AD$24:$AD$63)/12,2)) | AD17: =IF(OR(E17="",M16=""),"N/A",IF(AND(IF($L$14="","SI",IF(VLOOKUP($A$10,EXPERIENCIA_REQUERIDA_PERFIL!A:BD,4,FALSE)="NO","SI",L17))="SI",M17>=$P$13,Q17>=$W$13,X17>=$Y$13),"OK","KO")) -> N/A | AE17: =IF(OR($E17="",$M$14="",AE$13=0),"",MAX(TRUNC((M17-$P$13)/AE$11),0)) | AF17: =IF(OR($E17="",$Q$14="",AF$13=0),"",MAX(TRUNC((Q17-$W$13)/AF$11),0)) | AG17: =IF(OR($E17="",$X$14="",AG$13=0),"",MAX(TRUNC((X17-$Y$13)/AG$11),0)) | AH17: =IF(OR($E17="",$Z$14="",AH$13=0),"",MAX(TRUNC(($Z17-$AA$13)/AH$11),0)) | AI17: =IF(OR($E17="",$AB$14="",AI$13=0),"",MAX(TRUNC(($AB17-$AC$13)/AI$11),0)) | AJ17: =IF($AJ$12=0,"",IF(L17="SI",$AJ$12,0)) -> 0
A18: =A17+1 -> 4 | B18: =$B$10 -> Consultor/a sènior (Easyvista / Arquitecte) | L18: N/D | M18: =IF($M$14="","",ROUND(SUMIF($AE$24:$AE$88,CONCATENATE(E18,"SI"),$AD$24:$AD$88)/12,2)) -> 0 | Q18: =IF($Q$14="","",ROUND(SUMIF($AF$24:$AF$63,CONCATENATE(E18,"SI"),$AD$24:$AD$63)/12,2)) | X18: =IF($X$14="","",ROUND(SUMIF($AG$24:$AG$63,CONCATENATE(E18,"SI"),$AD$24:$AD$63)/12,2)) | Z18: =IF($Z$14="","",ROUND(SUMIF($AH$24:$AH$63,CONCATENATE(E18,"SI"),$AD$24:$AD$63)/12,2)) | AB18: =IF($AB$14="","",ROUND(SUMIF($AI$24:$AI$63,CONCATENATE(E18,"SI"),$AD$24:$AD$63)/12,2)) | AD18: =IF(OR(E18="",M17=""),"N/A",IF(AND(IF($L$14="","SI",IF(VLOOKUP($A$10,EXPERIENCIA_REQUERIDA_PERFIL!A:BD,4,FALSE)="NO","SI",L18))="SI",M18>=$P$13,Q18>=$W$13,X18>=$Y$13),"OK","KO")) -> N/A | AE18: =IF(OR($E18="",$M$14="",AE$13=0),"",MAX(TRUNC((M18-$P$13)/AE$11),0)) | AF18: =IF(OR($E18="",$Q$14="",AF$13=0),"",MAX(TRUNC((Q18-$W$13)/AF$11),0)) | AG18: =IF(OR($E18="",$X$14="",AG$13=0),"",MAX(TRUNC((X18-$Y$13)/AG$11),0)) | AH18: =IF(OR($E18="",$Z$14="",AH$13=0),"",MAX(TRUNC(($Z18-$AA$13)/AH$11),0)) | AI18: =IF(OR($E18="",$AB$14="",AI$13=0),"",MAX(TRUNC(($AB18-$AC$13)/AI$11),0)) | AJ18: =IF($AJ$12=0,"",IF(L18="SI",$AJ$12,0)) -> 0
A19: =A18+1 -> 5 | B19: =$B$10 -> Consultor/a sènior (Easyvista / Arquitecte) | L19: N/D | M19: =IF($M$14="","",ROUND(SUMIF($AE$24:$AE$88,CONCATENATE(E19,"SI"),$AD$24:$AD$88)/12,2)) -> 0 | Q19: =IF($Q$14="","",ROUND(SUMIF($AF$24:$AF$63,CONCATENATE(E19,"SI"),$AD$24:$AD$63)/12,2)) | X19: =IF($X$14="","",ROUND(SUMIF($AG$24:$AG$63,CONCATENATE(E19,"SI"),$AD$24:$AD$63)/12,2)) | Z19: =IF($Z$14="","",ROUND(SUMIF($AH$24:$AH$63,CONCATENATE(E19,"SI"),$AD$24:$AD$63)/12,2)) | AB19: =IF($AB$14="","",ROUND(SUMIF($AI$24:$AI$63,CONCATENATE(E19,"SI"),$AD$24:$AD$63)/12,2)) | AD19: =IF(OR(E19="",M18=""),"N/A",IF(AND(IF($L$14="","SI",IF(VLOOKUP($A$10,EXPERIENCIA_REQUERIDA_PERFIL!A:BD,4,FALSE)="NO","SI",L19))="SI",M19>=$P$13,Q19>=$W$13,X19>=$Y$13),"OK","KO")) -> N/A | AE19: =IF(OR($E19="",$M$14="",AE$13=0),"",MAX(TRUNC((M19-$P$13)/AE$11),0)) | AF19: =IF(OR($E19="",$Q$14="",AF$13=0),"",MAX(TRUNC((Q19-$W$13)/AF$11),0)) | AG19: =IF(OR($E19="",$X$14="",AG$13=0),"",MAX(TRUNC((X19-$Y$13)/AG$11),0)) | AH19: =IF(OR($E19="",$Z$14="",AH$13=0),"",MAX(TRUNC(($Z19-$AA$13)/AH$11),0)) | AI19: =IF(OR($E19="",$AB$14="",AI$13=0),"",MAX(TRUNC(($AB19-$AC$13)/AI$11),0)) | AJ19: =IF($AJ$12=0,"",IF(L19="SI",$AJ$12,0)) -> 0
AD20: Total blocs de punts | AE20: =SUM(AE15:AE19) -> 1 | AF20: =SUM(AF15:AF19) -> 0 | AG20: =SUM(AG15:AG19) -> 0 | AH20: =SUM(AH15:AH19) -> 0 | AI20: =SUM(AI15:AI19) -> 0 | AJ20: =SUM(AJ15:AJ19) -> 1
AD21: Total punts limitant amb màxim | AE21: =MIN(AE13,AE12*AE20) -> 1 | AF21: =MIN(AF13,AF12*AF20) -> 0 | AG21: =MIN(AG13,AG12*AG20) -> 0 | AH21: =MIN(AH13,AH12*AH20) -> 0 | AI21: =MIN(AI13,AI12*AI20) -> 0 | AJ21: =MIN($AJ$13,SUM(AJ15:AJ19)) -> 1
B23: Nom administració / empresa, tantes files com administracions / empreses on hagi assolit l’experiència amb aquest rol | E23: Detall de projecte on es declari el rol realitzat per el recurs i les tecnologies associades, destacant les relatives a l’objecte del contracte, tantes files com projectes on hagi tingut l’experiència amb aquest rol | N23: Núm. expedient / contracte | O23: Inicials del treballador/a | P23: =M14 -> Consultor/a sènior (Easyvista /Arquitecte) en diferents rols relacionats amb configuració, desplegament i integració d’EasyVista, incloent arquitectura de sistemes i seguretat TIC sempre relacionada amb la plataforma Easyvista | Q23: =Q14 | W23: =X14 | X23: =Z14 | Y23: =AB14 | Z23: Inici amb el rol (DD/MM/AAAA) | AA23: Fi amb el rol (DD/MM/AAAA) | AC23: % Dedicació | AD23: Mesos
B24: Ajuntament 1 | E24: Projecte 1 exemple | O24: TR1 | P24: SI | Q24: NO | W24: NO | X24: NO | Y24: NO | Z24: 43101 | AA24: 44562 | AC24: 1 | AD24: =ROUND((AA24-Z24)/365*12*AC24,2) -> 48.03 | AE24: =CONCATENATE(O24,P24) -> TR1SI | AF24: =CONCATENATE(O24,Q24) -> TR1NO | AG24: =CONCATENATE(O24,W24) -> TR1NO | AH24: =CONCATENATE(O24,X24) -> TR1NO | AI24: =CONCATENATE(O24,Y24) -> TR1NO
P25: N/D | Q25: N/D | W25: N/D | X25: N/D | Y25: N/D | AD25: =ROUND((AA25-Z25)/365*12*AC25,2) -> 0 | AE25: =CONCATENATE(O25,P25) -> N/D | AF25: =CONCATENATE(O25,Q25) -> N/D | AG25: =CONCATENATE(O25,W25) -> N/D | AH25: =CONCATENATE(O25,X25) -> N/D | AI25: =CONCATENATE(O25,Y25) -> N/D
P26: N/D | Q26: N/D | W26: N/D | X26: N/D | Y26: N/D | AD26: =ROUND((AA26-Z26)/365*12*AC26,2) -> 0 | AE26: =CONCATENATE(O26,P26) -> N/D | AF26: =CONCATENATE(O26,Q26) -> N/D | AG26: =CONCATENATE(O26,W26) -> N/D | AH26: =CONCATENATE(O26,X26) -> N/D | AI26: =CONCATENATE(O26,Y26) -> N/D
P27: N/D | Q27: N/D | W27: N/D | X27: N/D | Y27: N/D | AD27: =ROUND((AA27-Z27)/365*12*AC27,2) -> 0 | AE27: =CONCATENATE(O27,P27) -> N/D | AF27: =CONCATENATE(O27,Q27) -> N/D | AG27: =CONCATENATE(O27,W27) -> N/D | AH27: =CONCATENATE(O27,X27) -> N/D | AI27: =CONCATENATE(O27,Y27) -> N/D
P28: N/D | Q28: N/D | W28: N/D | X28: N/D | Y28: N/D | AD28: =ROUND((AA28-Z28)/365*12*AC28,2) -> 0 | AE28: =CONCATENATE(O28,P28) -> N/D | AF28: =CONCATENATE(O28,Q28) -> N/D | AG28: =CONCATENATE(O28,W28) -> N/D | AH28: =CONCATENATE(O28,X28) -> N/D | AI28: =CONCATENATE(O28,Y28) -> N/D
P29: N/D | Q29: N/D | W29: N/D | X29: N/D | Y29: N/D | AD29: =ROUND((AA29-Z29)/365*12*AC29,2) -> 0 | AE29: =CONCATENATE(O29,P29) -> N/D | AF29: =CONCATENATE(O29,Q29) -> N/D | AG29: =CONCATENATE(O29,W29) -> N/D | AH29: =CONCATENATE(O29,X29) -> N/D | AI29: =CONCATENATE(O29,Y29) -> N/D
P30: N/D | Q30: N/D | W30: N/D | X30: N/D | Y30: N/D | AD30: =ROUND((AA30-Z30)/365*12*AC30,2) -> 0 | AE30: =CONCATENATE(O30,P30) -> N/D | AF30: =CONCATENATE(O30,Q30) -> N/D | AG30: =CONCATENATE(O30,W30) -> N/D | AH30: =CONCATENATE(O30,X30) -> N/D | AI30: =CONCATENATE(O30,Y30) -> N/D
P31: N/D | Q31: N/D | W31: N/D | X31: N/D | Y31: N/D | AD31: =ROUND((AA31-Z31)/365*12*AC31,2) -> 0 | AE31: =CONCATENATE(O31,P31) -> N/D | AF31: =CONCATENATE(O31,Q31) -> N/D | AG31: =CONCATENATE(O31,W31) -> N/D | AH31: =CONCATENATE(O31,X31) -> N/D | AI31: =CONCATENATE(O31,Y31) -> N/D
P32: N/D | Q32: N/D | W32: N/D | X32: N/D | Y32: N/D | AD32: =ROUND((AA32-Z32)/365*12*AC32,2) -> 0 | AE32: =CONCATENATE(O32,P32) -> N/D | AF32: =CONCATENATE(O32,Q32) -> N/D | AG32: =CONCATENATE(O32,W32) -> N/D | AH32: =CONCATENATE(O32,X32) -> N/D | AI32: =CONCATENATE(O32,Y32) -> N/D
P33: N/D | Q33: N/D | W33: N/D | X33: N/D | Y33: N/D | AD33: =ROUND((AA33-Z33)/365*12*AC33,2) -> 0 | AE33: =CONCATENATE(O33,P33) -> N/D | AF33: =CONCATENATE(O33,Q33) -> N/D | AG33: =CONCATENATE(O33,W33) -> N/D | AH33: =CONCATENATE(O33,X33) -> N/D | AI33: =CONCATENATE(O33,Y33) -> N/D
P34: N/D | Q34: N/D | W34: N/D | X34: N/D | Y34: N/D | AD34: =ROUND((AA34-Z34)/365*12*AC34,2) -> 0 | AE34: =CONCATENATE(O34,P34) -> N/D | AF34: =CONCATENATE(O34,Q34) -> N/D | AG34: =CONCATENATE(O34,W34) -> N/D | AH34: =CONCATENATE(O34,X34) -> N/D | AI34: =CONCATENATE(O34,Y34) -> N/D
P35: N/D | Q35: N/D | W35: N/D | X35: N/D | Y35: N/D | AD35: =ROUND((AA35-Z35)/365*12*AC35,2) -> 0 | AE35: =CONCATENATE(O35,P35) -> N/D | AF35: =CONCATENATE(O35,Q35) -> N/D | AG35: =CONCATENATE(O35,W35) -> N/D | AH35: =CONCATENATE(O35,X35) -> N/D | AI35: =CONCATENATE(O35,Y35) -> N/D
P36: N/D | Q36: N/D | W36: N/D | X36: N/D | Y36: N/D | AD36: =ROUND((AA36-Z36)/365*12*AC36,2) -> 0 | AE36: =CONCATENATE(O36,P36) -> N/D | AF36: =CONCATENATE(O36,Q36) -> N/D | AG36: =CONCATENATE(O36,W36) -> N/D | AH36: =CONCATENATE(O36,X36) -> N/D | AI36: =CONCATENATE(O36,Y36) -> N/D
... P88: N/D | Q88: N/D | W88: N/D | X88: N/D | Y88: N/D | AD88: =ROUND((AA88-Z88)/365*12*AC88,2) -> 0 | AE88: =CONCATENATE(O88,P88) -> N/D | AF88: =CONCATENATE(O88,Q88) -> N/D | AG88: =CONCATENATE(O88,W88) -> N/D | AH88: =CONCATENATE(O88,X88) -> N/D | AI88: =CONCATENATE(O88,Y88) -> N/D

Sheet 3. Analista_programad_PHP
D2: DECLARACIÓ DE DADES DETALL EQUIP TÈCNIC
A7: Omplir només les caselles en Verd, les caselles grises s'ompliran automàticament. A la primera taula una fila per cada treballador del perfil. A la segona taula tantes files com experiències diferents tinguin els teballadors.
A8: En cas de que en una mateixa persona hagi participat en dos o més projectes o serveis alhora, la suma de la dedicació a tots ells no podrà superar el 100%
A10: 3 | B10: =VLOOKUP(A10,EXPERIENCIA_REQUERIDA_PERFIL!A:B,2,FALSE) -> Analista programador/a PHP
AE11: Bloc d'anys addicionals per cada punt | AF11: =VLOOKUP($A$10,EXPERIENCIA_REQUERIDA_PERFIL!A:BD,10,FALSE) -> 1 | AG11: =VLOOKUP($A$10,EXPERIENCIA_REQUERIDA_PERFIL!A:BD,16,FALSE) -> 0 | AH11: =VLOOKUP($A$10,EXPERIENCIA_REQUERIDA_PERFIL!A:BD,22,FALSE) -> 0 | AI11: =VLOOKUP($A$10,EXPERIENCIA_REQUERIDA_PERFIL!A:BD,28,FALSE) -> 0 | AJ11: =VLOOKUP($A$10,EXPERIENCIA_REQUERIDA_PERFIL!A:BD,34,FALSE) -> 0
AE12: Punts addicionals per cada bloc d'anys | AF12: =VLOOKUP($A$10,EXPERIENCIA_REQUERIDA_PERFIL!A:BD,11,FALSE) -> 0.75 | AG12: =VLOOKUP($A$10,EXPERIENCIA_REQUERIDA_PERFIL!A:BD,17,FALSE) -> 0 | AH12: =VLOOKUP($A$10,EXPERIENCIA_REQUERIDA_PERFIL!A:BD,23,FALSE) -> 0 | AI12: =VLOOKUP($A$10,EXPERIENCIA_REQUERIDA_PERFIL!A:BD,29,FALSE) -> 0 | AJ12: =VLOOKUP($A$10,EXPERIENCIA_REQUERIDA_PERFIL!A:BD,35,FALSE) -> 0 | AK12: 0.5 | AL12: 0.5
N13: Experiència 1. Anys experiència mínima | Q13: =VLOOKUP($A$10,EXPERIENCIA_REQUERIDA_PERFIL!A:BD,7,FALSE) -> 2 | R13: Experiència 2. Anys experiència mínima | X13: =VLOOKUP($A$10,EXPERIENCIA_REQUERIDA_PERFIL!A:BD,13,FALSE) -> 0 | Y13: Experiència 3. Anys experiència mínima | Z13: =VLOOKUP($A$10,EXPERIENCIA_REQUERIDA_PERFIL!A:BD,19,FALSE) -> 0 | AA13: Experiència 4. Anys experiència mínima | AB13: =VLOOKUP($A$10,EXPERIENCIA_REQUERIDA_PERFIL!A:BD,25,FALSE) -> 0 | AC13: Experiència 5. Anys experiència mínima | AD13: =VLOOKUP($A$10,EXPERIENCIA_REQUERIDA_PERFIL!A:BD,31,FALSE) -> 0 | AE13: Màxim punts | AF13: =VLOOKUP($A$10,EXPERIENCIA_REQUERIDA_PERFIL!A:BD,9,FALSE) -> 4.5 | AG13: =VLOOKUP($A$10,EXPERIENCIA_REQUERIDA_PERFIL!A:BD,15,FALSE) -> 0 | AH13: =VLOOKUP($A$10,EXPERIENCIA_REQUERIDA_PERFIL!A:BD,21,FALSE) -> 0 | AI13: =VLOOKUP($A$10,EXPERIENCIA_REQUERIDA_PERFIL!A:BD,27,FALSE) -> 0 | AJ13: =VLOOKUP($A$10,EXPERIENCIA_REQUERIDA_PERFIL!A:BD,33,FALSE) -> 0 | AK13: 1 | AL13: 1
B14: Nom de perfil del plec | E14: Inicials del treballador/a | F14: Nom del treballador/a | G14: Dedicació prevista | H14: Anys fent les tasques demanades en aquest perfil | L14: =IF(VLOOKUP($A$10,EXPERIENCIA_REQUERIDA_PERFIL!A:C,3,FALSE)="","",VLOOKUP($A$10,EXPERIENCIA_REQUERIDA_PERFIL!A:C,3,FALSE)) -> EV Service Manager Foundation | M14: EV Service Apps | N14: =IF(VLOOKUP($A$10,EXPERIENCIA_REQUERIDA_PERFIL!A:BD,6,FALSE)="","",VLOOKUP($A$10,EXPERIENCIA_REQUERIDA_PERFIL!A:BD,6,FALSE)) -> Analista programador/a PHP en diferents rols relacionats amb desenvolupament d’aplicacions PHP i mòduls d’Easyvista | R14: =IF(VLOOKUP($A$10,EXPERIENCIA_REQUERIDA_PERFIL!A:BD,12,FALSE)="","",VLOOKUP($A$10,EXPERIENCIA_REQUERIDA_PERFIL!A:BD,12,FALSE)) | Y14: =IF(VLOOKUP($A$10,EXPERIENCIA_REQUERIDA_PERFIL!A:BD,18,FALSE)="","",VLOOKUP($A$10,EXPERIENCIA_REQUERIDA_PERFIL!A:BD,18,FALSE)) | AA14: =IF(VLOOKUP($A$10,EXPERIENCIA_REQUERIDA_PERFIL!A:BD,24,FALSE)="","",VLOOKUP($A$10,EXPERIENCIA_REQUERIDA_PERFIL!A:BD,24,FALSE)) | AC14: =IF(VLOOKUP($A$10,EXPERIENCIA_REQUERIDA_PERFIL!A:BD,30,FALSE)="","",VLOOKUP($A$10,EXPERIENCIA_REQUERIDA_PERFIL!A:BD,30,FALSE)) | AE14: Compleix amb l'experiència mínima requerida | AF14: =IF(AF13=0,"",CONCATENATE("Millora aportada en ",N14)) -> Millora aportada en Analista programador/a PHP en diferents rols relacionats amb desenvolupament d’aplicacions PHP i mòduls d’Easyvista | AG14: =IF(AG13=0,"",CONCATENATE("Millora aportada en ",R14)) | AH14: =IF(AH13=0,"",CONCATENATE("Millora aportada en ",Y14)) | AI14: =IF(AI13=0,"",CONCATENATE("Millora aportada en ",AA14)) | AJ14: =IF(AJ13=0,"",CONCATENATE("Millora aportada en ",AC14)) | AK14: =IF(AK12=0,"",VLOOKUP($A$10,EXPERIENCIA_REQUERIDA_PERFIL!A:BD,3,FALSE)) -> EV Service Manager Foundation | AL14: EV Service Apps
A15: 1 | B15: =$B$10 -> Analista programador/a PHP | E15: TR1 | F15: Treballador exemple 1 | G15: 100 | H15: 5 | L15: SI | M15: NO | N15: =IF($N$14="","",ROUND(SUMIF($AF$24:$AF$88,CONCATENATE(E15,"SI"),$AE$24:$AE$88)/12,2)) -> 4 | R15: =IF($R$14="","",ROUND(SUMIF($AG$24:$AG$63,CONCATENATE(E15,"SI"),$AE$24:$AE$63)/12,2)) | Y15: =IF($Y$14="","",ROUND(SUMIF($AH$24:$AH$63,CONCATENATE(E15,"SI"),$AE$24:$AE$63)/12,2)) | AA15: =IF($AA$14="","",ROUND(SUMIF($AI$24:$AI$63,CONCATENATE(E15,"SI"),$AE$24:$AE$63)/12,2)) | AC15: =IF($AC$14="","",ROUND(SUMIF($AJ$24:$AJ$63,CONCATENATE(E15,"SI"),$AE$24:$AE$63)/12,2)) | AE15: =IF(OR(E15="",N14=""),"N/A",IF(AND(IF($L$14="","SI",IF(VLOOKUP($A$10,EXPERIENCIA_REQUERIDA_PERFIL!A:BD,4,FALSE)="NO","SI",L15))="SI",N15>=$Q$13,R15>=$X$13,Y15>=$Z$13),"OK","KO")) -> OK | AF15: =IF(OR($E15="",$N$14="",AF$13=0),"",MAX(TRUNC((N15-$Q$13)/AF$11),0)) -> 2 | AG15: =IF(OR($E15="",$R$14="",AG$13=0),"",MAX(TRUNC((R15-$X$13)/AG$11),0)) | AH15: =IF(OR($E15="",$Y$14="",AH$13=0),"",MAX(TRUNC((Y15-$Z$13)/AH$11),0)) | AI15: =IF(OR($E15="",$AA$14="",AI$13=0),"",MAX(TRUNC(($AA15-$AB$13)/AI$11),0)) | AJ15: =IF(OR($E15="",$AC$14="",AJ$13=0),"",MAX(TRUNC(($AC15-$AD$13)/AJ$11),0)) | AK15: =IF($AK$12=0,"",IF(L15="SI",$AK$12,0)) -> 0.5 | AL15: =IF($AK$12=0,"",IF(M15="SI",$AK$12,0)) -> 0
A16: =A15+1 -> 2 | B16: =$B$10 -> Analista programador/a PHP | L16: N/D | N16: =IF($N$14="","",ROUND(SUMIF($AF$24:$AF$88,CONCATENATE(E16,"SI"),$AE$24:$AE$88)/12,2)) -> 0 | R16: =IF($R$14="","",ROUND(SUMIF($AG$24:$AG$63,CONCATENATE(E16,"SI"),$AE$24:$AE$63)/12,2)) | Y16: =IF($Y$14="","",ROUND(SUMIF($AH$24:$AH$63,CONCATENATE(E16,"SI"),$AE$24:$AE$63)/12,2)) | AA16: =IF($AA$14="","",ROUND(SUMIF($AI$24:$AI$63,CONCATENATE(E16,"SI"),$AE$24:$AE$63)/12,2)) | AC16: =IF($AC$14="","",ROUND(SUMIF($AJ$24:$AJ$63,CONCATENATE(E16,"SI"),$AE$24:$AE$63)/12,2)) | AE16: =IF(OR(E16="",N15=""),"N/A",IF(AND(IF($L$14="","SI",IF(VLOOKUP($A$10,EXPERIENCIA_REQUERIDA_PERFIL!A:BD,4,FALSE)="NO","SI",L16))="SI",N16>=$Q$13,R16>=$X$13,Y16>=$Z$13),"OK","KO")) -> N/A | AF16: =IF(OR($E16="",$N$14="",AF$13=0),"",MAX(TRUNC((N16-$Q$13)/AF$11),0)) | AG16: =IF(OR($E16="",$R$14="",AG$13=0),"",MAX(TRUNC((R16-$X$13)/AG$11),0)) | AH16: =IF(OR($E16="",$Y$14="",AH$13=0),"",MAX(TRUNC((Y16-$Z$13)/AH$11),0)) | AI16: =IF(OR($E16="",$AA$14="",AI$13=0),"",MAX(TRUNC(($AA16-$AB$13)/AI$11),0)) | AJ16: =IF(OR($E16="",$AC$14="",AJ$13=0),"",MAX(TRUNC(($AC16-$AD$13)/AJ$11),0)) | AK16: =IF($AK$12=0,"",IF(L16="SI",$AK$12,0)) -> 0 | AL16: =IF($AK$12=0,"",IF(M16="SI",$AK$12,0)) -> 0
A17: =A16+1 -> 3 | B17: =$B$10 -> Analista programador/a PHP | L17: N/D | N17: =IF($N$14="","",ROUND(SUMIF($AF$24:$AF$88,CONCATENATE(E17,"SI"),$AE$24:$AE$88)/12,2)) -> 0 | R17: =IF($R$14="","",ROUND(SUMIF($AG$24:$AG$63,CONCATENATE(E17,"SI"),$AE$24:$AE$63)/12,2)) | Y17: =IF($Y$14="","",ROUND(SUMIF($AH$24:$AH$63,CONCATENATE(E17,"SI"),$AE$24:$AE$63)/12,2)) | AA17: =IF($AA$14="","",ROUND(SUMIF($AI$24:$AI$63,CONCATENATE(E17,"SI"),$AE$24:$AE$63)/12,2)) | AC17: =IF($AC$14="","",ROUND(SUMIF($AJ$24:$AJ$63,CONCATENATE(E17,"SI"),$AE$24:$AE$63)/12,2)) | AE17: =IF(OR(E17="",N16=""),"N/A",IF(AND(IF($L$14="","SI",IF(VLOOKUP($A$10,EXPERIENCIA_REQUERIDA_PERFIL!A:BD,4,FALSE)="NO","SI",L17))="SI",N17>=$Q$13,R17>=$X$13,Y17>=$Z$13),"OK","KO")) -> N/A | AF17: =IF(OR($E17="",$N$14="",AF$13=0),"",MAX(TRUNC((N17-$Q$13)/AF$11),0)) | AG17: =IF(OR($E17="",$R$14="",AG$13=0),"",MAX(TRUNC((R17-$X$13)/AG$11),0)) | AH17: =IF(OR($E17="",$Y$14="",AH$13=0),"",MAX(TRUNC((Y17-$Z$13)/AH$11),0)) | AI17: =IF(OR($E17="",$AA$14="",AI$13=0),"",MAX(TRUNC(($AA17-$AB$13)/AI$11),0)) | AJ17: =IF(OR($E17="",$AC$14="",AJ$13=0),"",MAX(TRUNC(($AC17-$AD$13)/AJ$11),0)) | AK17: =IF($AK$12=0,"",IF(L17="SI",$AK$12,0)) -> 0 | AL17: =IF($AK$12=0,"",IF(M17="SI",$AK$12,0)) -> 0
A18: =A17+1 -> 4 | B18: =$B$10 -> Analista programador/a PHP | L18: N/D | N18: =IF($N$14="","",ROUND(SUMIF($AF$24:$AF$88,CONCATENATE(E18,"SI"),$AE$24:$AE$88)/12,2)) -> 0 | R18: =IF($R$14="","",ROUND(SUMIF($AG$24:$AG$63,CONCATENATE(E18,"SI"),$AE$24:$AE$63)/12,2)) | Y18: =IF($Y$14="","",ROUND(SUMIF($AH$24:$AH$63,CONCATENATE(E18,"SI"),$AE$24:$AE$63)/12,2)) | AA18: =IF($AA$14="","",ROUND(SUMIF($AI$24:$AI$63,CONCATENATE(E18,"SI"),$AE$24:$AE$63)/12,2)) | AC18: =IF($AC$14="","",ROUND(SUMIF($AJ$24:$AJ$63,CONCATENATE(E18,"SI"),$AE$24:$AE$63)/12,2)) | AE18: =IF(OR(E18="",N17=""),"N/A",IF(AND(IF($L$14="","SI",IF(VLOOKUP($A$10,EXPERIENCIA_REQUERIDA_PERFIL!A:BD,4,FALSE)="NO","SI",L18))="SI",N18>=$Q$13,R18>=$X$13,Y18>=$Z$13),"OK","KO")) -> N/A | AF18: =IF(OR($E18="",$N$14="",AF$13=0),"",MAX(TRUNC((N18-$Q$13)/AF$11),0)) | AG18: =IF(OR($E18="",$R$14="",AG$13=0),"",MAX(TRUNC((R18-$X$13)/AG$11),0)) | AH18: =IF(OR($E18="",$Y$14="",AH$13=0),"",MAX(TRUNC((Y18-$Z$13)/AH$11),0)) | AI18: =IF(OR($E18="",$AA$14="",AI$13=0),"",MAX(TRUNC(($AA18-$AB$13)/AI$11),0)) | AJ18: =IF(OR($E18="",$AC$14="",AJ$13=0),"",MAX(TRUNC(($AC18-$AD$13)/AJ$11),0)) | AK18: =IF($AK$12=0,"",IF(L18="SI",$AK$12,0)) -> 0 | AL18: =IF($AK$12=0,"",IF(M18="SI",$AK$12,0)) -> 0
A19: =A18+1 -> 5 | B19: =$B$10 -> Analista programador/a PHP | L19: N/D | N19: =IF($N$14="","",ROUND(SUMIF($AF$24:$AF$88,CONCATENATE(E19,"SI"),$AE$24:$AE$88)/12,2)) -> 0 | R19: =IF($R$14="","",ROUND(SUMIF($AG$24:$AG$63,CONCATENATE(E19,"SI"),$AE$24:$AE$63)/12,2)) | Y19: =IF($Y$14="","",ROUND(SUMIF($AH$24:$AH$63,CONCATENATE(E19,"SI"),$AE$24:$AE$63)/12,2)) | AA19: =IF($AA$14="","",ROUND(SUMIF($AI$24:$AI$63,CONCATENATE(E19,"SI"),$AE$24:$AE$63)/12,2)) | AC19: =IF($AC$14="","",ROUND(SUMIF($AJ$24:$AJ$63,CONCATENATE(E19,"SI"),$AE$24:$AE$63)/12,2)) | AE19: =IF(OR(E19="",N18=""),"N/A",IF(AND(IF($L$14="","SI",IF(VLOOKUP($A$10,EXPERIENCIA_REQUERIDA_PERFIL!A:BD,4,FALSE)="NO","SI",L19))="SI",N19>=$Q$13,R19>=$X$13,Y19>=$Z$13),"OK","KO")) -> N/A | AF19: =IF(OR($E19="",$N$14="",AF$13=0),"",MAX(TRUNC((N19-$Q$13)/AF$11),0)) | AG19: =IF(OR($E19="",$R$14="",AG$13=0),"",MAX(TRUNC((R19-$X$13)/AG$11),0)) | AH19: =IF(OR($E19="",$Y$14="",AH$13=0),"",MAX(TRUNC((Y19-$Z$13)/AH$11),0)) | AI19: =IF(OR($E19="",$AA$14="",AI$13=0),"",MAX(TRUNC(($AA19-$AB$13)/AI$11),0)) | AJ19: =IF(OR($E19="",$AC$14="",AJ$13=0),"",MAX(TRUNC(($AC19-$AD$13)/AJ$11),0)) | AK19: =IF($AK$12=0,"",IF(L19="SI",$AK$12,0)) -> 0 | AL19: =IF($AK$12=0,"",IF(M19="SI",$AK$12,0)) -> 0
AE20: Total blocs de punts | AF20: =SUM(AF15:AF19) -> 2 | AG20: =SUM(AG15:AG19) -> 0 | AH20: =SUM(AH15:AH19) -> 0 | AI20: =SUM(AI15:AI19) -> 0 | AJ20: =SUM(AJ15:AJ19) -> 0 | AK20: =SUM(AK15:AK19) -> 0.5 | AL20: =SUM(AL15:AL19) -> 0
AE21: Total punts limitant amb màxim | AF21: =MIN(AF13,AF12*AF20) -> 1.5 | AG21: =MIN(AG13,AG12*AG20) -> 0 | AH21: =MIN(AH13,AH12*AH20) -> 0 | AI21: =MIN(AI13,AI12*AI20) -> 0 | AJ21: =MIN(AJ13,AJ12*AJ20) -> 0 | AK21: =MIN($AK$13,SUM(AK15:AK19)) -> 0.5 | AL21: =MIN($AK$13,SUM(AL15:AL19)) -> 0
B23: Nom administració / empresa, tantes files com administracions / empreses on hagi assolit l’experiència amb aquest rol | E23: Detall de projecte on es declari el rol realitzat per el recurs i les tecnologies associades, destacant les relatives a l’objecte del contracte, tantes files com projectes on hagi tingut l’experiència amb aquest rol | O23: Núm. expedient / contracte | P23: Inicials del treballador/a | Q23: =N14 -> Analista programador/a PHP en diferents rols relacionats amb desenvolupament d’aplicacions PHP i mòduls d’Easyvista | R23: =R14 | X23: =Y14 | Y23: =AA14 | Z23: =AC14 | AA23: Inici amb el rol (DD/MM/AAAA) | AB23: Fi amb el rol (DD/MM/AAAA) | AD23: % Dedicació | AE23: Mesos
B24: Ajuntament 1 | E24: Projecte 1 exemple | P24: TR1 | Q24: SI | R24: NO | X24: NO | Y24: NO | Z24: NO | AA24: 43101 | AB24: 44562 | AD24: 1 | AE24: =ROUND((AB24-AA24)/365*12*AD24,2) -> 48.03 | AF24: =CONCATENATE(P24,Q24) -> TR1SI | AG24: =CONCATENATE(P24,R24) -> TR1NO | AH24: =CONCATENATE(P24,X24) -> TR1NO | AI24: =CONCATENATE(P24,Y24) -> TR1NO | AJ24: =CONCATENATE(P24,Z24) -> TR1NO
Q25: N/D | R25: N/D | X25: N/D | Y25: N/D | Z25: N/D | AE25: =ROUND((AB25-AA25)/365*12*AD25,2) -> 0 | AF25: =CONCATENATE(P25,Q25) -> N/D | AG25: =CONCATENATE(P25,R25) -> N/D | AH25: =CONCATENATE(P25,X25) -> N/D | AI25: =CONCATENATE(P25,Y25) -> N/D | AJ25: =CONCATENATE(P25,Z25) -> N/D
Q26: N/D | R26: N/D | X26: N/D | Y26: N/D | Z26: N/D | AE26: =ROUND((AB26-AA26)/365*12*AD26,2) -> 0 | AF26: =CONCATENATE(P26,Q26) -> N/D | AG26: =CONCATENATE(P26,R26) -> N/D | AH26: =CONCATENATE(P26,X26) -> N/D | AI26: =CONCATENATE(P26,Y26) -> N/D | AJ26: =CONCATENATE(P26,Z26) -> N/D
Q27: N/D | R27: N/D | X27: N/D | Y27: N/D | Z27: N/D | AE27: =ROUND((AB27-AA27)/365*12*AD27,2) -> 0 | AF27: =CONCATENATE(P27,Q27) -> N/D | AG27: =CONCATENATE(P27,R27) -> N/D | AH27: =CONCATENATE(P27,X27) -> N/D | AI27: =CONCATENATE(P27,Y27) -> N/D | AJ27: =CONCATENATE(P27,Z27) -> N/D
Q28: N/D | R28: N/D | X28: N/D | Y28: N/D | Z28: N/D | AE28: =ROUND((AB28-AA28)/365*12*AD28,2) -> 0 | AF28: =CONCATENATE(P28,Q28) -> N/D | AG28: =CONCATENATE(P28,R28) -> N/D | AH28: =CONCATENATE(P28,X28) -> N/D | AI28: =CONCATENATE(P28,Y28) -> N/D | AJ28: =CONCATENATE(P28,Z28) -> N/D
Q29: N/D | R29: N/D | X29: N/D | Y29: N/D | Z29: N/D | AE29: =ROUND((AB29-AA29)/365*12*AD29,2) -> 0 | AF29: =CONCATENATE(P29,Q29) -> N/D | AG29: =CONCATENATE(P29,R29) -> N/D | AH29: =CONCATENATE(P29,X29) -> N/D | AI29: =CONCATENATE(P29,Y29) -> N/D | AJ29: =CONCATENATE(P29,Z29) -> N/D
Q30: N/D | R30: N/D | X30: N/D | Y30: N/D | Z30: N/D | AE30: =ROUND((AB30-AA30)/365*12*AD30,2) -> 0 | AF30: =CONCATENATE(P30,Q30) -> N/D | AG30: =CONCATENATE(P30,R30) -> N/D | AH30: =CONCATENATE(P30,X30) -> N/D | AI30: =CONCATENATE(P30,Y30) -> N/D | AJ30: =CONCATENATE(P30,Z30) -> N/D
Q31: N/D | R31: N/D | X31: N/D | Y31: N/D | Z31: N/D | AE31: =ROUND((AB31-AA31)/365*12*AD31,2) -> 0 | AF31: =CONCATENATE(P31,Q31) -> N/D | AG31: =CONCATENATE(P31,R31) -> N/D | AH31: =CONCATENATE(P31,X31) -> N/D | AI31: =CONCATENATE(P31,Y31) -> N/D | AJ31: =CONCATENATE(P31,Z31) -> N/D
Q32: N/D | R32: N/D | X32: N/D | Y32: N/D | Z32: N/D | AE32: =ROUND((AB32-AA32)/365*12*AD32,2) -> 0 | AF32: =CONCATENATE(P32,Q32) -> N/D | AG32: =CONCATENATE(P32,R32) -> N/D | AH32: =CONCATENATE(P32,X32) -> N/D | AI32: =CONCATENATE(P32,Y32) -> N/D | AJ32: =CONCATENATE(P32,Z32) -> N/D
Q33: N/D | R33: N/D | X33: N/D | Y33: N/D | Z33: N/D | AE33: =ROUND((AB33-AA33)/365*12*AD33,2) -> 0 | AF33: =CONCATENATE(P33,Q33) -> N/D | AG33: =CONCATENATE(P33,R33) -> N/D | AH33: =CONCATENATE(P33,X33) -> N/D | AI33: =CONCATENATE(P33,Y33) -> N/D | AJ33: =CONCATENATE(P33,Z33) -> N/D
Q34: N/D | R34: N/D | X34: N/D | Y34: N/D | Z34: N/D | AE34: =ROUND((AB34-AA34)/365*12*AD34,2) -> 0 | AF34: =CONCATENATE(P34,Q34) -> N/D | AG34: =CONCATENATE(P34,R34) -> N/D | AH34: =CONCATENATE(P34,X34) -> N/D | AI34: =CONCATENATE(P34,Y34) -> N/D | AJ34: =CONCATENATE(P34,Z34) -> N/D
Q35: N/D | R35: N/D | X35: N/D | Y35: N/D | Z35: N/D | AE35: =ROUND((AB35-AA35)/365*12*AD35,2) -> 0 | AF35: =CONCATENATE(P35,Q35) -> N/D | AG35: =CONCATENATE(P35,R35) -> N/D | AH35: =CONCATENATE(P35,X35) -> N/D | AI35: =CONCATENATE(P35,Y35) -> N/D | AJ35: =CONCATENATE(P35,Z35) -> N/D
Q36: N/D | R36: N/D | X36: N/D | Y36: N/D | Z36: N/D | AE36: =ROUND((AB36-AA36)/365*12*AD36,2) -> 0 | AF36: =CONCATENATE(P36,Q36) -> N/D | AG36: =CONCATENATE(P36,R36) -> N/D | AH36: =CONCATENATE(P36,X36) -> N/D | AI36: =CONCATENATE(P36,Y36) -> N/D | AJ36: =CONCATENATE(P36,Z36) -> N/D
... Q88: N/D | R88: N/D | X88: N/D | Y88: N/D | Z88: N/D | AE88: =ROUND((AB88-AA88)/365*12*AD88,2) -> 0 | AF88: =CONCATENATE(P88,Q88) -> N/D | AG88: =CONCATENATE(P88,R88) -> N/D | AH88: =CONCATENATE(P88,X88) -> N/D | AI88: =CONCATENATE(P88,Y88) -> N/D | AJ88: =CONCATENATE(P88,Z88) -> N/D

Sheet 4. Analista_programad_BI
D2: DECLARACIÓ DE DADES DETALL EQUIP TÈCNIC
A7: Omplir només les caselles en Verd, les caselles grises s'ompliran automàticament. A la primera taula una fila per cada treballador del perfil. A la segona taula tantes files com experiències diferents tinguin els teballadors.
A8: En cas de que en una mateixa persona hagi participat en dos o més projectes o serveis alhora, la suma de la dedicació a tots ells no podrà superar el 100%
A10: 4 | B10: =VLOOKUP(A10,EXPERIENCIA_REQUERIDA_PERFIL!A:B,2,FALSE) -> Analista programador/a BI
AE11: Bloc d'anys addicionals per cada punt | AF11: =VLOOKUP($A$10,EXPERIENCIA_REQUERIDA_PERFIL!A:BD,10,FALSE) -> 1 | AG11: =VLOOKUP($A$10,EXPERIENCIA_REQUERIDA_PERFIL!A:BD,16,FALSE) -> 0 | AH11: =VLOOKUP($A$10,EXPERIENCIA_REQUERIDA_PERFIL!A:BD,22,FALSE) -> 0 | AI11: =VLOOKUP($A$10,EXPERIENCIA_REQUERIDA_PERFIL!A:BD,28,FALSE) -> 0 | AJ11: =VLOOKUP($A$10,EXPERIENCIA_REQUERIDA_PERFIL!A:BD,34,FALSE) -> 0
AE12: Punts addicionals per cada bloc d'anys | AF12: =VLOOKUP($A$10,EXPERIENCIA_REQUERIDA_PERFIL!A:BD,11,FALSE) -> 1 | AG12: =VLOOKUP($A$10,EXPERIENCIA_REQUERIDA_PERFIL!A:BD,17,FALSE) -> 0 | AH12: =VLOOKUP($A$10,EXPERIENCIA_REQUERIDA_PERFIL!A:BD,23,FALSE) -> 0 | AI12: =VLOOKUP($A$10,EXPERIENCIA_REQUERIDA_PERFIL!A:BD,29,FALSE) -> 0 | AJ12: =VLOOKUP($A$10,EXPERIENCIA_REQUERIDA_PERFIL!A:BD,35,FALSE) -> 0 | AK12: 0.5 | AL12: 0.5
N13: Experiència 1. Anys experiència mínima | Q13: =VLOOKUP($A$10,EXPERIENCIA_REQUERIDA_PERFIL!A:BD,7,FALSE) -> 3 | R13: Experiència 2. Anys experiència mínima | X13: =VLOOKUP($A$10,EXPERIENCIA_REQUERIDA_PERFIL!A:BD,13,FALSE) -> 0 | Y13: Experiència 3. Anys experiència mínima | Z13: =VLOOKUP($A$10,EXPERIENCIA_REQUERIDA_PERFIL!A:BD,19,FALSE) -> 0 | AA13: Experiència 4. Anys experiència mínima | AB13: =VLOOKUP($A$10,EXPERIENCIA_REQUERIDA_PERFIL!A:BD,25,FALSE) -> 0 | AC13: Experiència 5. Anys experiència mínima | AD13: =VLOOKUP($A$10,EXPERIENCIA_REQUERIDA_PERFIL!A:BD,31,FALSE) -> 0 | AE13: Màxim punts | AF13: =VLOOKUP($A$10,EXPERIENCIA_REQUERIDA_PERFIL!A:BD,9,FALSE) -> 3 | AG13: =VLOOKUP($A$10,EXPERIENCIA_REQUERIDA_PERFIL!A:BD,15,FALSE) -> 0 | AH13: =VLOOKUP($A$10,EXPERIENCIA_REQUERIDA_PERFIL!A:BD,21,FALSE) -> 0 | AI13: =VLOOKUP($A$10,EXPERIENCIA_REQUERIDA_PERFIL!A:BD,27,FALSE) -> 0 | AJ13: =VLOOKUP($A$10,EXPERIENCIA_REQUERIDA_PERFIL!A:BD,33,FALSE) -> 0 | AK13: 1 | AL13: 1
B14: Nom de perfil del plec | E14: Inicials del treballador/a | F14: Nom del treballador/a | G14: Dedicació prevista | H14: Anys fent les tasques demanades en aquest perfil | L14: =IF(VLOOKUP($A$10,EXPERIENCIA_REQUERIDA_PERFIL!A:C,3,FALSE)="","",VLOOKUP($A$10,EXPERIENCIA_REQUERIDA_PERFIL!A:C,3,FALSE)) -> EV Service Manager Foundation | M14: EV Service Apps | N14: =IF(VLOOKUP($A$10,EXPERIENCIA_REQUERIDA_PERFIL!A:BD,6,FALSE)="","",VLOOKUP($A$10,EXPERIENCIA_REQUERIDA_PERFIL!A:BD,6,FALSE)) -> Analista programador/a BI en diferents rols relacionats amb l’anàlisi de dades, creació de dashboards i integració amb sistemes de reporting Power BI i Report Server de Microsoft, amb dades provinents d’EasyVista o sistemes de gestió de serveis ITSM similars | R14: =IF(VLOOKUP($A$10,EXPERIENCIA_REQUERIDA_PERFIL!A:BD,12,FALSE)="","",VLOOKUP($A$10,EXPERIENCIA_REQUERIDA_PERFIL!A:BD,12,FALSE)) | Y14: =IF(VLOOKUP($A$10,EXPERIENCIA_REQUERIDA_PERFIL!A:BD,18,FALSE)="","",VLOOKUP($A$10,EXPERIENCIA_REQUERIDA_PERFIL!A:BD,18,FALSE)) | AA14: =IF(VLOOKUP($A$10,EXPERIENCIA_REQUERIDA_PERFIL!A:BD,24,FALSE)="","",VLOOKUP($A$10,EXPERIENCIA_REQUERIDA_PERFIL!A:BD,24,FALSE)) | AC14: =IF(VLOOKUP($A$10,EXPERIENCIA_REQUERIDA_PERFIL!A:BD,30,FALSE)="","",VLOOKUP($A$10,EXPERIENCIA_REQUERIDA_PERFIL!A:BD,30,FALSE)) | AE14: Compleix amb l'experiència mínima requerida | AF14: =IF(AF13=0,"",CONCATENATE("Millora aportada en ",N14)) -> Millora aportada en Analista programador/a BI en diferents rols relacionats amb l’anàlisi de dades, creació de dashboards i integració amb sistemes de reporting Power BI i Report Server de Microsoft, amb dades provinents d’EasyVista o sistemes de gestió de serveis ITSM similars | AG14: =IF(AG13=0,"",CONCATENATE("Millora aportada en ",R14)) | AH14: =IF(AH13=0,"",CONCATENATE("Millora aportada en ",Y14)) | AI14: =IF(AI13=0,"",CONCATENATE("Millora aportada en ",AA14)) | AJ14: =IF(AJ13=0,"",CONCATENATE("Millora aportada en ",AC14)) | AK14: =IF(AK12=0,"",VLOOKUP($A$10,EXPERIENCIA_REQUERIDA_PERFIL!A:BD,3,FALSE)) -> EV Service Manager Foundation | AL14: EV Service Apps
A15: 1 | B15: =$B$10 -> Analista programador/a BI | E15: TR1 | F15: Treballador exemple 1 | G15: 100 | H15: 5 | L15: SI | M15: NO | N15: =IF($N$14="","",ROUND(SUMIF($AF$24:$AF$88,CONCATENATE(E15,"SI"),$AE$24:$AE$88)/12,2)) -> 4 | R15: =IF($R$14="","",ROUND(SUMIF($AG$24:$AG$63,CONCATENATE(E15,"SI"),$AE$24:$AE$63)/12,2)) | Y15: =IF($Y$14="","",ROUND(SUMIF($AH$24:$AH$63,CONCATENATE(E15,"SI"),$AE$24:$AE$63)/12,2)) | AA15: =IF($AA$14="","",ROUND(SUMIF($AI$24:$AI$63,CONCATENATE(E15,"SI"),$AE$24:$AE$63)/12,2)) | AC15: =IF($AC$14="","",ROUND(SUMIF($AJ$24:$AJ$63,CONCATENATE(E15,"SI"),$AE$24:$AE$63)/12,2)) | AE15: =IF(OR(E15="",N14=""),"N/A",IF(AND(IF($L$14="","SI",IF(VLOOKUP($A$10,EXPERIENCIA_REQUERIDA_PERFIL!A:BD,4,FALSE)="NO","SI",L15))="SI",N15>=$Q$13,R15>=$X$13,Y15>=$Z$13),"OK","KO")) -> OK | AF15: =IF(OR($E15="",$N$14="",AF$13=0),"",MAX(TRUNC((N15-$Q$13)/AF$11),0)) -> 1 | AG15: =IF(OR($E15="",$R$14="",AG$13=0),"",MAX(TRUNC((R15-$X$13)/AG$11),0)) | AH15: =IF(OR($E15="",$Y$14="",AH$13=0),"",MAX(TRUNC((Y15-$Z$13)/AH$11),0)) | AI15: =IF(OR($E15="",$AA$14="",AI$13=0),"",MAX(TRUNC(($AA15-$AB$13)/AI$11),0)) | AJ15: =IF(OR($E15="",$AC$14="",AJ$13=0),"",MAX(TRUNC(($AC15-$AD$13)/AJ$11),0)) | AK15: =IF($AK$12=0,"",IF(L15="SI",$AK$12,0)) -> 0.5 | AL15: =IF($AK$12=0,"",IF(M15="SI",$AK$12,0)) -> 0
