Workbook
Name C_Despesa: '[1]Dades auxiliars'!$N$1:$N$9
Name Dades_Servei: '[2]Dades auxiliars'!$A$1:$J$262
Name T_Despesa: '[1]Dades auxiliars'!$M$1:$M$5

Sheet Perfils
D2: Import €/hora amb IVA | E2: Preu/hora IVA exclòs | F2: TOTAL SALARI BRUT | G2: COSTOS TGSS 34 % + Costos formació i prevenció 1% | H2: DESPESES GENERALS D'ESTRUCTURA 15 % | I2: BENEFICI INDUSTRIAL 10 % | J2: TOTAL SALARI ANUAL - 1.800h CONVENI
C3: Coordinador/a del contracte/Cap de projecte/Responsable de seguretat | D3: =+ROUND(E3*1.21,2) -> 106 | E3: 87.6 | F3: 51.3 | G3: 17.95 | H3: 10.39 | I3: 7.96 | J3: =F3*1800 -> 92340
C4: Consultor/a sènior (Easyvista / Arquitecte) | D4: =+ROUND(E4*1.21,2) -> 89.7 | E4: 74.13 | F4: 43.41 | G4: 15.19 | H4: 8.79 | I4: 6.74 | J4: =F4*1800 -> 78138
C5: Analista programador/a PHP | D5: =+ROUND(E5*1.21,2) -> 50.03 | E5: 41.35 | F5: 24.21 | G5: 8.48 | H5: 4.9 | I5: 3.76 | J5: =F5*1800 -> 43578
C6: Analista programador/a BI | D6: =+ROUND(E6*1.21,2) -> 55.12 | E6: 45.55 | F6: 26.67 | G6: 9.34 | H6: 5.4 | I6: 4.14 | J6: 48006
B9: Servei plec | C9: Perfil | D9: % dedicació | E9: Preu perfil IVA inclòs | F9: Preu / hora /perfil
B10: Manteniment correctiu | C10: =$C$3 -> Coordinador/a del contracte/Cap de projecte/Responsable de seguretat | D10: 0.05 | E10: =$D$3 -> 106 | F10: =E10*D10 -> 5.3
C11: =$C$4 -> Consultor/a sènior (Easyvista / Arquitecte) | D11: 0.2 | E11: =$D$4 -> 89.7 | F11: =E11*D11 -> 17.94
C12: =$C$5 -> Analista programador/a PHP | D12: 0.7 | E12: =$D$5 -> 50.03 | F12: =E12*D12 -> 35.021
C13: =$C$6 -> Analista programador/a BI | D13: 0.05 | E13: =$D$6 -> 55.12 | F13: =E13*D13 -> 2.756
C14: Preu perfil tipus | F14: =SUM(F10:F13) -> 61.017
B15: Manteniment recurrent | C15: =$C$3 -> Coordinador/a del contracte/Cap de projecte/Responsable de seguretat | D15: 0.05 | E15: =$D$3 -> 106 | F15: =E15*D15 -> 5.3
C16: =$C$4 -> Consultor/a sènior (Easyvista / Arquitecte) | D16: 0.2 | E16: =$D$4 -> 89.7 | F16: =E16*D16 -> 17.94
C17: =$C$5 -> Analista programador/a PHP | D17: 0.7 | E17: =$D$5 -> 50.03 | F17: =E17*D17 -> 35.021
C18: =$C$6 -> Analista programador/a BI | D18: 0.05 | E18: =$D$6 -> 55.12 | F18: =E18*D18 -> 2.756
C19: Preu perfil tipus | F19: =SUM(F15:F18) -> 61.017
B20: Serveis d’evolutius recurrents | C20: =$C$3 -> Coordinador/a del contracte/Cap de projecte/Responsable de seguretat | D20: 0.05 | E20: =$D$3 -> 106 | F20: =E20*D20 -> 5.3
C21: =$C$4 -> Consultor/a sènior (Easyvista / Arquitecte) | D21: 0.3 | E21: =$D$4 -> 89.7 | F21: =E21*D21 -> 26.91
C22: =$C$5 -> Analista programador/a PHP | D22: 0.55 | E22: =$D$5 -> 50.03 | F22: =E22*D22 -> 27.5165
C23: =$C$6 -> Analista programador/a BI | D23: 0.1 | E23: =$D$6 -> 55.12 | F23: =E23*D23 -> 5.512
C24: Preu perfil tipus | F24: =SUM(F20:F23) -> 65.2385
B25: Serveis Transversals de Manteniment | C25: =$C$3 -> Coordinador/a del contracte/Cap de projecte/Responsable de seguretat | D25: 0.2 | E25: =$D$3 -> 106 | F25: =E25*D25 -> 21.2
C26: =$C$4 -> Consultor/a sènior (Easyvista / Arquitecte) | D26: 0.6 | E26: =$D$4 -> 89.7 | F26: =E26*D26 -> 53.82
C27: =$C$5 -> Analista programador/a PHP | D27: 0.15 | E27: =$D$5 -> 50.03 | F27: =E27*D27 -> 7.5045
C28: =$C$6 -> Analista programador/a BI | D28: 0.05 | E28: =$D$6 -> 55.12 | F28: =E28*D28 -> 2.756
C29: Preu perfil tipus | F29: =SUM(F25:F28) -> 85.2805

Sheet Càlcul pressupost 
A1: AM Easyvista (3 anys + 1 any) | E1: 36 mesos
A2: Data inici contracte | B2: 46204 | E2: 2 transició
A3: Data inici servei | B3: 46266 | E3: 34 servei
A4: Data fi del contracte | B4: 47299
A5: Data inici possible pròrroga | B5: 47300 | E5: 4 | F5: 12 | G5: 12 | H5: 8 | K5: 1 any sense iva
A6: Data final màxima possible pròrroga | B6: 47727 | D6: Servei | E6: Import 2026 | F6: Import 2027 | G6: Import 2028 | H6: Import 2029 | I6: Import Total IVA inclòs | J6: Import Total IVA exclòs
D7: Manteniment correctiu | E7: =G32 -> 48305.125 | F7: =G52 -> 144915.38 | G7: =+G72 -> 144915.38 | H7: =+G92 -> 96610.25 | I7: =ROUNDDOWN(SUM(E7:H7),2) -> 434746.12 | J7: =+ROUND(I7/1.21,3) -> 359294.31 | K7: =+ROUND(F7/1.21,2) -> 119764.77
D8: Manteniment recurrent | E8: =J32 -> 22039.34 | F8: =+J52 -> 66118.021 | G8: =+J72 -> 66118.021 | H8: =+J92 -> 44078.681 | I8: =ROUNDDOWN(SUM(E8:H8),3) -> 198354.06 | J8: =+ROUND(I8/1.21,3) -> 163928.98 | K8: =+ROUND(F8/1.21,2) -> 54642.99
D9: Serveis d’evolutius recurrents | E9: =M32 -> 176509.29 | F9: =+M52 -> 529527.86 | G9: =M72 -> 529527.86 | H9: =M92 -> 353018.57 | I9: =ROUNDDOWN(SUM(E9:H9),3) -> 1588583.6 | J9: =+ROUND(I9/1.21,3) -> 1312879 | K9: =+ROUND(F9/1.21,2) -> 437626.33
D10: Serveis Transversals de Manteniment | E10: =P32 -> 31269.517 | F10: =+P52 -> 93808.55 | G10: =+P72 -> 93808.55 | H10: =+P92 -> 62539.033 | I10: =ROUNDDOWN(SUM(E10:H10),3) -> 281425.65 | J10: =+ROUND(I10/1.21,3) -> 232583.18 | K10: =+ROUND(F10/1.21,2) -> 77527.73
D11: Llicències | E11: =Q32 -> 0 | F11: =Q52 -> 0 | G11: =Q72 -> 0 | H11: =Q92 -> 0 | I11: =ROUNDDOWN(SUM(E11:H11),3) -> 0 | J11: =+ROUND(I11/1.21,3) -> 0 | K11: =+ROUND(F11/1.21,2) -> 0
D12: Import total licitació | E12: =SUM(E7:E11) -> 278123.27 | F12: =SUM(F7:F11) -> 834369.8 | G12: =SUM(G7:G11) -> 834369.8 | H12: =SUM(H7:H11) -> 556246.54 | I12: =SUM(I7:I11) -> 2503109.4 | J12: =SUM(J7:J11) -> 2068685.5 | K12: =+ROUND(F12/1.21,2) -> 689561.82
D13: CAP 2 | E13: =+E7+E8+E10 -> 101613.98 | F13: =+F7+F8+F10 -> 304841.95 | G13: =+G7+G8+G10 -> 304841.95 | H13: =+H7+H8+H10 -> 203227.96 | I13: =SUM(E13:H13) -> 914525.84 | J13: =+ROUND(I13/1.21,2) -> 755806.48 | K13: =+ROUND(F13/1.21,2) -> 251935.49
D14: CAP 6 | E14: =+E9+E11 -> 176509.29 | F14: =+F9+F11 -> 529527.86 | G14: =+G9+G11 -> 529527.86 | H14: =+H9+H11 -> 353018.57 | I14: =SUM(E14:H14) -> 1588583.6 | J14: =+ROUND(I14/1.21,2) -> 1312879 | K14: =+ROUND(F14/1.21,2) -> 437626.33
A17: ANY 2026 | C17: mesos | D17: 4
A18: Servei | C18: Codi Aplicació | D18: Nom Aplicació | E18: IT Manteniment correctiu | F18: Preu/hora | G18: € Manteniment correctiu | H18: IT Manteniment recurrent | I18: Preu/hora | J18: € Manteniment recurrent | K18: PT Evolutius recurrents | L18: Preu/hora | M18: € Evolutius recurrents | N18: TT Serveis Transversals de Manteniment | O18: Preu/hora | P18: € STM | Q18: Llicències | R18: € Import TOTAL | S18: Data inici transició | T18: Data inici servei | U18: Mesos transició | V18: € Transició (recurrent) | W18: *Ja inclòs a l'import de manteniment recurrent
A19: SER0236 | B19: Gestió d’incidències | C19: APP0952 | D19: Gestió d’incidències | E19: =(356.25)/12*$D$17 -> 118.75 | F19: =Perfils!$F$14 -> 61.017 | G19: =E19*F19 -> 7245.7688 | H19: =(162.54)/12*$D$17 -> 54.18 | I19: =Perfils!$F$19 -> 61.017 | J19: =H19*I19 -> 3305.9011 | K19: =(1217.52)/12*$D$17 -> 405.84 | L19: =Perfils!$F$24 -> 65.2385 | M19: =K19*L19 -> 26476.393 | N19: =(165)/12*$D$17 -> 55 | O19: =Perfils!$F$29 -> 85.2805 | P19: =N19*O19 -> 4690.4275 | R19: =G19+J19+M19+P19+Q19 -> 41718.49 | S19: =$B$2 -> 46204 | T19: =$B$3 -> 46266 | U19: 2 | V19: =+ROUND((G39+J39+P39)/12*U19*0.25,2) -> 1905.26
A20: SER0237 | B20: Gestió de peticions | C20: APP0949 | D20: Gestió de peticions de servei | E20: =(356.25)/12*$D$17 -> 118.75 | F20: =Perfils!$F$14 -> 61.017 | G20: =E20*F20 -> 7245.7688 | H20: =(162.54)/12*$D$17 -> 54.18 | I20: =Perfils!$F$19 -> 61.017 | J20: =H20*I20 -> 3305.9011 | K20: =(1217.52)/12*$D$17 -> 405.84 | L20: =Perfils!$F$24 -> 65.2385 | M20: =K20*L20 -> 26476.393 | N20: =(165)/12*$D$17 -> 55 | O20: =Perfils!$F$29 -> 85.2805 | P20: =N20*O20 -> 4690.4275 | R20: =G20+J20+M20+P20+Q20 -> 41718.49 | S20: =$B$2 -> 46204 | T20: =$B$3 -> 46266 | U20: 2 | V20: =+ROUND((G40+J40+P40)/12*U20*0.25,2) -> 1905.26
A21: SER0316 | B21: Gestió de serveis TIC | C21: APP0919 | D21: Portal de serveis TIC | E21: =(118.75)/12*$D$17 -> 39.583333 | F21: =Perfils!$F$14 -> 61.017 | G21: =E21*F21 -> 2415.2563 | H21: =(54.18)/12*$D$17 -> 18.06 | I21: =Perfils!$F$19 -> 61.017 | J21: =H21*I21 -> 1101.967 | K21: =(405.84)/12*$D$17 -> 135.28 | L21: =Perfils!$F$24 -> 65.2385 | M21: =K21*L21 -> 8825.4643 | N21: =(55)/12*$D$17 -> 18.333333 | O21: =Perfils!$F$29 -> 85.2805 | P21: =N21*O21 -> 1563.4758 | R21: =G21+J21+M21+P21+Q21 -> 13906.163 | S21: =$B$2 -> 46204 | T21: =$B$3 -> 46266 | U21: 2 | V21: =+ROUND((G41+J41+P41)/12*U21*0.25,2) -> 635.09
A22: SER0142 | B22: Gestió de canvis i desplegaments | C22: APP0953 | D22: Gestió de peticions de canvi | E22: =(118.75)/12*$D$17 -> 39.583333 | F22: =Perfils!$F$14 -> 61.017 | G22: =E22*F22 -> 2415.2563 | H22: =(54.18)/12*$D$17 -> 18.06 | I22: =Perfils!$F$19 -> 61.017 | J22: =H22*I22 -> 1101.967 | K22: =(405.84)/12*$D$17 -> 135.28 | L22: =Perfils!$F$24 -> 65.2385 | M22: =K22*L22 -> 8825.4643 | N22: =(55)/12*$D$17 -> 18.333333 | O22: =Perfils!$F$29 -> 85.2805 | P22: =N22*O22 -> 1563.4758 | R22: =G22+J22+M22+P22+Q22 -> 13906.163 | S22: =$B$2 -> 46204 | T22: =$B$3 -> 46266 | U22: 2 | V22: =+ROUND((G42+J42+P42)/12*U22*0.25,2) -> 635.09
A23: SER0759 | B23: Gestió financera de l'IMI (Pressupost i Contractació) | C23: APP0921 | D23: GPiC | E23: =(237.5)/12*$D$17 -> 79.166667 | F23: =Perfils!$F$14 -> 61.017 | G23: =E23*F23 -> 4830.5125 | H23: =(108.36)/12*$D$17 -> 36.12 | I23: =Perfils!$F$19 -> 61.017 | J23: =H23*I23 -> 2203.934 | K23: =(811.68)/12*$D$17 -> 270.56 | L23: =Perfils!$F$24 -> 65.2385 | M23: =K23*L23 -> 17650.929 | N23: =(110)/12*$D$17 -> 36.666667 | O23: =Perfils!$F$29 -> 85.2805 | P23: =N23*O23 -> 3126.9517 | R23: =G23+J23+M23+P23+Q23 -> 27812.327 | S23: =$B$2 -> 46204 | T23: =$B$3 -> 46266 | U23: 2 | V23: =+ROUND((G43+J43+P43)/12*U23*0.25,2) -> 1270.17
A24: SER0238 | B24: Gestió de problemes | C24: APP1273 | D24: Gestió de problemes | E24: =(118.75)/12*$D$17 -> 39.583333 | F24: =Perfils!$F$14 -> 61.017 | G24: =E24*F24 -> 2415.2563 | H24: =(54.18)/12*$D$17 -> 18.06 | I24: =Perfils!$F$19 -> 61.017 | J24: =H24*I24 -> 1101.967 | K24: =(405.84)/12*$D$17 -> 135.28 | L24: =Perfils!$F$24 -> 65.2385 | M24: =K24*L24 -> 8825.4643 | N24: =(55)/12*$D$17 -> 18.333333 | O24: =Perfils!$F$29 -> 85.2805 | P24: =N24*O24 -> 1563.4758 | R24: =G24+J24+M24+P24+Q24 -> 13906.163 | S24: =$B$2 -> 46204 | T24: =$B$3 -> 46266 | U24: 2 | V24: =+ROUND((G44+J44+P44)/12*U24*0.25,2) -> 635.09
A25: SER0750 | B25: Gestió de la disponibilitat | C25: APP0924 | D25: Gestió de la disponibilitat | E25: =(118.75)/12*$D$17 -> 39.583333 | F25: =Perfils!$F$14 -> 61.017 | G25: =E25*F25 -> 2415.2563 | H25: =(54.18)/12*$D$17 -> 18.06 | I25: =Perfils!$F$19 -> 61.017 | J25: =H25*I25 -> 1101.967 | K25: =(405.84)/12*$D$17 -> 135.28 | L25: =Perfils!$F$24 -> 65.2385 | M25: =K25*L25 -> 8825.4643 | N25: =(55)/12*$D$17 -> 18.333333 | O25: =Perfils!$F$29 -> 85.2805 | P25: =N25*O25 -> 1563.4758 | R25: =G25+J25+M25+P25+Q25 -> 13906.163 | S25: =$B$2 -> 46204 | T25: =$B$3 -> 46266 | U25: 2 | V25: =+ROUND((G45+J45+P45)/12*U25*0.25,2) -> 635.09
A26: SER0230 | B26: Gestió de la configuració (CMDB) | C26: APP0923 | D26: CMDB | E26: =(118.75)/12*$D$17 -> 39.583333 | F26: =Perfils!$F$14 -> 61.017 | G26: =E26*F26 -> 2415.2563 | H26: =(54.18)/12*$D$17 -> 18.06 | I26: =Perfils!$F$19 -> 61.017 | J26: =H26*I26 -> 1101.967 | K26: =(405.84)/12*$D$17 -> 135.28 | L26: =Perfils!$F$24 -> 65.2385 | M26: =K26*L26 -> 8825.4643 | N26: =(55)/12*$D$17 -> 18.333333 | O26: =Perfils!$F$29 -> 85.2805 | P26: =N26*O26 -> 1563.4758 | R26: =G26+J26+M26+P26+Q26 -> 13906.163 | S26: =$B$2 -> 46204 | T26: =$B$3 -> 46266 | U26: 2 | V26: =+ROUND((G46+J46+P46)/12*U26*0.25,2) -> 635.09
A27: SER0617 | B27: Portal d’Autoservei TIC | C27: APP0965 | D27: Portal d’Autoservei TIC | E27: =(237.5)/12*$D$17 -> 79.166667 | F27: =Perfils!$F$14 -> 61.017 | G27: =E27*F27 -> 4830.5125 | H27: =(108.36)/12*$D$17 -> 36.12 | I27: =Perfils!$F$19 -> 61.017 | J27: =H27*I27 -> 2203.934 | K27: =(811.68)/12*$D$17 -> 270.56 | L27: =Perfils!$F$24 -> 65.2385 | M27: =K27*L27 -> 17650.929 | N27: =(110)/12*$D$17 -> 36.666667 | O27: =Perfils!$F$29 -> 85.2805 | P27: =N27*O27 -> 3126.9517 | R27: =G27+J27+M27+P27+Q27 -> 27812.327 | S27: =$B$2 -> 46204 | T27: =$B$3 -> 46266 | U27: 2 | V27: =+ROUND((G47+J47+P47)/12*U27*0.25,2) -> 1270.17
A28: SER0274 | B28: Plataforma easyvista | C28: APP1007 | D28: Plataforma easyvista | E28: =(118.75)/12*$D$17 -> 39.583333 | F28: =Perfils!$F$14 -> 61.017 | G28: =E28*F28 -> 2415.2563 | H28: =(54.18)/12*$D$17 -> 18.06 | I28: =Perfils!$F$19 -> 61.017 | J28: =H28*I28 -> 1101.967 | K28: =(405.84)/12*$D$17 -> 135.28 | L28: =Perfils!$F$24 -> 65.2385 | M28: =K28*L28 -> 8825.4643 | N28: =(55)/12*$D$17 -> 18.333333 | O28: =Perfils!$F$29 -> 85.2805 | P28: =N28*O28 -> 1563.4758 | R28: =G28+J28+M28+P28+Q28 -> 13906.163 | S28: =$B$2 -> 46204 | T28: =$B$3 -> 46266 | U28: 2 | V28: =+ROUND((G48+J48+P48)/12*U28*0.25,2) -> 635.09
A29: SER0240 | B29: Gestió de la millora contínua | C29: APP1270 | D29: Gestió de la millora contínua | E29: =(118.75)/12*$D$17 -> 39.583333 | F29: =Perfils!$F$14 -> 61.017 | G29: =E29*F29 -> 2415.2563 | H29: =(54.18)/12*$D$17 -> 18.06 | I29: =Perfils!$F$19 -> 61.017 | J29: =H29*I29 -> 1101.967 | K29: =(405.84)/12*$D$17 -> 135.28 | L29: =Perfils!$F$24 -> 65.2385 | M29: =K29*L29 -> 8825.4643 | N29: =(55)/12*$D$17 -> 18.333333 | O29: =Perfils!$F$29 -> 85.2805 | P29: =N29*O29 -> 1563.4758 | R29: =G29+J29+M29+P29+Q29 -> 13906.163 | S29: =$B$2 -> 46204 | T29: =$B$3 -> 46266 | U29: 2 | V29: =+ROUND((G49+J49+P49)/12*U29*0.25,2) -> 635.09
A30: SER0234 | B30: Gestió del coneixement | C30: APP1271 | D30: Gestió del coneixement | E30: =(237.5)/12*$D$17 -> 79.166667 | F30: =Perfils!$F$14 -> 61.017 | G30: =E30*F30 -> 4830.5125 | H30: =(108.36)/12*$D$17 -> 36.12 | I30: =Perfils!$F$19 -> 61.017 | J30: =H30*I30 -> 2203.934 | K30: =(811.68)/12*$D$17 -> 270.56 | L30: =Perfils!$F$24 -> 65.2385 | M30: =K30*L30 -> 17650.929 | N30: =(110)/12*$D$17 -> 36.666667 | O30: =Perfils!$F$29 -> 85.2805 | P30: =N30*O30 -> 3126.9517 | R30: =G30+J30+M30+P30+Q30 -> 27812.327 | S30: =$B$2 -> 46204 | T30: =$B$3 -> 46266 | U30: 2 | V30: =+ROUND((G50+J50+P50)/12*U30*0.25,2) -> 1270.17
A31: SER0649 | B31: Informes i quadres de comandament de gestió de serveis | C31: APP1272 | D31: Informes i quadres de comandament de gestió de serveis | E31: =(118.75)/12*$D$17 -> 39.583333 | F31: =Perfils!$F$14 -> 61.017 | G31: =E31*F31 -> 2415.2563 | H31: =(54.18)/12*$D$17 -> 18.06 | I31: =Perfils!$F$19 -> 61.017 | J31: =H31*I31 -> 1101.967 | K31: =(405.84)/12*$D$17 -> 135.28 | L31: =Perfils!$F$24 -> 65.2385 | M31: =K31*L31 -> 8825.4643 | N31: =(55)/12*$D$17 -> 18.333333 | O31: =Perfils!$F$29 -> 85.2805 | P31: =N31*O31 -> 1563.4758 | R31: =G31+J31+M31+P31+Q31 -> 13906.163 | S31: =$B$2 -> 46204 | T31: =$B$3 -> 46266 | U31: 2 | V31: =+ROUND((G51+J51+P51)/12*U31*0.25,2) -> 635.09
D32: Total | E32: =SUM(E19:E31) -> 791.66667 | G32: =SUM(G19:G31) -> 48305.125 | H32: =SUM(H19:H31) -> 361.2 | J32: =SUM(J19:J31) -> 22039.34 | K32: =SUM(K19:K31) -> 2705.6 | M32: =SUM(M19:M31) -> 176509.29 | N32: =SUM(N19:N31) -> 366.66667 | P32: =SUM(P19:P31) -> 31269.517 | Q32: =SUM(Q19:Q31) -> 0 | R32: =SUM(R19:R31) -> 278123.27 | V32: =SUM(V19:V31) -> 12701.75
D34: FTE | E34: =(E32/$D$17)*12/1800 -> 1.3194444 | H34: =(H32/$D$17)*12/1800 -> 0.602 | K34: =(K32/$D$17)*12/1800 -> 4.5093333 | N34: =(N32/$D$17)*12/1800 -> 0.61111111 | R34: =SUM(E34:N34) -> 7.0418889
A37: ANY 2027 | D37: 12
A38: Servei | C38: Codi Aplicació | D38: Nom Aplicació | E38: IT Manteniment correctiu | F38: Preu/hora | G38: € Manteniment correctiu | H38: IT Manteniment recurrent | I38: Preu/hora | J38: € Manteniment recurrent | K38: PT Evolutius recurrents | L38: Preu/hora | M38: € Evolutius recurrents | N38: TT Serveis Transversals de Manteniment | O38: Preu/hora | P38: € STM | Q38: Llicències | R38: € Import TOTAL
A39: SER0236 | B39: Gestió d’incidències | C39: APP0952 | D39: Gestió d’incidències | E39: 356.25 | F39: =Perfils!$F$14 -> 61.017 | G39: =E39*F39 -> 21737.306 | H39: 162.54 | I39: =Perfils!$F$19 -> 61.017 | J39: =H39*I39 -> 9917.7032 | K39: 1217.52 | L39: =Perfils!$F$24 -> 65.2385 | M39: =K39*L39 -> 79429.179 | N39: 165 | O39: =Perfils!$F$29 -> 85.2805 | P39: =N39*O39 -> 14071.283 | R39: =G39+J39+M39+P39+Q39 -> 125155.47
A40: SER0237 | B40: Gestió de peticions | C40: APP0949 | D40: Gestió de peticions de servei | E40: 356.25 | F40: =Perfils!$F$14 -> 61.017 | G40: =E40*F40 -> 21737.306 | H40: 162.54 | I40: =Perfils!$F$19 -> 61.017 | J40: =H40*I40 -> 9917.7032 | K40: 1217.52 | L40: =Perfils!$F$24 -> 65.2385 | M40: =K40*L40 -> 79429.179 | N40: 165 | O40: =Perfils!$F$29 -> 85.2805 | P40: =N40*O40 -> 14071.283 | R40: =G40+J40+M40+P40+Q40 -> 125155.47
A41: SER0316 | B41: Gestió de serveis TIC | C41: APP0919 | D41: Portal de serveis TIC | E41: 118.75 | F41: =Perfils!$F$14 -> 61.017 | G41: =E41*F41 -> 7245.7688 | H41: 54.18 | I41: =Perfils!$F$19 -> 61.017 | J41: =H41*I41 -> 3305.9011 | K41: 405.84 | L41: =Perfils!$F$24 -> 65.2385 | M41: =K41*L41 -> 26476.393 | N41: 55 | O41: =Perfils!$F$29 -> 85.2805 | P41: =N41*O41 -> 4690.4275 | R41: =G41+J41+M41+P41+Q41 -> 41718.49
A42: SER0142 | B42: Gestió de canvis i desplegaments | C42: APP0953 | D42: Gestió de peticions de canvi | E42: 118.75 | F42: =Perfils!$F$14 -> 61.017 | G42: =E42*F42 -> 7245.7688 | H42: 54.18 | I42: =Perfils!$F$19 -> 61.017 | J42: =H42*I42 -> 3305.9011 | K42: 405.84 | L42: =Perfils!$F$24 -> 65.2385 | M42: =K42*L42 -> 26476.393 | N42: 55 | O42: =Perfils!$F$29 -> 85.2805 | P42: =N42*O42 -> 4690.4275 | R42: =G42+J42+M42+P42+Q42 -> 41718.49
A43: SER0759 | B43: Gestió financera de l'IMI (Pressupost i Contractació) | C43: APP0921 | D43: GPiC | E43: 237.5 | F43: =Perfils!$F$14 -> 61.017 | G43: =E43*F43 -> 14491.538 | H43: 108.36 | I43: =Perfils!$F$19 -> 61.017 | J43: =H43*I43 -> 6611.8021 | K43: 811.68 | L43: =Perfils!$F$24 -> 65.2385 | M43: =K43*L43 -> 52952.786 | N43: 110 | O43: =Perfils!$F$29 -> 85.2805 | P43: =N43*O43 -> 9380.855 | R43: =G43+J43+M43+P43+Q43 -> 83436.98
A44: SER0238 | B44: Gestió de problemes | C44: APP1273 | D44: Gestió de problemes | E44: 118.75 | F44: =Perfils!$F$14 -> 61.017 | G44: =E44*F44 -> 7245.7688 | H44: 54.18 | I44: =Perfils!$F$19 -> 61.017 | J44: =H44*I44 -> 3305.9011 | K44: 405.84 | L44: =Perfils!$F$24 -> 65.2385 | M44: =K44*L44 -> 26476.393 | N44: 55 | O44: =Perfils!$F$29 -> 85.2805 | P44: =N44*O44 -> 4690.4275 | R44: =G44+J44+M44+P44+Q44 -> 41718.49
A45: SER0750 | B45: Gestió de la disponibilitat | C45: APP0924 | D45: Gestió de la disponibilitat | E45: 118.75 | F45: =Perfils!$F$14 -> 61.017 | G45: =E45*F45 -> 7245.7688 | H45: 54.18 | I45: =Perfils!$F$19 -> 61.017 | J45: =H45*I45 -> 3305.9011 | K45: 405.84 | L45: =Perfils!$F$24 -> 65.2385 | M45: =K45*L45 -> 26476.393 | N45: 55 | O45: =Perfils!$F$29 -> 85.2805 | P45: =N45*O45 -> 4690.4275 | R45: =G45+J45+M45+P45+Q45 -> 41718.49
...

Sheet Taules IJ
A2: Distribució de pressupost per any i per servei
B4: 2026 | E4: 2027 | H4: 2028 | K4: 2029
A5: Serveis | B5: Import net | C5: IVA 21% | D5: Import total | E5: Import net | F5: IVA 21% | G5: Import total | H5: Import net | I5: IVA 21% | J5: Import total | K5: Import net | L5: IVA 21% | M5: Import total | N5: Total import net | O5: Total IVA 21% | P5: Total import contracte
A6: Manteniment correctiu | B6: =ROUND('Càlcul pressupost '!E7/1.21,2) -> 39921.59 | C6: =ROUND(B6*0.21,2) -> 8383.53 | D6: =+B6+C6 -> 48305.12 | E6: =ROUND('Càlcul pressupost '!F7/1.21,2) -> 119764.77 | F6: =ROUND(E6*0.21,2) -> 25150.6 | G6: =+E6+F6 -> 144915.37 | H6: =ROUND('Càlcul pressupost '!G7/1.21,2) -> 119764.77 | I6: =ROUND(H6*0.21,2) -> 25150.6 | J6: =+H6+I6 -> 144915.37 | K6: =ROUND('Càlcul pressupost '!H7/1.21,2) -> 79843.18 | L6: =ROUND(K6*0.21,2) -> 16767.07 | M6: =+K6+L6 -> 96610.25 | N6: =+B6+E6+H6+K6 -> 359294.31 | O6: =+C6+F6+I6+L6 -> 75451.8 | P6: =+D6+G6+J6+M6 -> 434746.11
A7: Manteniment recurrent | B7: =ROUND('Càlcul pressupost '!E8/1.21,2) -> 18214.33 | C7: =ROUND(B7*0.21,2) -> 3825.01 | D7: =+B7+C7 -> 22039.34 | E7: =ROUND('Càlcul pressupost '!F8/1.21,2) -> 54642.99 | F7: =ROUND(E7*0.21,2) -> 11475.03 | G7: =+E7+F7 -> 66118.02 | H7: =ROUND('Càlcul pressupost '!G8/1.21,2) -> 54642.99 | I7: =ROUND(H7*0.21,2) -> 11475.03 | J7: =+H7+I7 -> 66118.02 | K7: =ROUND('Càlcul pressupost '!H8/1.21,2) -> 36428.66 | L7: =ROUND(K7*0.21,2) -> 7650.02 | M7: =+K7+L7 -> 44078.68 | N7: =+B7+E7+H7+K7 -> 163928.97 | O7: =+C7+F7+I7+L7 -> 34425.09 | P7: =+D7+G7+J7+M7 -> 198354.06
A8: Serveis d’evolutius recurrents | B8: =ROUND('Càlcul pressupost '!E9/1.21,2) -> 145875.44 | C8: =ROUND(B8*0.21,2) -> 30633.84 | D8: =+B8+C8 -> 176509.28 | E8: =ROUND('Càlcul pressupost '!F9/1.21,2) -> 437626.33 | F8: =ROUND(E8*0.21,2) -> 91901.53 | G8: =+E8+F8 -> 529527.86 | H8: =ROUND('Càlcul pressupost '!G9/1.21,2) -> 437626.33 | I8: =ROUND(H8*0.21,2) -> 91901.53 | J8: =+H8+I8 -> 529527.86 | K8: =ROUND('Càlcul pressupost '!H9/1.21,2) -> 291750.89 | L8: =ROUND(K8*0.21,2) -> 61267.69 | M8: =+K8+L8 -> 353018.58 | N8: =+B8+E8+H8+K8 -> 1312879 | O8: =+C8+F8+I8+L8 -> 275704.59 | P8: =+D8+G8+J8+M8 -> 1588583.6
A9: Serveis Transversals de Manteniment | B9: =ROUND('Càlcul pressupost '!E10/1.21,2) -> 25842.58 | C9: =ROUND(B9*0.21,2) -> 5426.94 | D9: =+B9+C9 -> 31269.52 | E9: =ROUND('Càlcul pressupost '!F10/1.21,2) -> 77527.73 | F9: =ROUND(E9*0.21,2) -> 16280.82 | G9: =+E9+F9 -> 93808.55 | H9: =ROUND('Càlcul pressupost '!G10/1.21,2) -> 77527.73 | I9: =ROUND(H9*0.21,2) -> 16280.82 | J9: =+H9+I9 -> 93808.55 | K9: =ROUND('Càlcul pressupost '!H10/1.21,2) -> 51685.15 | L9: =ROUND(K9*0.21,2) -> 10853.88 | M9: =+K9+L9 -> 62539.03 | N9: =+B9+E9+H9+K9 -> 232583.19 | O9: =+C9+F9+I9+L9 -> 48842.46 | P9: =+D9+G9+J9+M9 -> 281425.65
A10: Llicències | B10: =ROUND('Càlcul pressupost '!E11/1.21,2) -> 0 | C10: =ROUND(B10*0.21,2) -> 0 | D10: =+B10+C10 -> 0 | E10: =ROUND('Càlcul pressupost '!F11/1.21,2) -> 0 | F10: =ROUND(E10*0.21,2) -> 0 | G10: =+E10+F10 -> 0 | H10: =ROUND('Càlcul pressupost '!G11/1.21,2) -> 0 | I10: =ROUND(H10*0.21,2) -> 0 | J10: =+H10+I10 -> 0 | K10: =ROUND('Càlcul pressupost '!H11/1.21,2) -> 0 | L10: =ROUND(K10*0.21,2) -> 0 | M10: =+K10+L10 -> 0 | N10: =+B10+E10+H10+K10 -> 0 | O10: =+C10+F10+I10+L10 -> 0 | P10: =+D10+G10+J10+M10 -> 0
B11: =SUM(B6:B10) -> 229853.94 | C11: =SUM(C6:C10) -> 48269.32 | D11: =SUM(D6:D10) -> 278123.26 | E11: =SUM(E6:E10) -> 689561.82 | F11: =SUM(F6:F10) -> 144807.98 | G11: =SUM(G6:G10) -> 834369.8 | H11: =SUM(H6:H10) -> 689561.82 | I11: =SUM(I6:I10) -> 144807.98 | ... P11: =SUM(P6:P10) -> 2503109.4
A13: Distribució de pressupost per any
A15: TOTAL
A16: Any | B16: Pressupost net | C16: IVA | D16: Import total
A17: 2026 | B17: =+B11 -> 229853.94 | C17: =+C11 -> 48269.32 | D17: =+D11 -> 278123.26 | E17: (*) L'import total de l'IVA correspon al sumatori dels imports individuals detallats a la taula anterior (fila 11, columnes C, F, I, L, O) i no a l'aplicació directa de l'IVA actual del 21% sobre el pressupost net totalitzat (files 17 a 20 columna B).
A18: 2027 | B18: =+E11 -> 689561.82 | C18: =+F11 -> 144807.98 | D18: =+G11 -> 834369.8
A19: 2028 | B19: =+H11 -> 689561.82 | C19: =+I11 -> 144807.98 | D19: =+J11 -> 834369.8
A20: 2029 | B20: =+K11 -> 459707.88 | C20: =+L11 -> 96538.66 | D20: =+M11 -> 556246.54
A21: Total | B21: =SUM(B17:B20) -> 2068685.5 | C21: =SUM(C17:C20) -> 434423.94 | D21: =SUM(D17:D20) -> 2503109.4
D22: =ROUND(B21*1.21,2) -> 2503109.4
A24: Distribució de pressupost per any
A26: Any | B26: Període | C26: Capítol | D26: Import total | E26: Pressupost net | F26: IVA | H26: Any | I26: C2 | J26: C6 | M26: Any | N26: C2 | O26: C6 | P26: Import total
A27: 2026 | B27: de l'1-7 al 31-12 | C27: II | D27: =D6+D7+D9 -> 101613.98 | E27: =B6+B7+B9 -> 83978.5 | F27: =C6+C7+C9 -> 17635.48 | H27: 2026 | I27: =D27 -> 101613.98 | M27: 2026 | N27: =I27 -> 101613.98 | O27: =J28 -> 176509.28 | P27: =SUM(N27:O27) -> 278123.26
A28: 2026 | B28: de l'1-7 al 31-12 | C28: VI | D28: =D8+D10 -> 176509.28 | E28: =B8+B10 -> 145875.44 | F28: =C8+C10 -> 30633.84 | H28: 2026 | J28: =D28 -> 176509.28 | M28: 2027 | N28: =I29 -> 304841.94 | O28: =J30 -> 529527.86 | P28: =SUM(N28:O28) -> 834369.8
A29: 2027 | B29: de l'1-1 al 31-12 | C29: II | D29: =G6+G7+G9 -> 304841.94 | E29: =E6+E7+E9 -> 251935.49 | F29: =F6+F7+F9 -> 52906.45 | H29: 2027 | I29: =D29 -> 304841.94 | M29: 2028 | N29: =I31 -> 304841.94 | O29: =J32 -> 529527.86 | P29: =SUM(N29:O29) -> 834369.8
A30: 2027 | B30: de l'1-1 al 31-12 | C30: VI | D30: =G8+G10 -> 529527.86 | E30: =E8+E10 -> 437626.33 | F30: =F8+F10 -> 91901.53 | H30: 2027 | J30: =D30 -> 529527.86 | M30: 2029 | N30: =I33 -> 203227.96 | O30: =J34 -> 353018.58 | P30: =SUM(N30:O30) -> 556246.54
A31: 2028 | B31: de l'1-1 al 31-12 | C31: II | D31: =J6+J7+J9 -> 304841.94 | E31: =H6+H7+H9 -> 251935.49 | F31: =I6+I7+I9 -> 52906.45 | H31: 2028 | I31: =D31 -> 304841.94 | M31: Total | N31: =SUM(N27:N30) -> 914525.82 | O31: =SUM(O27:O30) -> 1588583.6 | P31: =SUM(N31:O31) -> 2503109.4
A32: 2028 | B32: de l'1-1 al 31-12 | C32: VI | D32: =+J8+J10 -> 529527.86 | E32: =+H8+H10 -> 437626.33 | F32: =+I8+I10 -> 91901.53 | H32: 2028 | J32: =D32 -> 529527.86
A33: 2029 | B33: de l'1-1 al 30-6 | C33: II | D33: =M6+M7+M9 -> 203227.96 | E33: =K6+K7+K9 -> 167956.99 | F33: =L6+L7+L9 -> 35270.97 | H33: 2029 | I33: =D33 -> 203227.96
A34: 2029 | B34: de l'1-1 al 30-6 | C34: VI | D34: =M8+M10 -> 353018.58 | E34: =K8+K10 -> 291750.89 | F34: =L8+L10 -> 61267.69 | H34: 2029 | J34: =D34 -> 353018.58
A35: Total | D35: =SUM(D27:D34) -> 2503109.4 | E35: =SUM(E27:E34) -> 2068685.5 | F35: =SUM(F27:F34) -> 434423.94 | H35: Total | I35: =SUM(I27:I34) -> 914525.82 | J35: =SUM(J27:J34) -> 1588583.6 | K35: =I35+J35 -> 2503109.4
A38: Pròrroga
A40: Any | B40: Període | C40: Capítol | D40: Import total | E40: Pressupost net | F40: IVA | H40: Any | I40: C2 | J40: C6
A41: 2029 | B41: de l'1-7 al 31-12 | C41: II | D41: =D27 -> 101613.98 | E41: =E27 -> 83978.5 | F41: =F27 -> 17635.48 | H41: 2029 | I41: =D41 -> 101613.98
A42: 2029 | B42: de l'1-7 al 31-12 | C42: VI | D42: =D28 -> 176509.28 | E42: =E28 -> 145875.44 | F42: =F28 -> 30633.84 | H42: 2029 | J42: =D42 -> 176509.28
A43: 2030 | B43: de l'1-1 al 30-6 | C43: II | D43: =D33 -> 203227.96 | E43: =E33 -> 167956.99 | F43: =F33 -> 35270.97 | H43: 2030 | I43: =D43 -> 203227.96
A44: 2030 | B44: de l'1-1 al 30-6 | C44: VI | D44: =D34 -> 353018.58 | E44: =E34 -> 291750.89 | F44: =F34 -> 61267.69 | H44: 2030 | J44: =D44 -> 353018.58
A48: Modificacions de contracte: ampliació / disminució
A49: Causes previstes de modificació | B49: Import contracte (IVA inclòs) | C49: % Ampliació sobre import del contracte | D49: Import màxim ampliació (amb IVA) | E49: % Disminució sobre import del contracte | F49: Import màxim disminució (amb IVA)
A50: Modificacions per augment o disminució de volumetries en Serveis/Aplicacions | B50: =$D$21 -> 2503109.4 | C50: 0.2 | D50: =+ROUND(B50*C50,2) -> 500621.88 | E50: 0.2 | F50: =+ROUND(B50*E50,2) -> 500621.88
A51: TOTAL | B51: =SUM(B50:B50) -> 2503109.4 | C51: =SUM(C50:C50) -> 0.2 | D51: =SUM(D50:D50) -> 500621.88 | E51: =SUM(E50:E50) -> 0.2 | F51: =SUM(F50:F50) -> 500621.88
D52: =+ROUND(D51/1.21,2) -> 413737.09 | F52: =+ROUND(F51/1.21,2) -> 413737.09
...

Sheet Taula LOT-SERV-APP
A1: Contracte | B1: Servei | C1: Aplicació | D1: Lot X | E1: 2 lots!!
A2: G0389 | B2: SER0044 | C2: APP0860-SAP Subvencions | D2: 2
A3: G0389 | B3: SER0044 | C3: APP0861-SAP Convenis | D3: 2
A4: G0389 | B4: SER0044 | C4: APP0943-Expedient bustia etica | D4: 2
A5: G0389 | B5: SER0412 | C5: APP0867-Recepció factura electrònica | D5: 2
A6: G0389 | B6: SER0412 | C6: APP0864-Emissio factura electrònica | D6: 2
A7: G0389 | B7: SER0411 | C7: APP0866-FENS | D7: 2
A8: G0389 | B8: SER0474 | C8: APP0896-Gestió de bestretes | D8: 2
A9: G0389 | B9: SER0473 | C9: APP0895-Expedients economics(core) | D9: 2
A10: G0389 | B10: SER0038 | C10: APP0150-Compres | D10: 2
A11: G0389 | B11: SER0474 | C11: APP0898-Autorització de viatges | D11: 2
A13: G0389 | B13: SER0031 | C13: APP0176-COPERNICO | D13: 1
A14: G0389 | B14: SER0031 | C14: APP0719-Digitalització actes del plenari | D14: 1
... A34: G0074 | B34: SER0150 | C34: APP0071-Autorització comissió de servei | D34: 1
A36: Quden fora d'abast:
A37: GR | B37: SER0028 | C37: APP0360-Inmagic | D37: No | E37: Producte
A38: GR | B38: SER0028 | C38: APP0859-Unicorn-hyperion | D38: No
A39: GR | B39: SER0028 | C39: APP0868-Albala | D39: No
A40: GR | B40: SER0044 | C40: APP0262-eSubvencions | D40: No | E40: Contrato a parte
A41: GR | B41: Governança de serveis i projectes | D41: No
A42: GR | B42: Governança de gestió d'actius | D42: No
A43: GR | B43: Bustia etica | D43: No
A45: G0026 | B45: SER0028 | C45: APP0858-BCNROC | D45: No | E45: Producte
A46: G0024 | B46: SER0204 | C46: APP0862-Gestió Actius | D46: No
A47: G0004 | B47: SER0032 | C47: APP0373-INFOLEX | D47: No | E47: Producte
A48: G0004 | B48: SER0032 | C48: APP0865-Infolex de consulta | D48: No | E48: Producte
A49: G0018 | B49: SER0046 | C49: APP0169-Consums energetics | D49: No
A50: G0018 | B50: SER0047 | C50: APP0421-Manteniment Edificis | D50: No
A51: ? | C51: BKM | D51: No | E51: Producte
A52: Mediacloud | B52: SER0031 | C52: APP0478-Organismes Municipals | D52: No

Sheet Taula Estimació de dades
A1: LOT 2
A2: Contracte | B2: Servei | C2: Aplicació | D2: h Manteniment correctiu | E2: Preu/hora | F2: € Manteniment correctiu | G2: h Manteniment recurrent | H2: Preu/hora | I2: € Manteniment recurrent | J2: h OT | K2: Preu/hora | L2: € OT | M2: DATA INICI NOUS SERVEIS
A3: G0389 | B3: SER0044 | C3: APP0860-SAP Subvencions | D3: 75.29 | E3: 53.57 | F3: =D3*E3 -> 4033.2853 | G3: 570 | H3: 53.57 | I3: =G3*H3 -> 30534.9 | J3: 96.7935 | K3: 57.5 | L3: =J3*K3 -> 5565.6263
A4: G0389 | B4: SER0044 | C4: APP0861-SAP Convenis | D4: 288.60029 | E4: 53.57 | F4: =D4*E4 -> 15460.317 | G4: 577.20058 | H4: 53.57 | I4: =G4*H4 -> 30920.635 | J4: 129.87013 | K4: 57.5 | L4: =J4*K4 -> 7467.5325
A5: G0389 | B5: SER0044 | C5: APP0943-Expedient bustia etica | D5: 29.106349 | E5: 53.57 | F5: =D5*E5 -> 1559.2271 | G5: 89.798846 | H5: 53.57 | I5: =G5*H5 -> 4810.5242 | J5: 17.835779 | K5: 57.5 | L5: =J5*K5 -> 1025.5573
A6: G0389 | B6: SER0412 | C6: APP0867-Recepció factura electrònica | D6: 200 | E6: 53.57 | F6: =D6*E6 -> 10714 | G6: 220 | H6: 53.57 | I6: =G6*H6 -> 11785.4 | J6: 63 | K6: 57.5 | L6: =J6*K6 -> 3622.5
A7: G0389 | B7: SER0412 | C7: APP0864-Emissio factura electrònica | D7: 36.492063 | E7: 53.57 | F7: =D7*E7 -> 1954.8798 | G7: 72.984127 | H7: 53.57 | I7: =G7*H7 -> 3909.7597 | J7: 16.421429 | K7: 57.5 | L7: =J7*K7 -> 944.23214
A8: G0389 | B8: SER0411 | C8: APP0866-FENS | D8: 20 | E8: 53.57 | F8: =D8*E8 -> 1071.4 | G8: 85 | H8: 53.57 | I8: =G8*H8 -> 4553.45 | J8: 15.75 | K8: 57.5 | L8: =J8*K8 -> 905.625
A9: G0389 | B9: SER0474 | C9: APP0896-Gestió de bestretes | D9: 103.671 | E9: 53.57 | F9: =D9*E9 -> 5553.6552 | G9: 434.23719 | H9: 53.57 | I9: =G9*H9 -> 23262.086 | J9: 80.686227 | K9: 57.5 | L9: =J9*K9 -> 4639.4581
A10: G0389 | B10: SER0473 | C10: APP0895-Expedients economics(core) | D10: 0 | E10: 53.57 | F10: =D10*E10 -> 0 | G10: 202.4 | H10: 53.57 | I10: =G10*H10 -> 10842.568 | J10: 30.36 | K10: 57.5 | L10: =J10*K10 -> 1745.7
A11: G0389 | B11: SER0038 | C11: APP0150-Compres | D11: 0 | E11: 53.57 | F11: =D11*E11 -> 0 | G11: 159.03 | H11: 53.57 | I11: =G11*H11 -> 8519.2371 | J11: 23.8545 | K11: 57.5 | L11: =J11*K11 -> 1371.6337 | N11: Varia de molt poc
A12: G0389 | B12: SER0474 | C12: APP0898-Autorització de viatges | D12: 0 | E12: 53.57 | F12: =D12*E12 -> 0 | G12: 0 | H12: 53.57 | I12: =G12*H12 -> 0 | J12: 0 | K12: 57.5 | L12: =J12*K12 -> 0
A13: GR | B13: SER0044 | C13: APP0262-eSubvencions | D13: 288.60029 | E13: 53.57 | F13: =D13*E13 -> 15460.317 | G13: 649.35065 | H13: 53.57 | I13: =G13*H13 -> 34785.714 | J13: 140.69264 | K13: 57.5 | L13: =J13*K13 -> 8089.8268 | M13: 43466
D14: =SUM(D3:D13) -> 1041.76 | F14: =SUM(F3:F13) -> 55807.082 | G14: =SUM(G3:G13) -> 3060.0014 | I14: =SUM(I3:I13) -> 163924.27 | J14: =SUM(J3:J13) -> 615.26421 | L14: =SUM(L3:L13) -> 35377.692
A16: A partir de 16/05/2018
A17: Contracte | B17: Servei | C17: Aplicació | D17: h Manteniment correctiu | E17: h A partir 16/05/2018 | F17: Preu/hora | G17: € Manteniment correctiu | H17: h Manteniment recurrent | I17: h A partir 16/05/2018 | J17: Preu/hora | K17: € Manteniment recurrent | L17: h OT | M17: h A partir 16/05/2018 | N17: Preu/hora | O17: € OT | P17: DATA INICI NOUS SERVEIS
A18: G0389 | B18: SER0044 | C18: APP0860-SAP Subvencions | D18: 75.29 | E18: =D18/365*197.5 -> 40.73911 | F18: 53.57 | G18: =E18*F18 -> 2182.3941 | H18: 570 | I18: =H18/365*197.5 -> 308.42466 | J18: 53.57 | K18: =I18*J18 -> 16522.309 | L18: 96.7935 | M18: =L18/365*197.5 -> 52.374565 | N18: 57.5 | O18: =M18*N18 -> 3011.5375
A19: G0389 | B19: SER0044 | C19: APP0861-SAP Convenis | D19: 288.60029 | E19: =D19/365*197.5 -> 156.16043 | F19: 53.57 | G19: =E19*F19 -> 8365.5142 | H19: 577.20058 | I19: =H19/365*197.5 -> 312.32086 | J19: 53.57 | K19: =I19*J19 -> 16731.028 | L19: 129.87013 | M19: =L19/365*197.5 -> 70.272194 | N19: 57.5 | O19: =M19*N19 -> 4040.6511
A20: G0389 | B20: SER0044 | C20: APP0943-Expedient bustia etica | D20: 29.106349 | E20: =D20/365*197.5 -> 15.749326 | F20: 53.57 | G20: =E20*F20 -> 843.69139 | H20: 89.798846 | I20: =H20/365*197.5 -> 48.589786 | J20: 53.57 | K20: =I20*J20 -> 2602.9549 | L20: 17.835779 | M20: =L20/365*197.5 -> 9.6508668 | N20: 57.5 | O20: =M20*N20 -> 554.92484
A21: G0389 | B21: SER0412 | C21: APP0867-Recepció factura electrònica | D21: 200 | E21: =D21/365*197.5 -> 108.21918 | F21: 53.57 | G21: =E21*F21 -> 5797.3014 | H21: 220 | I21: =H21/365*197.5 -> 119.0411 | J21: 53.57 | K21: =I21*J21 -> 6377.0315 | L21: 63 | M21: =L21/365*197.5 -> 34.089041 | N21: 57.5 | O21: =M21*N21 -> 1960.1199
A22: G0389 | B22: SER0412 | C22: APP0864-Emissio factura electrònica | D22: 36.492063 | E22: =D22/365*197.5 -> 19.745706 | F22: 53.57 | G22: =E22*F22 -> 1057.7774 | H22: 72.984127 | I22: =H22/365*197.5 -> 39.491411 | J22: 53.57 | K22: =I22*J22 -> 2115.5549 | L22: 16.421429 | M22: =L22/365*197.5 -> 8.8855675 | N22: 57.5 | O22: =M22*N22 -> 510.92013
A23: G0389 | B23: SER0411 | C23: APP0866-FENS | D23: 20 | E23: =D23/365*197.5 -> 10.821918 | F23: 53.57 | G23: =E23*F23 -> 579.73014 | H23: 85 | I23: =H23/365*197.5 -> 45.993151 | J23: 53.57 | K23: =I23*J23 -> 2463.8531 | L23: 15.75 | M23: =L23/365*197.5 -> 8.5222603 | N23: 57.5 | O23: =M23*N23 -> 490.02997
A24: G0389 | B24: SER0474 | C24: APP0896-Gestió de bestretes | D24: 103.671 | E24: =D24/365*197.5 -> 56.09595 | F24: 53.57 | G24: =E24*F24 -> 3005.06 | H24: 434.23719 | I24: =H24/365*197.5 -> 234.96396 | J24: 53.57 | K24: =I24*J24 -> 12587.019 | L24: 80.686227 | M24: =L24/365*197.5 -> 43.658986 | N24: 57.5 | O24: =M24*N24 -> 2510.3917
A25: G0389 | B25: SER0473 | C25: APP0895-Expedients economics(core) | D25: 0 | E25: =D25/365*197.5 -> 0 | F25: 53.57 | G25: =E25*F25 -> 0 | H25: 202.4 | I25: =H25/365*197.5 -> 109.51781 | J25: 53.57 | K25: =I25*J25 -> 5866.869 | L25: 30.36 | M25: =L25/365*197.5 -> 16.427671 | N25: 57.5 | O25: =M25*N25 -> 944.5911
A26: G0389 | B26: SER0038 | C26: APP0150-Compres | D26: 0 | E26: =D26/365*197.5 -> 0 | F26: 53.57 | G26: =E26*F26 -> 0 | H26: 159.03 | I26: =H26/365*197.5 -> 86.050479 | J26: 53.57 | K26: =I26*J26 -> 4609.7242 | L26: 23.8545 | M26: =L26/365*197.5 -> 12.907572 | N26: 57.5 | O26: =M26*N26 -> 742.18539 | Q26: Varia de molt poc
A27: G0389 | B27: SER0474 | C27: APP0898-Autorització de viatges | D27: 0 | E27: =D27/365*197.5 -> 0 | F27: 53.57 | G27: =E27*F27 -> 0 | H27: 0 | I27: =H27/365*197.5 -> 0 | J27: 53.57 | K27: =I27*J27 -> 0 | L27: 0 | M27: =L27/365*197.5 -> 0 | N27: 57.5 | O27: =M27*N27 -> 0
A28: GR | B28: SER0044 | C28: APP0262-eSubvencions | D28: 288.60029 | E28: =D28/365*197.5 -> 156.16043 | F28: 53.57 | G28: =E28*F28 -> 8365.5142 | H28: 649.35065 | I28: =H28/365*197.5 -> 351.36097 | J28: 53.57 | K28: =I28*J28 -> 18822.407 | L28: 140.69264 | M28: =L28/365*197.5 -> 76.12821 | N28: 57.5 | O28: =M28*N28 -> 4377.3721 | P28: 43466
E29: =SUM(E18:E28) -> 563.69205 | G29: =SUM(G18:G28) -> 30196.983 | I29: =SUM(I18:I28) -> 1655.7542 | K29: =SUM(K18:K28) -> 88698.751 | M29: =SUM(M18:M28) -> 332.91693 | O29: =SUM(O18:O28) -> 19142.724
A30: GERÈNCIA DE RECURSOS (GR) LOT2 SAP | B30: Glòria Santamaria | C30: 321139.87 | D30: =+C30*3 -> 963419.62 | G30: =+D30/36*M30*0.25 -> 13380.828 | H30: 0 | J30: =+D30+G30+H30 -> 976800.45 | K30: S | M30: 2 | N30: 43101 | O30: 43236 | P30: 43236 | Q30: 43297
F32: CORR-RECU-OT | G32: TRANS
E33: 2018 | F33: =G29+K29+O29 -> 138038.46 | G33: =G30 -> 13380.828
E34: 2019 | F34: =F14+I14+L14 -> 255109.05
E35: 2020 | F35: =F14+I14+L14 -> 255109.05
E36: 2021 | F36: =F14+I14+L14 -> 255109.05
F37: =SUM(F33:F36) -> 903365.6 | G37: =SUM(G33:G36) -> 13380.828 | H37: =F37+G37 -> 916746.43
A39: LOT 1
A40: Contracte | B40: Servei | C40: Aplicació | D40: h Manteniment correctiu | E40: Preu/hora | F40: € Manteniment correctiu | G40: h Manteniment recurrent | H40: Preu/hora | I40: € Manteniment recurrent | J40: h OT | K40: Preu/hora | L40: € OT | M40: DATA INICI NOUS SERVEIS
A41: G0389 | B41: SER0031 | C41: APP0176-COPERNICO | D41: 209.25492 | E41: 46.59 | F41: =D41*E41 -> 9749.1868 | G41: 982.79691 | H41: 49.95 | I41: =G41*H41 -> 49090.706 | J41: 178.80777 | K41: 57.5 | L41: =J41*K41 -> 10281.447
A42: G0389 | B42: SER0031 | C42: APP0719-Digitalització actes del plenari | D42: 72.916667 | E42: 46.59 | F42: =D42*E42 -> 3397.1875 | G42: 853.57417 | H42: 49.95 | I42: =G42*H42 -> 42636.03 | J42: 138.97362 | K42: 57.5 | L42: =J42*K42 -> 7990.9834
A43: G0389 | B43: SER0031 | C43: APP0295-GASETA | D43: 161.31323 | E43: 46.59 | F43: =D43*E43 -> 7515.5835 | G43: 739.83205 | H43: 49.95 | I43: =G43*H43 -> 36954.611 | J43: 135.17179 | K43: 57.5 | L43: =J43*K43 -> 7772.378
...

Sheet Costos indirectes
A2: CÀLCUL COSTOS DIRECTES I INDIRECTES PEL PROJECTE
A4: Salari Brut | B4: Altres
A5: 1211351.5 | B5: 0
A7: Costos directes:
A8: Costos salarials - Salari Brut | B8: =A5 -> 1211351.5
A9: Costos salarials - Seguretat Social (34%) | B9: =+ROUND((B8*0.34),2) -> 411859.5
A10: Costos formació i prevenció (1%) | B10: =+ROUND(((B8)*0.01),2) -> 12113.51
A11: Altres | B11: =B5 -> 0
A12: TOTAL (Suma costos directes) | B12: =SUM(B8:B11) -> 1635324.5
A14: Costos indirectes:
A15: Despeses generals d’estructura (15%) | B15: =+ROUND((B12*0.15),2) -> 245298.67
A16: TOTAL (Suma costos directes + indirectes) | B16: =B12+B15 -> 1880623.1
A17: Benefici industrial (10%) | B17: =B16*10% -> 188062.31
A18: TOTAL DE COSTOS CONTRACTE | B18: =ROUND((B16+B17),2) -> 2068685.5
A19: IVA (21%) | B19: 434423.94

Sheet Relació de Tractaments
B1: AREA GOVERN | C1: GERÈNCIA | D1: CODI TRACTAMENT | E1: NOM TRACTAMENT | F1: FINALITAT TRACTAMENT | G1: CESSIONS | H1: TRANSFERÈNCIES INTERNACIONALS | I1: AFECTATS | J1: LEGITIMACIÓ | K1: TIPOLOGIA DE DADES | L1: PROCEDÈNCIA | M1: TERMINI DE CONSERVACIÓ | N1: SEGURETAT
B2: 3a Tin. ALCALDIA Prevenció, Seguretat, Convivència i Règim Interior | C2: Gerència de Persones, Organització i Administració Electrònica | D2: 113 | E2: Relacions sindicals | F2: Gestionar les relacions entre la representació dels/de les treballadors/es i l'Administració | G2: Comunicacions de dades a entitats de dret públic, Altres administracions i les establertes obligatòriament a la legislació vigent (Jutjats i tribunals i cossos i forces de seguretat) | H2: No | I2: Personal municipal i el/la/els/les seus/seves representants. | J2: Obligació legal del Responsable, RDLeg. 5/2015, pel qual s'aprova el text refós de la Llei de l'Estatut bàsic de l'empleat públic; Llei orgànica 11/1985, de 2 d'agost de Llibertat Sindical. | K2: Dades identificatives, dades personals, dades socials, dades professionals, dades ocupació laboral, dades econòmiques, imatges, dades afiliació sindical | L2: Procedència dades de la persona afectada | M2: Eliminació als 4 anys, tret el supòsit de conservació permanent (actes, acords, laudes arbitrals i composició d'òrgans de representació). | N2: Les mesures de seguretat implantades es corresponen amb les previstes a l’Annex II del Reial Decret 311/2022, de 3 de maig, pel que es regula l’Esquema Nacional de Seguretat (ENS) per a garantir la seguretat dels sistemes d’informació que donen suport als diferents tractaments de dades duts a terme per l’Ajuntament de Barcelona
B3: 3a Tin. ALCALDIA Prevenció, Seguretat, Convivència i Règim Interior | C3: Gerència de Persones, Organització i Administració Electrònica | D3: 115 | E3: Convenis de pràctiques educatives | F3: Gestió de cooperació educativa | G3: Comunicacions de dades a entitats de dret públic, Altres administracions, centres educatius (FP dual) i les establertes obligatòriament a la legislació vigent (Jutjats i tribunals i cossos i forces de seguretat) | H3: No | I3: Estudiants universitaris/es i de formació professional (modalitat dual) | J3: Contracte entre l'Ajuntament de Barcelona i l'afectat | K3: Dades identificatives, dades personals, dades professionals | L3: Procedència dades de la persona afectada, Procedència dades d'administracions públiques, Altres administracions públiques. | M3: Les vostres dades seran eliminades un cop complertes les obligacions legals derivades de la gestió de l’activitat. | N3: Les mesures de seguretat implantades es corresponen amb les previstes a l’Annex II del Reial Decret 311/2022, de 3 de maig, pel que es regula l’Esquema Nacional de Seguretat (ENS) per a garantir la seguretat dels sistemes d’informació que donen suport als diferents tractaments de dades duts a terme per l’Ajuntament de Barcelona
B4: 3a Tin. ALCALDIA Prevenció, Seguretat, Convivència i Règim Interior | C4: Gerència de Persones, Organització i Administració Electrònica | D4: 223 | E4: ENotificacions (notificacions electròniques) | F4: Gestió de les notificacions electròniques (mail o similar) | G4: Les establertes obligatòriament a la legislació vigent (Jutjats i tribunals i cossos i forces de seguretat) | H4: No | I4: Persones que, en raó d'una tramitació municipal, han de rebre una notificació electrònica | J4: Consentiment informat, específic i explícit, Obligació legal del Responsable, Llei 39/2015 Llei de Procediment Administratiu Comú de les Administracions Públiques | K4: Dades identificatives | L4: Procedència dades de la persona afectada | M4: Les vostres dades seran eliminades un cop complertes les obligacions legals derivades de la gestió de l’activitat. | N4: Les mesures de seguretat implantades es corresponen amb les previstes a l’Annex II del Reial Decret 311/2022, de 3 de maig, pel que es regula l’Esquema Nacional de Seguretat (ENS) per a garantir la seguretat dels sistemes d’informació que donen suport als diferents tractaments de dades duts a terme per l’Ajuntament de Barcelona
B5: 3a Tin. ALCALDIA Prevenció, Seguretat, Convivència i Règim Interior | C5: Gerència de Persones, Organització i Administració Electrònica | D5: 319 | E5: Selecció de Personal | F5: Gestió dels processos de provisió i selecció (temporal i definitiva) | G5: Comunicacions de dades a entitats de dret públic, Comunicacions de dades a entitats privades, Altres Administracions i les establertes obligatòriament a la legislació vigent (Jutjats i tribunals i cossos i forces de seguretat) | H5: No | I5: Personal municipal i ciutadans/es que es presenten a processos de selecció (oferta pública, promoció, provisió) | J5: Contracte entre l'Ajuntament de Barcelona i l'afectat, Obligació legal del Responsable, RDLeg. 5/2015, pel qual s'aprova el text refós de la Llei de l'Estatut bàsic de l'empleat públic | K5: Dades identificatives, dades personals, dades socials, dades professionals, dades ocupació laboral, dades comercials, dades econòmiques, imatges, dades infraccions penals, dades biomètriques, dades religió o filosofia, dades salut, dades violència de gènere, dades menors d'edat, dades altres tipus de persones vulnerables | L5: Procedència dades de la persona afectada, Procedència dades d'administracions públiques, Procedència dades de registres públics, Altres AA.PP amb consentiment | M5: 5 anys si no hi ha un recurs. Passa per la comissió de tria i eliminació. | N5: Les mesures de seguretat implantades es corresponen amb les previstes a l’Annex II del Reial Decret 311/2022, de 3 de maig, pel que es regula l’Esquema Nacional de Seguretat (ENS) per a garantir la seguretat dels sistemes d’informació que donen suport als diferents tractaments de dades duts a terme per l’Ajuntament de Barcelona
B6: 3a Tin. ALCALDIA Prevenció, Seguretat, Convivència i Règim Interior | C6: Gerència de Persones, Organització i Administració Electrònica | D6: 322 | E6: Seguretat i salut laboral | F6: Gestió dels aspectes de seguretat i salut laboral del personal municipal, seguiment dels processos d'incapacitat temporal per contingències comunes del personal municipal i aplicació dels protocols d'actuació en casos d'assetjament psicològic en el treball i assetjament sexual o per raó de sexe | G6: Comunicacions de dades a entitats de dret públic, Comunicacions de dades a entitats privades, Col·laboracions amb programes salut mental, proves vinculades a processos de selecció, programes de salut mental i les establertes obligatòriament a la legislació vigent (Jutjats i tribunals i cossos i forces de seguretat) | H6: No | I6: El personal municipal afectat pel tractament varia segons la disciplina que es tracti: seguretat i salut laboral, inspecció mèdica o protocol d'assetjament sexual/per raó de sexe. | J6: Consentiment informat, específic i explícit, Contracte entre l'Ajuntament de Barcelona i l'afectat, Obligació legal del Responsable, Missió d'interès públic - exercici de poders públics, Llei 31/1995, de 8 de novembre, de prevenció de riscos laborals; Llei orgànica 3/2007, 22 de març, per a la igualtat efectiva de dones i homes i Llei 17/2015, 21 juliol, d'igualtat efectiva de dones i homes | K6: Dades identificatives, dades personals, dades ocupació laboral, dades salut, dades vida sexual, dades violència de gènere, dades altres tipus de persones vulnerables | L6: Procedència dades de la persona afectada, Procedència dades d'administracions públiques, ICAM, Agència de salut pública (ASPB), Consorci d'educació de Barcelona, Generalitat de Catalunya i també d'entitats privades | M6: El termini de conservació de les dades per part de les empreses adjudicatàries dels serveis de salut (servei de vigilància de la salut, servei d'inspecció mèdica, mútua d'accidents) està sotmès la vigència dels contractes corresponents i la legislació d'aplicació. | N6: Les mesures de seguretat implantades es corresponen amb les previstes a l’Annex II del Reial Decret 311/2022, de 3 de maig, pel que es regula l’Esquema Nacional de Seguretat (ENS) per a garantir la seguretat dels sistemes d’informació que donen suport als diferents tractaments de dades duts a terme per l’Ajuntament de Barcelona
B7: 3a Tin. ALCALDIA Prevenció, Seguretat, Convivència i Règim Interior | C7: Gerència de Persones, Organització i Administració Electrònica | D7: 571 | E7: Gestió ordinària del personal | F7: Gestionar els processos derivats de la relació de servei del personal, a fi de garantir l'efectivitat dels seus drets i deures, tant de caràcter econòmic com administratiu. | G7: Comunicacions de dades a entitats de dret públic, Comunicacions de dades a entitats privades, A efectes d'obligacions tributàries i de seguretat social, INSS,SEPE, administració de Justícia i mútues d'accidents de treball. Entitat bancària i entitat gestora del Pla de Pensions i les establertes obligatòriament a la legislació vigent (Jutjats i tribunals i cossos i forces de seguretat) | H7: No | I7: Personal municipal, personal electe i assimilat i persones que formen part de les borses de treball. També dades de familiars necessàries per la gestió de permisos. | J7: Consentiment informat, específic i explícit, Contracte entre l'Ajuntament de Barcelona i l'afectat, Obligació legal del Responsable, RDLeg. 5/2015, pel qual s'aprova el text refós de la Llei de l'Estatut bàsic de l'empleat públic; RDLeg. 2/2015, de 23 d'octubre, pel qual s'aprova el text refós de la Llei de l'Estatut dels treballadors | K7: Dades identificatives, dades personals, dades socials, dades professionals, dades ocupació laboral, dades comercials, dades econòmiques, imatges, veu, dades infraccions penals, dades salut, dades afiliació sindical, dades violència de gènere, dades menors d'edat, dades altres tipus de persones vulnerables | L7: Procedència dades de la persona afectada, Procedència dades d'administracions públiques, Sistema informàtic de gestió de personal | M7: Compliment de l'establert a les taules de conservació de l'arxiu. També per disposar de la documentació en cas d'impugnació (administrativa o judicial) o de satisfacció del dret d'accés a informació pública. | N7: Les mesures de seguretat implantades es corresponen amb les previstes a l’Annex II del Reial Decret 311/2022, de 3 de maig, pel que es regula l’Esquema Nacional de Seguretat (ENS) per a garantir la seguretat dels sistemes d’informació que donen suport als diferents tractaments de dades duts a terme per l’Ajuntament de Barcelona
B8: 3a Tin. ALCALDIA Prevenció, Seguretat, Convivència i Règim Interior | C8: Gerència de Persones, Organització i Administració Electrònica | D8: 673 | E8: Col·laboradors i formadors externs | F8: Gestionar les dades dels col·laboradors i formadors externs a l'Ajuntament | G8: Comunicacions de dades a entitats de dret públic, FEDAP o Escola d'Administració Pública de Catalunya i les establertes obligatòriament a la legislació vigent (Jutjats i tribunals i cossos i forces de seguretat) | H8: No | I8: Persones empleades per la corporació | J8: Contracte entre l'Ajuntament de Barcelona i l'afectat | K8: Dades identificatives, dades professionals, imatges, veu | L8: Procedència dades de la persona afectada | M8: Les dades dels col·laboradors/formadors externs s'eliminen passats 6 anys. | N8: Les mesures de seguretat implantades es corresponen amb les previstes a l’Annex II del Reial Decret 311/2022, de 3 de maig, pel que es regula l’Esquema Nacional de Seguretat (ENS) per a garantir la seguretat dels sistemes d’informació que donen suport als diferents tractaments de dades duts a terme per l’Ajuntament de Barcelona
