Workbook

Sheet Instruccions
C1: Acord Marc CROC-OSAP — Annex d’oferta econòmica
C2: Lot 1 — Serveis del Centre de Riscos i Operacions de Ciberresiliència (CROC)
C3: Instruccions d'emplenament
A6: Ús del fitxer
A7: 1. Reviseu la pestanya 01_referència, que conté els preus màxims de sortida del lot. 2. Empleneu únicament les cel·les grogues de la pestanya 02_Oferta. 3. El fitxer no permet introduir preus superiors als preus de referència. 4. Les pestanyes d’Escenaris calculen automàticament l’import aplicable segons la maduresa i les unitats. 5. Els fulls estan protegits amb contrasenya per evitar modificacions accidentals dels preus de referència, la maduresa i les unitats. 6. A la pestanya Resum, les cel·les marcades en groc són les dades que s’han de traslladar al Sobre C.

Sheet 01_Referència
C1: Acord Marc CROC-OSAP — Annex d’oferta econòmica
C2: Lot 1 — Serveis del Centre de Riscos i Operacions de Ciberresiliència (CROC)
C3: Barcelona Innovació i Tecnologia
A6: Lot | B6: Paquet | C6: Funció | D6: Tipologia | E6: Capacitat | F6: Unitat | G6: Preu ref. nivell base (A) | H6: Increment ref. A→B | I6: Increment ref. B→C | J6: Preu ref. A | K6: Preu ref. B | L6: Preu ref. C
A7: L1 | B7: P1 | C7: Prevenció | D7: Implantació inicial (Capítol 6) | E7: Gestió de vulnerabilitats i exposició | F7: actius únics | G7: 0.4 | H7: 0.25 | I7: 0.97 | J7: =G7 -> 0.4 | K7: =G7+H7 -> 0.65 | L7: =G7+H7+I7 -> 1.62
A8: L1 | B8: P1 | C8: Prevenció | D8: Ampliació puntual (Capítol 6) | E8: Gestió de vulnerabilitats i exposició | F8: actius únics | G8: 0.3 | H8: 0.17 | I8: 0.57 | J8: =G8 -> 0.3 | K8: =G8+H8 -> 0.47 | L8: =G8+H8+I8 -> 1.04
A9: L1 | B9: P1 | C9: Prevenció | D9: Explotació mensual (Capítol 2) | E9: Gestió de vulnerabilitats i exposició | F9: actius únics | G9: 0.34 | H9: 0.16 | I9: 0.7 | J9: =G9 -> 0.34 | K9: =G9+H9 -> 0.5 | L9: =G9+H9+I9 -> 1.2
A10: L1 | B10: P2 | C10: Prevenció | D10: Implantació inicial (Capítol 6) | E10: Auditories i proves de seguretat | F10: paquets 40h/mes | G10: n/a | H10: n/a | I10: n/a | J10: n/a | K10: n/a | L10: n/a
A11: L1 | B11: P2 | C11: Prevenció | D11: Ampliació puntual (Capítol 6) | E11: Auditories i proves de seguretat | F11: paquets 40h/mes | G11: n/a | H11: n/a | I11: n/a | J11: n/a | K11: n/a | L11: n/a
A12: L1 | B12: P2 | C12: Prevenció | D12: Explotació mensual (Capítol 2) | E12: Auditories i proves de seguretat | F12: paquets 40h/mes | G12: 2890.71 | H12: 522.27 | I12: 856.68 | J12: =G12 -> 2890.71 | K12: =G12+H12 -> 3412.98 | L12: =G12+H12+I12 -> 4269.66
A13: L1 | B13: P3 | C13: Prevenció | D13: Implantació inicial (Capítol 6) | E13: Serveis d'intel·ligència (Threat Intel + Vigilància Digital) | F13: paquets 50 paraules clau | G13: 1000 | H13: 510.82 | I13: 1039.71 | J13: =G13 -> 1000 | K13: =G13+H13 -> 1510.82 | L13: =G13+H13+I13 -> 2550.53
A14: L1 | B14: P3 | C14: Prevenció | D14: Ampliació puntual (Capítol 6) | E14: Serveis d'intel·ligència (Threat Intel + Vigilància Digital) | F14: paquets 50 paraules clau | G14: 646.37 | H14: 158.13 | I14: 520 | J14: =G14 -> 646.37 | K14: =G14+H14 -> 804.5 | L14: =G14+H14+I14 -> 1324.5
A15: L1 | B15: P3 | C15: Prevenció | D15: Explotació mensual (Capítol 2) | E15: Serveis d'intel·ligència (Threat Intel + Vigilància Digital) | F15: paquets 50 paraules clau | G15: 1071.38 | H15: 621.14 | I15: 560.47 | J15: =G15 -> 1071.38 | K15: =G15+H15 -> 1692.52 | L15: =G15+H15+I15 -> 2252.99
A16: L1 | B16: P4 | C16: Prevenció | D16: Implantació inicial (Capítol 6) | E16: Inventari i classificació d'actius | F16: usuaris interns | G16: 0.64 | H16: 0.49 | I16: 0.58 | J16: =G16 -> 0.64 | K16: =G16+H16 -> 1.13 | L16: =G16+H16+I16 -> 1.71
A17: L1 | B17: P4 | C17: Prevenció | D17: Ampliació puntual (Capítol 6) | E17: Inventari i classificació d'actius | F17: usuaris interns | G17: 0.26 | H17: 0.23 | I17: 0.35 | J17: =G17 -> 0.26 | K17: =G17+H17 -> 0.49 | L17: =G17+H17+I17 -> 0.84
A18: L1 | B18: P4 | C18: Prevenció | D18: Explotació mensual (Capítol 2) | E18: Inventari i classificació d'actius | F18: usuaris interns | G18: 0.32 | H18: 0.12 | I18: 0.19 | J18: =G18 -> 0.32 | K18: =G18+H18 -> 0.44 | L18: =G18+H18+I18 -> 0.63
A19: L1 | B19: P16 | C19: Detecció i Contenció | D19: Implantació inicial (Capítol 6) | E19: Detecció incidents llocs de treball i dispositius mòbils | F19: usuaris interns | G19: 0.84 | H19: 0.1 | I19: 0.21 | J19: =G19 -> 0.84 | K19: =G19+H19 -> 0.94 | L19: =G19+H19+I19 -> 1.15
A20: L1 | B20: P16 | C20: Detecció i Contenció | D20: Ampliació puntual (Capítol 6) | E20: Detecció incidents llocs de treball i dispositius mòbils | F20: usuaris interns | G20: 0.33 | H20: 0.12 | I20: 0.15 | J20: =G20 -> 0.33 | K20: =G20+H20 -> 0.45 | L20: =G20+H20+I20 -> 0.6
A21: L1 | B21: P16 | C21: Detecció i Contenció | D21: Explotació mensual (Capítol 2) | E21: Detecció incidents llocs de treball i dispositius mòbils | F21: usuaris interns | G21: 0.7 | H21: 0.16 | I21: 0.19 | J21: =G21 -> 0.7 | K21: =G21+H21 -> 0.86 | L21: =G21+H21+I21 -> 1.05
A22: L1 | B22: P17 | C22: Detecció i Contenció | D22: Implantació inicial (Capítol 6) | E22: Detecció incidents servidors i càrregues de treball | F22: servidors + workloads | G22: 3.94 | H22: 1.02 | I22: 1.02 | J22: =G22 -> 3.94 | K22: =G22+H22 -> 4.96 | L22: =G22+H22+I22 -> 5.98
A23: L1 | B23: P17 | C23: Detecció i Contenció | D23: Ampliació puntual (Capítol 6) | E23: Detecció incidents servidors i càrregues de treball | F23: servidors + workloads | G23: 1.92 | H23: 0.67 | I23: 1.03 | J23: =G23 -> 1.92 | K23: =G23+H23 -> 2.59 | L23: =G23+H23+I23 -> 3.62
... A51: L1 | B51: P26 | C51: Detecció i Contenció | D51: Explotació mensual (Capítol 2) | E51: Detecció incidents contenidors i orquestradors | F51: nodes | G51: 16.77 | H51: 4.26 | I51: 5.5 | J51: =G51 -> 16.77 | K51: =G51+H51 -> 21.03 | L51: =G51+H51+I51 -> 26.53
A52: L1 | B52: P27 | C52: Resposta i recuperació | D52: Implantació inicial (Capítol 6) | E52: Resposta a incidents | F52: paquets 40h/mes | G52: n/a | H52: n/a | I52: n/a | J52: n/a | K52: n/a | L52: n/a
A53: L1 | B53: P27 | C53: Resposta i recuperació | D53: Ampliació puntual (Capítol 6) | E53: Resposta a incidents | F53: paquets 40h/mes | G53: n/a | H53: n/a | I53: n/a | J53: n/a | K53: n/a | L53: n/a
A54: L1 | B54: P27 | C54: Resposta i recuperació | D54: Explotació mensual (Capítol 2) | E54: Resposta a incidents | F54: paquets 40h/mes | G54: 2990.79 | H54: n/a | I54: n/a | J54: =G54 -> 2990.79 | K54: n/a | L54: n/a
A55: L1 | B55: P28 | C55: Resposta i recuperació | D55: Implantació inicial (Capítol 6) | E55: Recuperació post-incident | F55: servei crític | G55: 4439.78 | H55: 914.05 | I55: 422.4 | J55: =G55 -> 4439.78 | K55: =G55+H55 -> 5353.83 | L55: =G55+H55+I55 -> 5776.23
A56: L1 | B56: P28 | C56: Resposta i recuperació | D56: Ampliació puntual (Capítol 6) | E56: Recuperació post-incident | F56: servei crític | G56: 2128.61 | H56: 633.4 | I56: 337.92 | J56: =G56 -> 2128.61 | K56: =G56+H56 -> 2762.01 | L56: =G56+H56+I56 -> 3099.93
A57: L1 | B57: P28 | C57: Resposta i recuperació | D57: Explotació mensual (Capítol 2) | E57: Recuperació post-incident | F57: servei crític | G57: 905.84 | H57: 210.93 | I57: 176 | J57: =G57 -> 905.84 | K57: =G57+H57 -> 1116.77 | L57: =G57+H57+I57 -> 1292.77
A58: L1 | B58: P29 | C58: Transversal | D58: Implantació inicial (Capítol 6) | E58: Capacitació i conscienciació | F58: usuaris interns | G58: 1.23 | H58: 0.56 | I58: 0.7 | J58: =G58 -> 1.23 | K58: =G58+H58 -> 1.79 | L58: =G58+H58+I58 -> 2.49
A59: L1 | B59: P29 | C59: Transversal | D59: Ampliació puntual (Capítol 6) | E59: Capacitació i conscienciació | F59: usuaris interns | G59: 1.23 | H59: 0.36 | I59: 0.51 | J59: =G59 -> 1.23 | K59: =G59+H59 -> 1.59 | L59: =G59+H59+I59 -> 2.1
A60: L1 | B60: P29 | C60: Transversal | D60: Explotació mensual (Capítol 2) | E60: Capacitació i conscienciació | F60: usuaris interns | G60: 0.35 | H60: 0.35 | I60: 0.35 | J60: =G60 -> 0.35 | K60: =G60+H60 -> 0.7 | L60: =G60+H60+I60 -> 1.05
A61: L1 | B61: P30 | C61: Transversal | D61: Implantació inicial (Capítol 6) | E61: Governança i compliment | F61: usuaris interns | G61: 1 | H61: 0.61 | I61: 0.84 | J61: =G61 -> 1 | K61: =G61+H61 -> 1.61 | L61: =G61+H61+I61 -> 2.45
A62: L1 | B62: P30 | C62: Transversal | D62: Ampliació puntual (Capítol 6) | E62: Governança i compliment | F62: usuaris interns | G62: 0.65 | H62: 0.43 | I62: 0.54 | J62: =G62 -> 0.65 | K62: =G62+H62 -> 1.08 | L62: =G62+H62+I62 -> 1.62
A63: L1 | B63: P30 | C63: Transversal | D63: Explotació mensual (Capítol 2) | E63: Governança i compliment | F63: usuaris interns | G63: 0.28 | H63: 0.14 | I63: 0.32 | J63: =G63 -> 0.28 | K63: =G63+H63 -> 0.42 | L63: =G63+H63+I63 -> 0.74

Sheet 02_Oferta
C1: Acord Marc CROC-OSAP — Annex d’oferta econòmica
C2: Lot 1 — Serveis del Centre de Riscos i Operacions de Ciberresiliència (CROC)
C3: Full a emplenar pel licitador | Les cel·les grogues són editables i no admeten imports superiors al preu de referència.
A5: Pendents: | B5: =COUNTIF(M7:M63,"Pendent") -> 53 | C5: Revisar: | D5: =COUNTIF(M7:M63,"Revisar") -> 0
A6: Lot | B6: Paquet | C6: Funció | D6: Tipologia | E6: Capacitat | F6: Unitat | G6: Oferta nivell base (A) | H6: Oferta Increment A→B | I6: Oferta Increment B→C | J6: Preu ofert A | K6: Preu ofert B | L6: Preu ofert C | M6: Validació
A7: L1 | B7: P1 | C7: Prevenció | D7: Implantació inicial (Capítol 6) | E7: Gestió de vulnerabilitats i exposició | F7: actius únics | J7: =G7 -> 0 | K7: =G7+H7 -> 0 | L7: =G7+H7+I7 -> 0 | M7: =IF(OR(G7="",H7="",I7=""),"Pendent",IF(AND(G7<='01_Referència'!G7,H7<='01_Referència'!H7,I7<='01_Referència'!I7),"OK","Revisar")) -> Pendent
A8: L1 | B8: P1 | C8: Prevenció | D8: Ampliació puntual (Capítol 6) | E8: Gestió de vulnerabilitats i exposició | F8: actius únics | J8: =G8 -> 0 | K8: =G8+H8 -> 0 | L8: =G8+H8+I8 -> 0 | M8: =IF(OR(G8="",H8="",I8=""),"Pendent",IF(AND(G8<='01_Referència'!G8,H8<='01_Referència'!H8,I8<='01_Referència'!I8),"OK","Revisar")) -> Pendent
A9: L1 | B9: P1 | C9: Prevenció | D9: Explotació mensual (Capítol 2) | E9: Gestió de vulnerabilitats i exposició | F9: actius únics | J9: =G9 -> 0 | K9: =G9+H9 -> 0 | L9: =G9+H9+I9 -> 0 | M9: =IF(OR(G9="",H9="",I9=""),"Pendent",IF(AND(G9<='01_Referència'!G9,H9<='01_Referència'!H9,I9<='01_Referència'!I9),"OK","Revisar")) -> Pendent
A10: L1 | B10: P2 | C10: Prevenció | D10: Implantació inicial (Capítol 6) | E10: Auditories i proves de seguretat | F10: paquets 40h/mes | G10: n/a | H10: n/a | I10: n/a
A11: L1 | B11: P2 | C11: Prevenció | D11: Ampliació puntual (Capítol 6) | E11: Auditories i proves de seguretat | F11: paquets 40h/mes | G11: n/a | H11: n/a | I11: n/a
A12: L1 | B12: P2 | C12: Prevenció | D12: Explotació mensual (Capítol 2) | E12: Auditories i proves de seguretat | F12: paquets 40h/mes | J12: =G12 -> 0 | K12: =G12+H12 -> 0 | L12: =G12+H12+I12 -> 0 | M12: =IF(OR(G12="",H12="",I12=""),"Pendent",IF(AND(G12<='01_Referència'!G12,H12<='01_Referència'!H12,I12<='01_Referència'!I12),"OK","Revisar")) -> Pendent
A13: L1 | B13: P3 | C13: Prevenció | D13: Implantació inicial (Capítol 6) | E13: Serveis d'intel·ligència (Threat Intel + Vigilància Digital) | F13: paquets 50 paraules clau | J13: =G13 -> 0 | K13: =G13+H13 -> 0 | L13: =G13+H13+I13 -> 0 | M13: =IF(OR(G13="",H13="",I13=""),"Pendent",IF(AND(G13<='01_Referència'!G13,H13<='01_Referència'!H13,I13<='01_Referència'!I13),"OK","Revisar")) -> Pendent
A14: L1 | B14: P3 | C14: Prevenció | D14: Ampliació puntual (Capítol 6) | E14: Serveis d'intel·ligència (Threat Intel + Vigilància Digital) | F14: paquets 50 paraules clau | J14: =G14 -> 0 | K14: =G14+H14 -> 0 | L14: =G14+H14+I14 -> 0 | M14: =IF(OR(G14="",H14="",I14=""),"Pendent",IF(AND(G14<='01_Referència'!G14,H14<='01_Referència'!H14,I14<='01_Referència'!I14),"OK","Revisar")) -> Pendent
A15: L1 | B15: P3 | C15: Prevenció | D15: Explotació mensual (Capítol 2) | E15: Serveis d'intel·ligència (Threat Intel + Vigilància Digital) | F15: paquets 50 paraules clau | J15: =G15 -> 0 | K15: =G15+H15 -> 0 | L15: =G15+H15+I15 -> 0 | M15: =IF(OR(G15="",H15="",I15=""),"Pendent",IF(AND(G15<='01_Referència'!G15,H15<='01_Referència'!H15,I15<='01_Referència'!I15),"OK","Revisar")) -> Pendent
A16: L1 | B16: P4 | C16: Prevenció | D16: Implantació inicial (Capítol 6) | E16: Inventari i classificació d'actius | F16: usuaris interns | J16: =G16 -> 0 | K16: =G16+H16 -> 0 | L16: =G16+H16+I16 -> 0 | M16: =IF(OR(G16="",H16="",I16=""),"Pendent",IF(AND(G16<='01_Referència'!G16,H16<='01_Referència'!H16,I16<='01_Referència'!I16),"OK","Revisar")) -> Pendent
A17: L1 | B17: P4 | C17: Prevenció | D17: Ampliació puntual (Capítol 6) | E17: Inventari i classificació d'actius | F17: usuaris interns | J17: =G17 -> 0 | K17: =G17+H17 -> 0 | L17: =G17+H17+I17 -> 0 | M17: =IF(OR(G17="",H17="",I17=""),"Pendent",IF(AND(G17<='01_Referència'!G17,H17<='01_Referència'!H17,I17<='01_Referència'!I17),"OK","Revisar")) -> Pendent
A18: L1 | B18: P4 | C18: Prevenció | D18: Explotació mensual (Capítol 2) | E18: Inventari i classificació d'actius | F18: usuaris interns | J18: =G18 -> 0 | K18: =G18+H18 -> 0 | L18: =G18+H18+I18 -> 0 | M18: =IF(OR(G18="",H18="",I18=""),"Pendent",IF(AND(G18<='01_Referència'!G18,H18<='01_Referència'!H18,I18<='01_Referència'!I18),"OK","Revisar")) -> Pendent
A19: L1 | B19: P16 | C19: Detecció i Contenció | D19: Implantació inicial (Capítol 6) | E19: Detecció incidents llocs de treball i dispositius mòbils | F19: usuaris interns | J19: =G19 -> 0 | K19: =G19+H19 -> 0 | L19: =G19+H19+I19 -> 0 | M19: =IF(OR(G19="",H19="",I19=""),"Pendent",IF(AND(G19<='01_Referència'!G19,H19<='01_Referència'!H19,I19<='01_Referència'!I19),"OK","Revisar")) -> Pendent
A20: L1 | B20: P16 | C20: Detecció i Contenció | D20: Ampliació puntual (Capítol 6) | E20: Detecció incidents llocs de treball i dispositius mòbils | F20: usuaris interns | J20: =G20 -> 0 | K20: =G20+H20 -> 0 | L20: =G20+H20+I20 -> 0 | M20: =IF(OR(G20="",H20="",I20=""),"Pendent",IF(AND(G20<='01_Referència'!G20,H20<='01_Referència'!H20,I20<='01_Referència'!I20),"OK","Revisar")) -> Pendent
A21: L1 | B21: P16 | C21: Detecció i Contenció | D21: Explotació mensual (Capítol 2) | E21: Detecció incidents llocs de treball i dispositius mòbils | F21: usuaris interns | J21: =G21 -> 0 | K21: =G21+H21 -> 0 | L21: =G21+H21+I21 -> 0 | M21: =IF(OR(G21="",H21="",I21=""),"Pendent",IF(AND(G21<='01_Referència'!G21,H21<='01_Referència'!H21,I21<='01_Referència'!I21),"OK","Revisar")) -> Pendent
A22: L1 | B22: P17 | C22: Detecció i Contenció | D22: Implantació inicial (Capítol 6) | E22: Detecció incidents servidors i càrregues de treball | F22: servidors + workloads | J22: =G22 -> 0 | K22: =G22+H22 -> 0 | L22: =G22+H22+I22 -> 0 | M22: =IF(OR(G22="",H22="",I22=""),"Pendent",IF(AND(G22<='01_Referència'!G22,H22<='01_Referència'!H22,I22<='01_Referència'!I22),"OK","Revisar")) -> Pendent
A23: L1 | B23: P17 | C23: Detecció i Contenció | D23: Ampliació puntual (Capítol 6) | E23: Detecció incidents servidors i càrregues de treball | F23: servidors + workloads | J23: =G23 -> 0 | K23: =G23+H23 -> 0 | L23: =G23+H23+I23 -> 0 | M23: =IF(OR(G23="",H23="",I23=""),"Pendent",IF(AND(G23<='01_Referència'!G23,H23<='01_Referència'!H23,I23<='01_Referència'!I23),"OK","Revisar")) -> Pendent
... A51: L1 | B51: P26 | C51: Detecció i Contenció | D51: Explotació mensual (Capítol 2) | E51: Detecció incidents contenidors i orquestradors | F51: nodes | J51: =G51 -> 0 | K51: =G51+H51 -> 0 | L51: =G51+H51+I51 -> 0 | M51: =IF(OR(G51="",H51="",I51=""),"Pendent",IF(AND(G51<='01_Referència'!G51,H51<='01_Referència'!H51,I51<='01_Referència'!I51),"OK","Revisar")) -> Pendent
A52: L1 | B52: P27 | C52: Resposta i recuperació | D52: Implantació inicial (Capítol 6) | E52: Resposta a incidents | F52: paquets 40h/mes | G52: n/a | H52: n/a | I52: n/a
A53: L1 | B53: P27 | C53: Resposta i recuperació | D53: Ampliació puntual (Capítol 6) | E53: Resposta a incidents | F53: paquets 40h/mes | G53: n/a | H53: n/a | I53: n/a
A54: L1 | B54: P27 | C54: Resposta i recuperació | D54: Explotació mensual (Capítol 2) | E54: Resposta a incidents | F54: paquets 40h/mes | H54: n/a | I54: n/a | J54: =G54 -> 0 | M54: =IF(OR(G54="",H54="",I54=""),"Pendent",IF(AND(G54<='01_Referència'!G54,H54<='01_Referència'!H54,I54<='01_Referència'!I54),"OK","Revisar")) -> Pendent
A55: L1 | B55: P28 | C55: Resposta i recuperació | D55: Implantació inicial (Capítol 6) | E55: Recuperació post-incident | F55: servei crític | J55: =G55 -> 0 | K55: =G55+H55 -> 0 | L55: =G55+H55+I55 -> 0 | M55: =IF(OR(G55="",H55="",I55=""),"Pendent",IF(AND(G55<='01_Referència'!G55,H55<='01_Referència'!H55,I55<='01_Referència'!I55),"OK","Revisar")) -> Pendent
A56: L1 | B56: P28 | C56: Resposta i recuperació | D56: Ampliació puntual (Capítol 6) | E56: Recuperació post-incident | F56: servei crític | J56: =G56 -> 0 | K56: =G56+H56 -> 0 | L56: =G56+H56+I56 -> 0 | M56: =IF(OR(G56="",H56="",I56=""),"Pendent",IF(AND(G56<='01_Referència'!G56,H56<='01_Referència'!H56,I56<='01_Referència'!I56),"OK","Revisar")) -> Pendent
A57: L1 | B57: P28 | C57: Resposta i recuperació | D57: Explotació mensual (Capítol 2) | E57: Recuperació post-incident | F57: servei crític | J57: =G57 -> 0 | K57: =G57+H57 -> 0 | L57: =G57+H57+I57 -> 0 | M57: =IF(OR(G57="",H57="",I57=""),"Pendent",IF(AND(G57<='01_Referència'!G57,H57<='01_Referència'!H57,I57<='01_Referència'!I57),"OK","Revisar")) -> Pendent
A58: L1 | B58: P29 | C58: Transversal | D58: Implantació inicial (Capítol 6) | E58: Capacitació i conscienciació | F58: usuaris interns | J58: =G58 -> 0 | K58: =G58+H58 -> 0 | L58: =G58+H58+I58 -> 0 | M58: =IF(OR(G58="",H58="",I58=""),"Pendent",IF(AND(G58<='01_Referència'!G58,H58<='01_Referència'!H58,I58<='01_Referència'!I58),"OK","Revisar")) -> Pendent
A59: L1 | B59: P29 | C59: Transversal | D59: Ampliació puntual (Capítol 6) | E59: Capacitació i conscienciació | F59: usuaris interns | J59: =G59 -> 0 | K59: =G59+H59 -> 0 | L59: =G59+H59+I59 -> 0 | M59: =IF(OR(G59="",H59="",I59=""),"Pendent",IF(AND(G59<='01_Referència'!G59,H59<='01_Referència'!H59,I59<='01_Referència'!I59),"OK","Revisar")) -> Pendent
A60: L1 | B60: P29 | C60: Transversal | D60: Explotació mensual (Capítol 2) | E60: Capacitació i conscienciació | F60: usuaris interns | J60: =G60 -> 0 | K60: =G60+H60 -> 0 | L60: =G60+H60+I60 -> 0 | M60: =IF(OR(G60="",H60="",I60=""),"Pendent",IF(AND(G60<='01_Referència'!G60,H60<='01_Referència'!H60,I60<='01_Referència'!I60),"OK","Revisar")) -> Pendent
A61: L1 | B61: P30 | C61: Transversal | D61: Implantació inicial (Capítol 6) | E61: Governança i compliment | F61: usuaris interns | J61: =G61 -> 0 | K61: =G61+H61 -> 0 | L61: =G61+H61+I61 -> 0 | M61: =IF(OR(G61="",H61="",I61=""),"Pendent",IF(AND(G61<='01_Referència'!G61,H61<='01_Referència'!H61,I61<='01_Referència'!I61),"OK","Revisar")) -> Pendent
A62: L1 | B62: P30 | C62: Transversal | D62: Ampliació puntual (Capítol 6) | E62: Governança i compliment | F62: usuaris interns | J62: =G62 -> 0 | K62: =G62+H62 -> 0 | L62: =G62+H62+I62 -> 0 | M62: =IF(OR(G62="",H62="",I62=""),"Pendent",IF(AND(G62<='01_Referència'!G62,H62<='01_Referència'!H62,I62<='01_Referència'!I62),"OK","Revisar")) -> Pendent
A63: L1 | B63: P30 | C63: Transversal | D63: Explotació mensual (Capítol 2) | E63: Governança i compliment | F63: usuaris interns | J63: =G63 -> 0 | K63: =G63+H63 -> 0 | L63: =G63+H63+I63 -> 0 | M63: =IF(OR(G63="",H63="",I63=""),"Pendent",IF(AND(G63<='01_Referència'!G63,H63<='01_Referència'!H63,I63<='01_Referència'!I63),"OK","Revisar")) -> Pendent

Sheet 03_Escenari_1
C1: Acord Marc CROC-OSAP — Annex d’oferta econòmica
C2: Lot 1 — Serveis del Centre de Riscos i Operacions de Ciberresiliència (CROC)
C3: Barcelona Innovació i Tecnologia
A5: Total oferta: | B5: =SUM(J7:J63) -> 0 | C5: Total referència: | D5: =SUM(L7:L63) -> 1493619.1 | E5: Diferència: | F5: =D5-B5 -> 1493619.1
A6: Lot | B6: Paquet | C6: Funció | D6: Tipologia | E6: Capacitat | F6: Unitat | G6: Maduresa | H6: Unitats | I6: Preu ofert aplicable | J6: import total oferta anual | K6: Preu referència aplicable | L6: import total referència anual | M6: diferència vs referència
A7: L1 | B7: P1 | C7: Prevenció | D7: Implantació inicial (Capítol 6) | E7: Gestió de vulnerabilitats i exposició | F7: actius únics | G7: B | H7: 20000 | I7: =IF(G7="A",'02_Oferta'!G7,IF(G7="B",'02_Oferta'!G7+'02_Oferta'!H7,IF(G7="C",'02_Oferta'!G7+'02_Oferta'!H7+'02_Oferta'!I7,0))) -> 0 | J7: =IF($D7="Explotació mensual (Capítol 2)",I7*H7*12,I7*H7) -> 0 | K7: =IF(G7="A",'01_Referència'!G7,IF(G7="B",'01_Referència'!G7+'01_Referència'!H7,IF(G7="C",'01_Referència'!G7+'01_Referència'!H7+'01_Referència'!I7,0))) -> 0.65 | L7: =IF($D7="Explotació mensual (Capítol 2)",K7*H7*12,K7*H7) -> 13000 | M7: =L7-J7 -> 13000
A8: L1 | B8: P1 | C8: Prevenció | D8: Ampliació puntual (Capítol 6) | E8: Gestió de vulnerabilitats i exposició | F8: actius únics | G8: B | H8: 0 | I8: =IF(G8="A",'02_Oferta'!G8,IF(G8="B",'02_Oferta'!G8+'02_Oferta'!H8,IF(G8="C",'02_Oferta'!G8+'02_Oferta'!H8+'02_Oferta'!I8,0))) -> 0 | J8: =IF($D8="Explotació mensual (Capítol 2)",I8*H8*12,I8*H8) -> 0 | K8: =IF(G8="A",'01_Referència'!G8,IF(G8="B",'01_Referència'!G8+'01_Referència'!H8,IF(G8="C",'01_Referència'!G8+'01_Referència'!H8+'01_Referència'!I8,0))) -> 0.47 | L8: =IF($D8="Explotació mensual (Capítol 2)",K8*H8*12,K8*H8) -> 0 | M8: =L8-J8 -> 0
A9: L1 | B9: P1 | C9: Prevenció | D9: Explotació mensual (Capítol 2) | E9: Gestió de vulnerabilitats i exposició | F9: actius únics | G9: B | H9: 20000 | I9: =IF(G9="A",'02_Oferta'!G9,IF(G9="B",'02_Oferta'!G9+'02_Oferta'!H9,IF(G9="C",'02_Oferta'!G9+'02_Oferta'!H9+'02_Oferta'!I9,0))) -> 0 | J9: =IF($D9="Explotació mensual (Capítol 2)",I9*H9*12,I9*H9) -> 0 | K9: =IF(G9="A",'01_Referència'!G9,IF(G9="B",'01_Referència'!G9+'01_Referència'!H9,IF(G9="C",'01_Referència'!G9+'01_Referència'!H9+'01_Referència'!I9,0))) -> 0.5 | L9: =IF($D9="Explotació mensual (Capítol 2)",K9*H9*12,K9*H9) -> 120000 | M9: =L9-J9 -> 120000
A10: L1 | B10: P2 | C10: Prevenció | D10: Implantació inicial (Capítol 6) | E10: Auditories i proves de seguretat | F10: paquets 40h/mes | G10: n/a | H10: 0 | I10: =IF(G10="A",'02_Oferta'!G10,IF(G10="B",'02_Oferta'!G10+'02_Oferta'!H10,IF(G10="C",'02_Oferta'!G10+'02_Oferta'!H10+'02_Oferta'!I10,0))) -> 0 | J10: =IF($D10="Explotació mensual (Capítol 2)",I10*H10*12,I10*H10) -> 0 | K10: =IF(G10="A",'01_Referència'!G10,IF(G10="B",'01_Referència'!G10+'01_Referència'!H10,IF(G10="C",'01_Referència'!G10+'01_Referència'!H10+'01_Referència'!I10,0))) -> 0 | L10: =IF($D10="Explotació mensual (Capítol 2)",K10*H10*12,K10*H10) -> 0 | M10: =L10-J10 -> 0
A11: L1 | B11: P2 | C11: Prevenció | D11: Ampliació puntual (Capítol 6) | E11: Auditories i proves de seguretat | F11: paquets 40h/mes | G11: n/a | H11: 0 | I11: =IF(G11="A",'02_Oferta'!G11,IF(G11="B",'02_Oferta'!G11+'02_Oferta'!H11,IF(G11="C",'02_Oferta'!G11+'02_Oferta'!H11+'02_Oferta'!I11,0))) -> 0 | J11: =IF($D11="Explotació mensual (Capítol 2)",I11*H11*12,I11*H11) -> 0 | K11: =IF(G11="A",'01_Referència'!G11,IF(G11="B",'01_Referència'!G11+'01_Referència'!H11,IF(G11="C",'01_Referència'!G11+'01_Referència'!H11+'01_Referència'!I11,0))) -> 0 | L11: =IF($D11="Explotació mensual (Capítol 2)",K11*H11*12,K11*H11) -> 0 | M11: =L11-J11 -> 0
A12: L1 | B12: P2 | C12: Prevenció | D12: Explotació mensual (Capítol 2) | E12: Auditories i proves de seguretat | F12: paquets 40h/mes | G12: B | H12: 1 | I12: =IF(G12="A",'02_Oferta'!G12,IF(G12="B",'02_Oferta'!G12+'02_Oferta'!H12,IF(G12="C",'02_Oferta'!G12+'02_Oferta'!H12+'02_Oferta'!I12,0))) -> 0 | J12: =IF($D12="Explotació mensual (Capítol 2)",I12*H12*12,I12*H12) -> 0 | K12: =IF(G12="A",'01_Referència'!G12,IF(G12="B",'01_Referència'!G12+'01_Referència'!H12,IF(G12="C",'01_Referència'!G12+'01_Referència'!H12+'01_Referència'!I12,0))) -> 3412.98 | L12: =IF($D12="Explotació mensual (Capítol 2)",K12*H12*12,K12*H12) -> 40955.76 | M12: =L12-J12 -> 40955.76
A13: L1 | B13: P3 | C13: Prevenció | D13: Implantació inicial (Capítol 6) | E13: Serveis d'intel·ligència (Threat Intel + Vigilància Digital) | F13: paquets 50 paraules clau | G13: B | H13: 5 | I13: =IF(G13="A",'02_Oferta'!G13,IF(G13="B",'02_Oferta'!G13+'02_Oferta'!H13,IF(G13="C",'02_Oferta'!G13+'02_Oferta'!H13+'02_Oferta'!I13,0))) -> 0 | J13: =IF($D13="Explotació mensual (Capítol 2)",I13*H13*12,I13*H13) -> 0 | K13: =IF(G13="A",'01_Referència'!G13,IF(G13="B",'01_Referència'!G13+'01_Referència'!H13,IF(G13="C",'01_Referència'!G13+'01_Referència'!H13+'01_Referència'!I13,0))) -> 1510.82 | L13: =IF($D13="Explotació mensual (Capítol 2)",K13*H13*12,K13*H13) -> 7554.1 | M13: =L13-J13 -> 7554.1
A14: L1 | B14: P3 | C14: Prevenció | D14: Ampliació puntual (Capítol 6) | E14: Serveis d'intel·ligència (Threat Intel + Vigilància Digital) | F14: paquets 50 paraules clau | G14: B | H14: 0 | I14: =IF(G14="A",'02_Oferta'!G14,IF(G14="B",'02_Oferta'!G14+'02_Oferta'!H14,IF(G14="C",'02_Oferta'!G14+'02_Oferta'!H14+'02_Oferta'!I14,0))) -> 0 | J14: =IF($D14="Explotació mensual (Capítol 2)",I14*H14*12,I14*H14) -> 0 | K14: =IF(G14="A",'01_Referència'!G14,IF(G14="B",'01_Referència'!G14+'01_Referència'!H14,IF(G14="C",'01_Referència'!G14+'01_Referència'!H14+'01_Referència'!I14,0))) -> 804.5 | L14: =IF($D14="Explotació mensual (Capítol 2)",K14*H14*12,K14*H14) -> 0 | M14: =L14-J14 -> 0
A15: L1 | B15: P3 | C15: Prevenció | D15: Explotació mensual (Capítol 2) | E15: Serveis d'intel·ligència (Threat Intel + Vigilància Digital) | F15: paquets 50 paraules clau | G15: B | H15: 5 | I15: =IF(G15="A",'02_Oferta'!G15,IF(G15="B",'02_Oferta'!G15+'02_Oferta'!H15,IF(G15="C",'02_Oferta'!G15+'02_Oferta'!H15+'02_Oferta'!I15,0))) -> 0 | J15: =IF($D15="Explotació mensual (Capítol 2)",I15*H15*12,I15*H15) -> 0 | K15: =IF(G15="A",'01_Referència'!G15,IF(G15="B",'01_Referència'!G15+'01_Referència'!H15,IF(G15="C",'01_Referència'!G15+'01_Referència'!H15+'01_Referència'!I15,0))) -> 1692.52 | L15: =IF($D15="Explotació mensual (Capítol 2)",K15*H15*12,K15*H15) -> 101551.2 | M15: =L15-J15 -> 101551.2
A16: L1 | B16: P4 | C16: Prevenció | D16: Implantació inicial (Capítol 6) | E16: Inventari i classificació d'actius | F16: usuaris interns | G16: A | H16: 0 | I16: =IF(G16="A",'02_Oferta'!G16,IF(G16="B",'02_Oferta'!G16+'02_Oferta'!H16,IF(G16="C",'02_Oferta'!G16+'02_Oferta'!H16+'02_Oferta'!I16,0))) -> 0 | J16: =IF($D16="Explotació mensual (Capítol 2)",I16*H16*12,I16*H16) -> 0 | K16: =IF(G16="A",'01_Referència'!G16,IF(G16="B",'01_Referència'!G16+'01_Referència'!H16,IF(G16="C",'01_Referència'!G16+'01_Referència'!H16+'01_Referència'!I16,0))) -> 0.64 | L16: =IF($D16="Explotació mensual (Capítol 2)",K16*H16*12,K16*H16) -> 0 | M16: =L16-J16 -> 0
A17: L1 | B17: P4 | C17: Prevenció | D17: Ampliació puntual (Capítol 6) | E17: Inventari i classificació d'actius | F17: usuaris interns | G17: A | H17: 0 | I17: =IF(G17="A",'02_Oferta'!G17,IF(G17="B",'02_Oferta'!G17+'02_Oferta'!H17,IF(G17="C",'02_Oferta'!G17+'02_Oferta'!H17+'02_Oferta'!I17,0))) -> 0 | J17: =IF($D17="Explotació mensual (Capítol 2)",I17*H17*12,I17*H17) -> 0 | K17: =IF(G17="A",'01_Referència'!G17,IF(G17="B",'01_Referència'!G17+'01_Referència'!H17,IF(G17="C",'01_Referència'!G17+'01_Referència'!H17+'01_Referència'!I17,0))) -> 0.26 | L17: =IF($D17="Explotació mensual (Capítol 2)",K17*H17*12,K17*H17) -> 0 | M17: =L17-J17 -> 0
A18: L1 | B18: P4 | C18: Prevenció | D18: Explotació mensual (Capítol 2) | E18: Inventari i classificació d'actius | F18: usuaris interns | G18: A | H18: 0 | I18: =IF(G18="A",'02_Oferta'!G18,IF(G18="B",'02_Oferta'!G18+'02_Oferta'!H18,IF(G18="C",'02_Oferta'!G18+'02_Oferta'!H18+'02_Oferta'!I18,0))) -> 0 | J18: =IF($D18="Explotació mensual (Capítol 2)",I18*H18*12,I18*H18) -> 0 | K18: =IF(G18="A",'01_Referència'!G18,IF(G18="B",'01_Referència'!G18+'01_Referència'!H18,IF(G18="C",'01_Referència'!G18+'01_Referència'!H18+'01_Referència'!I18,0))) -> 0.32 | L18: =IF($D18="Explotació mensual (Capítol 2)",K18*H18*12,K18*H18) -> 0 | M18: =L18-J18 -> 0
... A63: L1 | B63: P30 | C63: Transversal | D63: Explotació mensual (Capítol 2) | E63: Governança i compliment | F63: usuaris interns | G63: B | H63: 16000 | I63: =IF(G63="A",'02_Oferta'!G63,IF(G63="B",'02_Oferta'!G63+'02_Oferta'!H63,IF(G63="C",'02_Oferta'!G63+'02_Oferta'!H63+'02_Oferta'!I63,0))) -> 0 | J63: =IF($D63="Explotació mensual (Capítol 2)",I63*H63*12,I63*H63) -> 0 | K63: =IF(G63="A",'01_Referència'!G63,IF(G63="B",'01_Referència'!G63+'01_Referència'!H63,IF(G63="C",'01_Referència'!G63+'01_Referència'!H63+'01_Referència'!I63,0))) -> 0.42 | L63: =IF($D63="Explotació mensual (Capítol 2)",K63*H63*12,K63*H63) -> 80640 | M63: =L63-J63 -> 80640

Sheet 04_Escenari_2
C1: Acord Marc CROC-OSAP — Annex d’oferta econòmica
C2: Lot 1 — Serveis del Centre de Riscos i Operacions de Ciberresiliència (CROC)
C3: Barcelona Innovació i Tecnologia
A5: Total oferta: | B5: =SUM(J7:J63) -> 0 | C5: Total referència: | D5: =SUM(L7:L63) -> 702172.5 | E5: Diferència: | F5: =D5-B5 -> 702172.5
A6: Lot | B6: Paquet | C6: Funció | D6: Tipologia | E6: Capacitat | F6: Unitat | G6: Maduresa | H6: Unitats | I6: Preu ofert aplicable | J6: import total oferta anual | K6: Preu referència aplicable | L6: import total referència anual | M6: diferència vs referència
A7: L1 | B7: P1 | C7: Prevenció | D7: Implantació inicial (Capítol 6) | E7: Gestió de vulnerabilitats i exposició | F7: actius únics | G7: B | H7: 0 | I7: =IF(G7="A",'02_Oferta'!G7,IF(G7="B",'02_Oferta'!G7+'02_Oferta'!H7,IF(G7="C",'02_Oferta'!G7+'02_Oferta'!H7+'02_Oferta'!I7,0))) -> 0 | J7: =IF($D7="Explotació mensual (Capítol 2)",I7*H7*12,I7*H7) -> 0 | K7: =IF(G7="A",'01_Referència'!G7,IF(G7="B",'01_Referència'!G7+'01_Referència'!H7,IF(G7="C",'01_Referència'!G7+'01_Referència'!H7+'01_Referència'!I7,0))) -> 0.65 | L7: =IF($D7="Explotació mensual (Capítol 2)",K7*H7*12,K7*H7) -> 0 | M7: =L7-J7 -> 0
A8: L1 | B8: P1 | C8: Prevenció | D8: Ampliació puntual (Capítol 6) | E8: Gestió de vulnerabilitats i exposició | F8: actius únics | G8: B | H8: 0 | I8: =IF(G8="A",'02_Oferta'!G8,IF(G8="B",'02_Oferta'!G8+'02_Oferta'!H8,IF(G8="C",'02_Oferta'!G8+'02_Oferta'!H8+'02_Oferta'!I8,0))) -> 0 | J8: =IF($D8="Explotació mensual (Capítol 2)",I8*H8*12,I8*H8) -> 0 | K8: =IF(G8="A",'01_Referència'!G8,IF(G8="B",'01_Referència'!G8+'01_Referència'!H8,IF(G8="C",'01_Referència'!G8+'01_Referència'!H8+'01_Referència'!I8,0))) -> 0.47 | L8: =IF($D8="Explotació mensual (Capítol 2)",K8*H8*12,K8*H8) -> 0 | M8: =L8-J8 -> 0
A9: L1 | B9: P1 | C9: Prevenció | D9: Explotació mensual (Capítol 2) | E9: Gestió de vulnerabilitats i exposició | F9: actius únics | G9: B | H9: 0 | I9: =IF(G9="A",'02_Oferta'!G9,IF(G9="B",'02_Oferta'!G9+'02_Oferta'!H9,IF(G9="C",'02_Oferta'!G9+'02_Oferta'!H9+'02_Oferta'!I9,0))) -> 0 | J9: =IF($D9="Explotació mensual (Capítol 2)",I9*H9*12,I9*H9) -> 0 | K9: =IF(G9="A",'01_Referència'!G9,IF(G9="B",'01_Referència'!G9+'01_Referència'!H9,IF(G9="C",'01_Referència'!G9+'01_Referència'!H9+'01_Referència'!I9,0))) -> 0.5 | L9: =IF($D9="Explotació mensual (Capítol 2)",K9*H9*12,K9*H9) -> 0 | M9: =L9-J9 -> 0
A10: L1 | B10: P2 | C10: Prevenció | D10: Implantació inicial (Capítol 6) | E10: Auditories i proves de seguretat | F10: paquets 40h/mes | G10: n/a | H10: 0 | I10: =IF(G10="A",'02_Oferta'!G10,IF(G10="B",'02_Oferta'!G10+'02_Oferta'!H10,IF(G10="C",'02_Oferta'!G10+'02_Oferta'!H10+'02_Oferta'!I10,0))) -> 0 | J10: =IF($D10="Explotació mensual (Capítol 2)",I10*H10*12,I10*H10) -> 0 | K10: =IF(G10="A",'01_Referència'!G10,IF(G10="B",'01_Referència'!G10+'01_Referència'!H10,IF(G10="C",'01_Referència'!G10+'01_Referència'!H10+'01_Referència'!I10,0))) -> 0 | L10: =IF($D10="Explotació mensual (Capítol 2)",K10*H10*12,K10*H10) -> 0 | M10: =L10-J10 -> 0
A11: L1 | B11: P2 | C11: Prevenció | D11: Ampliació puntual (Capítol 6) | E11: Auditories i proves de seguretat | F11: paquets 40h/mes | G11: n/a | H11: 0 | I11: =IF(G11="A",'02_Oferta'!G11,IF(G11="B",'02_Oferta'!G11+'02_Oferta'!H11,IF(G11="C",'02_Oferta'!G11+'02_Oferta'!H11+'02_Oferta'!I11,0))) -> 0 | J11: =IF($D11="Explotació mensual (Capítol 2)",I11*H11*12,I11*H11) -> 0 | K11: =IF(G11="A",'01_Referència'!G11,IF(G11="B",'01_Referència'!G11+'01_Referència'!H11,IF(G11="C",'01_Referència'!G11+'01_Referència'!H11+'01_Referència'!I11,0))) -> 0 | L11: =IF($D11="Explotació mensual (Capítol 2)",K11*H11*12,K11*H11) -> 0 | M11: =L11-J11 -> 0
A12: L1 | B12: P2 | C12: Prevenció | D12: Explotació mensual (Capítol 2) | E12: Auditories i proves de seguretat | F12: paquets 40h/mes | G12: B | H12: 0 | I12: =IF(G12="A",'02_Oferta'!G12,IF(G12="B",'02_Oferta'!G12+'02_Oferta'!H12,IF(G12="C",'02_Oferta'!G12+'02_Oferta'!H12+'02_Oferta'!I12,0))) -> 0 | J12: =IF($D12="Explotació mensual (Capítol 2)",I12*H12*12,I12*H12) -> 0 | K12: =IF(G12="A",'01_Referència'!G12,IF(G12="B",'01_Referència'!G12+'01_Referència'!H12,IF(G12="C",'01_Referència'!G12+'01_Referència'!H12+'01_Referència'!I12,0))) -> 3412.98 | L12: =IF($D12="Explotació mensual (Capítol 2)",K12*H12*12,K12*H12) -> 0 | M12: =L12-J12 -> 0
A13: L1 | B13: P3 | C13: Prevenció | D13: Implantació inicial (Capítol 6) | E13: Serveis d'intel·ligència (Threat Intel + Vigilància Digital) | F13: paquets 50 paraules clau | G13: B | H13: 0 | I13: =IF(G13="A",'02_Oferta'!G13,IF(G13="B",'02_Oferta'!G13+'02_Oferta'!H13,IF(G13="C",'02_Oferta'!G13+'02_Oferta'!H13+'02_Oferta'!I13,0))) -> 0 | J13: =IF($D13="Explotació mensual (Capítol 2)",I13*H13*12,I13*H13) -> 0 | K13: =IF(G13="A",'01_Referència'!G13,IF(G13="B",'01_Referència'!G13+'01_Referència'!H13,IF(G13="C",'01_Referència'!G13+'01_Referència'!H13+'01_Referència'!I13,0))) -> 1510.82 | L13: =IF($D13="Explotació mensual (Capítol 2)",K13*H13*12,K13*H13) -> 0 | M13: =L13-J13 -> 0
A14: L1 | B14: P3 | C14: Prevenció | D14: Ampliació puntual (Capítol 6) | E14: Serveis d'intel·ligència (Threat Intel + Vigilància Digital) | F14: paquets 50 paraules clau | G14: B | H14: 0 | I14: =IF(G14="A",'02_Oferta'!G14,IF(G14="B",'02_Oferta'!G14+'02_Oferta'!H14,IF(G14="C",'02_Oferta'!G14+'02_Oferta'!H14+'02_Oferta'!I14,0))) -> 0 | J14: =IF($D14="Explotació mensual (Capítol 2)",I14*H14*12,I14*H14) -> 0 | K14: =IF(G14="A",'01_Referència'!G14,IF(G14="B",'01_Referència'!G14+'01_Referència'!H14,IF(G14="C",'01_Referència'!G14+'01_Referència'!H14+'01_Referència'!I14,0))) -> 804.5 | L14: =IF($D14="Explotació mensual (Capítol 2)",K14*H14*12,K14*H14) -> 0 | M14: =L14-J14 -> 0
A15: L1 | B15: P3 | C15: Prevenció | D15: Explotació mensual (Capítol 2) | E15: Serveis d'intel·ligència (Threat Intel + Vigilància Digital) | F15: paquets 50 paraules clau | G15: B | H15: 0 | I15: =IF(G15="A",'02_Oferta'!G15,IF(G15="B",'02_Oferta'!G15+'02_Oferta'!H15,IF(G15="C",'02_Oferta'!G15+'02_Oferta'!H15+'02_Oferta'!I15,0))) -> 0 | J15: =IF($D15="Explotació mensual (Capítol 2)",I15*H15*12,I15*H15) -> 0 | K15: =IF(G15="A",'01_Referència'!G15,IF(G15="B",'01_Referència'!G15+'01_Referència'!H15,IF(G15="C",'01_Referència'!G15+'01_Referència'!H15+'01_Referència'!I15,0))) -> 1692.52 | L15: =IF($D15="Explotació mensual (Capítol 2)",K15*H15*12,K15*H15) -> 0 | M15: =L15-J15 -> 0
A16: L1 | B16: P4 | C16: Prevenció | D16: Implantació inicial (Capítol 6) | E16: Inventari i classificació d'actius | F16: usuaris interns | G16: A | H16: 0 | I16: =IF(G16="A",'02_Oferta'!G16,IF(G16="B",'02_Oferta'!G16+'02_Oferta'!H16,IF(G16="C",'02_Oferta'!G16+'02_Oferta'!H16+'02_Oferta'!I16,0))) -> 0 | J16: =IF($D16="Explotació mensual (Capítol 2)",I16*H16*12,I16*H16) -> 0 | K16: =IF(G16="A",'01_Referència'!G16,IF(G16="B",'01_Referència'!G16+'01_Referència'!H16,IF(G16="C",'01_Referència'!G16+'01_Referència'!H16+'01_Referència'!I16,0))) -> 0.64 | L16: =IF($D16="Explotació mensual (Capítol 2)",K16*H16*12,K16*H16) -> 0 | M16: =L16-J16 -> 0
A17: L1 | B17: P4 | C17: Prevenció | D17: Ampliació puntual (Capítol 6) | E17: Inventari i classificació d'actius | F17: usuaris interns | G17: A | H17: 0 | I17: =IF(G17="A",'02_Oferta'!G17,IF(G17="B",'02_Oferta'!G17+'02_Oferta'!H17,IF(G17="C",'02_Oferta'!G17+'02_Oferta'!H17+'02_Oferta'!I17,0))) -> 0 | J17: =IF($D17="Explotació mensual (Capítol 2)",I17*H17*12,I17*H17) -> 0 | K17: =IF(G17="A",'01_Referència'!G17,IF(G17="B",'01_Referència'!G17+'01_Referència'!H17,IF(G17="C",'01_Referència'!G17+'01_Referència'!H17+'01_Referència'!I17,0))) -> 0.26 | L17: =IF($D17="Explotació mensual (Capítol 2)",K17*H17*12,K17*H17) -> 0 | M17: =L17-J17 -> 0
A18: L1 | B18: P4 | C18: Prevenció | D18: Explotació mensual (Capítol 2) | E18: Inventari i classificació d'actius | F18: usuaris interns | G18: A | H18: 0 | I18: =IF(G18="A",'02_Oferta'!G18,IF(G18="B",'02_Oferta'!G18+'02_Oferta'!H18,IF(G18="C",'02_Oferta'!G18+'02_Oferta'!H18+'02_Oferta'!I18,0))) -> 0 | J18: =IF($D18="Explotació mensual (Capítol 2)",I18*H18*12,I18*H18) -> 0 | K18: =IF(G18="A",'01_Referència'!G18,IF(G18="B",'01_Referència'!G18+'01_Referència'!H18,IF(G18="C",'01_Referència'!G18+'01_Referència'!H18+'01_Referència'!I18,0))) -> 0.32 | L18: =IF($D18="Explotació mensual (Capítol 2)",K18*H18*12,K18*H18) -> 0 | M18: =L18-J18 -> 0
... A63: L1 | B63: P30 | C63: Transversal | D63: Explotació mensual (Capítol 2) | E63: Governança i compliment | F63: usuaris interns | G63: B | H63: 0 | I63: =IF(G63="A",'02_Oferta'!G63,IF(G63="B",'02_Oferta'!G63+'02_Oferta'!H63,IF(G63="C",'02_Oferta'!G63+'02_Oferta'!H63+'02_Oferta'!I63,0))) -> 0 | J63: =IF($D63="Explotació mensual (Capítol 2)",I63*H63*12,I63*H63) -> 0 | K63: =IF(G63="A",'01_Referència'!G63,IF(G63="B",'01_Referència'!G63+'01_Referència'!H63,IF(G63="C",'01_Referència'!G63+'01_Referència'!H63+'01_Referència'!I63,0))) -> 0.42 | L63: =IF($D63="Explotació mensual (Capítol 2)",K63*H63*12,K63*H63) -> 0 | M63: =L63-J63 -> 0

Sheet 05_Escenari_3
C1: Acord Marc CROC-OSAP — Annex d’oferta econòmica
C2: Lot 1 — Serveis del Centre de Riscos i Operacions de Ciberresiliència (CROC)
C3: Barcelona Innovació i Tecnologia
A5: Total oferta: | B5: =SUM(J7:J63) -> 0 | C5: Total referència: | D5: =SUM(L7:L63) -> 6503655.6 | E5: Diferència: | F5: =D5-B5 -> 6503655.6
A6: Lot | B6: Paquet | C6: Funció | D6: Tipologia | E6: Capacitat | F6: Unitat | G6: Maduresa | H6: Unitats | I6: Preu ofert aplicable | J6: import total oferta anual | K6: Preu referència aplicable | L6: import total referència anual | M6: diferència vs referència
A7: L1 | B7: P1 | C7: Prevenció | D7: Implantació inicial (Capítol 6) | E7: Gestió de vulnerabilitats i exposició | F7: actius únics | G7: C | H7: 30000 | I7: =IF(G7="A",'02_Oferta'!G7,IF(G7="B",'02_Oferta'!G7+'02_Oferta'!H7,IF(G7="C",'02_Oferta'!G7+'02_Oferta'!H7+'02_Oferta'!I7,0))) -> 0 | J7: =IF($D7="Explotació mensual (Capítol 2)",I7*H7*12,I7*H7) -> 0 | K7: =IF(G7="A",'01_Referència'!G7,IF(G7="B",'01_Referència'!G7+'01_Referència'!H7,IF(G7="C",'01_Referència'!G7+'01_Referència'!H7+'01_Referència'!I7,0))) -> 1.62 | L7: =IF($D7="Explotació mensual (Capítol 2)",K7*H7*12,K7*H7) -> 48600 | M7: =L7-J7 -> 48600
A8: L1 | B8: P1 | C8: Prevenció | D8: Ampliació puntual (Capítol 6) | E8: Gestió de vulnerabilitats i exposició | F8: actius únics | G8: C | H8: 10000 | I8: =IF(G8="A",'02_Oferta'!G8,IF(G8="B",'02_Oferta'!G8+'02_Oferta'!H8,IF(G8="C",'02_Oferta'!G8+'02_Oferta'!H8+'02_Oferta'!I8,0))) -> 0 | J8: =IF($D8="Explotació mensual (Capítol 2)",I8*H8*12,I8*H8) -> 0 | K8: =IF(G8="A",'01_Referència'!G8,IF(G8="B",'01_Referència'!G8+'01_Referència'!H8,IF(G8="C",'01_Referència'!G8+'01_Referència'!H8+'01_Referència'!I8,0))) -> 1.04 | L8: =IF($D8="Explotació mensual (Capítol 2)",K8*H8*12,K8*H8) -> 10400 | M8: =L8-J8 -> 10400
A9: L1 | B9: P1 | C9: Prevenció | D9: Explotació mensual (Capítol 2) | E9: Gestió de vulnerabilitats i exposició | F9: actius únics | G9: C | H9: 40000 | I9: =IF(G9="A",'02_Oferta'!G9,IF(G9="B",'02_Oferta'!G9+'02_Oferta'!H9,IF(G9="C",'02_Oferta'!G9+'02_Oferta'!H9+'02_Oferta'!I9,0))) -> 0 | J9: =IF($D9="Explotació mensual (Capítol 2)",I9*H9*12,I9*H9) -> 0 | K9: =IF(G9="A",'01_Referència'!G9,IF(G9="B",'01_Referència'!G9+'01_Referència'!H9,IF(G9="C",'01_Referència'!G9+'01_Referència'!H9+'01_Referència'!I9,0))) -> 1.2 | L9: =IF($D9="Explotació mensual (Capítol 2)",K9*H9*12,K9*H9) -> 576000 | M9: =L9-J9 -> 576000
A10: L1 | B10: P2 | C10: Prevenció | D10: Implantació inicial (Capítol 6) | E10: Auditories i proves de seguretat | F10: paquets 40h/mes | G10: n/a | H10: 0 | I10: =IF(G10="A",'02_Oferta'!G10,IF(G10="B",'02_Oferta'!G10+'02_Oferta'!H10,IF(G10="C",'02_Oferta'!G10+'02_Oferta'!H10+'02_Oferta'!I10,0))) -> 0 | J10: =IF($D10="Explotació mensual (Capítol 2)",I10*H10*12,I10*H10) -> 0 | K10: =IF(G10="A",'01_Referència'!G10,IF(G10="B",'01_Referència'!G10+'01_Referència'!H10,IF(G10="C",'01_Referència'!G10+'01_Referència'!H10+'01_Referència'!I10,0))) -> 0 | L10: =IF($D10="Explotació mensual (Capítol 2)",K10*H10*12,K10*H10) -> 0 | M10: =L10-J10 -> 0
A11: L1 | B11: P2 | C11: Prevenció | D11: Ampliació puntual (Capítol 6) | E11: Auditories i proves de seguretat | F11: paquets 40h/mes | G11: n/a | H11: 0 | I11: =IF(G11="A",'02_Oferta'!G11,IF(G11="B",'02_Oferta'!G11+'02_Oferta'!H11,IF(G11="C",'02_Oferta'!G11+'02_Oferta'!H11+'02_Oferta'!I11,0))) -> 0 | J11: =IF($D11="Explotació mensual (Capítol 2)",I11*H11*12,I11*H11) -> 0 | K11: =IF(G11="A",'01_Referència'!G11,IF(G11="B",'01_Referència'!G11+'01_Referència'!H11,IF(G11="C",'01_Referència'!G11+'01_Referència'!H11+'01_Referència'!I11,0))) -> 0 | L11: =IF($D11="Explotació mensual (Capítol 2)",K11*H11*12,K11*H11) -> 0 | M11: =L11-J11 -> 0
A12: L1 | B12: P2 | C12: Prevenció | D12: Explotació mensual (Capítol 2) | E12: Auditories i proves de seguretat | F12: paquets 40h/mes | G12: C | H12: 10 | I12: =IF(G12="A",'02_Oferta'!G12,IF(G12="B",'02_Oferta'!G12+'02_Oferta'!H12,IF(G12="C",'02_Oferta'!G12+'02_Oferta'!H12+'02_Oferta'!I12,0))) -> 0 | J12: =IF($D12="Explotació mensual (Capítol 2)",I12*H12*12,I12*H12) -> 0 | K12: =IF(G12="A",'01_Referència'!G12,IF(G12="B",'01_Referència'!G12+'01_Referència'!H12,IF(G12="C",'01_Referència'!G12+'01_Referència'!H12+'01_Referència'!I12,0))) -> 4269.66 | L12: =IF($D12="Explotació mensual (Capítol 2)",K12*H12*12,K12*H12) -> 512359.2 | M12: =L12-J12 -> 512359.2
A13: L1 | B13: P3 | C13: Prevenció | D13: Implantació inicial (Capítol 6) | E13: Serveis d'intel·ligència (Threat Intel + Vigilància Digital) | F13: paquets 50 paraules clau | G13: C | H13: 15 | I13: =IF(G13="A",'02_Oferta'!G13,IF(G13="B",'02_Oferta'!G13+'02_Oferta'!H13,IF(G13="C",'02_Oferta'!G13+'02_Oferta'!H13+'02_Oferta'!I13,0))) -> 0 | J13: =IF($D13="Explotació mensual (Capítol 2)",I13*H13*12,I13*H13) -> 0 | K13: =IF(G13="A",'01_Referència'!G13,IF(G13="B",'01_Referència'!G13+'01_Referència'!H13,IF(G13="C",'01_Referència'!G13+'01_Referència'!H13+'01_Referència'!I13,0))) -> 2550.53 | L13: =IF($D13="Explotació mensual (Capítol 2)",K13*H13*12,K13*H13) -> 38257.95 | M13: =L13-J13 -> 38257.95
A14: L1 | B14: P3 | C14: Prevenció | D14: Ampliació puntual (Capítol 6) | E14: Serveis d'intel·ligència (Threat Intel + Vigilància Digital) | F14: paquets 50 paraules clau | G14: C | H14: 10 | I14: =IF(G14="A",'02_Oferta'!G14,IF(G14="B",'02_Oferta'!G14+'02_Oferta'!H14,IF(G14="C",'02_Oferta'!G14+'02_Oferta'!H14+'02_Oferta'!I14,0))) -> 0 | J14: =IF($D14="Explotació mensual (Capítol 2)",I14*H14*12,I14*H14) -> 0 | K14: =IF(G14="A",'01_Referència'!G14,IF(G14="B",'01_Referència'!G14+'01_Referència'!H14,IF(G14="C",'01_Referència'!G14+'01_Referència'!H14+'01_Referència'!I14,0))) -> 1324.5 | L14: =IF($D14="Explotació mensual (Capítol 2)",K14*H14*12,K14*H14) -> 13245 | M14: =L14-J14 -> 13245
A15: L1 | B15: P3 | C15: Prevenció | D15: Explotació mensual (Capítol 2) | E15: Serveis d'intel·ligència (Threat Intel + Vigilància Digital) | F15: paquets 50 paraules clau | G15: C | H15: 25 | I15: =IF(G15="A",'02_Oferta'!G15,IF(G15="B",'02_Oferta'!G15+'02_Oferta'!H15,IF(G15="C",'02_Oferta'!G15+'02_Oferta'!H15+'02_Oferta'!I15,0))) -> 0 | J15: =IF($D15="Explotació mensual (Capítol 2)",I15*H15*12,I15*H15) -> 0 | K15: =IF(G15="A",'01_Referència'!G15,IF(G15="B",'01_Referència'!G15+'01_Referència'!H15,IF(G15="C",'01_Referència'!G15+'01_Referència'!H15+'01_Referència'!I15,0))) -> 2252.99 | L15: =IF($D15="Explotació mensual (Capítol 2)",K15*H15*12,K15*H15) -> 675897 | M15: =L15-J15 -> 675897
A16: L1 | B16: P4 | C16: Prevenció | D16: Implantació inicial (Capítol 6) | E16: Inventari i classificació d'actius | F16: usuaris interns | G16: C | H16: 5000 | I16: =IF(G16="A",'02_Oferta'!G16,IF(G16="B",'02_Oferta'!G16+'02_Oferta'!H16,IF(G16="C",'02_Oferta'!G16+'02_Oferta'!H16+'02_Oferta'!I16,0))) -> 0 | J16: =IF($D16="Explotació mensual (Capítol 2)",I16*H16*12,I16*H16) -> 0 | K16: =IF(G16="A",'01_Referència'!G16,IF(G16="B",'01_Referència'!G16+'01_Referència'!H16,IF(G16="C",'01_Referència'!G16+'01_Referència'!H16+'01_Referència'!I16,0))) -> 1.71 | L16: =IF($D16="Explotació mensual (Capítol 2)",K16*H16*12,K16*H16) -> 8550 | M16: =L16-J16 -> 8550
A17: L1 | B17: P4 | C17: Prevenció | D17: Ampliació puntual (Capítol 6) | E17: Inventari i classificació d'actius | F17: usuaris interns | G17: C | H17: 1000 | I17: =IF(G17="A",'02_Oferta'!G17,IF(G17="B",'02_Oferta'!G17+'02_Oferta'!H17,IF(G17="C",'02_Oferta'!G17+'02_Oferta'!H17+'02_Oferta'!I17,0))) -> 0 | J17: =IF($D17="Explotació mensual (Capítol 2)",I17*H17*12,I17*H17) -> 0 | K17: =IF(G17="A",'01_Referència'!G17,IF(G17="B",'01_Referència'!G17+'01_Referència'!H17,IF(G17="C",'01_Referència'!G17+'01_Referència'!H17+'01_Referència'!I17,0))) -> 0.84 | L17: =IF($D17="Explotació mensual (Capítol 2)",K17*H17*12,K17*H17) -> 840 | M17: =L17-J17 -> 840
A18: L1 | B18: P4 | C18: Prevenció | D18: Explotació mensual (Capítol 2) | E18: Inventari i classificació d'actius | F18: usuaris interns | G18: C | H18: 6000 | I18: =IF(G18="A",'02_Oferta'!G18,IF(G18="B",'02_Oferta'!G18+'02_Oferta'!H18,IF(G18="C",'02_Oferta'!G18+'02_Oferta'!H18+'02_Oferta'!I18,0))) -> 0 | J18: =IF($D18="Explotació mensual (Capítol 2)",I18*H18*12,I18*H18) -> 0 | K18: =IF(G18="A",'01_Referència'!G18,IF(G18="B",'01_Referència'!G18+'01_Referència'!H18,IF(G18="C",'01_Referència'!G18+'01_Referència'!H18+'01_Referència'!I18,0))) -> 0.63 | L18: =IF($D18="Explotació mensual (Capítol 2)",K18*H18*12,K18*H18) -> 45360 | M18: =L18-J18 -> 45360
... A63: L1 | B63: P30 | C63: Transversal | D63: Explotació mensual (Capítol 2) | E63: Governança i compliment | F63: usuaris interns | G63: C | H63: 25000 | I63: =IF(G63="A",'02_Oferta'!G63,IF(G63="B",'02_Oferta'!G63+'02_Oferta'!H63,IF(G63="C",'02_Oferta'!G63+'02_Oferta'!H63+'02_Oferta'!I63,0))) -> 0 | J63: =IF($D63="Explotació mensual (Capítol 2)",I63*H63*12,I63*H63) -> 0 | K63: =IF(G63="A",'01_Referència'!G63,IF(G63="B",'01_Referència'!G63+'01_Referència'!H63,IF(G63="C",'01_Referència'!G63+'01_Referència'!H63+'01_Referència'!I63,0))) -> 0.74 | L63: =IF($D63="Explotació mensual (Capítol 2)",K63*H63*12,K63*H63) -> 222000 | M63: =L63-J63 -> 222000

Sheet Resum
A1: Escenari 1 | B1: Preu total referència | C1: Preu total ofert | D1: Diferència | E1: % Descompte
A2: Escenari 1 | B2: ='03_Escenari_1'!D5 -> 1493619.1 | C2: ='03_Escenari_1'!B5 -> 0 | D2: ='03_Escenari_1'!F5 -> 1493619.1 | E2: =D2/B2 -> 1
A3: Escenari 2 | B3: ='04_Escenari_2'!D5 -> 702172.5 | C3: ='04_Escenari_2'!B5 -> 0 | D3: ='04_Escenari_2'!F5 -> 702172.5 | E3: =D3/B3 -> 1
A4: Escenari 3 | B4: ='05_Escenari_3'!D5 -> 6503655.6 | C4: ='05_Escenari_3'!B5 -> 0 | D4: ='05_Escenari_3'!F5 -> 6503655.6 | E4: =D4/B4 -> 1
