Workbook

Sheet Instruccions
D1: Acord Marc CROC-OSAP — Annex d’oferta econòmica
D2: Lot 2 — Serveis d'avaluació i validació del CROC
D3: Instruccions d'emplenament
A6: Ús del fitxer
A7: 1. Reviseu la pestanya 01_referència, que conté els preus màxims de sortida del lot. 2. Empleneu únicament les cel·les grogues de la pestanya 02_Oferta. 3. El fitxer no permet introduir preus superiors als preus de referència. 4. Les pestanyes d’Escenaris calculen automàticament l’import aplicable segons la maduresa i les unitats. 5. Els fulls estan protegits amb contrasenya per evitar modificacions accidentals dels preus de referència, la maduresa i les unitats. 6. A la pestanya Resum, les cel·les marcades en groc són les dades que s’han de traslladar al Sobre C.

Sheet 01_Referència
D1: Acord Marc CROC-OSAP — Annex d’oferta econòmica
D2: Lot 2 — Serveis d'avaluació i validació del CROC
D3: Barcelona Innovació i Tecnologia
A6: Lot | B6: Paquet | C6: Funció | D6: Tipologia | E6: Capacitat | F6: Unitat | G6: Preu ref. nivell base | H6: Increment ref. A→B | I6: Increment ref. B→C | J6: Preu ref. | K6: Preu ref. B | L6: Preu ref. C
A7: L2 | B7: P31 | C7: Transversal | D7: Implantació inicial (Capítol 6) | E7: Avaluació i millora contínua | F7: usuaris interns | G7: 1.47 | H7: 0 | I7: 0 | J7: =G7 -> 1.47 | K7: =G7+H7 -> 1.47 | L7: =G7+H7+I7 -> 1.47
A8: L2 | B8: P31 | C8: Transversal | D8: Ampliació puntual (Capítol 6) | E8: Avaluació i millora contínua | F8: usuaris interns | G8: 0.61 | H8: 0 | I8: 0 | J8: =G8 -> 0.61 | K8: =G8+H8 -> 0.61 | L8: =G8+H8+I8 -> 0.61
A9: L2 | B9: P31 | C9: Transversal | D9: Explotació mensual (Capítol 2) | E9: Avaluació i millora contínua | F9: usuaris interns | G9: 0.67 | H9: 0 | I9: 0 | J9: =G9 -> 0.67 | K9: =G9+H9 -> 0.67 | L9: =G9+H9+I9 -> 0.67

Sheet 02_Oferta
D1: Acord Marc CROC-OSAP — Annex d’oferta econòmica
D2: Lot 2 — Serveis d'avaluació i validació del CROC
D3: Full a emplenar pel licitador | Les cel·les grogues són editables i no admeten imports superiors al preu de referència.
A5: Pendents: | B5: =COUNTIF(M7:M9,"Pendent") -> 3 | C5: Revisar: | D5: =COUNTIF(M7:M9,"Revisar") -> 0
A6: Lot | B6: Paquet | C6: Funció | D6: Tipologia | E6: Capacitat | F6: Unitat | G6: Oferta | H6: Oferta Increment A→B | I6: Oferta Increment B→C | J6: Preu ofert | K6: Preu ofert B | L6: Preu ofert C | M6: Validació
A7: L2 | B7: P31 | C7: Transversal | D7: Implantació inicial (Capítol 6) | E7: Avaluació i millora contínua | F7: usuaris interns | H7: 0 | I7: 0 | J7: =G7 -> 0 | K7: =G7+H7 -> 0 | L7: =G7+H7+I7 -> 0 | M7: =IF(OR(G7="",H7="",I7=""),"Pendent",IF(AND(G7<='01_Referència'!G7,H7<='01_Referència'!H7,I7<='01_Referència'!I7),"OK","Revisar")) -> Pendent
A8: L2 | B8: P31 | C8: Transversal | D8: Ampliació puntual (Capítol 6) | E8: Avaluació i millora contínua | F8: usuaris interns | H8: 0 | I8: 0 | J8: =G8 -> 0 | K8: =G8+H8 -> 0 | L8: =G8+H8+I8 -> 0 | M8: =IF(OR(G8="",H8="",I8=""),"Pendent",IF(AND(G8<='01_Referència'!G8,H8<='01_Referència'!H8,I8<='01_Referència'!I8),"OK","Revisar")) -> Pendent
A9: L2 | B9: P31 | C9: Transversal | D9: Explotació mensual (Capítol 2) | E9: Avaluació i millora contínua | F9: usuaris interns | H9: 0 | I9: 0 | J9: =G9 -> 0 | K9: =G9+H9 -> 0 | L9: =G9+H9+I9 -> 0 | M9: =IF(OR(G9="",H9="",I9=""),"Pendent",IF(AND(G9<='01_Referència'!G9,H9<='01_Referència'!H9,I9<='01_Referència'!I9),"OK","Revisar")) -> Pendent

Sheet 03_Escenari 1
D1: Acord Marc CROC-OSAP — Annex d’oferta econòmica
D2: Lot 2 — Serveis d'avaluació i validació del CROC
D3: Barcelona Innovació i Tecnologia
A5: Total oferta: | B5: =SUM(J7:J9) -> 0 | C5: Total referència: | D5: =SUM(L7:L9) -> 152160 | E5: Diferència: | F5: =D5-B5 -> 152160
A6: Lot | B6: Paquet | C6: Funció | D6: Tipologia | E6: Capacitat | F6: Unitat | G6: Maduresa | H6: Unitats | I6: Preu ofert aplicable | J6: import total oferta anual | K6: Preu referència aplicable | L6: import total referència anual | M6: diferència vs referència
A7: L2 | B7: P31 | C7: Transversal | D7: Implantació inicial (Capítol 6) | E7: Avaluació i millora contínua | F7: usuaris interns | G7: B | H7: 16000 | I7: =IF(G7="A",'02_Oferta'!G7,IF(G7="B",'02_Oferta'!G7+'02_Oferta'!H7,IF(G7="C",'02_Oferta'!G7+'02_Oferta'!H7+'02_Oferta'!I7,0))) -> 0 | J7: =IF($D7="Explotación mensual (Capítulo 2)",I7*H7*12,I7*H7) -> 0 | K7: =IF(G7="A",'01_Referència'!G7,IF(G7="B",'01_Referència'!G7+'01_Referència'!H7,IF(G7="C",'01_Referència'!G7+'01_Referència'!H7+'01_Referència'!I7,0))) -> 1.47 | L7: =IF($D7="Explotació mensual (Capítol 2)",K7*H7*12,K7*H7) -> 23520 | M7: =L7-J7 -> 23520
A8: L2 | B8: P31 | C8: Transversal | D8: Ampliació puntual (Capítol 6) | E8: Avaluació i millora contínua | F8: usuaris interns | G8: B | H8: 0 | I8: =IF(G8="A",'02_Oferta'!G8,IF(G8="B",'02_Oferta'!G8+'02_Oferta'!H8,IF(G8="C",'02_Oferta'!G8+'02_Oferta'!H8+'02_Oferta'!I8,0))) -> 0 | J8: =IF($D8="Explotación mensual (Capítulo 2)",I8*H8*12,I8*H8) -> 0 | K8: =IF(G8="A",'01_Referència'!G8,IF(G8="B",'01_Referència'!G8+'01_Referència'!H8,IF(G8="C",'01_Referència'!G8+'01_Referència'!H8+'01_Referència'!I8,0))) -> 0.61 | L8: =IF($D8="Explotació mensual (Capítol 2)",K8*H8*12,K8*H8) -> 0 | M8: =L8-J8 -> 0
A9: L2 | B9: P31 | C9: Transversal | D9: Explotació mensual (Capítol 2) | E9: Avaluació i millora contínua | F9: usuaris interns | G9: B | H9: 16000 | I9: =IF(G9="A",'02_Oferta'!G9,IF(G9="B",'02_Oferta'!G9+'02_Oferta'!H9,IF(G9="C",'02_Oferta'!G9+'02_Oferta'!H9+'02_Oferta'!I9,0))) -> 0 | J9: =IF($D9="Explotación mensual (Capítulo 2)",I9*H9*12,I9*H9)*12 -> 0 | K9: =IF(G9="A",'01_Referència'!G9,IF(G9="B",'01_Referència'!G9+'01_Referència'!H9,IF(G9="C",'01_Referència'!G9+'01_Referència'!H9+'01_Referència'!I9,0))) -> 0.67 | L9: =IF($D9="Explotació mensual (Capítol 2)",K9*H9*12,K9*H9) -> 128640 | M9: =L9-J9 -> 128640

Sheet 04_Escenari 2
D1: Acord Marc CROC-OSAP — Annex d’oferta econòmica
D2: Lot 2 — Serveis d'avaluació i validació del CROC
D3: Barcelona Innovació i Tecnologia
A5: Total oferta: | B5: =SUM(J7:J9) -> 0 | C5: Total referència: | D5: =SUM(L7:L9) -> 145280 | E5: Diferència: | F5: =D5-B5 -> 145280
A6: Lot | B6: Paquet | C6: Funció | D6: Tipologia | E6: Capacitat | F6: Unitat | G6: Maduresa | H6: Unitats | I6: Preu ofert aplicable | J6: import total oferta anual | K6: Preu referència aplicable | L6: import total referència anual | M6: diferència vs referència
A7: L2 | B7: P31 | C7: Transversal | D7: Implantació inicial (Capítol 6) | E7: Avaluació i millora contínua | F7: usuaris interns | G7: B | H7: 8000 | I7: =IF(G7="A",'02_Oferta'!G7,IF(G7="B",'02_Oferta'!G7+'02_Oferta'!H7,IF(G7="C",'02_Oferta'!G7+'02_Oferta'!H7+'02_Oferta'!I7,0))) -> 0 | J7: =IF($D7="Explotación mensual (Capítulo 2)",I7*H7*12,I7*H7) -> 0 | K7: =IF(G7="A",'01_Referència'!G7,IF(G7="B",'01_Referència'!G7+'01_Referència'!H7,IF(G7="C",'01_Referència'!G7+'01_Referència'!H7+'01_Referència'!I7,0))) -> 1.47 | L7: =IF($D7="Explotació mensual (Capítol 2)",K7*H7*12,K7*H7) -> 11760 | M7: =L7-J7 -> 11760
A8: L2 | B8: P31 | C8: Transversal | D8: Ampliació puntual (Capítol 6) | E8: Avaluació i millora contínua | F8: usuaris interns | G8: B | H8: 8000 | I8: =IF(G8="A",'02_Oferta'!G8,IF(G8="B",'02_Oferta'!G8+'02_Oferta'!H8,IF(G8="C",'02_Oferta'!G8+'02_Oferta'!H8+'02_Oferta'!I8,0))) -> 0 | J8: =IF($D8="Explotación mensual (Capítulo 2)",I8*H8*12,I8*H8) -> 0 | K8: =IF(G8="A",'01_Referència'!G8,IF(G8="B",'01_Referència'!G8+'01_Referència'!H8,IF(G8="C",'01_Referència'!G8+'01_Referència'!H8+'01_Referència'!I8,0))) -> 0.61 | L8: =IF($D8="Explotació mensual (Capítol 2)",K8*H8*12,K8*H8) -> 4880 | M8: =L8-J8 -> 4880
A9: L2 | B9: P31 | C9: Transversal | D9: Explotació mensual (Capítol 2) | E9: Avaluació i millora contínua | F9: usuaris interns | G9: B | H9: 16000 | I9: =IF(G9="A",'02_Oferta'!G9,IF(G9="B",'02_Oferta'!G9+'02_Oferta'!H9,IF(G9="C",'02_Oferta'!G9+'02_Oferta'!H9+'02_Oferta'!I9,0))) -> 0 | J9: =IF($D9="Explotación mensual (Capítulo 2)",I9*H9*12,I9*H9)*12 -> 0 | K9: =IF(G9="A",'01_Referència'!G9,IF(G9="B",'01_Referència'!G9+'01_Referència'!H9,IF(G9="C",'01_Referència'!G9+'01_Referència'!H9+'01_Referència'!I9,0))) -> 0.67 | L9: =IF($D9="Explotació mensual (Capítol 2)",K9*H9*12,K9*H9) -> 128640 | M9: =L9-J9 -> 128640

Sheet Resum
A1: Escenari 1 | B1: Preu total referència | C1: Preu total ofert | D1: Diferència | E1: % Descompte
A2: Escenari 1 | B2: ='03_Escenari 1'!D5 -> 152160 | C2: ='03_Escenari 1'!B5 -> 0 | D2: ='03_Escenari 1'!F5 -> 152160 | E2: =D2/B2 -> 1
A3: Escenari 2 | B3: ='04_Escenari 2'!D5 -> 145280 | C3: ='04_Escenari 2'!B5 -> 0 | D3: ='04_Escenari 2'!F5 -> 145280 | E3: =D3/B3 -> 1
