Workbook
Name C_Despesa: '[1]Dades auxiliars'!$N$1:$N$9
Name Dades_Servei: '[2]Dades auxiliars'!$A$1:$J$262
Name T_Despesa: '[1]Dades auxiliars'!$M$1:$M$5

Sheet Càlcul pressupost 
F1: 2027 amb IVA | G1: 2028 amb IVA | H1: 2029 amb IVA | I1: TOTAL amb IVA | J1: TOTAL sense IVA | K1: IVA
A2: CITYOS 2027-2028 | C2: Contracte 2027-2028 | F2: =F14 -> 652122.58 | G2: =G14 -> 1024367.6 | H2: =H14 -> 341191.78 | I2: =I14 -> 2017681.9 | J2: =J14 -> 1667505.7 | K2: =I2-J2 -> 350176.2 | N2: =J2*1.21 -> 2017681.9
A3: Data inici contracte | B3: 46508 | G3: =B3 -> 46508 | H3: dia inici
A4: Data inici servei | B4: 46508 | G4: =+B5 -> 47238 | H4: dia final
A5: Data fi del contracte | B5: 47238 | G5: =G4-G3+1 -> 731 | H5: dies | O5: pròrroga
C6: Servei | E6: cap | F6: Import 2027 IVA inclòs | G6: Import 2028 IVA inclòs | H6: Import 2029 IVA inclòs | I6: Import Total IVA inclòs | J6: Import Total IVA exclòs | K6: Total dies 2027 | L6: Total dies 2028 | M6: Total dies 2029 | O6: Import 2029 IVA inclòs | P6: Import 2030 IVA inclòs | Q6: Import 2031 IVA inclòs | R6: Import Total IVA inclòs | S6: Import Total IVA exclòs | T6: Total dies 2029 | U6: Total dies 2030 | V6: Total dies 2031
C7: Infraestructura i línies de comunicacions | E7: II | F7: =Infraestructura!G9 -> 274528.33 | G7: =Infraestructura!I9 -> 458174.27 | H7: =Infraestructura!K9 -> 152724.76 | I7: =SUM(F7:H7) -> 885427.36 | J7: =+ROUND(I7/1.21,2) -> 731758.15 | N7: =I7-J7 -> 153669.21 | O7: =P7/12*8 -> 305449.51 | P7: =G7 -> 458174.27 | Q7: =P7/12*4 -> 152724.76 | R7: =SUM(O7:Q7) -> 916348.54 | S7: =+ROUND(R7/1.21,2) -> 757312.84
C8: IT Manteniment recurrent i correctiu | E8: II | F8: =ROUND(I22/12*8,2) -> 36068.5 | G8: =ROUND(I22,2) -> 54102.75 | H8: =ROUND(I22/12*4,2) -> 18034.25 | I8: =SUM(F8:H8) -> 108205.5 | J8: =+ROUND(I8/1.21,2) -> 89426.03 | O8: =P8/12*8 -> 36068.5 | P8: =G8 -> 54102.75 | Q8: =P8/12*4 -> 18034.25 | R8: =SUM(O8:Q8) -> 108205.5 | S8: =+ROUND(R8/1.21,2) -> 89426.03
C9: Manteniment Correctiu | E9: II | F9: =F8*0.25 -> 9017.125 | G9: =G8*0.25 -> 13525.688 | H9: =H8*0.25 -> 4508.5625 | I9: =SUM(F9:H9) -> 27051.375 | J9: =+ROUND(I9/1.21,2) -> 22356.51 | O9: =P9/12*8 -> 9017.125 | P9: =G9 -> 13525.688 | Q9: =P9/12*4 -> 4508.5625 | R9: =SUM(O9:Q9) -> 27051.375 | S9: =+ROUND(R9/1.21,2) -> 22356.51
C10: Manteniment Recurrent | E10: II | F10: =F8*0.75 -> 27051.375 | G10: =G8*0.75 -> 40577.062 | H10: =H8*0.75 -> 13525.688 | I10: =SUM(F10:H10) -> 81154.125 | J10: =+ROUND(I10/1.21,2) -> 67069.52 | O10: =P10/12*8 -> 27051.375 | P10: =G10 -> 40577.062 | Q10: =P10/12*4 -> 13525.688 | R10: =SUM(O10:Q10) -> 81154.125 | S10: =+ROUND(R10/1.21,2) -> 67069.52
C11: PT Servei d'evolutius recurrents | E11: VI | F11: =ROUND(L22/12*8,2) -> 235500 | G11: =ROUND(L22,2) -> 353250 | H11: =ROUND(L22/12*4,2) -> 117750 | I11: =SUM(F11:H11) -> 706500 | J11: =+ROUND(I11/1.21,2) -> 583884.3 | O11: =P11/12*8 -> 235500 | P11: =G11 -> 353250 | Q11: =P11/12*4 -> 117750 | R11: =SUM(O11:Q11) -> 706500 | S11: =+ROUND(R11/1.21,2) -> 583884.3
C12: TT Serveis Transversals de manteniment (STM) | E12: II | F12: =ROUND(O22/12*8,2) -> 73675.95 | G12: =ROUND(O22,2) -> 110513.92 | H12: =ROUND(O22/12*4,2) -> 36837.97 | I12: =SUM(F12:H12) -> 221027.84 | J12: =+ROUND(I12/1.21,2) -> 182667.64 | O12: =P12/12*8 -> 73675.947 | P12: =G12 -> 110513.92 | Q12: =P12/12*4 -> 36837.973 | R12: =SUM(O12:Q12) -> 221027.84 | S12: =+ROUND(R12/1.21,2) -> 182667.64
C13: IT Servei 24x7 | E13: II | F13: =ROUND(Q19*K13,2) -> 32349.8 | G13: =ROUND(Q19*L13,2) -> 48326.64 | H13: =ROUND(Q19*M13,2) -> 15844.8 | I13: =SUM(F13:H13) -> 96521.24 | J13: =+ROUND(I13/1.21,2) -> 79769.62 | K13: =31+30+31+31+30+31+30+31 -> 245 | L13: 366 | M13: =31+28+31+30 -> 120 | O13: =Q19*T13 -> 32349.8 | P13: =Q19*U13 -> 48194.6 | Q13: =Q19*V13 -> 15844.8 | R13: =SUM(O13:Q13) -> 96389.2 | S13: =+ROUND(R13/1.21,2) -> 79660.5 | T13: =31+30+31+31+30+31+30+31 -> 245 | U13: 365 | V13: =31+28+31+30 -> 120
D14: Import total licitació | F14: =F7+F8+F11+F12+F13 -> 652122.58 | G14: =G7+G8+G11+G12+G13 -> 1024367.6 | H14: =H7+H8+H11+H12+H13 -> 341191.78 | I14: =I7+I8+I11+I12+I13 -> 2017681.9 | J14: =J7+J8+J11+J12+J13 -> 1667505.7 | O14: =O7+O8+O11+O12+O13 -> 683043.76 | P14: =P7+P8+P11+P12+P13 -> 1024235.5 | Q14: =Q7+Q8+Q11+Q12+Q13 -> 341191.78 | R14: =R7+R8+R11+R12+R13 -> 2048471.1 | S14: =S7+S8+S11+S12+S13 -> 1692951.3
E15: II | F15: =F7+F8+F12+F13 -> 416622.58 | G15: =G7+G8+G12+G13 -> 671117.58 | H15: =H7+H8+H12+H13 -> 223441.78 | I15: =I7+I8+I12+I13 -> 1311181.9 | J15: =J7+J8+J12+J13 -> 1083621.4 | N15: cap II | O15: =O7+O8+O12+O13 -> 447543.76 | P15: =P7+P8+P12+P13 -> 670985.54 | Q15: =Q7+Q8+Q12+Q13 -> 223441.78 | R15: =R7+R8+R12+R13 -> 1341971.1 | S15: =S7+S8+S12+S13 -> 1109067
E16: VI | F16: =F11 -> 235500 | G16: =G11 -> 353250 | H16: =H11 -> 117750 | I16: =I11 -> 706500 | J16: =J11 -> 583884.3 | N16: capIV | O16: =O11 -> 235500 | P16: =P11 -> 353250 | Q16: =Q11 -> 117750 | R16: =R11 -> 706500 | S16: =S11 -> 583884.3
A17: 2027 - 2029 | F17: =(F15+F16)/ F16 -> 2.769098 | G17: =(G15+G16)/ G16 -> 2.8998375 | H17: =(H15+H16)/ H16 -> 2.8975947
A18: Servei | B18: Nom Servei | C18: Codi Aplicació | D18: Nom Aplicació | E18: Criticitat | F18: Infraestructura IVA INCLÒS | G18: =$C$8 -> IT Manteniment recurrent i correctiu | H18: Preu/hora IVA INCLÒS | I18: € Servei | J18: =$C$11 -> PT Servei d'evolutius recurrents | K18: Preu/hora IVA INCLÒS | L18: € Servei | M18: =$C$12 -> TT Serveis Transversals de manteniment (STM) | N18: Preu/hora IVA INCLÒS | O18: € Servei | P18: =$C$13 -> IT Servei 24x7 | Q18: Preu/dia IVA INCLÒS | R18: € Servei | T18: Data inici servei
A19: SER0490 | B19: CITY OS Servei Regular | C19: APP0974 | D19: CITY OS Servei Regular | E19: 1 | F19: =+Infraestructura!I9 -> 458174.27 | G19: 775 | H19: =+Perfils!G8 -> 69.81 | I19: =ROUND(H19*G19,2) -> 54102.75 | P19: 365 | Q19: =+Perfils!G25 -> 132.04 | R19: =ROUND(Q19*P19,2) -> 48194.6 | T19: =+$B$4 -> 46508
A20: SER0502 | B20: CITY OS COSMO | C20: APP0974 | D20: CITY OS COSMO | E20: 1 | M20: =2000 - 2000 +K28*0.8 -> 1408 | N20: =+Perfils!G19 -> 78.49 | O20: =ROUND(N20*M20,2) -> 110513.92 | T20: =+$B$4 -> 46508
B21: Servei d'evolutius recurrents | J21: =4500 -> 4500 | K21: =+Perfils!G13 -> 78.5 | L21: =ROUND(K21*J21,2) -> 353250 | T21: =+$B$4 -> 46508
A22: Total | F22: =SUM(F19:F20) -> 458174.27 | G22: =SUM(G19:G20) -> 775 | I22: =SUM(I19:I20) -> 54102.75 | J22: =SUM(J19:J21) -> 4500 | L22: =SUM(L19:L21) -> 353250 | M22: =SUM(M19:M20) -> 1408 | O22: =SUM(O19:O20) -> 110513.92 | P22: =SUM(P19:P20) -> 365 | R22: =SUM(R19:R20) -> 48194.6
R24: =R22/12 -> 4016.2167
M25: =M20/K28 -> 0.8 | P25: =P19/K28 -> 0.20738636 | R25: 0
K28: 1760 | L28: hores anuals base

Sheet Perfils
B2: Servei plec | C2: Perfil | D2: % dedicació | E2: Preu perfil IVA inclòs | F2: Preu perfil IVA exclòs | G2: Preu/hora/perfil (IVA inclòs)
A3: 1 | B3: ='Càlcul pressupost '!C8 -> IT Manteniment recurrent i correctiu | C3: Coordinador/a del contracte | D3: 0.01 | E3: =+$E$36 -> 93.22 | F3: =+ROUND(E3/1.21,2) -> 77.04 | G3: =ROUND(E3*D3,2) -> 0.93
A4: 2 | C4: Cap de projecte / Responsable dels serveis | D4: 0.04 | E4: =+$E$36 -> 93.22 | F4: =+ROUND(E4/1.21,2) -> 77.04 | G4: =ROUND(E4*D4,2) -> 3.73
A5: 6 | C5: Tècnic infraestructures/sistemes / Consultor sènior | D5: 0.2 | E5: =E41 -> 87.31 | F5: =+ROUND(E5/1.21,2) -> 72.16 | G5: =ROUND(E5*D5,2) -> 17.46
A6: 7 | C6: Tècnic especialista productes / Consultor sènior | D6: 0.2 | E6: =E41 -> 87.31 | F6: =+ROUND(E6/1.21,2) -> 72.16 | G6: =ROUND(E6*D6,2) -> 17.46
A7: 5 | C7: Tècnic sistemes junior / Consultor Júnior | D7: 0.55 | E7: =+$E$39 -> 54.96 | F7: =+ROUND(E7/1.21,2) -> 45.42 | G7: =ROUND(E7*D7,2) -> 30.23
C8: Preu perfil tipus | G8: =SUM(G3:G7) -> 69.81 | H8: =SUM(D3:D7) -> 1
A9: 1 | B9: ='Càlcul pressupost '!C11 -> PT Servei d'evolutius recurrents | C9: Coordinador/a del contracte | D9: 0.01 | E9: =$E$36 -> 93.22 | F9: =+ROUND(E9/1.21,2) -> 77.04 | G9: =ROUND(E9*D9,2) -> 0.93
A10: 2 | C10: Cap de projecte / Responsable dels serveis | D10: 0.04 | E10: =$E$36 -> 93.22 | F10: =+ROUND(E10/1.21,2) -> 77.04 | G10: =ROUND(E10*D10,2) -> 3.73
A11: 3 | C11: Arquitecte / enginyer de dades / responsable de seguretat | D11: 0.15 | E11: =$E$37 -> 101.47 | F11: =+ROUND(E11/1.21,2) -> 83.86 | G11: =ROUND(E11*D11,2) -> 15.22
A12: 4 | C12: Desenvolupador / Analista programador | D12: 0.8 | E12: =+$E$38 -> 73.28 | F12: =+ROUND(E12/1.21,2) -> 60.56 | G12: =ROUND(E12*D12,2) -> 58.62
C13: Preu perfil tipus | G13: =SUM(G9:G12) -> 78.5 | H13: =SUM(D9:D12) -> 1
A14: 1 | B14: ='Càlcul pressupost '!C12 -> TT Serveis Transversals de manteniment (STM) | C14: Coordinador/a del contracte | D14: 0.05 | E14: =+$E$36 -> 93.22 | F14: =+ROUND(E14/1.21,2) -> 77.04 | G14: =ROUND(E14*D14,2) -> 4.66
A15: 2 | C15: Cap de projecte / Responsable dels serveis | D15: 0.1 | E15: =+$E$36 -> 93.22 | F15: =+ROUND(E15/1.21,2) -> 77.04 | G15: =ROUND(E15*D15,2) -> 9.32
A16: 5 | C16: Tècnic sistemes junior / Consultor Júnior | D16: 0.3 | E16: =+$E$39 -> 54.96 | F16: =+ROUND(E16/1.21,2) -> 45.42 | G16: =ROUND(E16*D16,2) -> 16.49
A17: 7 | C17: Tècnic especialista productes / Consultor sènior | D17: 0.25 | E17: =E41 -> 87.31 | F17: =+ROUND(E17/1.21,2) -> 72.16 | G17: =ROUND(E17*D17,2) -> 21.83
A18: 6 | C18: Tècnic infraestructures/sistemes / Consultor sènior | D18: 0.3 | E18: =+$E$40 -> 87.31 | F18: =+ROUND(E18/1.21,2) -> 72.16 | G18: =ROUND(E18*D18,2) -> 26.19
C19: Preu perfil tipus | G19: =SUM(G14:G18) -> 78.49 | H19: =SUM(D14:D18) -> 1
A20: 1 | B20: ='Càlcul pressupost '!C13 -> IT Servei 24x7 | C20: Coordinador/a del contracte | D20: 0.01 | E20: =$E$36 -> 93.22 | F20: =+ROUND(E20/1.21,2) -> 77.04 | G20: =ROUND(E20*D20,2) -> 0.93
A21: 2 | C21: Cap de projecte / Responsable dels serveis | D21: 0.04 | E21: =$E$36 -> 93.22 | F21: =+ROUND(E21/1.21,2) -> 77.04 | G21: =ROUND(E21*D21,2) -> 3.73
A22: 5 | C22: Tècnic sistemes junior / Consultor Júnior | D22: 2 | E22: =+$E$39 -> 54.96 | F22: =+ROUND(E22/1.21,2) -> 45.42 | G22: =ROUND(E22*D22,2) -> 109.92
A23: 7 | C23: Tècnic especialista productes / Consultor sènior | D23: 0.1 | E23: =E41 -> 87.31 | F23: =+ROUND(E23/1.21,2) -> 72.16 | G23: =ROUND(E23*D23,2) -> 8.73
A24: 6 | C24: Tècnic infraestructures/sistemes / Consultor sènior | D24: 0.1 | E24: =+$E$40 -> 87.31 | F24: =+ROUND(E24/1.21,2) -> 72.16 | G24: =ROUND(E24*D24,2) -> 8.73
C25: Preu perfil tipus | E25: xdia | F25: xdia | G25: =SUM(G20:G24) -> 132.04
B34: Perfil Basic | C34: Família – Perfil càlcul | D34: Experiència – Perfil càlcul | E34: Import €/hora amb IVA | F34: Preu/hora IVA exclòs | G34: Perfil
A35: 1 | B35: Coordinador/a del contracte | C35: Gestor de projectes | D35: Senior especialista | E35: =ROUND(F35*1.21,2) -> 93.22 | F35: 77.04
A36: 2 | B36: Cap de projecte / Responsable dels serveis | C36: Gestor de projectes | D36: Senior especialista | E36: =ROUND(F36*1.21,2) -> 93.22 | F36: 77.04 | G36: Cap de projecte (perfil de gestor/a de projectes sènior especialització tecnològica)
A37: 3 | B37: Arquitecte / enginyer de dades / responsable de seguretat | C37: Arquitecte de sistemes | D37: Senior especialista | E37: =ROUND(F37*1.21,2) -> 101.47 | F37: 83.86 | G37: Arquitecte de sistemes (perfil d’arquitecte de sistemes)
A38: 4 | B38: Programador/a mid / Analista programador | C38: Desenvolupador | D38: Mid Especialista | E38: =ROUND(F38*1.21,2) -> 73.28 | F38: 60.56 | G38: Analista programador sènior (perfil de desenvolupador)
A39: 5 | B39: Tècnic sistemes junior / Consultor Júnior | C39: Desenvolupador | D39: Junior especialista | E39: =ROUND(F39*1.21,2) -> 54.96 | F39: 45.42 | G39: Tècnic de sistemes júnior (perfil de desenvolupador)
A40: 6 | B40: Tècnic infraest/sistemes / Consultor sènior | C40: Desenvolupador | D40: Senior especialista | E40: =ROUND(F40*1.21,2) -> 87.31 | F40: 72.16 | G40: Administrador i Tècnic de Sistemes (perfil de desenvolupador)
A41: 7 | B41: Tècnic especialista productes / Consultor sènior | C41: Desenvolupador | D41: Senior especialista | E41: =ROUND(F41*1.21,2) -> 87.31 | F41: 72.16 | G41: Tècnic especialista dels diferents productes de la plataforma (10.1.1) (perfil de desenvolupador)

Sheet Taules IJ
A2: Distribució de pressupost per any i per servei
D4: 2027 | G4: 2028 | J4: 2029
A5: Serveis | B5: Capítol | C5: Import net | D5: IVA 21% | E5: Import total | F5: Import net | G5: IVA 21% | H5: Import total | I5: Import net | J5: IVA 21% | K5: Import total | L5: Total import net | M5: Total IVA 21% | N5: Total import contracte
A6: Infraestructura i línies de comunicacions | B6: II | C6: =ROUND(E6/1.21,2) -> 226882.92 | D6: =E6-C6 -> 47645.41 | E6: ='Càlcul pressupost '!F7 -> 274528.33 | F6: =ROUND(H6/1.21,2) -> 378656.42 | G6: =H6-F6 -> 79517.85 | H6: ='Càlcul pressupost '!G7 -> 458174.27 | I6: =ROUND(K6/1.21,2) -> 126218.81 | J6: =K6-I6 -> 26505.95 | K6: ='Càlcul pressupost '!H7 -> 152724.76 | L6: =ROUND(N6/1.21,2) -> 731758.15 | M6: =+D6+G6 -> 127163.26 | N6: =+E6+H6+K6 -> 885427.36 | O6: =I6*3 -> 378656.43 | P6: =O6-F6 -> 0.01
A7: manteniment recurrent i correctiu | B7: II | C7: =ROUND(E7/1.21,2) -> 29808.68 | D7: =E7-C7 -> 6259.82 | E7: ='Càlcul pressupost '!F8 -> 36068.5 | F7: =ROUND(H7/1.21,2) -> 44713.02 | G7: =H7-F7 -> 9389.73 | H7: ='Càlcul pressupost '!G8 -> 54102.75 | I7: =ROUND(K7/1.21,2) -> 14904.34 | J7: =K7-I7 -> 3129.91 | K7: ='Càlcul pressupost '!H8 -> 18034.25 | L7: =ROUND(N7/1.21,2) -> 89426.03 | M7: =+D7+G7 -> 15649.55 | N7: =+E7+H7+K7 -> 108205.5 | O7: =I7*3 -> 44713.02 | P7: =O7-F7 -> 0
A8: Desenvolupament | B8: VI | C8: =ROUND(E8/1.21,2) -> 194628.1 | D8: =E8-C8 -> 40871.9 | E8: ='Càlcul pressupost '!F11 -> 235500 | F8: =ROUND(H8/1.21,2) -> 291942.15 | G8: =H8-F8 -> 61307.85 | H8: ='Càlcul pressupost '!G11 -> 353250 | I8: =ROUND(K8/1.21,2) -> 97314.05 | J8: =K8-I8 -> 20435.95 | K8: ='Càlcul pressupost '!H11 -> 117750 | L8: =ROUND(N8/1.21,2) -> 583884.3 | M8: =+D8+G8 -> 102179.75 | N8: =+E8+H8+K8 -> 706500 | O8: =I8*3 -> 291942.15 | P8: =O8-F8 -> 0
A9: Oficina de Gestió del servei CityOS | B9: II | C9: =ROUND(E9/1.21,2) -> 60889.21 | D9: =E9-C9 -> 12786.74 | E9: ='Càlcul pressupost '!F12 -> 73675.95 | F9: =ROUND(H9/1.21,2) -> 91333.82 | G9: =H9-F9 -> 19180.1 | H9: ='Càlcul pressupost '!G12 -> 110513.92 | I9: =ROUND(K9/1.21,2) -> 30444.6 | J9: =K9-I9 -> 6393.37 | K9: ='Càlcul pressupost '!H12 -> 36837.97 | L9: =ROUND(N9/1.21,2) -> 182667.64 | M9: =+D9+G9 -> 31966.84 | N9: =+E9+H9+K9 -> 221027.84 | O9: =I9*3 -> 91333.8 | P9: =O9-F9 -> -0.02
A10: Servei 24x7 | B10: II | C10: =ROUND(E10/1.21,2) -> 26735.37 | D10: =E10-C10 -> 5614.43 | E10: ='Càlcul pressupost '!F13 -> 32349.8 | F10: =ROUND(H10/1.21,2) -> 39939.37 | G10: =H10-F10 -> 8387.27 | H10: ='Càlcul pressupost '!G13 -> 48326.64 | I10: =ROUND(K10/1.21,2) -> 13094.88 | J10: =K10-I10 -> 2749.92 | K10: ='Càlcul pressupost '!H13 -> 15844.8 | L10: =ROUND(N10/1.21,2) -> 79769.62 | M10: =+D10+G10 -> 14001.7 | N10: =+E10+H10+K10 -> 96521.24 | O10: =I10*3 -> 39284.64 | P10: =O10-F10 -> -654.73
C11: =SUM(C6:C10) -> 538944.28 | D11: =SUM(D6:D10) -> 113178.3 | E11: =SUM(E6:E10) -> 652122.58 | F11: =SUM(F6:F10) -> 846584.78 | G11: =SUM(G6:G10) -> 177782.8 | H11: =SUM(H6:H10) -> 1024367.6 | I11: =SUM(I6:I10) -> 281976.68 | J11: =SUM(J6:J10) -> 59215.1 | ... L11: =SUM(L6:L10) -> 1667505.7 | M11: =N11-L11 -> 350176.2 | N11: =SUM(N6:N10) -> 2017681.9
A13: Distribució de pressupost per any | I13: =I11*3 -> 845930.04
A15: TOTAL
A16: Any | B16: Pressupost net | C16: IVA | D16: Import total
A17: 2027 | B17: =C11 -> 538944.28 | C17: =D11 -> 113178.3 | D17: =+B17+C17 -> 652122.58 | E17: (*) L'import total de l'IVA correspon al sumatori dels imports individuals detallats a la taula anterior (fila 11, columnes C, F, I, L, O) i no a l'aplicació directa de l'IVA actual del 21% sobre el pressupost net totalitzat (files 17 a 21 columna B).
A18: 2028 | B18: =F11 -> 846584.78 | C18: =G11 -> 177782.8 | D18: =+B18+C18 -> 1024367.6
A19: 2029 | B19: =I11 -> 281976.68 | C19: =J11 -> 59215.1 | D19: =+B19+C19 -> 341191.78
A20: Total | B20: =SUM(B17:B19) -> 1667505.7 | C20: =SUM(C17:C19) -> 350176.2 | D20: =SUM(D17:D19) -> 2017681.9
A24: Distribució de pressupost per any
B25: Any | D25: Capítol | E25: Pressupost net | F25: IVA | G25: Import total | I25: Any | J25: C2 | K25: C6
B26: 2027 | C26: del 1-5 al 31-12 | D26: II | E26: =C6+C7+C9+C10 -> 344316.18 | F26: =D6+D7+D9+D10 -> 72306.4 | G26: =E6+E7+E9+E10 -> 416622.58 | I26: 2027 | J26: =G26 -> 416622.58
B27: 2027 | C27: del 1-5 al 31-12 | D27: VI | E27: =C8 -> 194628.1 | F27: =D8 -> 40871.9 | G27: =E8 -> 235500 | I27: 2027 | K27: =G30 -> 223441.78 | N27: =E28+E29 -> 846584.78
B28: 2028 | C28: del 1-1 al 31-12 | D28: II | E28: =F6+F7+F9+F10 -> 554642.63 | F28: =G6+G7+G9+G10 -> 116474.95 | G28: =H6+H7+H9+H10 -> 671117.58 | I28: 2028 | J28: =G29 -> 353250 | N28: =E30+E31+E35+E36 -> 846475.66
B29: 2028 | C29: del 1-1 al 31-12 | D29: VI | E29: =F8 -> 291942.15 | F29: =G8 -> 61307.85 | G29: =H8 -> 353250 | I29: 2028 | K29: =G27 -> 235500
B30: 2029 | C30: del 1-1 al 30-04 | D30: II | E30: =I6+I7+I9+I10 -> 184662.63 | F30: =J6+J7+J9+J10 -> 38779.15 | G30: =K6+K7+K9+K10 -> 223441.78 | I30: 2029 | J30: =G31 -> 117750
B31: 2029 | C31: del 1-1 al 30-05 | D31: VI | E31: =I8 -> 97314.05 | F31: =J8 -> 20435.95 | G31: =K8 -> 117750 | I31: 2029 | K31: =G29 -> 353250
B32: Total | E32: =SUM(E26:E31) -> 1667505.7 | F32: =SUM(F26:F31) -> 350176.2 | G32: =SUM(G26:G31) -> 2017681.9 | I32: Total | J32: =SUM(J26:J29) -> 769872.58 | K32: =SUM(K26:K29) -> 458941.78
A33: Distribució de pressupost de la pòrroga per any per any
B34: Any | C34: Període | D34: Capítol | E34: Pressupost net | F34: IVA | G34: Import total
B35: 2029 | C35: del 1-5 al 31-12 | D35: II | E35: =ROUND(G35/1.21,2) -> 369870.88 | F35: =G35-E35 -> 77672.88 | G35: ='Càlcul pressupost '!O15 -> 447543.76
B36: 2029 | C36: del 1-5 al 31-12 | D36: VI | E36: =ROUND(G36/1.21,2) -> 194628.1 | F36: =G36-E36 -> 40871.9 | G36: ='Càlcul pressupost '!O16 -> 235500
B37: 2030 | C37: del 1-1 al 31-12 | D37: II | E37: =ROUND(G37/1.21,2) -> 554533.5 | F37: =F29 -> 61307.85 | G37: ='Càlcul pressupost '!P15 -> 670985.54
B38: 2030 | C38: del 1-1 al 31-12 | D38: VI | E38: =ROUND(G38/1.21,2) -> 291942.15 | F38: =F30 -> 38779.15 | G38: ='Càlcul pressupost '!P16 -> 353250
B39: 2031 | C39: del 1-1 al 30-04 | D39: II | E39: =ROUND(G39/1.21,2) -> 184662.63 | F39: =G39-E39 -> 38779.15 | G39: ='Càlcul pressupost '!Q15 -> 223441.78
B40: 2031 | C40: del 1-1 al 30-04 | D40: VI | E40: =ROUND(G40/1.21,2) -> 97314.05 | F40: =G40-E40 -> 20435.95 | G40: ='Càlcul pressupost '!Q16 -> 117750
A41: Modificacions de contracte: ampliació / disminució
A42: Causes previstes de modificació | C42: Import contracte (IVA inclòs) | D42: % Ampliació sobre import del contracte | E42: Import màxim ampliació (IVA inc) | F42: % Disminució sobre import del contracte | G42: Import màxim disminució (IVA inc)
A43: Modificacions en les volumetries | C43: =N11 -> 2017681.9 | D43: 0.2 | E43: =+ROUND(C43*D43,2) -> 403536.39 | F43: =20% -> 0.2 | G43: =+ROUND(C43*F43,2) -> 403536.39
A44: Modificacions en la relació Serveis/Subserveis de l’abast | C44: =N11 -> 2017681.9 | D44: 0.2 | E44: =+ROUND(C44*D44,2) -> 403536.39 | F44: 0.2 | G44: =+ROUND(C44*F44,2) -> 403536.39
A45: TOTAL | C45: =C44 -> 2017681.9 | D45: =D44 -> 0.2 | E45: =E44 -> 403536.39 | F45: =F44 -> 0.2 | G45: =G44 -> 403536.39
D46: IVA EXCLÒS | E46: =+ROUND(E45/1.21,2) -> 333501.15 | G46: =+ROUND(G45/1.21,2) -> 333501.15
A48: VEC
C50: VE prestació | D50: VE eventuals pròrrogues | E50: VE modificacions contracte amb increment de cost previstes | F50: SUMA
A51: 2027 | C51: =C11 -> 538944.28 | D51: 0 | E51: =ROUND((G51/$G$56)*$E$46,2) -> 53486.34 | F51: =SUM(C51:E51) -> 592430.62 | G51: =+C51+D51 -> 538944.28
A52: 2028 | C52: =F11 -> 846584.78 | D52: 0 | E52: =ROUND(G52/$G$56*$E$46,2) -> 84017.44 | F52: =SUM(C52:E52) -> 930602.22 | G52: =+C52+D52 -> 846584.78
A53: 2029 | C53: =I11 -> 281976.68 | D53: =E35+E36 -> 564498.98 | E53: =ROUND(G53/$G$56*$E$46,2) -> 84006.61 | F53: =SUM(C53:E53) -> 930482.27 | G53: =+C53+D53 -> 846475.66
A54: 2030 | C54: 0 | D54: =E37+E38 -> 846475.65 | E54: =ROUND(G54/$G$56*$E$46,2) -> 84006.61 | F54: =SUM(C54:E54) -> 930482.26 | G54: =+C54+D54 -> 846475.65
A55: 2031 | C55: 0 | D55: =E39+E40 -> 281976.68 | E55: =ROUND(G55/$G$56*$E$46,2) -> 27984.15 | F55: =SUM(C55:E55) -> 309960.83 | G55: =+C55+D55 -> 281976.68
A56: Total | C56: =SUM(C51:C54) -> 1667505.7 | D56: =SUM(D51:D55) -> 1692951.3 | E56: =SUM(E51:E55) -> 333501.15 | F56: =SUM(F51:F55) -> 3693958.2 | G56: =SUM(G51:G55) -> 3360457
A60: VEC | B60: Marges possibles solvènvia
A61: =F56 -> 3693958.2 | B61: Solvència económica | D61: Solvència tècnica
A62: Anys de contracte | B62: ACONSELLABLE | C62: MÀXIM | D62: MÍNIM | E62: MÀXIM
A63: 4 | B63: =+C63/A63 -> 1385234.3 | C63: =1.5*A61 -> 5540937.3 | D63: =ROUND(A61*2/3/A63,2) -> 615659.7 | E63: =+C63 -> 5540937.3
B64: 1,5 x VEC / anys de contracte | C64: 1,5 x VEC | D64: 2/3 VEC / anys de contracte | E64: 1,5 x VEC
A67: Infraestructura Cloud i línies de comunicacions | B67: Cost any 2027 (IVA INCLÒS) | C67: Cost any 2028 (IVA INCLÒS) | D67: Cost any 2029 (IVA INCLÒS) | E67: Cost TOTAL (IVA EXCLÒS) | F67: Cost TOTAL (IVA INCLÒS)
A68: Infraestructura cloud | B68: =Infraestructura!G3 -> 248835.49 | C68: =Infraestructura!I3 -> 426575.12 | D68: =Infraestructura!K3 -> 142191.71 | E68: =ROUND(F68/1.21,2) -> 675704.4 | F68: =B68+C68+D68 -> 817602.32
A69: Conectivitat (equips com.) | B69: =Infraestructura!G7 -> 11495 | C69: =Infraestructura!I7 -> 7260 | D69: =Infraestructura!K7 -> 2420 | E69: =ROUND(F69/1.21,2) -> 17500 | F69: =B69+C69+D69 -> 21175
A70: Línia comunicacions | B70: =Infraestructura!G8 -> 14197.84 | C70: =Infraestructura!I8 -> 24339.15 | D70: =Infraestructura!K8 -> 8113.05 | E70: =ROUND(F70/1.21,2) -> 38553.75 | F70: =B70+C70+D70 -> 46650.04
A71: Total | B71: =SUM(B68:B70) -> 274528.33 | C71: =SUM(C68:C70) -> 458174.27 | D71: =SUM(D68:D70) -> 152724.76 | E71: =SUM(E68:E70) -> 731758.15 | F71: =SUM(F68:F70) -> 885427.36

Sheet Infraestructura
A2: Infraestructura i Operació | F2: Cost any 2027 (IVA EXCLÒS) | G2: Cost any 2027 (IVA INCLÒS) | H2: Cost any 2028 (IVA EXCLÒS) | I2: Cost any 2028 (IVA INCLÒS) | J2: Cost any 2029 (IVA EXCLÒS) | K2: Cost any 2029 (IVA INCLÒS)
A3: Infraestructura i línies de comunicacions | B3: Infraestructura Cloud | C3: Servidors (2 entorns) | F3: =H3/12*7 -> 205649.16 | G3: =ROUND(F3*1.21,2) -> 248835.49 | H3: =G30 -> 352541.42 | I3: =ROUND(H3*1.21,2) -> 426575.12 | J3: =H3/12*4 -> 117513.81 | K3: =ROUND(J3*1.21,2) -> 142191.71
C4: Administració S.O.
C5: Backups (PRO i PRE)
C6: Monitoratge dels servidors i serveis
B7: Conectivitat | C7: Linia Comunicacions | F7: =E36 -> 9500 | G7: =ROUND(F7*1.21,2) -> 11495 | H7: =F36 -> 6000 | I7: =ROUND(H7*1.21,2) -> 7260 | J7: =G36 -> 2000 | K7: =ROUND(J7*1.21,2) -> 2420
B8: Conectivitat | C8: Equips de comunicacions | F8: =E39 -> 11733.75 | G8: =ROUND(F8*1.21,2) -> 14197.84 | H8: =F39 -> 20115 | I8: =ROUND(H8*1.21,2) -> 24339.15 | J8: =G39 -> 6705 | K8: =ROUND(J8*1.21,2) -> 8113.05
C9: Total | F9: =SUM(F3:F8) -> 226882.91 | G9: =SUM(G3:G8) -> 274528.33 | H9: =SUM(H3:H8) -> 378656.42 | I9: =SUM(I3:I8) -> 458174.27 | J9: =SUM(J3:J8) -> 126218.81 | K9: =SUM(K3:K8) -> 152724.76
B11: Capacitat actual de CityOS | C11: CPU | D11: RAM | E11: HDD
C12: =$K$35+P43 -> 259 | D12: =$L$35+Q43 -> 2766 | E12: =$M$35+R43 -> 65550
A14: COSTOS PRESENTATS PER NEXICA
K16: PRE S.O. 2027 - 2028 | P16: PRO S.O. 2027 - 2028
A17: Recurs Cloud | B17: Detall del Recurs 12 mesos | C17: Periode | D17: Cost unitari | E17: Número de unitats | F17: Cost mensual | G17: cost anual | H17: cost anual (IVA Inc) | K17: CPU | L17: RAM (GB) | M17: HDD (GB) | P17: CPU | Q17: RAM (GB) | R17: HDD (GB)
C18: cost | K18: 1 | L18: 4 | M18: 30 | P18: 1 | Q18: 4 | R18: 30
A19: Infraestructura CLOUD | B19: vCPU On Demand XL (3.0 Ghz) | C19: x hora | D19: 0.014383 | E19: =$K$35+$P$43 -> 259 | F19: =D19*E19*720 -> 2682.1418 | G19: =+F19*12 -> 32185.702 | H19: =G19*1.21 -> 38944.7 | K19: 1 | L19: 4 | M19: 30 | P19: 1 | Q19: 4 | R19: 30
B20: GB RAM On Demand | C20: x hora | D20: 0.006667 | E20: =$L$35+$Q$43 -> 2766 | F20: =D20*E20*720 -> 13277.464 | G20: =+F20*12 -> 159329.57 | H20: =G20*1.21 -> 192788.77 | K20: 1 | L20: 4 | M20: 100 | P20: 1 | Q20: 4 | R20: 100
B21: GB Storage Local OnDemand SSD | C21: x hora | D21: 0.000151 | E21: =$M$35+$R$43 -> 65550 | F21: =D21*E21*720 -> 7126.596 | G21: =+F21*12 -> 85519.152 | H21: =G21*1.21 -> 103478.17 | K21: 4 | L21: 8 | M21: 50 | P21: 4 | Q21: 16 | R21: 50
A22: Modalitats | B22: Backup VM (VM protegida) | C22: x mes | D22: 9.72408 | E22: 23 | F22: =D22*E22 -> 223.65384 | G22: =+F22*12 -> 2683.8461 | H22: =G22*1.21 -> 3247.4538 | K22: 4 | L22: 8 | M22: 50 | P22: 4 | Q22: 16 | R22: 50
A23: Backups | B23: GB Backup VM (R. Setmanal) | C23: x mes | D23: 0.027 | E23: 50 | F23: =D23*E23 -> 1.35 | G23: =+F23*12 -> 16.2 | H23: =G23*1.21 -> 19.602 | K23: 4 | L23: 4 | M23: 50 | P23: 8 | Q23: 16 | R23: 500
B24: GB Backup VM (R. Mensual) | C24: x mes | D24: 0.087 | E24: 791 | F24: =D24*E24 -> 68.817 | G24: =+F24*12 -> 825.804 | H24: =G24*1.21 -> 999.22284 | K24: 2 | L24: 4 | M24: 40 | P24: 2 | Q24: 4 | R24: 40
B25: GB Backup VM (R. Trimestral) | C25: x mes | D25: 0.18125 | F25: =D25*E25 -> 0 | G25: =+F25*12 -> 0 | H25: =G25*1.21 -> 0 | K25: 6 | L25: 48 | M25: 380 | P25: 8 | Q25: 72 | R25: 300
B26: GB Backup VM (R. Anual)Personalitzada | C26: x mes | D26: 0.321 | E26: 14762 | F26: =D26*E26 -> 4738.602 | G26: =+F26*12 -> 56863.224 | H26: =G26*1.21 -> 68804.501 | K26: 4 | L26: 6 | M26: 50 | P26: 5 | Q26: 64 | R26: 130
A27: Interconexió MMR | B27: U's de Espacio en NexicaData | C27: x mes | D27: 132 | E27: 2 | F27: =D27*E27 -> 264 | G27: =+F27*12 -> 3168 | H27: =G27*1.21 -> 3833.28 | K27: 4 | L27: 16 | M27: 200 | P27: 8 | Q27: 16 | R27: 200
B28: Interconexión Fibra SingleMode BCN MRR | C28: x mes | D28: 215.82732 | E28: 1 | F28: =D28*E28 -> 215.82732 | G28: =+F28*12 -> 2589.9278 | H28: =G28*1.21 -> 3133.8127 | K28: 4 | L28: 16 | M28: 200 | P28: 2 | Q28: 4 | R28: 30
B29: Service Manager | C29: x mes | D29: 780 | E29: 1 | F29: =D29*E29 -> 780 | G29: =+F29*12 -> 9360 | H29: =G29*1.21 -> 11325.6 | K29: 4 | L29: 16 | M29: 200 | P29: 4 | Q29: 16 | R29: 200
B30: Total | F30: =SUM(F19:F29) -> 29378.452 | G30: =+F30*12 -> 352541.42 | H30: =G30*1.21 -> 426575.12 | K30: 8 | L30: 96 | M30: 2174 | P30: 4 | Q30: 16 | R30: 200
K31: 8 | L31: 96 | M31: 2174 | P31: 4 | Q31: 16 | R31: 200
K32: 8 | L32: 96 | M32: 2174 | P32: 16 | Q32: 256 | R32: 5272
B33: Concepte | D33: Cost Unitari | E33: 2027(7m) | F33: 2028 | G33: 2029(4m) | K33: 2 | L33: 4 | M33: 30 | P33: 16 | Q33: 256 | R33: 5272
A34: Linia Comunicacions | B34: Preu instal·lació línia comunicació entre el CPD Nexica i els 2 CPD ajuntament | C34: unitari instal·lació | D34: 6000 | E34: =D34 -> 6000 | K34: 2 | L34: 4 | M34: 30 | P34: 16 | Q34: 256 | R34: 5272
B35: Quota mensual manteniment línia comunicació | C35: x mes | D35: 500 | E35: =D35*7 -> 3500 | F35: =D35*12 -> 6000 | G35: =D35*4 -> 2000 | K35: =SUM(K18:K34) -> 67 | L35: =SUM(L18:L34) -> 434 | M35: =SUM(M18:M34) -> 7962 | P35: 16 | Q35: 256 | R35: 5272
D36: Total | E36: =E34+E35 -> 9500 | F36: =F34+F35 -> 6000 | G36: =G34+G35 -> 2000 | P36: 16 | Q36: 256 | R36: 5272
P37: 16 | Q37: 256 | R37: 5272
B38: Concepte | D38: Cost Unitari | E38: 2027(11m) | F38: 2028 | G38: 2028 | P38: 16 | Q38: 256 | R38: 5272
A39: Conectivitat | B39: Equips de comunicacions (cost mensual) | C39: x mes | D39: 1676.25 | E39: =D39*7 -> 11733.75 | F39: =D39*12 -> 20115 | G39: =D39*4 -> 6705 | P39: 16 | Q39: 256 | R39: 5272
P40: 4 | Q40: 8 | R40: 13292
P41: 2 | Q41: 4 | R41: 30
P42: 2 | Q42: 4 | R42: 30
P43: =SUM(P18:P42) -> 192 | Q43: =SUM(Q18:Q42) -> 2332 | R43: =SUM(R18:R42) -> 57588

Sheet Quadre desglossament
A2: CÀLCUL COSTOS DIRECTES I INDIRECTES PEL PROJECTE
A4: Salari Net | B4: Altres: infraestructura | C4: Total
A5: ='Càlcul pressupost '!J14-'Càlcul pressupost '!J7 -> 935747.59 | B5: ='Càlcul pressupost '!J7 -> 731758.15 | C5: =A5+B5 -> 1667505.7
A7: Costos directes:
A8: Costos salarials - Salari Brut | B8: =A5*0.5855658 -> 547941.79
A9: Costos salarials - Seguretat Social (34%) | B9: =B8*0.34 -> 186300.21
A10: Costos formació i prevenció (1%) | B10: =B8*0.01 -> 5479.4179
A11: TOTAL (Suma costos Salarials+Formacio) | B11: =SUM(B8:B10) -> 739721.41
A12: Infraestructura Cloud | B12: =B5 -> 731758.15
A13: TOTAL (Suma costos directes) | B13: =SUM(B11:B12) -> 1471479.6
A15: Costos indirectes:
A16: Despeses generals d’estructura (15%) | B16: =B11*0.15 -> 110958.21
A17: TOTAL (Suma costos Salarials+Formacio+Estruct) | B17: =B16 -> 110958.21
A19: TOTAL (Suma costos directes + indirectes) | B19: =B13+B17 -> 1582437.8
A20: Benefici industrial (10%) | B20: =(B11+B17)*0.1 -> 85067.962
A21: TOTAL DE COSTOS CONTRACTE | B21: =B19+B20 -> 1667505.7
A22: IVA (21%) | B22: =B21*0.21 -> 350176.2
A24: TOTAL IVA INCL | B24: =B21+B22 -> 2017681.9
