Workbook
Name OLE_LINK3: ' 2 puntuació economica'!#REF!

Sheet  Puntuacio total
B1: QUADRE NÚM. 3 | C1: PUNTUACIÓ TOTAL
B2: Exp: | C2: =+'1 calcul temeraria'!D2 -> F260000053
B3: Projecte: | C3: =+'1 calcul temeraria'!C3:I3 -> OBRES D’EXECUCIÓ DEL PROJECTE MODIFICAT DE SUBSTITUCIÓ DE LES BARANES DE LA PASSAREL·LA CENTRAL I EL LÍMIT PERIMETRAL DE LA NECRÒPOLIS DE LA PLAÇA DE LA VILA DE MADRID, EN EL MARC DEL PLA DE BARRIS DE BARRIS DE BARCELONA, AMB MESURES DE CONTRACTACIÓ PÚBLICA SOSTENIBLE
B4: =+'1 calcul temeraria'!B4 -> Tipus licitació: | C4: =+'1 calcul temeraria'!D4 -> OBERT
B5: =+'1 calcul temeraria'!B5 -> Termini | C5: =+'1 calcul temeraria'!D5 -> 8 setmanes | I5: =+'1 calcul temeraria'!G5 -> Partida alçada | J5: =+'1 calcul temeraria'!H5 -> 0
B6: =+'1 calcul temeraria'!B6 -> Garantia def. 5% | C6: =+'1 calcul temeraria'!E6 -> 7244.9605 | D6: =+'1 calcul temeraria'!E6 -> 7244.9605 | E6: =+'1 calcul temeraria'!F6 -> 0 | F6: =+'1 calcul temeraria'!G6 -> Import càlcul econòmica | G6: =+'1 calcul temeraria'!H6 -> 144899.21 | H6: =+'1 calcul temeraria'!I6 -> 0
B7: =+'1 calcul temeraria'!B7 -> Modificacions | C7: =+'1 calcul temeraria'!E7 -> 28979.842 | I7: Facturació
C8: =+'1 calcul temeraria'!D9 -> Iva exclòs | I8: Mínima p.tècnica | J8: =+'1 calcul temeraria'!H11 -> 32
B9: =+' 2 puntuació economica'!B9 -> Import càlcul puntuació oferta econòmica | C9: =+'1 calcul temeraria'!D11 -> 144899.21
B10: Pto base licitació | C10: =+'1 calcul temeraria'!D10 -> 144899.21 | I10: VEC | J10: =+'1 calcul temeraria'!H7 -> 173879.05
B11: Oferta mínima (€omín): | C11: =+'1 calcul temeraria'!C24 -> 120000
B12: Oferta màxima presentada: | J12: =MIN(#REF!) -> #REF!
B13: 2º oferta màxima presentada: | J13: =-(J12-J14)/C9 -> #REF!
J14: =+SUM(#REF!)/#REF! -> #REF!
B15: Puntuació màxima | C15: 100 (49 criteris tècnics + 51 criteris automàtics) | S15: =+' 2 puntuació economica'!C15 -> 30
C17: =+' 2 puntuació economica'!C16 -> Import base càlcul | E17: valor abs -(d+0,01) | F17: -(d+0,01) | G17: ofertes no considerades | H17: ofertes temeràries | I17: puntuació tècnica total | J17: Puntuació ofertant Po= Pmax (€lic - €o) / (€lic- €omín) | K17: =+' 2 puntuació economica'!#REF! -> #REF! | L17: =+' 2 puntuació economica'!B28 -> QUADRE NÚM. 2.2 REDUCCIÓ TERMINI | M17: =+' 2 puntuació economica'!B38 -> QUADRE NÚM. 2.3 EXPERIÈNCIA FABRICANT BARANA | N17: =+' 2 puntuació economica'!B48 -> QUADRE NÚM. 2.4 REPOSICIÓ MATERIALS | O17: =+' 2 puntuació economica'!B60 -> QUADRE NÚM. 2.5 VIGILÀNCIA NECRÒPOLIS EXECUCIÓ TREBALLS | P17: =+' 2 puntuació economica'!B71 -> QUADRE NÚM. 2.6 REBAIXA PREUS CONTRADICTORIS | Q17: Puntuació Total
B20: Licitadors:
B21: =+'1 calcul temeraria'!B22 -> Licitador 1 | C21: =+IF('1 calcul temeraria'!I22="temerària",0,'1 calcul temeraria'!G22) -> 139000 | D21: =+IF(#REF!="","",1) -> #REF! | E21: =IF(F21="","",+ABS(F21)) -> #REF! | F21: =IF(#REF!="","",IF(#REF!<=0.01,-(#REF!+0.01),"")) -> #REF! | G21: =+IF('1 calcul temeraria'!I22="no es considera",'1 calcul temeraria'!D22,"") | H21: =+IF('1 calcul temeraria'!I22="temerària",'1 calcul temeraria'!D22,"") | I21: =+'1 calcul temeraria'!E22 -> 48 | J21: =+' 2 puntuació economica'!K20 -> 7.1077074 | K21: 0 | L21: =+' 2 puntuació economica'!C31 -> 5 | M21: =+' 2 puntuació economica'!C41 -> 5 | N21: =+' 2 puntuació economica'!C51 -> 5 | O21: =+' 2 puntuació economica'!C63 -> 4 | P21: =+' 2 puntuació economica'!H77 -> 2 | Q21: =+SUM(I21:P21) -> 76.107707 | R21: =+IF(C21>0,C21,"") -> 139000
B22: =+'1 calcul temeraria'!B23 -> Licitador 2 | C22: =+IF('1 calcul temeraria'!I23="temerària",0,'1 calcul temeraria'!G23) -> 132000 | D22: =+IF(#REF!="","",1) -> #REF! | E22: =IF(F22="","",+ABS(F22)) -> #REF! | F22: =IF(#REF!="","",IF(#REF!<=0.01,-(#REF!+0.01),"")) -> #REF! | G22: =+IF('1 calcul temeraria'!I23="no es considera",'1 calcul temeraria'!D23,"") | H22: =+IF('1 calcul temeraria'!I23="temerària",'1 calcul temeraria'!D23,"") | I22: =+'1 calcul temeraria'!E23 -> 44 | J22: =+' 2 puntuació economica'!K21 -> 15.54171 | K22: 0 | L22: =+' 2 puntuació economica'!C32 -> 5 | M22: =+' 2 puntuació economica'!C42 -> 5 | N22: =+' 2 puntuació economica'!C52 -> 5 | O22: =+' 2 puntuació economica'!C64 -> 4 | P22: =+' 2 puntuació economica'!H78 -> 2 | Q22: =+SUM(I22:P22) -> 80.54171 | R22: =+IF(C22>0,C22,"") -> 132000
B23: =+'1 calcul temeraria'!B24 -> Licitador 3 | C23: =+IF('1 calcul temeraria'!I24="temerària",0,'1 calcul temeraria'!G24) -> 120000 | D23: =+IF(#REF!="","",1) -> #REF! | E23: =IF(F23="","",+ABS(F23)) -> #REF! | F23: =IF(#REF!="","",IF(#REF!<=0.01,-(#REF!+0.01),"")) -> #REF! | G23: =+IF('1 calcul temeraria'!I24="no es considera",'1 calcul temeraria'!D24,"") | H23: =+IF('1 calcul temeraria'!I24="temerària",'1 calcul temeraria'!D24,"") | I23: =+'1 calcul temeraria'!E24 -> 40 | J23: =+' 2 puntuació economica'!K22 -> 30 | K23: 0 | L23: =+' 2 puntuació economica'!C33 -> 5 | M23: =+' 2 puntuació economica'!C43 -> 5 | N23: =+' 2 puntuació economica'!C53 -> 5 | O23: =+' 2 puntuació economica'!C65 -> 4 | P23: =+' 2 puntuació economica'!H79 -> 2 | Q23: =+SUM(I23:P23) -> 91 | R23: =+IF(C23>0,C23,"") -> 120000
B24: =+'1 calcul temeraria'!B25 -> Licitador 4 | D24: =+IF(#REF!="","",1) -> #REF! | E24: =IF(F24="","",+ABS(F24)) -> #REF! | F24: =IF(#REF!="","",IF(#REF!<=0.01,-(#REF!+0.01),"")) -> #REF! | G24: =+IF('1 calcul temeraria'!I25="no es considera",'1 calcul temeraria'!D25,"") -> 0 | H24: =+IF('1 calcul temeraria'!I25="temerària",'1 calcul temeraria'!D25,"") | I24: =+'1 calcul temeraria'!E25 -> 30 | J24: =+' 2 puntuació economica'!K23 -> exclòs de licitació | Q24: no mínim tècnica | R24: =+IF(C24>0,C24,"")
B25: =+'1 calcul temeraria'!B26 -> Licitador 5 | D25: =+IF(#REF!="","",1) -> #REF! | E25: =IF(F25="","",+ABS(F25)) -> #REF! | F25: =IF(#REF!="","",IF(#REF!<=0.01,-(#REF!+0.01),"")) -> #REF! | G25: =+IF('1 calcul temeraria'!I26="no es considera",'1 calcul temeraria'!D26,"") -> 0 | H25: =+IF('1 calcul temeraria'!I26="temerària",'1 calcul temeraria'!D26,"") | I25: =+'1 calcul temeraria'!E26 -> 20 | J25: =+' 2 puntuació economica'!K24 -> exclòs de licitació | Q25: no mínim tècnica | R25: =+IF(C25>0,C25,"")
B26: =+'1 calcul temeraria'!B27 -> Licitador 6 | D26: =+IF(#REF!="","",1) -> #REF! | E26: =IF(F26="","",+ABS(F26)) -> #REF! | F26: =IF(#REF!="","",IF(#REF!<=0.01,-(#REF!+0.01),"")) -> #REF! | G26: =+IF('1 calcul temeraria'!I27="no es considera",'1 calcul temeraria'!D27,"") | H26: =+IF('1 calcul temeraria'!I27="temerària",'1 calcul temeraria'!D27,"") -> 111000 | I26: =+'1 calcul temeraria'!E27 -> 35 | J26: =+' 2 puntuació economica'!K25 -> exclòs de licitació | Q26: temerària | R26: =+IF(C26>0,C26,"")
D27: =SUM(#REF!) -> #REF!
C28: Puntuació licitador guanyador | H28: =+MAX(Q21:Q26) -> 91 | J28: =+MAX(Q21:Q26) -> 91

Sheet  2 puntuació economica
B1: QUADRE NÚM. 2 | C1: PUNTUACIÓ OFERTA ECONÒMICA
B2: Exp: | C2: =+'1 calcul temeraria'!D2 -> F260000053
B3: Projecte: | C3: =+'1 calcul temeraria'!C3:H3 -> OBRES D’EXECUCIÓ DEL PROJECTE MODIFICAT DE SUBSTITUCIÓ DE LES BARANES DE LA PASSAREL·LA CENTRAL I EL LÍMIT PERIMETRAL DE LA NECRÒPOLIS DE LA PLAÇA DE LA VILA DE MADRID, EN EL MARC DEL PLA DE BARRIS DE BARRIS DE BARCELONA, AMB MESURES DE CONTRACTACIÓ PÚBLICA SOSTENIBLE
B4: =+'1 calcul temeraria'!B4 -> Tipus licitació: | C4: =+'1 calcul temeraria'!D4 -> OBERT
B5: =+'1 calcul temeraria'!B5 -> Termini | C5: =+'1 calcul temeraria'!D5 -> 8 setmanes
B6: =+'1 calcul temeraria'!B6 -> Garantia def. 5% | C6: =+'1 calcul temeraria'!E6 -> 7244.9605 | D6: =+'1 calcul temeraria'!E6 -> 7244.9605 | E6: =+'1 calcul temeraria'!F6 -> 0 | F6: =+'1 calcul temeraria'!G6 -> Import càlcul econòmica
B7: =+'1 calcul temeraria'!B7 -> Modificacions | C7: =+'1 calcul temeraria'!E7 -> 28979.842
C8: iva exclòs
B9: =+'1 calcul temeraria'!B11 -> Import càlcul puntuació oferta econòmica | C9: =+'1 calcul temeraria'!D11 -> 144899.21
C10: 5 mesos
B11: Oferta mínima (€omín): | C11: =MIN(L20:L25) -> 120000
B12: Oferta màxima presentada: | K12: =MIN(#REF!) -> #REF!
B13: 2º oferta màxima presentada: | K13: =-(K12-K14)/C9 -> #REF!
K14: =+SUM(#REF!)/#REF! -> #REF!
B15: Puntuació màxima (Pmax) | C15: 30
C16: =+'1 calcul temeraria'!D18 -> Import base càlcul | E16: valor abs -(d+0,01) | F16: -(d+0,01) | G16: ofertes no considerades | H16: ofertes temeràries | I16: puntuació tècnica total | J16: =+'1 calcul temeraria'!F18 -> puntuació tècnica 1.1 + 1.2 (mínim 15 punts) | K16: Puntuació econòmica ofertant Po= Pmax (€lic - €o) / (€lic- €omín)
B19: Licitadors:
B20: =+'1 calcul temeraria'!B22 -> Licitador 1 | C20: =+IF('1 calcul temeraria'!I22="temerària",0,'1 calcul temeraria'!G22) -> 139000 | D20: =+IF(#REF!="","",1) -> #REF! | E20: =IF(F20="","",+ABS(F20)) -> #REF! | F20: =IF(#REF!="","",IF(#REF!<=0.01,-(#REF!+0.01),"")) -> #REF! | G20: =+IF('1 calcul temeraria'!H22="no es considera",'1 calcul temeraria'!D22,"") | H20: =+IF('1 calcul temeraria'!I22="temerària",'1 calcul temeraria'!D22,"") | I20: =+'1 calcul temeraria'!E22 -> 48 | J20: =+'1 calcul temeraria'!F22 -> 18 | K20: =+IF(C20=0,"exclòs de licitació",$C$15*($C$9-C20)/($C$9-$C$11)) -> 7.1077074 | L20: =+IF(C20>0,C20,"") -> 139000
B21: =+'1 calcul temeraria'!B23 -> Licitador 2 | C21: =+IF('1 calcul temeraria'!I23="temerària",0,'1 calcul temeraria'!G23) -> 132000 | D21: =+IF(#REF!="","",1) -> #REF! | E21: =IF(F21="","",+ABS(F21)) -> #REF! | F21: =IF(#REF!="","",IF(#REF!<=0.01,-(#REF!+0.01),"")) -> #REF! | G21: =+IF('1 calcul temeraria'!H23="no es considera",'1 calcul temeraria'!D23,"") | H21: =+IF('1 calcul temeraria'!I23="temerària",'1 calcul temeraria'!D23,"") | I21: =+'1 calcul temeraria'!E23 -> 44 | J21: =+'1 calcul temeraria'!F23 -> 16 | K21: =+IF(C21=0,"exclòs de licitació",$C$15*($C$9-C21)/($C$9-$C$11)) -> 15.54171 | L21: =+IF(C21>0,C21,"") -> 132000
B22: =+'1 calcul temeraria'!B24 -> Licitador 3 | C22: =+IF('1 calcul temeraria'!I24="temerària",0,'1 calcul temeraria'!G24) -> 120000 | D22: =+IF(#REF!="","",1) -> #REF! | E22: =IF(F22="","",+ABS(F22)) -> #REF! | F22: =IF(#REF!="","",IF(#REF!<=0.01,-(#REF!+0.01),"")) -> #REF! | G22: =+IF('1 calcul temeraria'!H24="no es considera",'1 calcul temeraria'!D24,"") | H22: =+IF('1 calcul temeraria'!I24="temerària",'1 calcul temeraria'!D24,"") | I22: =+'1 calcul temeraria'!E24 -> 40 | J22: =+'1 calcul temeraria'!F24 -> 16 | K22: =+IF(C22=0,"exclòs de licitació",$C$15*($C$9-C22)/($C$9-$C$11)) -> 30 | L22: =+IF(C22>0,C22,"") -> 120000
B23: =+'1 calcul temeraria'!B25 -> Licitador 4 | C23: =+IF('1 calcul temeraria'!I25="temerària",0,'1 calcul temeraria'!G25) -> 0 | D23: =+IF(#REF!="","",1) -> #REF! | E23: =IF(F23="","",+ABS(F23)) -> #REF! | F23: =IF(#REF!="","",IF(#REF!<=0.01,-(#REF!+0.01),"")) -> #REF! | G23: =+IF('1 calcul temeraria'!H25="no es considera",'1 calcul temeraria'!D25,"") -> 0 | H23: =+IF('1 calcul temeraria'!I25="temerària",'1 calcul temeraria'!D25,"") | I23: =+'1 calcul temeraria'!E25 -> 30 | J23: =+'1 calcul temeraria'!F25 -> 17 | K23: =+IF(C23=0,"exclòs de licitació",$C$15*($C$9-C23)/($C$9-$C$11)) -> exclòs de licitació | L23: =+IF(C23>0,C23,"")
B24: =+'1 calcul temeraria'!B26 -> Licitador 5 | C24: =+IF('1 calcul temeraria'!I26="temerària",0,'1 calcul temeraria'!G26) -> 0 | D24: =+IF(#REF!="","",1) -> #REF! | E24: =IF(F24="","",+ABS(F24)) -> #REF! | F24: =IF(#REF!="","",IF(#REF!<=0.01,-(#REF!+0.01),"")) -> #REF! | G24: =+IF('1 calcul temeraria'!H26="no es considera",'1 calcul temeraria'!D26,"") -> 0 | H24: =+IF('1 calcul temeraria'!I26="temerària",'1 calcul temeraria'!D26,"") | I24: =+'1 calcul temeraria'!E26 -> 20 | J24: =+'1 calcul temeraria'!F26 -> 19 | K24: =+IF(C24=0,"exclòs de licitació",$C$15*($C$9-C24)/($C$9-$C$11)) -> exclòs de licitació | L24: =+IF(C24>0,C24,"")
B25: =+'1 calcul temeraria'!B27 -> Licitador 6 | C25: =+IF('1 calcul temeraria'!I27="temerària",0,'1 calcul temeraria'!G27) -> 0 | D25: =+IF(#REF!="","",1) -> #REF! | E25: =IF(F25="","",+ABS(F25)) -> #REF! | F25: =IF(#REF!="","",IF(#REF!<=0.01,-(#REF!+0.01),"")) -> #REF! | G25: =+IF('1 calcul temeraria'!H27="no es considera",'1 calcul temeraria'!D27,"") | H25: =+IF('1 calcul temeraria'!I27="temerària",'1 calcul temeraria'!D27,"") -> 111000 | I25: =+'1 calcul temeraria'!E27 -> 35 | J25: =+'1 calcul temeraria'!F27 -> 17 | K25: =+IF(C25=0,"exclòs de licitació",$C$15*($C$9-C25)/($C$9-$C$11)) -> exclòs de licitació | L25: =+IF(C25>0,C25,"")
D26: =SUM(#REF!) -> #REF!
B28: QUADRE NÚM. 2.2 REDUCCIÓ TERMINI
B29: Puntuació màxima | C29: 5
C30: Puntuació assignada segons plec
B31: Licitador 1 | C31: 5
B32: Licitador 2 | C32: 5
B33: Licitador 3 | C33: 5
B34: Licitador 4
B35: Licitador 5
B36: Licitador 6
B38: QUADRE NÚM. 2.3 EXPERIÈNCIA FABRICANT BARANA
B39: Puntuació màxima | C39: 5
C40: Puntuació assignada segons plec
B41: Licitador 1 | C41: =+C39 -> 5
B42: Licitador 2 | C42: =+C39 -> 5
B43: Licitador 3 | C43: =+C39 -> 5
B44: Licitador 4
B45: Licitador 5
B46: Licitador 6
B48: QUADRE NÚM. 2.4 REPOSICIÓ MATERIALS
B49: Puntuació màxima | C49: 5
C50: Puntuació assignada segons plec
B51: Licitador 1 | C51: =+C49 -> 5
B52: Licitador 2 | C52: =+C49 -> 5
B53: Licitador 3 | C53: =+C49 -> 5
B54: Licitador 4
B55: Licitador 5
B56: Licitador 6
B60: QUADRE NÚM. 2.5 VIGILÀNCIA NECRÒPOLIS EXECUCIÓ TREBALLS
B61: Puntuació màxima | C61: 4
C62: Puntuació assignada segons plec
B63: Licitador 1 | C63: =+C61 -> 4
B64: Licitador 2 | C64: =+C61 -> 4
B65: Licitador 3 | C65: =+C61 -> 4
B66: Licitador 4
B67: Licitador 5
B68: Licitador 6
B71: QUADRE NÚM. 2.6 REBAIXA PREUS CONTRADICTORIS
B72: Puntuació màxima | C72: 2 | G72: B màx = | H72: =+MAX(C77:C82) -> 0
C73: Baixa sobre possibles modificacions | E73: valor abs -(d+0,01) | F73: -(d+0,01) | G73: Baixa sobre pressupost de licitació | H73: Puntuació Pi= 1-(100*(Bmax- Bi)/60)
B76: Licitadors:
B77: Licitador 1 | D77: =+IF(#REF!="","",1) -> #REF! | E77: =IF(F77="","",+ABS(F77)) -> #REF! | F77: =IF(#REF!="","",IF(#REF!<=0.01,-(#REF!+0.01),"")) -> #REF! | H77: =+$C$72-(100*($H$72-C77)/60) -> 2
B78: Licitador 2 | D78: =+IF(#REF!="","",1) -> #REF! | E78: =IF(F78="","",+ABS(F78)) -> #REF! | F78: =IF(#REF!="","",IF(#REF!<=0.01,-(#REF!+0.01),"")) -> #REF! | H78: =+$C$72-(100*($H$72-C78)/60) -> 2
B79: Licitador 3 | D79: =+IF(#REF!="","",1) -> #REF! | E79: =IF(F79="","",+ABS(F79)) -> #REF! | F79: =IF(#REF!="","",IF(#REF!<=0.01,-(#REF!+0.01),"")) -> #REF! | H79: =+$C$72-(100*($H$72-C79)/60) -> 2
B80: Licitador 4 | D80: =+IF(#REF!="","",1) -> #REF! | E80: =IF(F80="","",+ABS(F80)) -> #REF! | F80: =IF(#REF!="","",IF(#REF!<=0.01,-(#REF!+0.01),"")) -> #REF!
B81: Licitador 5 | D81: =+IF(#REF!="","",1) -> #REF! | E81: =IF(F81="","",+ABS(F81)) -> #REF! | F81: =IF(#REF!="","",IF(#REF!<=0.01,-(#REF!+0.01),"")) -> #REF!
B82: Licitador 6 | D82: =+IF(#REF!="","",1) -> #REF! | E82: =IF(F82="","",+ABS(F82)) -> #REF! | F82: =IF(#REF!="","",IF(#REF!<=0.01,-(#REF!+0.01),"")) -> #REF!

Sheet 1 calcul temeraria
B1: QUADRE NÚM. 1 | G1: CÀLCUL OFERTES TEMERÀRIES I EXCLOSES PER MOTIUS TÈCNICS
B2: Exp: | D2: F260000053
B3: Projecte: | C3: OBRES D’EXECUCIÓ DEL PROJECTE MODIFICAT DE SUBSTITUCIÓ DE LES BARANES DE LA PASSAREL·LA CENTRAL I EL LÍMIT PERIMETRAL DE LA NECRÒPOLIS DE LA PLAÇA DE LA VILA DE MADRID, EN EL MARC DEL PLA DE BARRIS DE BARRIS DE BARCELONA, AMB MESURES DE CONTRACTACIÓ PÚBLICA SOSTENIBLE
B4: Tipus licitació: | D4: OBERT
B5: Termini | D5: 8 setmanes | G5: Partida alçada | H5: 0
B6: Garantia def. 5% | E6: =+D10*0.05 -> 7244.9605 | G6: Import càlcul econòmica | H6: =+D10-H5 -> 144899.21
B7: Modificacions | E7: =0.2*D10 -> 28979.842 | G7: VEC | H7: =+D10+E7+E8 -> 173879.05
G8: Facturació
D9: Iva exclòs
B10: Pto base de licitació | D10: 144899.21
B11: Import càlcul puntuació oferta econòmica | D11: =+H6 -> 144899.21 | G11: Mínima Puntuació Tècnica : | H11: 32 | I11: mínim 1.1 = 12
B12: % càlcul temeritat | D12: 0.1
B13: Mitjana ofertes (€Mitj) : | D13: =+SUM(G22:G27)/H13 -> 125500 | G13: Total ofertes (càlcul mitjana) | H13: =+SUM(K22:K27) -> 4
B14: Oferta màxima presentada: | G14: =MAX(D22:D27) -> 139000 | H14: Oferta mínima presentada:
B15: 2º oferta màxima presentada: | G15: =LARGE(D22:D27,2) -> 132000 | H15: 2a oferta mínima presentada:
C18: Total ofertes | D18: Import base càlcul | E18: puntuació tècnica total | F18: puntuació tècnica 1.1 + 1.2 (mínim 15 punts) | G18: Ofertes base de càlcul licitadors (€o) | H18: d= - (€o-€Mitj)/€lic | I18: Ofertes no puntuables | J18: Baixa mínima 10%, sinó econòmica de 20 punts
B21: Licitadors:
B22: Licitador 1 | C22: 139000 | D22: =+C22-$H$5 -> 139000 | E22: 48 | F22: 18 | G22: =+IF(F22>=15,+IF(E22>=$H$11,D22,0),0) -> 139000 | H22: =+IF(G22>0,-(G22-$D$13)/$D$11,"no es considera") -> -0.09316821 | I22: =+IF(F22>=15,IF(E22>=$H$11,+IF(H22>$D$12,"temerària",""),"no es considera"),"no es considera") | J22: =+($D$11-C22)/$D$11 -> 0.040712506 | K22: =+IF(G22>0,1,0) -> 1
B23: Licitador 2 | C23: 132000 | D23: =+C23-$H$5 -> 132000 | E23: 44 | F23: 16 | G23: =+IF(F23>=15,+IF(E23>=$H$11,D23,0),0) -> 132000 | H23: =+IF(G23>0,-(G23-$D$13)/$D$11,"no es considera") -> -0.044858768 | I23: =+IF(F23>=15,IF(E23>=$H$11,+IF(H23>$D$12,"temerària",""),"no es considera"),"no es considera") | J23: =+($D$11-C23)/$D$11 -> 0.089021948 | K23: =+IF(G23>0,1,0) -> 1
B24: Licitador 3 | C24: 120000 | D24: =+C24-$H$5 -> 120000 | E24: 40 | F24: 16 | G24: =+IF(F24>=15,+IF(E24>=$H$11,D24,0),0) -> 120000 | H24: =+IF(G24>0,-(G24-$D$13)/$D$11,"no es considera") -> 0.037957419 | I24: =+IF(F24>=15,IF(E24>=$H$11,+IF(H24>$D$12,"temerària",""),"no es considera"),"no es considera") | J24: =+($D$11-C24)/$D$11 -> 0.17183813 | K24: =+IF(G24>0,1,0) -> 1
B25: Licitador 4 | E25: 30 | F25: 17 | G25: =+IF(F25>=15,+IF(E25>=$H$11,D25,0),0) -> 0 | H25: =+IF(G25>0,-(G25-$D$13)/$D$11,"no es considera") -> no es considera | I25: =+IF(F25>=15,IF(E25>=$H$11,+IF(H25>$D$12,"temerària",""),"no es considera"),"no es considera") -> no es considera | K25: =+IF(G25>0,1,0) -> 0
B26: Licitador 5 | E26: 20 | F26: 19 | G26: =+IF(F26>=15,+IF(E26>=$H$11,D26,0),0) -> 0 | H26: =+IF(G26>0,-(G26-$D$13)/$D$11,"no es considera") -> no es considera | I26: =+IF(F26>=15,IF(E26>=$H$11,+IF(H26>$D$12,"temerària",""),"no es considera"),"no es considera") -> no es considera | K26: =+IF(G26>0,1,0) -> 0
B27: Licitador 6 | C27: 111000 | D27: =+C27-$H$5 -> 111000 | E27: 35 | F27: 17 | G27: =+IF(F27>=15,+IF(E27>=$H$11,D27,0),0) -> 111000 | H27: =+IF(G27>0,-(G27-$D$13)/$D$11,"no es considera") -> 0.10006956 | I27: =+IF(F27>=15,IF(E27>=$H$11,+IF(H27>$D$12,"temerària",""),"no es considera"),"no es considera") -> temerària | J27: =+($D$11-C27)/$D$11 -> 0.23395027 | K27: =+IF(G27>0,1,0) -> 1
J28: =AVERAGE(J22:J25) -> 0.1005242
I30: Baixa mitjana < 7% = econòmica 20 punts | J30: =IF(J28<=7%,20,"")
I31: Baixa mitjana < 10% = econòmica 25 punts | J31: =IF(AND(J28>7%,J28<=10%),25,"")
