Workbook

Sheet Resum
A3: FICHA DE CARACTERIZACION | H3: RESIDUOS ADMISIBLES | L3: RESIDUS NO PERMITIDOS
H4: Fracciones | I4: Cantidad (kg) | J4: % | L4: Fracciones | N4: Cantidad (kg) | O4: %
H5: Restes Vegetals | I5: ='Sant Andreu'!I5+'Badalona (pomar)'!I5+Collserola!I5+Montjuic!I5+'Vall d''Hebron'!I5+'Badalona (Gorg)'!I5+'Badia del Vallès'!I5+'Montcada i Reixac'!I5+Pallejà!I5+'L''Hospitalet'!I5+'L''Hospitalet(2)'!I5+'Sant Andreu de la Barca'!I5+'Cornella de Llobregat'!I5+'Barberà del Valles'!I5+'Sant Viçents dels Horts'!I5+'Molins de Rei'!I5+'Sant Cugat'!I5+'Punt Verde de Sant Andreu'!I5+'Sant Boi'!I5+Viladecans!I5+Castelldefels!I5+'El Prat'!I5+'Sant Adria del Besos'!I5+'Tiana - Montgat'!I5 -> 357.65 | J5: =I5/$I$67*100 -> 5.8337071 | L5: Escombraries domèstics o barrejat. | N5: ='Sant Andreu'!N5+'Badalona (pomar)'!N5+Collserola!N5+Montjuic!N5+'Vall d''Hebron'!N5+'Badalona (Gorg)'!N5+'Badia del Vallès'!N5+'Montcada i Reixac'!N5+Pallejà!N5+'L''Hospitalet'!N5+'L''Hospitalet(2)'!N5+'Sant Andreu de la Barca'!N5+'Cornella de Llobregat'!N5+'Barberà del Valles'!N5+'Sant Viçents dels Horts'!N5+'Molins de Rei'!N5+'Sant Cugat'!N5+'Punt Verde de Sant Andreu'!N5+'Sant Boi'!N5+Viladecans!N5+Castelldefels!N5+'El Prat'!N5+'Sant Adria del Besos'!N5+'Tiana - Montgat'!N5 -> 112.5 | O5: =N5/$N$17*100 -> 97.537715
H6: Fusta | I6: ='Sant Andreu'!I6+'Badalona (pomar)'!I6+Collserola!I6+Montjuic!I6+'Vall d''Hebron'!I6+'Badalona (Gorg)'!I6+'Badia del Vallès'!I6+'Montcada i Reixac'!I6+Pallejà!I6+'L''Hospitalet'!I6+'L''Hospitalet(2)'!I6+'Sant Andreu de la Barca'!I6+'Cornella de Llobregat'!I6+'Barberà del Valles'!I6+'Sant Viçents dels Horts'!I6+'Molins de Rei'!I6+'Sant Cugat'!I6+'Punt Verde de Sant Andreu'!I6+'Sant Boi'!I6+Viladecans!I6+Castelldefels!I6+'El Prat'!I6+'Sant Adria del Besos'!I6+'Tiana - Montgat'!I6 -> 349.26 | J6: =I6/$I$67*100 -> 5.696856 | L6: Medicaments | N6: ='Sant Andreu'!N6+'Badalona (pomar)'!N6+Collserola!N6+Montjuic!N6+'Vall d''Hebron'!N6+'Badalona (Gorg)'!N6+'Badia del Vallès'!N6+'Montcada i Reixac'!N6+Pallejà!N6+'L''Hospitalet'!N6+'L''Hospitalet(2)'!N6+'Sant Andreu de la Barca'!N6+'Cornella de Llobregat'!N6+'Barberà del Valles'!N6+'Sant Viçents dels Horts'!N6+'Molins de Rei'!N6+'Sant Cugat'!N6+'Punt Verde de Sant Andreu'!N6+'Sant Boi'!N6+Viladecans!N6+Castelldefels!N6+'El Prat'!N6+'Sant Adria del Besos'!N6+'Tiana - Montgat'!N6 -> 0.81 | O6: =N6/$N$17*100 -> 0.70227154
H7: Fusta Neta | I7: ='Sant Andreu'!I7+'Badalona (pomar)'!I7+Collserola!I7+Montjuic!I7+'Vall d''Hebron'!I7+'Badalona (Gorg)'!I7+'Badia del Vallès'!I7+'Montcada i Reixac'!I7+Pallejà!I7+'L''Hospitalet'!I7+'L''Hospitalet(2)'!I7+'Sant Andreu de la Barca'!I7+'Cornella de Llobregat'!I7+'Barberà del Valles'!I7+'Sant Viçents dels Horts'!I7+'Molins de Rei'!I7+'Sant Cugat'!I7+'Punt Verde de Sant Andreu'!I7+'Sant Boi'!I7+Viladecans!I7+Castelldefels!I7+'El Prat'!I7+'Sant Adria del Besos'!I7+'Tiana - Montgat'!I7 -> 706.62 | J7: =I7/$I$67*100 -> 11.525833 | L7: Residus industrials i especials grans Q | N7: ='Sant Andreu'!N7+'Badalona (pomar)'!N7+Collserola!N7+Montjuic!N7+'Vall d''Hebron'!N7+'Badalona (Gorg)'!N7+'Badia del Vallès'!N7+'Montcada i Reixac'!N7+Pallejà!N7+'L''Hospitalet'!N7+'L''Hospitalet(2)'!N7+'Sant Andreu de la Barca'!N7+'Cornella de Llobregat'!N7+'Barberà del Valles'!N7+'Sant Viçents dels Horts'!N7+'Molins de Rei'!N7+'Sant Cugat'!N7+'Punt Verde de Sant Andreu'!N7+'Sant Boi'!N7+Viladecans!N7+Castelldefels!N7+'El Prat'!N7+'Sant Adria del Besos'!N7+'Tiana - Montgat'!N7 -> 2.03 | O7: =N7/$N$17*100 -> 1.7600139
A8: Lugar de la Caracterización: SEMESA | H8: Paper I Cartró | I8: ='Sant Andreu'!I8+'Badalona (pomar)'!I8+Collserola!I8+Montjuic!I8+'Vall d''Hebron'!I8+'Badalona (Gorg)'!I8+'Badia del Vallès'!I8+'Montcada i Reixac'!I8+Pallejà!I8+'L''Hospitalet'!I8+'L''Hospitalet(2)'!I8+'Sant Andreu de la Barca'!I8+'Cornella de Llobregat'!I8+'Barberà del Valles'!I8+'Sant Viçents dels Horts'!I8+'Molins de Rei'!I8+'Sant Cugat'!I8+'Punt Verde de Sant Andreu'!I8+'Sant Boi'!I8+Viladecans!I8+Castelldefels!I8+'El Prat'!I8+'Sant Adria del Besos'!I8+'Tiana - Montgat'!I8 -> 626.74 | J8: =I8/$I$67*100 -> 10.222893 | L8: Restes anatòmiques, medic, infecciosos. | N8: ='Sant Andreu'!N8+'Badalona (pomar)'!N8+Collserola!N8+Montjuic!N8+'Vall d''Hebron'!N8+'Badalona (Gorg)'!N8+'Badia del Vallès'!N8+'Montcada i Reixac'!N8+Pallejà!N8+'L''Hospitalet'!N8+'L''Hospitalet(2)'!N8+'Sant Andreu de la Barca'!N8+'Cornella de Llobregat'!N8+'Barberà del Valles'!N8+'Sant Viçents dels Horts'!N8+'Molins de Rei'!N8+'Sant Cugat'!N8+'Punt Verde de Sant Andreu'!N8+'Sant Boi'!N8+Viladecans!N8+Castelldefels!N8+'El Prat'!N8+'Sant Adria del Besos'!N8+'Tiana - Montgat'!N8 -> 0 | O8: =N8/$N$17*100 -> 0
A9: Empresa Caracterizadora: NOVOTEC CONSULTORES | H9: Tèxtil | I9: ='Sant Andreu'!I9+'Badalona (pomar)'!I9+Collserola!I9+Montjuic!I9+'Vall d''Hebron'!I9+'Badalona (Gorg)'!I9+'Badia del Vallès'!I9+'Montcada i Reixac'!I9+Pallejà!I9+'L''Hospitalet'!I9+'L''Hospitalet(2)'!I9+'Sant Andreu de la Barca'!I9+'Cornella de Llobregat'!I9+'Barberà del Valles'!I9+'Sant Viçents dels Horts'!I9+'Molins de Rei'!I9+'Sant Cugat'!I9+'Punt Verde de Sant Andreu'!I9+'Sant Boi'!I9+Viladecans!I9+Castelldefels!I9+'El Prat'!I9+'Sant Adria del Besos'!I9+'Tiana - Montgat'!I9 -> 808.91 | J9: =I9/$I$67*100 -> 13.194307 | L9: Residus radioactius. | N9: ='Sant Andreu'!N9+'Badalona (pomar)'!N9+Collserola!N9+Montjuic!N9+'Vall d''Hebron'!N9+'Badalona (Gorg)'!N9+'Badia del Vallès'!N9+'Montcada i Reixac'!N9+Pallejà!N9+'L''Hospitalet'!N9+'L''Hospitalet(2)'!N9+'Sant Andreu de la Barca'!N9+'Cornella de Llobregat'!N9+'Barberà del Valles'!N9+'Sant Viçents dels Horts'!N9+'Molins de Rei'!N9+'Sant Cugat'!N9+'Punt Verde de Sant Andreu'!N9+'Sant Boi'!N9+Viladecans!N9+Castelldefels!N9+'El Prat'!N9+'Sant Adria del Besos'!N9+'Tiana - Montgat'!N9 -> 0 | O9: =N9/$N$17*100 -> 0
H10: Plàstic Dur | I10: ='Sant Andreu'!I10+'Badalona (pomar)'!I10+Collserola!I10+Montjuic!I10+'Vall d''Hebron'!I10+'Badalona (Gorg)'!I10+'Badia del Vallès'!I10+'Montcada i Reixac'!I10+Pallejà!I10+'L''Hospitalet'!I10+'L''Hospitalet(2)'!I10+'Sant Andreu de la Barca'!I10+'Cornella de Llobregat'!I10+'Barberà del Valles'!I10+'Sant Viçents dels Horts'!I10+'Molins de Rei'!I10+'Sant Cugat'!I10+'Punt Verde de Sant Andreu'!I10+'Sant Boi'!I10+Viladecans!I10+Castelldefels!I10+'El Prat'!I10+'Sant Adria del Besos'!I10+'Tiana - Montgat'!I10 -> 1127.9 | J10: =I10/$I$67*100 -> 18.397423 | L10: Productes procedents de decomís. | N10: ='Sant Andreu'!N10+'Badalona (pomar)'!N10+Collserola!N10+Montjuic!N10+'Vall d''Hebron'!N10+'Badalona (Gorg)'!N10+'Badia del Vallès'!N10+'Montcada i Reixac'!N10+Pallejà!N10+'L''Hospitalet'!N10+'L''Hospitalet(2)'!N10+'Sant Andreu de la Barca'!N10+'Cornella de Llobregat'!N10+'Barberà del Valles'!N10+'Sant Viçents dels Horts'!N10+'Molins de Rei'!N10+'Sant Cugat'!N10+'Punt Verde de Sant Andreu'!N10+'Sant Boi'!N10+Viladecans!N10+Castelldefels!N10+'El Prat'!N10+'Sant Adria del Besos'!N10+'Tiana - Montgat'!N10 -> 0 | O10: =N10/$N$17*100 -> 0
A11: Resultado de la Caracterización | H11: Plàstic Film | I11: ='Sant Andreu'!I11+'Badalona (pomar)'!I11+Collserola!I11+Montjuic!I11+'Vall d''Hebron'!I11+'Badalona (Gorg)'!I11+'Badia del Vallès'!I11+'Montcada i Reixac'!I11+Pallejà!I11+'L''Hospitalet'!I11+'L''Hospitalet(2)'!I11+'Sant Andreu de la Barca'!I11+'Cornella de Llobregat'!I11+'Barberà del Valles'!I11+'Sant Viçents dels Horts'!I11+'Molins de Rei'!I11+'Sant Cugat'!I11+'Punt Verde de Sant Andreu'!I11+'Sant Boi'!I11+Viladecans!I11+Castelldefels!I11+'El Prat'!I11+'Sant Adria del Besos'!I11+'Tiana - Montgat'!I11 -> 217.92 | J11: =I11/$I$67*100 -> 3.5545406 | L11: fems escorxadors i lab. | N11: ='Sant Andreu'!N11+'Badalona (pomar)'!N11+Collserola!N11+Montjuic!N11+'Vall d''Hebron'!N11+'Badalona (Gorg)'!N11+'Badia del Vallès'!N11+'Montcada i Reixac'!N11+Pallejà!N11+'L''Hospitalet'!N11+'L''Hospitalet(2)'!N11+'Sant Andreu de la Barca'!N11+'Cornella de Llobregat'!N11+'Barberà del Valles'!N11+'Sant Viçents dels Horts'!N11+'Molins de Rei'!N11+'Sant Cugat'!N11+'Punt Verde de Sant Andreu'!N11+'Sant Boi'!N11+Viladecans!N11+Castelldefels!N11+'El Prat'!N11+'Sant Adria del Besos'!N11+'Tiana - Montgat'!N11 -> 0 | O11: =N11/$N$17*100 -> 0
H12: Terres I Runes | I12: ='Sant Andreu'!I12+'Badalona (pomar)'!I12+Collserola!I12+Montjuic!I12+'Vall d''Hebron'!I12+'Badalona (Gorg)'!I12+'Badia del Vallès'!I12+'Montcada i Reixac'!I12+Pallejà!I12+'L''Hospitalet'!I12+'L''Hospitalet(2)'!I12+'Sant Andreu de la Barca'!I12+'Cornella de Llobregat'!I12+'Barberà del Valles'!I12+'Sant Viçents dels Horts'!I12+'Molins de Rei'!I12+'Sant Cugat'!I12+'Punt Verde de Sant Andreu'!I12+'Sant Boi'!I12+Viladecans!I12+Castelldefels!I12+'El Prat'!I12+'Sant Adria del Besos'!I12+'Tiana - Montgat'!I12 -> 389.05 | J12: =I12/$I$67*100 -> 6.3458794 | L12: Residus activitats mineres/ext | N12: ='Sant Andreu'!N12+'Badalona (pomar)'!N12+Collserola!N12+Montjuic!N12+'Vall d''Hebron'!N12+'Badalona (Gorg)'!N12+'Badia del Vallès'!N12+'Montcada i Reixac'!N12+Pallejà!N12+'L''Hospitalet'!N12+'L''Hospitalet(2)'!N12+'Sant Andreu de la Barca'!N12+'Cornella de Llobregat'!N12+'Barberà del Valles'!N12+'Sant Viçents dels Horts'!N12+'Molins de Rei'!N12+'Sant Cugat'!N12+'Punt Verde de Sant Andreu'!N12+'Sant Boi'!N12+Viladecans!N12+Castelldefels!N12+'El Prat'!N12+'Sant Adria del Besos'!N12+'Tiana - Montgat'!N12 -> 0 | O12: =N12/$N$17*100 -> 0
A13: VOLUMINOSOS | C13: Cantidad (kg) | E13: % | H13: Multimaterials | I13: ='Sant Andreu'!I13+'Badalona (pomar)'!I13+Collserola!I13+Montjuic!I13+'Vall d''Hebron'!I13+'Badalona (Gorg)'!I13+'Badia del Vallès'!I13+'Montcada i Reixac'!I13+Pallejà!I13+'L''Hospitalet'!I13+'L''Hospitalet(2)'!I13+'Sant Andreu de la Barca'!I13+'Cornella de Llobregat'!I13+'Barberà del Valles'!I13+'Sant Viçents dels Horts'!I13+'Molins de Rei'!I13+'Sant Cugat'!I13+'Punt Verde de Sant Andreu'!I13+'Sant Boi'!I13+Viladecans!I13+Castelldefels!I13+'El Prat'!I13+'Sant Adria del Besos'!I13+'Tiana - Montgat'!I13 -> 420.36 | J13: =I13/$I$67*100 -> 6.8565836 | L13: Residus ramaders o agrícoles. | N13: ='Sant Andreu'!N13+'Badalona (pomar)'!N13+Collserola!N13+Montjuic!N13+'Vall d''Hebron'!N13+'Badalona (Gorg)'!N13+'Badia del Vallès'!N13+'Montcada i Reixac'!N13+Pallejà!N13+'L''Hospitalet'!N13+'L''Hospitalet(2)'!N13+'Sant Andreu de la Barca'!N13+'Cornella de Llobregat'!N13+'Barberà del Valles'!N13+'Sant Viçents dels Horts'!N13+'Molins de Rei'!N13+'Sant Cugat'!N13+'Punt Verde de Sant Andreu'!N13+'Sant Boi'!N13+Viladecans!N13+Castelldefels!N13+'El Prat'!N13+'Sant Adria del Besos'!N13+'Tiana - Montgat'!N13 -> 0 | O13: =N13/$N$17*100 -> 0
A14: PesNet Recollida (*Peso de la muestra total descargada) | C14: =+'Sant Andreu'!C14:D14+'Badalona (pomar)'!C14:D14+Collserola!C14+Montjuic!C14+'Vall d''Hebron'!C14:D14+'Badalona (Gorg)'!C14:D14+'Badia del Vallès'!C14:D14+'Badia del Vallès'!C14:D14+'Montcada i Reixac'!C14:D14+Pallejà!C14+'L''Hospitalet'!C14:D14+'L''Hospitalet(2)'!C14:D14+'Sant Andreu de la Barca'!C14:D14+'Cornella de Llobregat'!C14:D14+'Barberà del Valles'!C14:D14+'Sant Viçents dels Horts'!C14:D14+'Molins de Rei'!C14:D14+'Sant Cugat'!C14:D29+'Punt Verde de Sant Andreu'!C14:D29+'Sant Boi'!C14:D29+Viladecans!C14:D29+Castelldefels!C14:D29+'El Prat'!C14:D29+'Sant Adria del Besos'!C14:D29+Gavà!C14:D29+'Tiana - Montgat'!C14:D29 -> 72280 | E14: =E31+E32 -> 100 | H14: Bosses i films | I14: ='Sant Andreu'!I14+'Badalona (pomar)'!I14+Collserola!I14+Montjuic!I14+'Vall d''Hebron'!I14+'Badalona (Gorg)'!I14+'Badia del Vallès'!I14+'Montcada i Reixac'!I14+Pallejà!I14+'L''Hospitalet'!I14+'L''Hospitalet(2)'!I14+'Sant Andreu de la Barca'!I14+'Cornella de Llobregat'!I14+'Barberà del Valles'!I14+'Sant Viçents dels Horts'!I14+'Molins de Rei'!I14+'Sant Cugat'!I14+'Punt Verde de Sant Andreu'!I14+'Sant Boi'!I14+Viladecans!I14+Castelldefels!I14+'El Prat'!I14+'Sant Adria del Besos'!I14+'Tiana - Montgat'!I14 -> 39.45 | J14: =I14/$I$67*100 -> 0.64347755 | L14: Altre material classif perillós | N14: ='Sant Andreu'!N14+'Badalona (pomar)'!N14+Collserola!N14+Montjuic!N14+'Vall d''Hebron'!N14+'Badalona (Gorg)'!N14+'Badia del Vallès'!N14+'Montcada i Reixac'!N14+Pallejà!N14+'L''Hospitalet'!N14+'L''Hospitalet(2)'!N14+'Sant Andreu de la Barca'!N14+'Cornella de Llobregat'!N14+'Barberà del Valles'!N14+'Sant Viçents dels Horts'!N14+'Molins de Rei'!N14+'Sant Cugat'!N14+'Punt Verde de Sant Andreu'!N14+'Sant Boi'!N14+Viladecans!N14+Castelldefels!N14+'El Prat'!N14+'Sant Adria del Besos'!N14+'Tiana - Montgat'!N14 -> 0 | O14: =N14/$N$17*100 -> 0
A15: Fustes | C15: =+'Sant Andreu'!C15:D15+'Badalona (pomar)'!C15:D15+Collserola!C15+Montjuic!C15+'Vall d''Hebron'!C15:D15+'Badalona (Gorg)'!C15:D15+'Badia del Vallès'!C15:D15+'Badia del Vallès'!C15:D15+'Montcada i Reixac'!C15:D15+Pallejà!C15+'L''Hospitalet'!C15:D15+'L''Hospitalet(2)'!C15:D15+'Sant Andreu de la Barca'!C15:D15+'Cornella de Llobregat'!C15:D15+'Barberà del Valles'!C15:D15+'Sant Viçents dels Horts'!C15:D15+'Molins de Rei'!C15:D15+'Sant Cugat'!C15:D30+'Punt Verde de Sant Andreu'!C15:D30+'Sant Boi'!C15:D30+Viladecans!C15:D30+Castelldefels!C15:D30+'El Prat'!C15:D30+'Sant Adria del Besos'!C15:D30+Gavà!C15:D30+'Tiana - Montgat'!C15:D30 -> 1356.76 | E15: =C15/$C$14*100 -> 1.8770891 | H15: Aparells Informàtics I De Telecomunicacions | I15: ='Sant Andreu'!I15+'Badalona (pomar)'!I15+Collserola!I15+Montjuic!I15+'Vall d''Hebron'!I15+'Badalona (Gorg)'!I15+'Badia del Vallès'!I15+'Montcada i Reixac'!I15+Pallejà!I15+'L''Hospitalet'!I15+'L''Hospitalet(2)'!I15+'Sant Andreu de la Barca'!I15+'Cornella de Llobregat'!I15+'Barberà del Valles'!I15+'Sant Viçents dels Horts'!I15+'Molins de Rei'!I15+'Sant Cugat'!I15+'Punt Verde de Sant Andreu'!I15+'Sant Boi'!I15+Viladecans!I15+Castelldefels!I15+'El Prat'!I15+'Sant Adria del Besos'!I15+'Tiana - Montgat'!I15 -> 27.67 | J15: =I15/$I$67*100 -> 0.4513314 | L15: orgànica | N15: ='Sant Andreu'!N15+'Badalona (pomar)'!N15+Collserola!N15+Montjuic!N15+'Vall d''Hebron'!N15+'Badalona (Gorg)'!N15+'Badia del Vallès'!N15+'Montcada i Reixac'!N15+Pallejà!N15+'L''Hospitalet'!N15+'L''Hospitalet(2)'!N15+'Sant Andreu de la Barca'!N15+'Cornella de Llobregat'!N15+'Barberà del Valles'!N15+'Sant Viçents dels Horts'!N15+'Molins de Rei'!N15+'Sant Cugat'!N15+'Punt Verde de Sant Andreu'!N15+'Sant Boi'!N15+Viladecans!N15+Castelldefels!N15+'El Prat'!N15+'Sant Adria del Besos'!N15+'Tiana - Montgat'!N15 -> 0 | O15: =N15/$N$17*100 -> 0
A16: Plàstics | C16: =+'Sant Andreu'!C16:D16+'Badalona (pomar)'!C16:D16+Collserola!C16+Montjuic!C16+'Vall d''Hebron'!C16:D16+'Badalona (Gorg)'!C16:D16+'Badia del Vallès'!C16:D16+'Badia del Vallès'!C16:D16+'Montcada i Reixac'!C16:D16+Pallejà!C16+'L''Hospitalet'!C16:D16+'L''Hospitalet(2)'!C16:D16+'Sant Andreu de la Barca'!C16:D16+'Cornella de Llobregat'!C16:D16+'Barberà del Valles'!C16:D16+'Sant Viçents dels Horts'!C16:D16+'Molins de Rei'!C16:D16+'Sant Cugat'!C16:D31+'Punt Verde de Sant Andreu'!C16:D31+'Sant Boi'!C16:D31+Viladecans!C16:D31+Castelldefels!C16:D31+'El Prat'!C16:D31+'Sant Adria del Besos'!C16:D31+Gavà!C16:D31+'Tiana - Montgat'!C16:D31 -> 914.42 | E16: =C16/$C$14*100 -> 1.2651079 | H16: Envasos D'Olis | I16: ='Sant Andreu'!I16+'Badalona (pomar)'!I16+Collserola!I16+Montjuic!I16+'Vall d''Hebron'!I16+'Badalona (Gorg)'!I16+'Badia del Vallès'!I16+'Montcada i Reixac'!I16+Pallejà!I16+'L''Hospitalet'!I16+'L''Hospitalet(2)'!I16+'Sant Andreu de la Barca'!I16+'Cornella de Llobregat'!I16+'Barberà del Valles'!I16+'Sant Viçents dels Horts'!I16+'Molins de Rei'!I16+'Sant Cugat'!I16+'Punt Verde de Sant Andreu'!I16+'Sant Boi'!I16+Viladecans!I16+Castelldefels!I16+'El Prat'!I16+'Sant Adria del Besos'!I16+'Tiana - Montgat'!I16 -> 9.13 | J16: =I16/$I$67*100 -> 0.14892142 | L16: explosius | N16: ='Sant Andreu'!N16+'Badalona (pomar)'!N16+Collserola!N16+Montjuic!N16+'Vall d''Hebron'!N16+'Badalona (Gorg)'!N16+'Badia del Vallès'!N16+'Montcada i Reixac'!N16+Pallejà!N16+'L''Hospitalet'!N16+'L''Hospitalet(2)'!N16+'Sant Andreu de la Barca'!N16+'Cornella de Llobregat'!N16+'Barberà del Valles'!N16+'Sant Viçents dels Horts'!N16+'Molins de Rei'!N16+'Sant Cugat'!N16+'Punt Verde de Sant Andreu'!N16+'Sant Boi'!N16+Viladecans!N16+Castelldefels!N16+'El Prat'!N16+'Sant Adria del Besos'!N16+'Tiana - Montgat'!N16 -> 0 | O16: =N16/$N$17*100 -> 0
A17: Multimaterial | C17: =+'Sant Andreu'!C17:D17+'Badalona (pomar)'!C17:D17+Collserola!C17+Montjuic!C17+'Vall d''Hebron'!C17:D17+'Badalona (Gorg)'!C17:D17+'Badia del Vallès'!C17:D17+'Badia del Vallès'!C17:D17+'Montcada i Reixac'!C17:D17+Pallejà!C17+'L''Hospitalet'!C17:D17+'L''Hospitalet(2)'!C17:D17+'Sant Andreu de la Barca'!C17:D17+'Cornella de Llobregat'!C17:D17+'Barberà del Valles'!C17:D17+'Sant Viçents dels Horts'!C17:D17+'Molins de Rei'!C17:D17+'Sant Cugat'!C17:D32+'Punt Verde de Sant Andreu'!C17:D32+'Sant Boi'!C17:D32+Viladecans!C17:D32+Castelldefels!C17:D32+'El Prat'!C17:D32+'Sant Adria del Besos'!C17:D32+Gavà!C17:D32+'Tiana - Montgat'!C17:D32 -> 447.71 | E17: =C17/$C$14*100 -> 0.61941063 | H17: Envasos Ecoembes | I17: ='Sant Andreu'!I17+'Badalona (pomar)'!I17+Collserola!I17+Montjuic!I17+'Vall d''Hebron'!I17+'Badalona (Gorg)'!I17+'Badia del Vallès'!I17+'Montcada i Reixac'!I17+Pallejà!I17+'L''Hospitalet'!I17+'L''Hospitalet(2)'!I17+'Sant Andreu de la Barca'!I17+'Cornella de Llobregat'!I17+'Barberà del Valles'!I17+'Sant Viçents dels Horts'!I17+'Molins de Rei'!I17+'Sant Cugat'!I17+'Punt Verde de Sant Andreu'!I17+'Sant Boi'!I17+Viladecans!I17+Castelldefels!I17+'El Prat'!I17+'Sant Adria del Besos'!I17+'Tiana - Montgat'!I17 -> 69.28 | J17: =I17/$I$67*100 -> 1.1300412 | L17: TOTAL RESIDUS NO PERMITIDOS | N17: =SUM(N5:N16) -> 115.34 | O17: =SUM(O5:O16) -> 100
A18: Poda | C18: =+'Sant Andreu'!C18:D18+'Badalona (pomar)'!C18:D18+Collserola!C18+Montjuic!C18+'Vall d''Hebron'!C18:D18+'Badalona (Gorg)'!C18:D18+'Badia del Vallès'!C18:D18+'Badia del Vallès'!C18:D18+'Montcada i Reixac'!C18:D18+Pallejà!C18+'L''Hospitalet'!C18:D18+'L''Hospitalet(2)'!C18:D18+'Sant Andreu de la Barca'!C18:D18+'Cornella de Llobregat'!C18:D18+'Barberà del Valles'!C18:D18+'Sant Viçents dels Horts'!C18:D18+'Molins de Rei'!C18:D18+'Sant Cugat'!C18:D33+'Punt Verde de Sant Andreu'!C18:D33+'Sant Boi'!C18:D33+Viladecans!C18:D33+Castelldefels!C18:D33+'El Prat'!C18:D33+'Sant Adria del Besos'!C18:D33+Gavà!C18:D33+'Tiana - Montgat'!C18:D33 -> 0 | E18: =C18/$C$14*100 -> 0 | H18: Envasos Vidre | I18: ='Sant Andreu'!I18+'Badalona (pomar)'!I18+Collserola!I18+Montjuic!I18+'Vall d''Hebron'!I18+'Badalona (Gorg)'!I18+'Badia del Vallès'!I18+'Montcada i Reixac'!I18+Pallejà!I18+'L''Hospitalet'!I18+'L''Hospitalet(2)'!I18+'Sant Andreu de la Barca'!I18+'Cornella de Llobregat'!I18+'Barberà del Valles'!I18+'Sant Viçents dels Horts'!I18+'Molins de Rei'!I18+'Sant Cugat'!I18+'Punt Verde de Sant Andreu'!I18+'Sant Boi'!I18+Viladecans!I18+Castelldefels!I18+'El Prat'!I18+'Sant Adria del Besos'!I18+'Tiana - Montgat'!I18 -> 30.67 | J18: =I18/$I$67*100 -> 0.50026506
A19: Escuma | C19: =+'Sant Andreu'!C19:D19+'Badalona (pomar)'!C19:D19+Collserola!C19+Montjuic!C19+'Vall d''Hebron'!C19:D19+'Badalona (Gorg)'!C19:D19+'Badia del Vallès'!C19:D19+'Badia del Vallès'!C19:D19+'Montcada i Reixac'!C19:D19+Pallejà!C19+'L''Hospitalet'!C19:D19+'L''Hospitalet(2)'!C19:D19+'Sant Andreu de la Barca'!C19:D19+'Cornella de Llobregat'!C19:D19+'Barberà del Valles'!C19:D19+'Sant Viçents dels Horts'!C19:D19+'Molins de Rei'!C19:D19+'Sant Cugat'!C19:D34+'Punt Verde de Sant Andreu'!C19:D34+'Sant Boi'!C19:D34+Viladecans!C19:D34+Castelldefels!C19:D34+'El Prat'!C19:D34+'Sant Adria del Besos'!C19:D34+Gavà!C19:D34+'Tiana - Montgat'!C19:D34 -> 49.73 | E19: =C19/$C$14*100 -> 0.068801882 | H19: Ferralla | I19: ='Sant Andreu'!I19+'Badalona (pomar)'!I19+Collserola!I19+Montjuic!I19+'Vall d''Hebron'!I19+'Badalona (Gorg)'!I19+'Badia del Vallès'!I19+'Montcada i Reixac'!I19+Pallejà!I19+'L''Hospitalet'!I19+'L''Hospitalet(2)'!I19+'Sant Andreu de la Barca'!I19+'Cornella de Llobregat'!I19+'Barberà del Valles'!I19+'Sant Viçents dels Horts'!I19+'Molins de Rei'!I19+'Sant Cugat'!I19+'Punt Verde de Sant Andreu'!I19+'Sant Boi'!I19+Viladecans!I19+Castelldefels!I19+'El Prat'!I19+'Sant Adria del Besos'!I19+'Tiana - Montgat'!I19 -> 6.1 | J19: =I19/$I$67*100 -> 0.09949843
A20: Para-xocs | C20: =+'Sant Andreu'!C20:D20+'Badalona (pomar)'!C20:D20+Collserola!C20+Montjuic!C20+'Vall d''Hebron'!C20:D20+'Badalona (Gorg)'!C20:D20+'Badia del Vallès'!C20:D20+'Badia del Vallès'!C20:D20+'Montcada i Reixac'!C20:D20+Pallejà!C20+'L''Hospitalet'!C20:D20+'L''Hospitalet(2)'!C20:D20+'Sant Andreu de la Barca'!C20:D20+'Cornella de Llobregat'!C20:D20+'Barberà del Valles'!C20:D20+'Sant Viçents dels Horts'!C20:D20+'Molins de Rei'!C20:D20+'Sant Cugat'!C20:D35+'Punt Verde de Sant Andreu'!C20:D35+'Sant Boi'!C20:D35+Viladecans!C20:D35+Castelldefels!C20:D35+'El Prat'!C20:D35+'Sant Adria del Besos'!C20:D35+Gavà!C20:D35+'Tiana - Montgat'!C20:D35 -> 0 | E20: =C20/$C$14*100 -> 0 | H20: Envasos Contingut | I20: ='Sant Andreu'!I20+'Badalona (pomar)'!I20+Collserola!I20+Montjuic!I20+'Vall d''Hebron'!I20+'Badalona (Gorg)'!I20+'Badia del Vallès'!I20+'Montcada i Reixac'!I20+Pallejà!I20+'L''Hospitalet'!I20+'L''Hospitalet(2)'!I20+'Sant Andreu de la Barca'!I20+'Cornella de Llobregat'!I20+'Barberà del Valles'!I20+'Sant Viçents dels Horts'!I20+'Molins de Rei'!I20+'Sant Cugat'!I20+'Punt Verde de Sant Andreu'!I20+'Sant Boi'!I20+Viladecans!I20+Castelldefels!I20+'El Prat'!I20+'Sant Adria del Besos'!I20+'Tiana - Montgat'!I20 -> 58.06 | J20: =I20/$I$67*100 -> 0.94702932
A21: Tèxtil | C21: =+'Sant Andreu'!C21:D21+'Badalona (pomar)'!C21:D21+Collserola!C21+Montjuic!C21+'Vall d''Hebron'!C21:D21+'Badalona (Gorg)'!C21:D21+'Badia del Vallès'!C21:D21+'Badia del Vallès'!C21:D21+'Montcada i Reixac'!C21:D21+Pallejà!C21+'L''Hospitalet'!C21:D21+'L''Hospitalet(2)'!C21:D21+'Sant Andreu de la Barca'!C21:D21+'Cornella de Llobregat'!C21:D21+'Barberà del Valles'!C21:D21+'Sant Viçents dels Horts'!C21:D21+'Molins de Rei'!C21:D21+'Sant Cugat'!C21:D36+'Punt Verde de Sant Andreu'!C21:D36+'Sant Boi'!C21:D36+Viladecans!C21:D36+Castelldefels!C21:D36+'El Prat'!C21:D36+'Sant Adria del Besos'!C21:D36+Gavà!C21:D36+'Tiana - Montgat'!C21:D36 -> 303.31 | E21: =C21/$C$14*100 -> 0.41963199 | H21: Aerosols I Esprais | I21: ='Sant Andreu'!I21+'Badalona (pomar)'!I21+Collserola!I21+Montjuic!I21+'Vall d''Hebron'!I21+'Badalona (Gorg)'!I21+'Badia del Vallès'!I21+'Montcada i Reixac'!I21+Pallejà!I21+'L''Hospitalet'!I21+'L''Hospitalet(2)'!I21+'Sant Andreu de la Barca'!I21+'Cornella de Llobregat'!I21+'Barberà del Valles'!I21+'Sant Viçents dels Horts'!I21+'Molins de Rei'!I21+'Sant Cugat'!I21+'Punt Verde de Sant Andreu'!I21+'Sant Boi'!I21+Viladecans!I21+Castelldefels!I21+'El Prat'!I21+'Sant Adria del Besos'!I21+'Tiana - Montgat'!I21 -> 6.5 | J21: =I21/$I$67*100 -> 0.10602292
A22: Bidons | C22: =+'Sant Andreu'!C22:D22+'Badalona (pomar)'!C22:D22+Collserola!C22+Montjuic!C22+'Vall d''Hebron'!C22:D22+'Badalona (Gorg)'!C22:D22+'Badia del Vallès'!C22:D22+'Badia del Vallès'!C22:D22+'Montcada i Reixac'!C22:D22+Pallejà!C22+'L''Hospitalet'!C22:D22+'L''Hospitalet(2)'!C22:D22+'Sant Andreu de la Barca'!C22:D22+'Cornella de Llobregat'!C22:D22+'Barberà del Valles'!C22:D22+'Sant Viçents dels Horts'!C22:D22+'Molins de Rei'!C22:D22+'Sant Cugat'!C22:D37+'Punt Verde de Sant Andreu'!C22:D37+'Sant Boi'!C22:D37+Viladecans!C22:D37+Castelldefels!C22:D37+'El Prat'!C22:D37+'Sant Adria del Besos'!C22:D37+Gavà!C22:D37+'Tiana - Montgat'!C22:D37 -> 143.91 | E22: =C22/$C$14*100 -> 0.19910072 | H22: Cartutxos De Tinta I Tòners | I22: ='Sant Andreu'!I22+'Badalona (pomar)'!I22+Collserola!I22+Montjuic!I22+'Vall d''Hebron'!I22+'Badalona (Gorg)'!I22+'Badia del Vallès'!I22+'Montcada i Reixac'!I22+Pallejà!I22+'L''Hospitalet'!I22+'L''Hospitalet(2)'!I22+'Sant Andreu de la Barca'!I22+'Cornella de Llobregat'!I22+'Barberà del Valles'!I22+'Sant Viçents dels Horts'!I22+'Molins de Rei'!I22+'Sant Cugat'!I22+'Punt Verde de Sant Andreu'!I22+'Sant Boi'!I22+Viladecans!I22+Castelldefels!I22+'El Prat'!I22+'Sant Adria del Besos'!I22+'Tiana - Montgat'!I22 -> 2.99 | J22: =I22/$I$67*100 -> 0.048770542 | L22: TOTALES | N22: Cantidad (kg) | O22: %
A23: Cartrons | C23: =+'Sant Andreu'!C23:D23+'Badalona (pomar)'!C23:D23+Collserola!C23+Montjuic!C23+'Vall d''Hebron'!C23:D23+'Badalona (Gorg)'!C23:D23+'Badia del Vallès'!C23:D23+'Badia del Vallès'!C23:D23+'Montcada i Reixac'!C23:D23+Pallejà!C23+'L''Hospitalet'!C23:D23+'L''Hospitalet(2)'!C23:D23+'Sant Andreu de la Barca'!C23:D23+'Cornella de Llobregat'!C23:D23+'Barberà del Valles'!C23:D23+'Sant Viçents dels Horts'!C23:D23+'Molins de Rei'!C23:D23+'Sant Cugat'!C23:D38+'Punt Verde de Sant Andreu'!C23:D38+'Sant Boi'!C23:D38+Viladecans!C23:D38+Castelldefels!C23:D38+'El Prat'!C23:D38+'Sant Adria del Besos'!C23:D38+Gavà!C23:D38+'Tiana - Montgat'!C23:D38 -> 25.39 | E23: =C23/$C$14*100 -> 0.035127283 | H23: Cds I Dvds | I23: ='Sant Andreu'!I23+'Badalona (pomar)'!I23+Collserola!I23+Montjuic!I23+'Vall d''Hebron'!I23+'Badalona (Gorg)'!I23+'Badia del Vallès'!I23+'Montcada i Reixac'!I23+Pallejà!I23+'L''Hospitalet'!I23+'L''Hospitalet(2)'!I23+'Sant Andreu de la Barca'!I23+'Cornella de Llobregat'!I23+'Barberà del Valles'!I23+'Sant Viçents dels Horts'!I23+'Molins de Rei'!I23+'Sant Cugat'!I23+'Punt Verde de Sant Andreu'!I23+'Sant Boi'!I23+Viladecans!I23+Castelldefels!I23+'El Prat'!I23+'Sant Adria del Besos'!I23+'Tiana - Montgat'!I23 -> 15.54 | J23: =I23/$I$67*100 -> 0.25347633 | L23: TOTAL RESIDUOS ADMISIBLES | N23: =I67 -> 6130.75 | O23: =N23/$N$25*100 -> 98.153405
A24: Sofas | C24: =+'Sant Andreu'!C24:D24+'Badalona (pomar)'!C24:D24+Collserola!C24+Montjuic!C24+'Vall d''Hebron'!C24:D24+'Badalona (Gorg)'!C24:D24+'Badia del Vallès'!C24:D24+'Badia del Vallès'!C24:D24+'Montcada i Reixac'!C24:D24+Pallejà!C24+'L''Hospitalet'!C24:D24+'L''Hospitalet(2)'!C24:D24+'Sant Andreu de la Barca'!C24:D24+'Cornella de Llobregat'!C24:D24+'Barberà del Valles'!C24:D24+'Sant Viçents dels Horts'!C24:D24+'Molins de Rei'!C24:D24+'Sant Cugat'!C24:D39+'Punt Verde de Sant Andreu'!C24:D39+'Sant Boi'!C24:D39+Viladecans!C24:D39+Castelldefels!C24:D39+'El Prat'!C24:D39+'Sant Adria del Besos'!C24:D39+Gavà!C24:D39+'Tiana - Montgat'!C24:D39 -> 3200.48 | E24: =C24/$C$14*100 -> 4.4278915 | H24: Cintes De Casset I De Vídeo | I24: ='Sant Andreu'!I24+'Badalona (pomar)'!I24+Collserola!I24+Montjuic!I24+'Vall d''Hebron'!I24+'Badalona (Gorg)'!I24+'Badia del Vallès'!I24+'Montcada i Reixac'!I24+Pallejà!I24+'L''Hospitalet'!I24+'L''Hospitalet(2)'!I24+'Sant Andreu de la Barca'!I24+'Cornella de Llobregat'!I24+'Barberà del Valles'!I24+'Sant Viçents dels Horts'!I24+'Molins de Rei'!I24+'Sant Cugat'!I24+'Punt Verde de Sant Andreu'!I24+'Sant Boi'!I24+Viladecans!I24+Castelldefels!I24+'El Prat'!I24+'Sant Adria del Besos'!I24+'Tiana - Montgat'!I24 -> 10.7 | J24: =I24/$I$67*100 -> 0.17453003 | L24: TOTAL RESIDUS NO PERMITIDOS | N24: =N17 -> 115.34 | O24: =N24/$N$25*100 -> 1.8465952
A25: Maleta | C25: =+'Sant Andreu'!C25:D25+'Badalona (pomar)'!C25:D25+Collserola!C25+Montjuic!C25+'Vall d''Hebron'!C25:D25+'Badalona (Gorg)'!C25:D25+'Badia del Vallès'!C25:D25+'Badia del Vallès'!C25:D25+'Montcada i Reixac'!C25:D25+Pallejà!C25+'L''Hospitalet'!C25:D25+'L''Hospitalet(2)'!C25:D25+'Sant Andreu de la Barca'!C25:D25+'Cornella de Llobregat'!C25:D25+'Barberà del Valles'!C25:D25+'Sant Viçents dels Horts'!C25:D25+'Molins de Rei'!C25:D25+'Sant Cugat'!C25:D40+'Punt Verde de Sant Andreu'!C25:D40+'Sant Boi'!C25:D40+Viladecans!C25:D40+Castelldefels!C25:D40+'El Prat'!C25:D40+'Sant Adria del Besos'!C25:D40+Gavà!C25:D40+'Tiana - Montgat'!C25:D40 -> 303.66 | E25: =C25/$C$14*100 -> 0.42011621 | H25: Pérdues | I25: ='Sant Andreu'!I25+'Badalona (pomar)'!I25+Collserola!I25+Montjuic!I25+'Vall d''Hebron'!I25+'Badalona (Gorg)'!I25+'Badia del Vallès'!I25+'Montcada i Reixac'!I25+Pallejà!I25+'L''Hospitalet'!I25+'L''Hospitalet(2)'!I25+'Sant Andreu de la Barca'!I25+'Cornella de Llobregat'!I25+'Barberà del Valles'!I25+'Sant Viçents dels Horts'!I25+'Molins de Rei'!I25+'Sant Cugat'!I25+'Punt Verde de Sant Andreu'!I25+'Sant Boi'!I25+Viladecans!I25+Castelldefels!I25+'El Prat'!I25+'Sant Adria del Besos'!I25+'Tiana - Montgat'!I25 -> 0 | J25: =I25/$I$67*100 -> 0 | L25: TOTALES | N25: =SUM(N23:N24) -> 6246.09 | O25: =SUM(O23:O24) -> 100
A26: Caixa de plàstic | C26: =+'Sant Andreu'!C26:D26+'Badalona (pomar)'!C26:D26+Collserola!C26+Montjuic!C26+'Vall d''Hebron'!C26:D26+'Badalona (Gorg)'!C26:D26+'Badia del Vallès'!C26:D26+'Badia del Vallès'!C26:D26+'Montcada i Reixac'!C26:D26+Pallejà!C26+'L''Hospitalet'!C26:D26+'L''Hospitalet(2)'!C26:D26+'Sant Andreu de la Barca'!C26:D26+'Cornella de Llobregat'!C26:D26+'Barberà del Valles'!C26:D26+'Sant Viçents dels Horts'!C26:D26+'Molins de Rei'!C26:D26+'Sant Cugat'!C26:D41+'Punt Verde de Sant Andreu'!C26:D41+'Sant Boi'!C26:D41+Viladecans!C26:D41+Castelldefels!C26:D41+'El Prat'!C26:D41+'Sant Adria del Besos'!C26:D41+Gavà!C26:D41+'Tiana - Montgat'!C26:D41 -> 51.49 | E26: =C26/$C$14*100 -> 0.071236857 | H26: Resta | I26: ='Sant Andreu'!I26+'Badalona (pomar)'!I26+Collserola!I26+Montjuic!I26+'Vall d''Hebron'!I26+'Badalona (Gorg)'!I26+'Badia del Vallès'!I26+'Montcada i Reixac'!I26+Pallejà!I26+'L''Hospitalet'!I26+'L''Hospitalet(2)'!I26+'Sant Andreu de la Barca'!I26+'Cornella de Llobregat'!I26+'Barberà del Valles'!I26+'Sant Viçents dels Horts'!I26+'Molins de Rei'!I26+'Sant Cugat'!I26+'Punt Verde de Sant Andreu'!I26+'Sant Boi'!I26+Viladecans!I26+Castelldefels!I26+'El Prat'!I26+'Sant Adria del Besos'!I26+'Tiana - Montgat'!I26 -> 180.47 | J26: =I26/$I$67*100 -> 2.9436855
A27: Ferralla | C27: =+'Sant Andreu'!C27:D27+'Badalona (pomar)'!C27:D27+Collserola!C27+Montjuic!C27+'Vall d''Hebron'!C27:D27+'Badalona (Gorg)'!C27:D27+'Badia del Vallès'!C27:D27+'Badia del Vallès'!C27:D27+'Montcada i Reixac'!C27:D27+Pallejà!C27+'L''Hospitalet'!C27:D27+'L''Hospitalet(2)'!C27:D27+'Sant Andreu de la Barca'!C27:D27+'Cornella de Llobregat'!C27:D27+'Barberà del Valles'!C27:D27+'Sant Viçents dels Horts'!C27:D27+'Molins de Rei'!C27:D27+'Sant Cugat'!C27:D42+'Punt Verde de Sant Andreu'!C27:D42+'Sant Boi'!C27:D42+Viladecans!C27:D42+Castelldefels!C27:D42+'El Prat'!C27:D42+'Sant Adria del Besos'!C27:D42+Gavà!C27:D42+'Tiana - Montgat'!C27:D42 -> 96.57 | E27: =C27/$C$14*100 -> 0.13360542 | H27: Vidre Barrejat | I27: ='Sant Andreu'!I27+'Badalona (pomar)'!I27+Collserola!I27+Montjuic!I27+'Vall d''Hebron'!I27+'Badalona (Gorg)'!I27+'Badia del Vallès'!I27+'Montcada i Reixac'!I27+Pallejà!I27+'L''Hospitalet'!I27+'L''Hospitalet(2)'!I27+'Sant Andreu de la Barca'!I27+'Cornella de Llobregat'!I27+'Barberà del Valles'!I27+'Sant Viçents dels Horts'!I27+'Molins de Rei'!I27+'Sant Cugat'!I27+'Punt Verde de Sant Andreu'!I27+'Sant Boi'!I27+Viladecans!I27+Castelldefels!I27+'El Prat'!I27+'Sant Adria del Besos'!I27+'Tiana - Montgat'!I27 -> 33.81 | J27: =I27/$I$67*100 -> 0.55148228
A28: Cadira nen cotxe | C28: =+'Sant Andreu'!C28:D28+'Badalona (pomar)'!C28:D28+Collserola!C28+Montjuic!C28+'Vall d''Hebron'!C28:D28+'Badalona (Gorg)'!C28:D28+'Badia del Vallès'!C28:D28+'Badia del Vallès'!C28:D28+'Montcada i Reixac'!C28:D28+Pallejà!C28+'L''Hospitalet'!C28:D28+'L''Hospitalet(2)'!C28:D28+'Sant Andreu de la Barca'!C28:D28+'Cornella de Llobregat'!C28:D28+'Barberà del Valles'!C28:D28+'Sant Viçents dels Horts'!C28:D28+'Molins de Rei'!C28:D28+'Sant Cugat'!C28:D43+'Punt Verde de Sant Andreu'!C28:D43+'Sant Boi'!C28:D43+Viladecans!C28:D43+Castelldefels!C28:D43+'El Prat'!C28:D43+'Sant Adria del Besos'!C28:D43+Gavà!C28:D43+'Tiana - Montgat'!C28:D43 -> 176.85 | E28: =C28/$C$14*100 -> 0.24467349 | H28: Vidre Pla | I28: ='Sant Andreu'!I28+'Badalona (pomar)'!I28+Collserola!I28+Montjuic!I28+'Vall d''Hebron'!I28+'Badalona (Gorg)'!I28+'Badia del Vallès'!I28+'Montcada i Reixac'!I28+Pallejà!I28+'L''Hospitalet'!I28+'L''Hospitalet(2)'!I28+'Sant Andreu de la Barca'!I28+'Cornella de Llobregat'!I28+'Barberà del Valles'!I28+'Sant Viçents dels Horts'!I28+'Molins de Rei'!I28+'Sant Cugat'!I28+'Punt Verde de Sant Andreu'!I28+'Sant Boi'!I28+Viladecans!I28+Castelldefels!I28+'El Prat'!I28+'Sant Adria del Besos'!I28+'Tiana - Montgat'!I28 -> 10.61 | J28: =I28/$I$67*100 -> 0.17306202
A29: Escombra | C29: =+'Sant Andreu'!C29:D29+'Badalona (pomar)'!C29:D29+Collserola!C29+Montjuic!C29+'Vall d''Hebron'!C29:D29+'Badalona (Gorg)'!C29:D29+'Badia del Vallès'!C29:D29+'Badia del Vallès'!C29:D29+'Montcada i Reixac'!C29:D29+Pallejà!C29+'L''Hospitalet'!C29:D29+'L''Hospitalet(2)'!C29:D29+'Sant Andreu de la Barca'!C29:D29+'Cornella de Llobregat'!C29:D29+'Barberà del Valles'!C29:D29+'Sant Viçents dels Horts'!C29:D29+'Molins de Rei'!C29:D29+'Sant Cugat'!C29:D44+'Punt Verde de Sant Andreu'!C29:D44+'Sant Boi'!C29:D44+Viladecans!C29:D44+Castelldefels!C29:D44+'El Prat'!C29:D44+'Sant Adria del Besos'!C29:D44+Gavà!C29:D44+'Tiana - Montgat'!C29:D44 -> 41.18 | E29: =C29/$C$14*100 -> 0.056972883 | H29: Olis De Cuina | I29: ='Sant Andreu'!I29+'Badalona (pomar)'!I29+Collserola!I29+Montjuic!I29+'Vall d''Hebron'!I29+'Badalona (Gorg)'!I29+'Badia del Vallès'!I29+'Montcada i Reixac'!I29+Pallejà!I29+'L''Hospitalet'!I29+'L''Hospitalet(2)'!I29+'Sant Andreu de la Barca'!I29+'Cornella de Llobregat'!I29+'Barberà del Valles'!I29+'Sant Viçents dels Horts'!I29+'Molins de Rei'!I29+'Sant Cugat'!I29+'Punt Verde de Sant Andreu'!I29+'Sant Boi'!I29+Viladecans!I29+Castelldefels!I29+'El Prat'!I29+'Sant Adria del Besos'!I29+'Tiana - Montgat'!I29 -> 3.81 | J29: =I29/$I$67*100 -> 0.062145741
A30: Fibra de vidre | C30: =+'Sant Andreu'!C30:D30+'Badalona (pomar)'!C30:D30+Collserola!C30+Montjuic!C30+'Vall d''Hebron'!C30:D30+'Badalona (Gorg)'!C30:D30+'Badia del Vallès'!C30:D30+'Badia del Vallès'!C30:D30+'Montcada i Reixac'!C30:D30+Pallejà!C30+'L''Hospitalet'!C30:D30+'L''Hospitalet(2)'!C30:D30+'Sant Andreu de la Barca'!C30:D30+'Cornella de Llobregat'!C30:D30+'Barberà del Valles'!C30:D30+'Sant Viçents dels Horts'!C30:D30+'Molins de Rei'!C30:D30+'Sant Cugat'!C30:D45+'Punt Verde de Sant Andreu'!C30:D45+'Sant Boi'!C30:D45+Viladecans!C30:D45+Castelldefels!C30:D45+'El Prat'!C30:D45+'Sant Adria del Besos'!C30:D45+Gavà!C30:D45+'Tiana - Montgat'!C30:D45 -> 464.9 | E30: =C30/$C$14*100 -> 0.64319314 | H30: Olis De Motor | I30: ='Sant Andreu'!I30+'Badalona (pomar)'!I30+Collserola!I30+Montjuic!I30+'Vall d''Hebron'!I30+'Badalona (Gorg)'!I30+'Badia del Vallès'!I30+'Montcada i Reixac'!I30+Pallejà!I30+'L''Hospitalet'!I30+'L''Hospitalet(2)'!I30+'Sant Andreu de la Barca'!I30+'Cornella de Llobregat'!I30+'Barberà del Valles'!I30+'Sant Viçents dels Horts'!I30+'Molins de Rei'!I30+'Sant Cugat'!I30+'Punt Verde de Sant Andreu'!I30+'Sant Boi'!I30+Viladecans!I30+Castelldefels!I30+'El Prat'!I30+'Sant Adria del Besos'!I30+'Tiana - Montgat'!I30 -> 0 | J30: =I30/$I$67*100 -> 0
A31: Total Voluminosos | C31: =SUM(C15:D30) -> 7576.36 | E31: =C31/C14*100 -> 10.481959 | H31: Olis Usats No Regenerables | I31: ='Sant Andreu'!I31+'Badalona (pomar)'!I31+Collserola!I31+Montjuic!I31+'Vall d''Hebron'!I31+'Badalona (Gorg)'!I31+'Badia del Vallès'!I31+'Montcada i Reixac'!I31+Pallejà!I31+'L''Hospitalet'!I31+'L''Hospitalet(2)'!I31+'Sant Andreu de la Barca'!I31+'Cornella de Llobregat'!I31+'Barberà del Valles'!I31+'Sant Viçents dels Horts'!I31+'Molins de Rei'!I31+'Sant Cugat'!I31+'Punt Verde de Sant Andreu'!I31+'Sant Boi'!I31+Viladecans!I31+Castelldefels!I31+'El Prat'!I31+'Sant Adria del Besos'!I31+'Tiana - Montgat'!I31 -> 0 | J31: =I31/$I$67*100 -> 0
A32: Peso restante (*Peso final tras descontar el total de voluminosos) | C32: =C14-C31 -> 64703.64 | E32: =C32/C14*100 -> 89.518041 | H32: Cables | I32: ='Sant Andreu'!I32+'Badalona (pomar)'!I32+Collserola!I32+Montjuic!I32+'Vall d''Hebron'!I32+'Badalona (Gorg)'!I32+'Badia del Vallès'!I32+'Montcada i Reixac'!I32+Pallejà!I32+'L''Hospitalet'!I32+'L''Hospitalet(2)'!I32+'Sant Andreu de la Barca'!I32+'Cornella de Llobregat'!I32+'Barberà del Valles'!I32+'Sant Viçents dels Horts'!I32+'Molins de Rei'!I32+'Sant Cugat'!I32+'Punt Verde de Sant Andreu'!I32+'Sant Boi'!I32+Viladecans!I32+Castelldefels!I32+'El Prat'!I32+'Sant Adria del Besos'!I32+'Tiana - Montgat'!I32 -> 2.33 | J32: =I32/$I$67*100 -> 0.038005138
H33: Cables Elèctrics | I33: ='Sant Andreu'!I33+'Badalona (pomar)'!I33+Collserola!I33+Montjuic!I33+'Vall d''Hebron'!I33+'Badalona (Gorg)'!I33+'Badia del Vallès'!I33+'Montcada i Reixac'!I33+Pallejà!I33+'L''Hospitalet'!I33+'L''Hospitalet(2)'!I33+'Sant Andreu de la Barca'!I33+'Cornella de Llobregat'!I33+'Barberà del Valles'!I33+'Sant Viçents dels Horts'!I33+'Molins de Rei'!I33+'Sant Cugat'!I33+'Punt Verde de Sant Andreu'!I33+'Sant Boi'!I33+Viladecans!I33+Castelldefels!I33+'El Prat'!I33+'Sant Adria del Besos'!I33+'Tiana - Montgat'!I33 -> 42.33 | J33: =I33/$I$67*100 -> 0.69045386
H34: Fins | I34: ='Sant Andreu'!I34+'Badalona (pomar)'!I34+Collserola!I34+Montjuic!I34+'Vall d''Hebron'!I34+'Badalona (Gorg)'!I34+'Badia del Vallès'!I34+'Montcada i Reixac'!I34+Pallejà!I34+'L''Hospitalet'!I34+'L''Hospitalet(2)'!I34+'Sant Andreu de la Barca'!I34+'Cornella de Llobregat'!I34+'Barberà del Valles'!I34+'Sant Viçents dels Horts'!I34+'Molins de Rei'!I34+'Sant Cugat'!I34+'Punt Verde de Sant Andreu'!I34+'Sant Boi'!I34+Viladecans!I34+Castelldefels!I34+'El Prat'!I34+'Sant Adria del Besos'!I34+'Tiana - Montgat'!I34 -> 0 | J34: =I34/$I$67*100 -> 0
H35: Absorbents | I35: ='Sant Andreu'!I35+'Badalona (pomar)'!I35+Collserola!I35+Montjuic!I35+'Vall d''Hebron'!I35+'Badalona (Gorg)'!I35+'Badia del Vallès'!I35+'Montcada i Reixac'!I35+Pallejà!I35+'L''Hospitalet'!I35+'L''Hospitalet(2)'!I35+'Sant Andreu de la Barca'!I35+'Cornella de Llobregat'!I35+'Barberà del Valles'!I35+'Sant Viçents dels Horts'!I35+'Molins de Rei'!I35+'Sant Cugat'!I35+'Punt Verde de Sant Andreu'!I35+'Sant Boi'!I35+Viladecans!I35+Castelldefels!I35+'El Prat'!I35+'Sant Adria del Besos'!I35+'Tiana - Montgat'!I35 -> 189.09 | J35: =I35/$I$67*100 -> 3.0842882
H36: Àcids | I36: ='Sant Andreu'!I36+'Badalona (pomar)'!I36+Collserola!I36+Montjuic!I36+'Vall d''Hebron'!I36+'Badalona (Gorg)'!I36+'Badia del Vallès'!I36+'Montcada i Reixac'!I36+Pallejà!I36+'L''Hospitalet'!I36+'L''Hospitalet(2)'!I36+'Sant Andreu de la Barca'!I36+'Cornella de Llobregat'!I36+'Barberà del Valles'!I36+'Sant Viçents dels Horts'!I36+'Molins de Rei'!I36+'Sant Cugat'!I36+'Punt Verde de Sant Andreu'!I36+'Sant Boi'!I36+Viladecans!I36+Castelldefels!I36+'El Prat'!I36+'Sant Adria del Besos'!I36+'Tiana - Montgat'!I36 -> 0 | J36: =I36/$I$67*100 -> 0
H37: Agulles I Puntxants | I37: ='Sant Andreu'!I37+'Badalona (pomar)'!I37+Collserola!I37+Montjuic!I37+'Vall d''Hebron'!I37+'Badalona (Gorg)'!I37+'Badia del Vallès'!I37+'Montcada i Reixac'!I37+Pallejà!I37+'L''Hospitalet'!I37+'L''Hospitalet(2)'!I37+'Sant Andreu de la Barca'!I37+'Cornella de Llobregat'!I37+'Barberà del Valles'!I37+'Sant Viçents dels Horts'!I37+'Molins de Rei'!I37+'Sant Cugat'!I37+'Punt Verde de Sant Andreu'!I37+'Sant Boi'!I37+Viladecans!I37+Castelldefels!I37+'El Prat'!I37+'Sant Adria del Besos'!I37+'Tiana - Montgat'!I37 -> 0 | J37: =I37/$I$67*100 -> 0
H38: Amiant | I38: ='Sant Andreu'!I38+'Badalona (pomar)'!I38+Collserola!I38+Montjuic!I38+'Vall d''Hebron'!I38+'Badalona (Gorg)'!I38+'Badia del Vallès'!I38+'Montcada i Reixac'!I38+Pallejà!I38+'L''Hospitalet'!I38+'L''Hospitalet(2)'!I38+'Sant Andreu de la Barca'!I38+'Cornella de Llobregat'!I38+'Barberà del Valles'!I38+'Sant Viçents dels Horts'!I38+'Molins de Rei'!I38+'Sant Cugat'!I38+'Punt Verde de Sant Andreu'!I38+'Sant Boi'!I38+Viladecans!I38+Castelldefels!I38+'El Prat'!I38+'Sant Adria del Besos'!I38+'Tiana - Montgat'!I38 -> 0 | J38: =I38/$I$67*100 -> 0
H39: Aparells D' Intercanvi De Temperatura | I39: ='Sant Andreu'!I39+'Badalona (pomar)'!I39+Collserola!I39+Montjuic!I39+'Vall d''Hebron'!I39+'Badalona (Gorg)'!I39+'Badia del Vallès'!I39+'Montcada i Reixac'!I39+Pallejà!I39+'L''Hospitalet'!I39+'L''Hospitalet(2)'!I39+'Sant Andreu de la Barca'!I39+'Cornella de Llobregat'!I39+'Barberà del Valles'!I39+'Sant Viçents dels Horts'!I39+'Molins de Rei'!I39+'Sant Cugat'!I39+'Punt Verde de Sant Andreu'!I39+'Sant Boi'!I39+Viladecans!I39+Castelldefels!I39+'El Prat'!I39+'Sant Adria del Besos'!I39+'Tiana - Montgat'!I39 -> 0 | J39: =I39/$I$67*100 -> 0
H40: Bases | I40: ='Sant Andreu'!I40+'Badalona (pomar)'!I40+Collserola!I40+Montjuic!I40+'Vall d''Hebron'!I40+'Badalona (Gorg)'!I40+'Badia del Vallès'!I40+'Montcada i Reixac'!I40+Pallejà!I40+'L''Hospitalet'!I40+'L''Hospitalet(2)'!I40+'Sant Andreu de la Barca'!I40+'Cornella de Llobregat'!I40+'Barberà del Valles'!I40+'Sant Viçents dels Horts'!I40+'Molins de Rei'!I40+'Sant Cugat'!I40+'Punt Verde de Sant Andreu'!I40+'Sant Boi'!I40+Viladecans!I40+Castelldefels!I40+'El Prat'!I40+'Sant Adria del Besos'!I40+'Tiana - Montgat'!I40 -> 0 | J40: =I40/$I$67*100 -> 0
H41: Bateries De Cotxe | I41: ='Sant Andreu'!I41+'Badalona (pomar)'!I41+Collserola!I41+Montjuic!I41+'Vall d''Hebron'!I41+'Badalona (Gorg)'!I41+'Badia del Vallès'!I41+'Montcada i Reixac'!I41+Pallejà!I41+'L''Hospitalet'!I41+'L''Hospitalet(2)'!I41+'Sant Andreu de la Barca'!I41+'Cornella de Llobregat'!I41+'Barberà del Valles'!I41+'Sant Viçents dels Horts'!I41+'Molins de Rei'!I41+'Sant Cugat'!I41+'Punt Verde de Sant Andreu'!I41+'Sant Boi'!I41+Viladecans!I41+Castelldefels!I41+'El Prat'!I41+'Sant Adria del Besos'!I41+'Tiana - Montgat'!I41 -> 21.44 | J41: =I41/$I$67*100 -> 0.34971251
H42: Bombones De Butà | I42: ='Sant Andreu'!I42+'Badalona (pomar)'!I42+Collserola!I42+Montjuic!I42+'Vall d''Hebron'!I42+'Badalona (Gorg)'!I42+'Badia del Vallès'!I42+'Montcada i Reixac'!I42+Pallejà!I42+'L''Hospitalet'!I42+'L''Hospitalet(2)'!I42+'Sant Andreu de la Barca'!I42+'Cornella de Llobregat'!I42+'Barberà del Valles'!I42+'Sant Viçents dels Horts'!I42+'Molins de Rei'!I42+'Sant Cugat'!I42+'Punt Verde de Sant Andreu'!I42+'Sant Boi'!I42+Viladecans!I42+Castelldefels!I42+'El Prat'!I42+'Sant Adria del Besos'!I42+'Tiana - Montgat'!I42 -> 12.65 | J42: =I42/$I$67*100 -> 0.20633691
H43: Càpsules De Dosi Única | I43: ='Sant Andreu'!I43+'Badalona (pomar)'!I43+Collserola!I43+Montjuic!I43+'Vall d''Hebron'!I43+'Badalona (Gorg)'!I43+'Badia del Vallès'!I43+'Montcada i Reixac'!I43+Pallejà!I43+'L''Hospitalet'!I43+'L''Hospitalet(2)'!I43+'Sant Andreu de la Barca'!I43+'Cornella de Llobregat'!I43+'Barberà del Valles'!I43+'Sant Viçents dels Horts'!I43+'Molins de Rei'!I43+'Sant Cugat'!I43+'Punt Verde de Sant Andreu'!I43+'Sant Boi'!I43+Viladecans!I43+Castelldefels!I43+'El Prat'!I43+'Sant Adria del Besos'!I43+'Tiana - Montgat'!I43 -> 11.18 | J43: =I43/$I$67*100 -> 0.18235942
H44: Cosmètics | I44: ='Sant Andreu'!I44+'Badalona (pomar)'!I44+Collserola!I44+Montjuic!I44+'Vall d''Hebron'!I44+'Badalona (Gorg)'!I44+'Badia del Vallès'!I44+'Montcada i Reixac'!I44+Pallejà!I44+'L''Hospitalet'!I44+'L''Hospitalet(2)'!I44+'Sant Andreu de la Barca'!I44+'Cornella de Llobregat'!I44+'Barberà del Valles'!I44+'Sant Viçents dels Horts'!I44+'Molins de Rei'!I44+'Sant Cugat'!I44+'Punt Verde de Sant Andreu'!I44+'Sant Boi'!I44+Viladecans!I44+Castelldefels!I44+'El Prat'!I44+'Sant Adria del Besos'!I44+'Tiana - Montgat'!I44 -> 0 | J44: =I44/$I$67*100 -> 0
... H66: Termos | I66: ='Sant Andreu'!I66+'Badalona (pomar)'!I66+Collserola!I66+Montjuic!I66+'Vall d''Hebron'!I66+'Badalona (Gorg)'!I66+'Badia del Vallès'!I66+'Montcada i Reixac'!I66+Pallejà!I66+'L''Hospitalet'!I66+'L''Hospitalet(2)'!I66+'Sant Andreu de la Barca'!I66+'Cornella de Llobregat'!I66+'Barberà del Valles'!I66+'Sant Viçents dels Horts'!I66+'Molins de Rei'!I66+'Sant Cugat'!I66+'Punt Verde de Sant Andreu'!I66+'Sant Boi'!I66+Viladecans!I66+Castelldefels!I66+'El Prat'!I66+'Sant Adria del Besos'!I66+'Tiana - Montgat'!I66 -> 0 | J66: =I66/$I$67*100 -> 0
H67: TOTAL RESIDUOS ADMISIBLES | I67: =SUM(I5:I66) -> 6130.75 | J67: =SUM(J5:J66) -> 100

Sheet Sant Andreu
A3: FICHA DE CARACTERIZACION | H3: RESIDUOS ADMISIBLES | L3: RESIDUS NO PERMITIDOS
H4: Fracciones | I4: Cantidad (kg) | J4: % | L4: Fracciones | N4: Cantidad (kg) | O4: %
H5: Restes Vegetals | I5: 5.73 | J5: =I5/$I$67*100 -> 2.2015599 | L5: Escombraries domèstics o barrejat. | N5: 0 | O5: =N5/$N$17*100 -> #DIV/0!
H6: Fusta | I6: 0 | J6: =I6/$I$67*100 -> 0 | L6: Medicaments | N6: 0 | O6: =N6/$N$17*100 -> #DIV/0!
A7: Entidad: Punt Verd de Sant Andreu | H7: Fusta Neta | I7: 67.03 | J7: =I7/$I$67*100 -> 25.754025 | L7: Residus industrials i especials grans Q | N7: 0 | O7: =N7/$N$17*100 -> #DIV/0!
A8: Lugar de la Caracterización: SEMESA | H8: Paper I Cartró | I8: 17.24 | J8: =I8/$I$67*100 -> 6.6238906 | L8: Restes anatòmiques, medic, infecciosos. | N8: 0 | O8: =N8/$N$17*100 -> #DIV/0!
A9: Empresa Caracterizadora: NOVOTEC CONSULTORES | H9: Tèxtil | I9: 4.19 | J9: =I9/$I$67*100 -> 1.6098667 | L9: Residus radioactius. | N9: 0 | O9: =N9/$N$17*100 -> #DIV/0!
H10: Plàstic Dur | I10: 135.72 | J10: =I10/$I$67*100 -> 52.145849 | L10: Productes procedents de decomís. | N10: 0 | O10: =N10/$N$17*100 -> #DIV/0!
A11: Resultado de la Caracterización | H11: Plàstic Film | I11: 0.76 | J11: =I11/$I$67*100 -> 0.29200446 | L11: fems escorxadors i lab. | N11: 0 | O11: =N11/$N$17*100 -> #DIV/0!
H12: Terres I Runes | I12: 9.63 | J12: =I12/$I$67*100 -> 3.7000038 | L12: Residus activitats mineres/ext | N12: 0 | O12: =N12/$N$17*100 -> #DIV/0!
A13: VOLUMINOSOS | C13: Cantidad (kg) | E13: % | H13: Multimaterials | I13: 0.92 | J13: =I13/$I$67*100 -> 0.35347908 | L13: Residus ramaders o agrícoles. | N13: 0 | O13: =N13/$N$17*100 -> #DIV/0!
A14: PesNet Recollida (*Peso de la muestra total descargada) | C14: 3040 | E14: =E31+E32 -> 100 | H14: Bosses i films | I14: 0.04 | J14: =I14/$I$67*100 -> 0.015368656 | L14: Altre material classif perillós | N14: 0 | O14: =N14/$N$17*100 -> #DIV/0!
A15: Fustes | C15: 104.19 | E15: =C15/$C$14*100 -> 3.4273026 | H15: Aparells Informàtics I De Telecomunicacions | I15: 1.88 | J15: =I15/$I$67*100 -> 0.72232681 | L15: orgànica | N15: 0 | O15: =N15/$N$17*100 -> #DIV/0!
A16: Plàstics | C16: 4.23 | E16: =C16/$C$14*100 -> 0.13914474 | H16: Envasos D'Olis | I16: 0 | J16: =I16/$I$67*100 -> 0 | L16: explosius | N16: 0 | O16: =N16/$N$17*100 -> #DIV/0!
A17: Multimaterial | C17: 43.75 | E17: =C17/$C$14*100 -> 1.4391447 | H17: Envasos Ecoembes | I17: 4.81 | J17: =I17/$I$67*100 -> 1.8480808 | L17: TOTAL RESIDUS NO PERMITIDOS | N17: =SUM(N5:N16) -> 0 | O17: =SUM(O5:O16) -> #DIV/0!
A18: Poda | C18: 0 | E18: =C18/$C$14*100 -> 0 | H18: Envasos Vidre | I18: 0 | J18: =I18/$I$67*100 -> 0
A19: Escuma | C19: 13.42 | E19: =C19/$C$14*100 -> 0.44144737 | H19: Ferralla | I19: 0 | J19: =I19/$I$67*100 -> 0
A20: Para-xocs | C20: 0 | E20: =C20/$C$14*100 -> 0 | H20: Envasos Contingut | I20: 0 | J20: =I20/$I$67*100 -> 0
A21: Tèxtil | C21: 157.23 | E21: =C21/$C$14*100 -> 5.1720395 | H21: Aerosols I Esprais | I21: 0 | J21: =I21/$I$67*100 -> 0
A22: Bidons | C22: 0 | E22: =C22/$C$14*100 -> 0 | H22: Cartutxos De Tinta I Tòners | I22: 0 | J22: =I22/$I$67*100 -> 0 | L22: TOTALES | N22: Cantidad (kg) | O22: %
A23: Cartrons | C23: 0 | E23: =C23/$C$14*100 -> 0 | H23: Cds I Dvds | I23: 0 | J23: =I23/$I$67*100 -> 0 | L23: TOTAL RESIDUOS ADMISIBLES | N23: =I67 -> 260.27 | O23: =N23/$N$25*100 -> 100
A24: Sofas | C24: 27.41 | E24: =C24/$C$14*100 -> 0.90164474 | H24: Cintes De Casset I De Vídeo | I24: 0 | J24: =I24/$I$67*100 -> 0 | L24: TOTAL RESIDUS NO PERMITIDOS | N24: =N17 -> 0 | O24: =N24/$N$25*100 -> 0
A25: Maleta | C25: 0 | E25: =C25/$C$14*100 -> 0 | H25: Pérdues | I25: 0 | J25: =I25/$I$67*100 -> 0 | L25: TOTALES | N25: =SUM(N23:N24) -> 260.27 | O25: =SUM(O23:O24) -> 100
A26: Caixa de plàstic | C26: 0 | E26: =C26/$C$14*100 -> 0 | H26: Resta | I26: 0 | J26: =I26/$I$67*100 -> 0
A27: Ferralla | C27: 0 | E27: =C27/$C$14*100 -> 0 | H27: Vidre Barrejat | I27: 0 | J27: =I27/$I$67*100 -> 0
A28: Cadira nen cotxe | C28: 0 | E28: =C28/$C$14*100 -> 0 | H28: Vidre Pla | I28: 0 | J28: =I28/$I$67*100 -> 0
A29: Escombra | C29: 8.16 | E29: =C29/$C$14*100 -> 0.26842105 | H29: Olis De Cuina | I29: 0 | J29: =I29/$I$67*100 -> 0
A30: Fibra de vidre | C30: 14.56 | E30: =C30/$C$14*100 -> 0.47894737 | H30: Olis De Motor | I30: 0 | J30: =I30/$I$67*100 -> 0
A31: Total Voluminosos | C31: =SUM(C15:D30) -> 372.95 | E31: =C31/C14*100 -> 12.268092 | H31: Olis Usats No Regenerables | I31: 0 | J31: =I31/$I$67*100 -> 0
A32: Peso restante (*Peso final tras descontar el total de voluminosos) | C32: =C14-C31 -> 2667.05 | E32: =C32/C14*100 -> 87.731908 | H32: Cables | I32: 0 | J32: =I32/$I$67*100 -> 0
H33: Cables Elèctrics | I33: 3.89 | J33: =I33/$I$67*100 -> 1.4946018
H34: Fins | I34: 0 | J34: =I34/$I$67*100 -> 0
H35: Absorbents | I35: 0 | J35: =I35/$I$67*100 -> 0
H36: Àcids | I36: 0 | J36: =I36/$I$67*100 -> 0
H37: Agulles I Puntxants | I37: 0 | J37: =I37/$I$67*100 -> 0
H38: Amiant | I38: 0 | J38: =I38/$I$67*100 -> 0
H39: Aparells D' Intercanvi De Temperatura | I39: 0 | J39: =I39/$I$67*100 -> 0
H40: Bases | I40: 0 | J40: =I40/$I$67*100 -> 0
H41: Bateries De Cotxe | I41: 0 | J41: =I41/$I$67*100 -> 0
H42: Bombones De Butà | I42: 0 | J42: =I42/$I$67*100 -> 0
H43: Càpsules De Dosi Única | I43: 0 | J43: =I43/$I$67*100 -> 0
H44: Cosmètics | I44: 0 | J44: =I44/$I$67*100 -> 0
... H66: Termos | I66: 0 | J66: =I66/$I$67*100 -> 0
H67: TOTAL RESIDUOS ADMISIBLES | I67: =SUM(I5:I66) -> 260.27 | J67: =SUM(J5:J66) -> 100

Sheet Badalona (pomar)
A3: FICHA DE CARACTERIZACION | H3: RESIDUOS ADMISIBLES | L3: RESIDUS NO PERMITIDOS
H4: Fracciones | I4: Cantidad (kg) | J4: % | L4: Fracciones | N4: Cantidad (kg) | O4: %
H5: Restes Vegetals | I5: 18.93 | J5: =I5/$I$67*100 -> 7.4533428 | L5: Escombraries domèstics o barrejat. | N5: 0 | O5: =N5/$N$17*100 -> #DIV/0!
H6: Fusta | I6: 0 | J6: =I6/$I$67*100 -> 0 | L6: Medicaments | N6: 0 | O6: =N6/$N$17*100 -> #DIV/0!
A7: Entidad: Deixalleria de Badalona | H7: Fusta Neta | I7: 58.15 | J7: =I7/$I$67*100 -> 22.895504 | L7: Residus industrials i especials grans Q | N7: 0 | O7: =N7/$N$17*100 -> #DIV/0!
A8: Lugar de la Caracterización: SEMESA | H8: Paper I Cartró | I8: 52.21 | J8: =I8/$I$67*100 -> 20.556737 | L8: Restes anatòmiques, medic, infecciosos. | N8: 0 | O8: =N8/$N$17*100 -> #DIV/0!
A9: Empresa Caracterizadora: NOVOTEC CONSULTORES | H9: Tèxtil | I9: 27.42 | J9: =I9/$I$67*100 -> 10.796126 | L9: Residus radioactius. | N9: 0 | O9: =N9/$N$17*100 -> #DIV/0!
H10: Plàstic Dur | I10: 38.41 | J10: =I10/$I$67*100 -> 15.123238 | L10: Productes procedents de decomís. | N10: 0 | O10: =N10/$N$17*100 -> #DIV/0!
A11: Resultado de la Caracterización | H11: Plàstic Film | I11: 0 | J11: =I11/$I$67*100 -> 0 | L11: fems escorxadors i lab. | N11: 0 | O11: =N11/$N$17*100 -> #DIV/0!
H12: Terres I Runes | I12: 15.93 | J12: =I12/$I$67*100 -> 6.2721474 | L12: Residus activitats mineres/ext | N12: 0 | O12: =N12/$N$17*100 -> #DIV/0!
A13: VOLUMINOSOS | C13: Cantidad (kg) | E13: % | H13: Multimaterials | I13: 5.5 | J13: =I13/$I$67*100 -> 2.1655248 | L13: Residus ramaders o agrícoles. | N13: 0 | O13: =N13/$N$17*100 -> #DIV/0!
A14: PesNet Recollida (*Peso de la muestra total descargada) | C14: 3180 | E14: =E31+E32 -> 100 | H14: Bosses i films | I14: 5.59 | J14: =I14/$I$67*100 -> 2.2009607 | L14: Altre material classif perillós | N14: 0 | O14: =N14/$N$17*100 -> #DIV/0!
A15: Fustes | C15: 28.36 | E15: =C15/$C$14*100 -> 0.8918239 | H15: Aparells Informàtics I De Telecomunicacions | I15: 8.97 | J15: =I15/$I$67*100 -> 3.5317742 | L15: orgànica | N15: 0 | O15: =N15/$N$17*100 -> #DIV/0!
A16: Plàstics | C16: 44.81 | E16: =C16/$C$14*100 -> 1.4091195 | H16: Envasos D'Olis | I16: 1.79 | J16: =I16/$I$67*100 -> 0.7047799 | L16: explosius | N16: 0 | O16: =N16/$N$17*100 -> #DIV/0!
A17: Multimaterial | C17: 0 | E17: =C17/$C$14*100 -> 0 | H17: Envasos Ecoembes | I17: 2.41 | J17: =I17/$I$67*100 -> 0.94889361 | L17: TOTAL RESIDUS NO PERMITIDOS | N17: =SUM(N5:N16) -> 0 | O17: =SUM(O5:O16) -> #DIV/0!
A18: Poda | C18: 0 | E18: =C18/$C$14*100 -> 0 | H18: Envasos Vidre | I18: 1.97 | J18: =I18/$I$67*100 -> 0.77565163
A19: Escuma | C19: 0 | E19: =C19/$C$14*100 -> 0 | H19: Ferralla | I19: 0 | J19: =I19/$I$67*100 -> 0
A20: Para-xocs | C20: 0 | E20: =C20/$C$14*100 -> 0 | H20: Envasos Contingut | I20: 0 | J20: =I20/$I$67*100 -> 0
A21: Tèxtil | C21: 0 | E21: =C21/$C$14*100 -> 0 | H21: Aerosols I Esprais | I21: 0 | J21: =I21/$I$67*100 -> 0
A22: Bidons | C22: 0 | E22: =C22/$C$14*100 -> 0 | H22: Cartutxos De Tinta I Tòners | I22: 0 | J22: =I22/$I$67*100 -> 0 | L22: TOTALES | N22: Cantidad (kg) | O22: %
A23: Cartrons | C23: 4.87 | E23: =C23/$C$14*100 -> 0.15314465 | H23: Cds I Dvds | I23: 0 | J23: =I23/$I$67*100 -> 0 | L23: TOTAL RESIDUOS ADMISIBLES | N23: =I67 -> 253.98 | O23: =N23/$N$25*100 -> 100
A24: Sofas | C24: 0 | E24: =C24/$C$14*100 -> 0 | H24: Cintes De Casset I De Vídeo | I24: 0.38 | J24: =I24/$I$67*100 -> 0.14961808 | L24: TOTAL RESIDUS NO PERMITIDOS | N24: =N17 -> 0 | O24: =N24/$N$25*100 -> 0
A25: Maleta | C25: 4.95 | E25: =C25/$C$14*100 -> 0.15566038 | H25: Pérdues | I25: 0 | J25: =I25/$I$67*100 -> 0 | L25: TOTALES | N25: =SUM(N23:N24) -> 253.98 | O25: =SUM(O23:O24) -> 100
A26: Caixa de plàstic | C26: 0 | E26: =C26/$C$14*100 -> 0 | H26: Resta | I26: 0 | J26: =I26/$I$67*100 -> 0
A27: Ferralla | C27: 0 | E27: =C27/$C$14*100 -> 0 | H27: Vidre Barrejat | I27: 0 | J27: =I27/$I$67*100 -> 0
A28: Cadira nen cotxe | C28: 0 | E28: =C28/$C$14*100 -> 0 | H28: Vidre Pla | I28: 0.7 | J28: =I28/$I$67*100 -> 0.27561225
A29: Escombra | C29: 0 | E29: =C29/$C$14*100 -> 0 | H29: Olis De Cuina | I29: 0 | J29: =I29/$I$67*100 -> 0
A30: Fibra de vidre | C30: 38.71 | E30: =C30/$C$14*100 -> 1.2172956 | H30: Olis De Motor | I30: 0 | J30: =I30/$I$67*100 -> 0
A31: Total Voluminosos | C31: =SUM(C15:D30) -> 121.7 | E31: =C31/C14*100 -> 3.827044 | H31: Olis Usats No Regenerables | I31: 0 | J31: =I31/$I$67*100 -> 0
A32: Peso restante (*Peso final tras descontar el total de voluminosos) | C32: =C14-C31 -> 3058.3 | E32: =C32/C14*100 -> 96.172956 | H32: Cables | I32: 0 | J32: =I32/$I$67*100 -> 0
H33: Cables Elèctrics | I33: 0.87 | J33: =I33/$I$67*100 -> 0.34254666
H34: Fins | I34: 0 | J34: =I34/$I$67*100 -> 0
H35: Absorbents | I35: 1.43 | J35: =I35/$I$67*100 -> 0.56303646
H36: Àcids | I36: 0 | J36: =I36/$I$67*100 -> 0
H37: Agulles I Puntxants | I37: 0 | J37: =I37/$I$67*100 -> 0
H38: Amiant | I38: 0 | J38: =I38/$I$67*100 -> 0
H39: Aparells D' Intercanvi De Temperatura | I39: 0 | J39: =I39/$I$67*100 -> 0
H40: Bases | I40: 0 | J40: =I40/$I$67*100 -> 0
H41: Bateries De Cotxe | I41: 0 | J41: =I41/$I$67*100 -> 0
H42: Bombones De Butà | I42: 0 | J42: =I42/$I$67*100 -> 0
H43: Càpsules De Dosi Única | I43: 4.11 | J43: =I43/$I$67*100 -> 1.6182377
H44: Cosmètics | I44: 0 | J44: =I44/$I$67*100 -> 0
... H66: Termos | I66: 0 | J66: =I66/$I$67*100 -> 0
H67: TOTAL RESIDUOS ADMISIBLES | I67: =SUM(I5:I66) -> 253.98 | J67: =SUM(J5:J66) -> 100

Sheet Collserola
A3: FICHA DE CARACTERIZACION | H3: RESIDUOS ADMISIBLES | L3: RESIDUS NO PERMITIDOS
H4: Fracciones | I4: Cantidad (kg) | J4: % | L4: Fracciones | N4: Cantidad (kg) | O4: %
H5: Restes Vegetals | I5: 0 | J5: =I5/$I$67*100 -> 0 | L5: Escombraries domèstics o barrejat. | N5: 0 | O5: =N5/$N$17*100 -> 0
H6: Fusta | I6: 0 | J6: =I6/$I$67*100 -> 0 | L6: Medicaments | N6: 0.35 | O6: =N6/$N$17*100 -> 100
A7: Entidad: Punt Verd de Collserola | H7: Fusta Neta | I7: 37.08 | J7: =I7/$I$67*100 -> 12.894252 | L7: Residus industrials i especials grans Q | N7: 0 | O7: =N7/$N$17*100 -> 0
A8: Lugar de la Caracterización: SEMESA | H8: Paper I Cartró | I8: 35.84 | J8: =I8/$I$67*100 -> 12.463052 | L8: Restes anatòmiques, medic, infecciosos. | N8: 0 | O8: =N8/$N$17*100 -> 0
A9: Empresa Caracterizadora: NOVOTEC CONSULTORES | H9: Tèxtil | I9: 52.73 | J9: =I9/$I$67*100 -> 18.336405 | L9: Residus radioactius. | N9: 0 | O9: =N9/$N$17*100 -> 0
H10: Plàstic Dur | I10: 21.76 | J10: =I10/$I$67*100 -> 7.5668533 | L10: Productes procedents de decomís. | N10: 0 | O10: =N10/$N$17*100 -> 0
A11: Resultado de la Caracterización | H11: Plàstic Film | I11: 0 | J11: =I11/$I$67*100 -> 0 | L11: fems escorxadors i lab. | N11: 0 | O11: =N11/$N$17*100 -> 0
H12: Terres I Runes | I12: 26.67 | J12: =I12/$I$67*100 -> 9.2742637 | L12: Residus activitats mineres/ext | N12: 0 | O12: =N12/$N$17*100 -> 0
A13: VOLUMINOSOS | C13: Cantidad (kg) | E13: % | H13: Multimaterials | I13: 64.25 | J13: =I13/$I$67*100 -> 22.342386 | L13: Residus ramaders o agrícoles. | N13: 0 | O13: =N13/$N$17*100 -> 0
A14: PesNet Recollida (*Peso de la muestra total descargada) | C14: 3140 | E14: =E31+E32 -> 100 | H14: Bosses i films | I14: 1.93 | J14: =I14/$I$67*100 -> 0.67114094 | L14: Altre material classif perillós | N14: 0 | O14: =N14/$N$17*100 -> 0
A15: Fustes | C15: 98.76 | E15: =C15/$C$14*100 -> 3.1452229 | H15: Aparells Informàtics I De Telecomunicacions | I15: 0.97 | J15: =I15/$I$67*100 -> 0.33730918 | L15: orgànica | N15: 0 | O15: =N15/$N$17*100 -> 0
A16: Plàstics | C16: 29.94 | E16: =C16/$C$14*100 -> 0.95350318 | H16: Envasos D'Olis | I16: 0 | J16: =I16/$I$67*100 -> 0 | L16: explosius | N16: 0 | O16: =N16/$N$17*100 -> 0
A17: Multimaterial | C17: 0 | E17: =C17/$C$14*100 -> 0 | H17: Envasos Ecoembes | I17: 1.72 | J17: =I17/$I$67*100 -> 0.59811524 | L17: TOTAL RESIDUS NO PERMITIDOS | N17: =SUM(N5:N16) -> 0.35 | O17: =SUM(O5:O16) -> 100
A18: Poda | C18: 0 | E18: =C18/$C$14*100 -> 0 | H18: Envasos Vidre | I18: 0 | J18: =I18/$I$67*100 -> 0
A19: Escuma | C19: 36.31 | E19: =C19/$C$14*100 -> 1.1563694 | H19: Ferralla | I19: 0 | J19: =I19/$I$67*100 -> 0
A20: Para-xocs | C20: 0 | E20: =C20/$C$14*100 -> 0 | H20: Envasos Contingut | I20: 2.87 | J20: =I20/$I$67*100 -> 0.99801787
A21: Tèxtil | C21: 0 | E21: =C21/$C$14*100 -> 0 | H21: Aerosols I Esprais | I21: 0 | J21: =I21/$I$67*100 -> 0
A22: Bidons | C22: 0 | E22: =C22/$C$14*100 -> 0 | H22: Cartutxos De Tinta I Tòners | I22: 0.31 | J22: =I22/$I$67*100 -> 0.10779984 | L22: TOTALES | N22: Cantidad (kg) | O22: %
A23: Cartrons | C23: 0 | E23: =C23/$C$14*100 -> 0 | H23: Cds I Dvds | I23: 0.08 | J23: =I23/$I$67*100 -> 0.027819314 | L23: TOTAL RESIDUOS ADMISIBLES | N23: =I67 -> 287.57 | O23: =N23/$N$25*100 -> 99.878438
A24: Sofas | C24: 0 | E24: =C24/$C$14*100 -> 0 | H24: Cintes De Casset I De Vídeo | I24: 0.1 | J24: =I24/$I$67*100 -> 0.034774142 | L24: TOTAL RESIDUS NO PERMITIDOS | N24: =N17 -> 0.35 | O24: =N24/$N$25*100 -> 0.12156154
A25: Maleta | C25: 118.42 | E25: =C25/$C$14*100 -> 3.7713376 | H25: Pérdues | I25: 0 | J25: =I25/$I$67*100 -> 0 | L25: TOTALES | N25: =SUM(N23:N24) -> 287.92 | O25: =SUM(O23:O24) -> 100
A26: Caixa de plàstic | C26: 26.24 | E26: =C26/$C$14*100 -> 0.83566879 | H26: Resta | I26: 0 | J26: =I26/$I$67*100 -> 0
A27: Ferralla | C27: 0 | E27: =C27/$C$14*100 -> 0 | H27: Vidre Barrejat | I27: 2.77 | J27: =I27/$I$67*100 -> 0.96324373
A28: Cadira nen cotxe | C28: 0 | E28: =C28/$C$14*100 -> 0 | H28: Vidre Pla | I28: 0 | J28: =I28/$I$67*100 -> 0
A29: Escombra | C29: 0 | E29: =C29/$C$14*100 -> 0 | H29: Olis De Cuina | I29: 0 | J29: =I29/$I$67*100 -> 0
A30: Fibra de vidre | C30: 137.28 | E30: =C30/$C$14*100 -> 4.3719745 | H30: Olis De Motor | I30: 0 | J30: =I30/$I$67*100 -> 0
A31: Total Voluminosos | C31: =SUM(C15:D30) -> 446.95 | E31: =C31/C14*100 -> 14.234076 | H31: Olis Usats No Regenerables | I31: 0 | J31: =I31/$I$67*100 -> 0
A32: Peso restante (*Peso final tras descontar el total de voluminosos) | C32: =C14-C31 -> 2693.05 | E32: =C32/C14*100 -> 85.765924 | H32: Cables | I32: 0 | J32: =I32/$I$67*100 -> 0
H33: Cables Elèctrics | I33: 0 | J33: =I33/$I$67*100 -> 0
H34: Fins | I34: 0 | J34: =I34/$I$67*100 -> 0
H35: Absorbents | I35: 0.37 | J35: =I35/$I$67*100 -> 0.12866433
H36: Àcids | I36: 0 | J36: =I36/$I$67*100 -> 0
H37: Agulles I Puntxants | I37: 0 | J37: =I37/$I$67*100 -> 0
H38: Amiant | I38: 0 | J38: =I38/$I$67*100 -> 0
H39: Aparells D' Intercanvi De Temperatura | I39: 0 | J39: =I39/$I$67*100 -> 0
H40: Bases | I40: 0 | J40: =I40/$I$67*100 -> 0
H41: Bateries De Cotxe | I41: 0 | J41: =I41/$I$67*100 -> 0
H42: Bombones De Butà | I42: 0 | J42: =I42/$I$67*100 -> 0
H43: Càpsules De Dosi Única | I43: 2.43 | J43: =I43/$I$67*100 -> 0.84501165
H44: Cosmètics | I44: 0 | J44: =I44/$I$67*100 -> 0
... H66: Termos | I66: 0 | J66: =I66/$I$67*100 -> 0
H67: TOTAL RESIDUOS ADMISIBLES | I67: =SUM(I5:I66) -> 287.57 | J67: =SUM(J5:J66) -> 100

Sheet Montjuic
A3: FICHA DE CARACTERIZACION | H3: RESIDUOS ADMISIBLES | L3: RESIDUS NO PERMITIDOS
H4: Fracciones | I4: Cantidad (kg) | J4: % | L4: Fracciones | N4: Cantidad (kg) | O4: %
H5: Restes Vegetals | I5: 1.61 | J5: =I5/$I$67*100 -> 0.6879166 | L5: Escombraries domèstics o barrejat. | N5: 16.14 | O5: =N5/$N$17*100 -> 99.62963
H6: Fusta | I6: 11.25 | J6: =I6/$I$67*100 -> 4.8068706 | L6: Medicaments | N6: 0 | O6: =N6/$N$17*100 -> 0
A7: Entidad: Punt verd de Montjuic | H7: Fusta Neta | I7: 33.27 | J7: =I7/$I$67*100 -> 14.215519 | L7: Residus industrials i especials grans Q | N7: 0.06 | O7: =N7/$N$17*100 -> 0.37037037
A8: Lugar de la Caracterización: SEMESA | H8: Paper I Cartró | I8: 19.83 | J8: =I8/$I$67*100 -> 8.4729106 | L8: Restes anatòmiques, medic, infecciosos. | N8: 0 | O8: =N8/$N$17*100 -> 0
A9: Empresa Caracterizadora: NOVOTEC CONSULTORES | H9: Tèxtil | I9: 8.27 | J9: =I9/$I$67*100 -> 3.533584 | L9: Residus radioactius. | N9: 0 | O9: =N9/$N$17*100 -> 0
H10: Plàstic Dur | I10: 26.48 | J10: =I10/$I$67*100 -> 11.314305 | L10: Productes procedents de decomís. | N10: 0 | O10: =N10/$N$17*100 -> 0
A11: Resultado de la Caracterización | H11: Plàstic Film | I11: 16.58 | J11: =I11/$I$67*100 -> 7.0842591 | L11: fems escorxadors i lab. | N11: 0 | O11: =N11/$N$17*100 -> 0
H12: Terres I Runes | I12: 13.01 | J12: =I12/$I$67*100 -> 5.5588788 | L12: Residus activitats mineres/ext | N12: 0 | O12: =N12/$N$17*100 -> 0
A13: VOLUMINOSOS | C13: Cantidad (kg) | E13: % | H13: Multimaterials | I13: 23.57 | J13: =I13/$I$67*100 -> 10.070928 | L13: Residus ramaders o agrícoles. | N13: 0 | O13: =N13/$N$17*100 -> 0
A14: PesNet Recollida (*Peso de la muestra total descargada) | C14: 3220 | E14: =E31+E32 -> 100 | H14: Bosses i films | I14: 12.15 | J14: =I14/$I$67*100 -> 5.1914203 | L14: Altre material classif perillós | N14: 0 | O14: =N14/$N$17*100 -> 0
A15: Fustes | C15: 214.28 | E15: =C15/$C$14*100 -> 6.6546584 | H15: Aparells Informàtics I De Telecomunicacions | I15: 2.88 | J15: =I15/$I$67*100 -> 1.2305589 | L15: orgànica | N15: 0 | O15: =N15/$N$17*100 -> 0
A16: Plàstics | C16: 160.77 | E16: =C16/$C$14*100 -> 4.9928571 | H16: Envasos D'Olis | I16: 0 | J16: =I16/$I$67*100 -> 0 | L16: explosius | N16: 0 | O16: =N16/$N$17*100 -> 0
A17: Multimaterial | C17: 0 | E17: =C17/$C$14*100 -> 0 | H17: Envasos Ecoembes | I17: 8.73 | J17: =I17/$I$67*100 -> 3.7301316 | L17: TOTAL RESIDUS NO PERMITIDOS | N17: =SUM(N5:N16) -> 16.2 | O17: =SUM(O5:O16) -> 100
A18: Poda | C18: 0 | E18: =C18/$C$14*100 -> 0 | H18: Envasos Vidre | I18: 5.16 | J18: =I18/$I$67*100 -> 2.2047513
A19: Escuma | C19: 0 | E19: =C19/$C$14*100 -> 0 | H19: Ferralla | I19: 0 | J19: =I19/$I$67*100 -> 0
A20: Para-xocs | C20: 0 | E20: =C20/$C$14*100 -> 0 | H20: Envasos Contingut | I20: 3.31 | J20: =I20/$I$67*100 -> 1.4142882
A21: Tèxtil | C21: 12.67 | E21: =C21/$C$14*100 -> 0.39347826 | H21: Aerosols I Esprais | I21: 0 | J21: =I21/$I$67*100 -> 0
A22: Bidons | C22: 0 | E22: =C22/$C$14*100 -> 0 | H22: Cartutxos De Tinta I Tòners | I22: 0 | J22: =I22/$I$67*100 -> 0 | L22: TOTALES | N22: Cantidad (kg) | O22: %
A23: Cartrons | C23: 0 | E23: =C23/$C$14*100 -> 0 | H23: Cds I Dvds | I23: 0.86 | J23: =I23/$I$67*100 -> 0.36745855 | L23: TOTAL RESIDUOS ADMISIBLES | N23: =I67 -> 234.04 | O23: =N23/$N$25*100 -> 93.526215
A24: Sofas | C24: 72.04 | E24: =C24/$C$14*100 -> 2.2372671 | H24: Cintes De Casset I De Vídeo | I24: 5.88 | J24: =I24/$I$67*100 -> 2.512391 | L24: TOTAL RESIDUS NO PERMITIDOS | N24: =N17 -> 16.2 | O24: =N24/$N$25*100 -> 6.4737852
A25: Maleta | C25: 0 | E25: =C25/$C$14*100 -> 0 | H25: Pérdues | I25: 0 | J25: =I25/$I$67*100 -> 0 | L25: TOTALES | N25: =SUM(N23:N24) -> 250.24 | O25: =SUM(O23:O24) -> 100
A26: Caixa de plàstic | C26: 0 | E26: =C26/$C$14*100 -> 0 | H26: Resta | I26: 7.37 | J26: =I26/$I$67*100 -> 3.1490344
A27: Ferralla | C27: 0 | E27: =C27/$C$14*100 -> 0 | H27: Vidre Barrejat | I27: 4.25 | J27: =I27/$I$67*100 -> 1.8159289
A28: Cadira nen cotxe | C28: 0 | E28: =C28/$C$14*100 -> 0 | H28: Vidre Pla | I28: 0 | J28: =I28/$I$67*100 -> 0
A29: Escombra | C29: 0 | E29: =C29/$C$14*100 -> 0 | H29: Olis De Cuina | I29: 0 | J29: =I29/$I$67*100 -> 0
A30: Fibra de vidre | C30: 0 | E30: =C30/$C$14*100 -> 0 | H30: Olis De Motor | I30: 0 | J30: =I30/$I$67*100 -> 0
A31: Total Voluminosos | C31: =SUM(C15:D30) -> 459.76 | E31: =C31/C14*100 -> 14.278261 | H31: Olis Usats No Regenerables | I31: 0 | J31: =I31/$I$67*100 -> 0
A32: Peso restante (*Peso final tras descontar el total de voluminosos) | C32: =C14-C31 -> 2760.24 | E32: =C32/C14*100 -> 85.721739 | H32: Cables | I32: 0 | J32: =I32/$I$67*100 -> 0
H33: Cables Elèctrics | I33: 0 | J33: =I33/$I$67*100 -> 0
H34: Fins | I34: 0 | J34: =I34/$I$67*100 -> 0
H35: Absorbents | I35: 6.37 | J35: =I35/$I$67*100 -> 2.721757
H36: Àcids | I36: 0 | J36: =I36/$I$67*100 -> 0
H37: Agulles I Puntxants | I37: 0 | J37: =I37/$I$67*100 -> 0
H38: Amiant | I38: 0 | J38: =I38/$I$67*100 -> 0
H39: Aparells D' Intercanvi De Temperatura | I39: 0 | J39: =I39/$I$67*100 -> 0
H40: Bases | I40: 0 | J40: =I40/$I$67*100 -> 0
H41: Bateries De Cotxe | I41: 21.44 | J41: =I41/$I$67*100 -> 9.1608272
H42: Bombones De Butà | I42: 0 | J42: =I42/$I$67*100 -> 0
H43: Càpsules De Dosi Única | I43: 0.62 | J43: =I43/$I$67*100 -> 0.26491198
H44: Cosmètics | I44: 0 | J44: =I44/$I$67*100 -> 0
... H66: Termos | I66: 0 | J66: =I66/$I$67*100 -> 0
H67: TOTAL RESIDUOS ADMISIBLES | I67: =SUM(I5:I66) -> 234.04 | J67: =SUM(J5:J66) -> 100

Sheet Vall d'Hebron
A3: FICHA DE CARACTERIZACION | H3: RESIDUOS ADMISIBLES | L3: RESIDUS NO PERMITIDOS
H4: Fracciones | I4: Cantidad (kg) | J4: % | L4: Fracciones | N4: Cantidad (kg) | O4: %
H5: Restes Vegetals | I5: 0 | J5: =I5/$I$67*100 -> 0 | L5: Escombraries domèstics o barrejat. | N5: 8.6 | O5: =N5/$N$17*100 -> 100
H6: Fusta | I6: 0 | J6: =I6/$I$67*100 -> 0 | L6: Medicaments | N6: 0 | O6: =N6/$N$17*100 -> 0
A7: Entidad: Punto Verde de Vall D'Hebron | H7: Fusta Neta | I7: 38.09 | J7: =I7/$I$67*100 -> 15.26164 | L7: Residus industrials i especials grans Q | N7: 0 | O7: =N7/$N$17*100 -> 0
A8: Lugar de la Caracterización: SEMESA | H8: Paper I Cartró | I8: 37.16 | J8: =I8/$I$67*100 -> 14.889014 | L8: Restes anatòmiques, medic, infecciosos. | N8: 0 | O8: =N8/$N$17*100 -> 0
A9: Empresa Caracterizadora: NOVOTEC CONSULTORES | H9: Tèxtil | I9: 30.83 | J9: =I9/$I$67*100 -> 12.352753 | L9: Residus radioactius. | N9: 0 | O9: =N9/$N$17*100 -> 0
H10: Plàstic Dur | I10: 31.16 | J10: =I10/$I$67*100 -> 12.484975 | L10: Productes procedents de decomís. | N10: 0 | O10: =N10/$N$17*100 -> 0
A11: Resultado de la Caracterización | H11: Plàstic Film | I11: 11.17 | J11: =I11/$I$67*100 -> 4.4755189 | L11: fems escorxadors i lab. | N11: 0 | O11: =N11/$N$17*100 -> 0
H12: Terres I Runes | I12: 29.16 | J12: =I12/$I$67*100 -> 11.683628 | L12: Residus activitats mineres/ext | N12: 0 | O12: =N12/$N$17*100 -> 0
A13: VOLUMINOSOS | C13: Cantidad (kg) | E13: % | H13: Multimaterials | I13: 39.06 | J13: =I13/$I$67*100 -> 15.650292 | L13: Residus ramaders o agrícoles. | N13: 0 | O13: =N13/$N$17*100 -> 0
A14: PesNet Recollida (*Peso de la muestra total descargada) | C14: 4200 | E14: =E31+E32 -> 100 | H14: Bosses i films | I14: 0.74 | J14: =I14/$I$67*100 -> 0.29649812 | L14: Altre material classif perillós | N14: 0 | O14: =N14/$N$17*100 -> 0
A15: Fustes | C15: 123.59 | E15: =C15/$C$14*100 -> 2.942619 | H15: Aparells Informàtics I De Telecomunicacions | I15: 2.7 | J15: =I15/$I$67*100 -> 1.0818175 | L15: orgànica | N15: 0 | O15: =N15/$N$17*100 -> 0
A16: Plàstics | C16: 109.38 | E16: =C16/$C$14*100 -> 2.6042857 | H16: Envasos D'Olis | I16: 0 | J16: =I16/$I$67*100 -> 0 | L16: explosius | N16: 0 | O16: =N16/$N$17*100 -> 0
A17: Multimaterial | C17: 82.71 | E17: =C17/$C$14*100 -> 1.9692857 | H17: Envasos Ecoembes | I17: 5.62 | J17: =I17/$I$67*100 -> 2.251783 | L17: TOTAL RESIDUS NO PERMITIDOS | N17: =SUM(N5:N16) -> 8.6 | O17: =SUM(O5:O16) -> 100
A18: Poda | C18: 0 | E18: =C18/$C$14*100 -> 0 | H18: Envasos Vidre | I18: 0 | J18: =I18/$I$67*100 -> 0
A19: Escuma | C19: 0 | E19: =C19/$C$14*100 -> 0 | H19: Ferralla | I19: 0 | J19: =I19/$I$67*100 -> 0
A20: Para-xocs | C20: 0 | E20: =C20/$C$14*100 -> 0 | H20: Envasos Contingut | I20: 0 | J20: =I20/$I$67*100 -> 0
A21: Tèxtil | C21: 14.33 | E21: =C21/$C$14*100 -> 0.34119048 | H21: Aerosols I Esprais | I21: 0 | J21: =I21/$I$67*100 -> 0
A22: Bidons | C22: 0 | E22: =C22/$C$14*100 -> 0 | H22: Cartutxos De Tinta I Tòners | I22: 0 | J22: =I22/$I$67*100 -> 0 | L22: TOTALES | N22: Cantidad (kg) | O22: %
A23: Cartrons | C23: 0 | E23: =C23/$C$14*100 -> 0 | H23: Cds I Dvds | I23: 0 | J23: =I23/$I$67*100 -> 0 | L23: TOTAL RESIDUOS ADMISIBLES | N23: =I67 -> 249.58 | O23: =N23/$N$25*100 -> 96.668991
A24: Sofas | C24: 59.65 | E24: =C24/$C$14*100 -> 1.4202381 | H24: Cintes De Casset I De Vídeo | I24: 0 | J24: =I24/$I$67*100 -> 0 | L24: TOTAL RESIDUS NO PERMITIDOS | N24: =N17 -> 8.6 | O24: =N24/$N$25*100 -> 3.3310094
A25: Maleta | C25: 57.11 | E25: =C25/$C$14*100 -> 1.3597619 | H25: Pérdues | I25: 0 | J25: =I25/$I$67*100 -> 0 | L25: TOTALES | N25: =SUM(N23:N24) -> 258.18 | O25: =SUM(O23:O24) -> 100
A26: Caixa de plàstic | C26: 0 | E26: =C26/$C$14*100 -> 0 | H26: Resta | I26: 18.46 | J26: =I26/$I$67*100 -> 7.396426
A27: Ferralla | C27: 0 | E27: =C27/$C$14*100 -> 0 | H27: Vidre Barrejat | I27: 0 | J27: =I27/$I$67*100 -> 0
A28: Cadira nen cotxe | C28: 0 | E28: =C28/$C$14*100 -> 0 | H28: Vidre Pla | I28: 0.33 | J28: =I28/$I$67*100 -> 0.13222213
A29: Escombra | C29: 0 | E29: =C29/$C$14*100 -> 0 | H29: Olis De Cuina | I29: 0 | J29: =I29/$I$67*100 -> 0
A30: Fibra de vidre | C30: 10.23 | E30: =C30/$C$14*100 -> 0.24357143 | H30: Olis De Motor | I30: 0 | J30: =I30/$I$67*100 -> 0
A31: Total Voluminosos | C31: =SUM(C15:D30) -> 457 | E31: =C31/C14*100 -> 10.880952 | H31: Olis Usats No Regenerables | I31: 0 | J31: =I31/$I$67*100 -> 0
A32: Peso restante (*Peso final tras descontar el total de voluminosos) | C32: =C14-C31 -> 3743 | E32: =C32/C14*100 -> 89.119048 | H32: Cables | I32: 0 | J32: =I32/$I$67*100 -> 0
H33: Cables Elèctrics | I33: 0.29 | J33: =I33/$I$67*100 -> 0.11619521
H34: Fins | I34: 0 | J34: =I34/$I$67*100 -> 0
H35: Absorbents | I35: 0 | J35: =I35/$I$67*100 -> 0
H36: Àcids | I36: 0 | J36: =I36/$I$67*100 -> 0
H37: Agulles I Puntxants | I37: 0 | J37: =I37/$I$67*100 -> 0
H38: Amiant | I38: 0 | J38: =I38/$I$67*100 -> 0
H39: Aparells D' Intercanvi De Temperatura | I39: 0 | J39: =I39/$I$67*100 -> 0
H40: Bases | I40: 0 | J40: =I40/$I$67*100 -> 0
H41: Bateries De Cotxe | I41: 0 | J41: =I41/$I$67*100 -> 0
H42: Bombones De Butà | I42: 0 | J42: =I42/$I$67*100 -> 0
H43: Càpsules De Dosi Única | I43: 0 | J43: =I43/$I$67*100 -> 0
H44: Cosmètics | I44: 0 | J44: =I44/$I$67*100 -> 0
... H66: Termos | I66: 0 | J66: =I66/$I$67*100 -> 0
H67: TOTAL RESIDUOS ADMISIBLES | I67: =SUM(I5:I66) -> 249.58 | J67: =SUM(J5:J66) -> 100

Sheet Badalona (Gorg)
A3: FICHA DE CARACTERIZACION | H3: RESIDUOS ADMISIBLES | L3: RESIDUS NO PERMITIDOS
H4: Fracciones | I4: Cantidad (kg) | J4: % | L4: Fracciones | N4: Cantidad (kg) | O4: %
H5: Restes Vegetals | I5: 22.38 | J5: =I5/$I$67*100 -> 8.8982545 | L5: Escombraries domèstics o barrejat. | N5: 0 | O5: =N5/$N$17*100 -> #DIV/0!
H6: Fusta | I6: 5.25 | J6: =I6/$I$67*100 -> 2.0873922 | L6: Medicaments | N6: 0 | O6: =N6/$N$17*100 -> #DIV/0!
A7: Entidad: Deixalleria de Badalona (Gorg) | H7: Fusta Neta | I7: 26.44 | J7: =I7/$I$67*100 -> 10.512504 | L7: Residus industrials i especials grans Q | N7: 0 | O7: =N7/$N$17*100 -> #DIV/0!
A8: Lugar de la Caracterización: SEMESA | H8: Paper I Cartró | I8: 19.62 | J8: =I8/$I$67*100 -> 7.8008827 | L8: Restes anatòmiques, medic, infecciosos. | N8: 0 | O8: =N8/$N$17*100 -> #DIV/0!
A9: Empresa Caracterizadora: NOVOTEC CONSULTORES | H9: Tèxtil | I9: 72.61 | J9: =I9/$I$67*100 -> 28.869627 | L9: Residus radioactius. | N9: 0 | O9: =N9/$N$17*100 -> #DIV/0!
H10: Plàstic Dur | I10: 66.47 | J10: =I10/$I$67*100 -> 26.428373 | L10: Productes procedents de decomís. | N10: 0 | O10: =N10/$N$17*100 -> #DIV/0!
A11: Resultado de la Caracterización | H11: Plàstic Film | I11: 0 | J11: =I11/$I$67*100 -> 0 | L11: fems escorxadors i lab. | N11: 0 | O11: =N11/$N$17*100 -> #DIV/0!
H12: Terres I Runes | I12: 7.68 | J12: =I12/$I$67*100 -> 3.0535565 | L12: Residus activitats mineres/ext | N12: 0 | O12: =N12/$N$17*100 -> #DIV/0!
A13: VOLUMINOSOS | C13: Cantidad (kg) | E13: % | H13: Multimaterials | I13: 5.47 | J13: =I13/$I$67*100 -> 2.1748638 | L13: Residus ramaders o agrícoles. | N13: 0 | O13: =N13/$N$17*100 -> #DIV/0!
A14: PesNet Recollida (*Peso de la muestra total descargada) | C14: 2840 | E14: =E31+E32 -> 100 | H14: Bosses i films | I14: 0.31 | J14: =I14/$I$67*100 -> 0.12325554 | L14: Altre material classif perillós | N14: 0 | O14: =N14/$N$17*100 -> #DIV/0!
A15: Fustes | C15: 19.75 | E15: =C15/$C$14*100 -> 0.69542254 | H15: Aparells Informàtics I De Telecomunicacions | I15: 0 | J15: =I15/$I$67*100 -> 0 | L15: orgànica | N15: 0 | O15: =N15/$N$17*100 -> #DIV/0!
A16: Plàstics | C16: 124.32 | E16: =C16/$C$14*100 -> 4.3774648 | H16: Envasos D'Olis | I16: 0 | J16: =I16/$I$67*100 -> 0 | L16: explosius | N16: 0 | O16: =N16/$N$17*100 -> #DIV/0!
A17: Multimaterial | C17: 0 | E17: =C17/$C$14*100 -> 0 | H17: Envasos Ecoembes | I17: 0.71 | J17: =I17/$I$67*100 -> 0.28229494 | L17: TOTAL RESIDUS NO PERMITIDOS | N17: =SUM(N5:N16) -> 0 | O17: =SUM(O5:O16) -> #DIV/0!
A18: Poda | C18: 0 | E18: =C18/$C$14*100 -> 0 | H18: Envasos Vidre | I18: 0.68 | J18: =I18/$I$67*100 -> 0.27036698
A19: Escuma | C19: 0 | E19: =C19/$C$14*100 -> 0 | H19: Ferralla | I19: 0 | J19: =I19/$I$67*100 -> 0
A20: Para-xocs | C20: 0 | E20: =C20/$C$14*100 -> 0 | H20: Envasos Contingut | I20: 14.36 | J20: =I20/$I$67*100 -> 5.7095145
A21: Tèxtil | C21: 9.7 | E21: =C21/$C$14*100 -> 0.3415493 | H21: Aerosols I Esprais | I21: 0 | J21: =I21/$I$67*100 -> 0
A22: Bidons | C22: 110.85 | E22: =C22/$C$14*100 -> 3.903169 | H22: Cartutxos De Tinta I Tòners | I22: 0 | J22: =I22/$I$67*100 -> 0 | L22: TOTALES | N22: Cantidad (kg) | O22: %
A23: Cartrons | C23: 0 | E23: =C23/$C$14*100 -> 0 | H23: Cds I Dvds | I23: 0.82 | J23: =I23/$I$67*100 -> 0.32603077 | L23: TOTAL RESIDUOS ADMISIBLES | N23: =I67 -> 251.51 | O23: =N23/$N$25*100 -> 100
A24: Sofas | C24: 12.63 | E24: =C24/$C$14*100 -> 0.44471831 | H24: Cintes De Casset I De Vídeo | I24: 0.13 | J24: =I24/$I$67*100 -> 0.051687806 | L24: TOTAL RESIDUS NO PERMITIDOS | N24: =N17 -> 0 | O24: =N24/$N$25*100 -> 0
A25: Maleta | C25: 0 | E25: =C25/$C$14*100 -> 0 | H25: Pérdues | I25: 0 | J25: =I25/$I$67*100 -> 0 | L25: TOTALES | N25: =SUM(N23:N24) -> 251.51 | O25: =SUM(O23:O24) -> 100
A26: Caixa de plàstic | C26: 0 | E26: =C26/$C$14*100 -> 0 | H26: Resta | I26: 0 | J26: =I26/$I$67*100 -> 0
A27: Ferralla | C27: 0 | E27: =C27/$C$14*100 -> 0 | H27: Vidre Barrejat | I27: 1.19 | J27: =I27/$I$67*100 -> 0.47314222
A28: Cadira nen cotxe | C28: 0 | E28: =C28/$C$14*100 -> 0 | H28: Vidre Pla | I28: 0 | J28: =I28/$I$67*100 -> 0
A29: Escombra | C29: 0 | E29: =C29/$C$14*100 -> 0 | H29: Olis De Cuina | I29: 3.81 | J29: =I29/$I$67*100 -> 1.5148503
A30: Fibra de vidre | C30: 0 | E30: =C30/$C$14*100 -> 0 | H30: Olis De Motor | I30: 0 | J30: =I30/$I$67*100 -> 0
A31: Total Voluminosos | C31: =SUM(C15:D30) -> 277.25 | E31: =C31/C14*100 -> 9.7623239 | H31: Olis Usats No Regenerables | I31: 0 | J31: =I31/$I$67*100 -> 0
A32: Peso restante (*Peso final tras descontar el total de voluminosos) | C32: =C14-C31 -> 2562.75 | E32: =C32/C14*100 -> 90.237676 | H32: Cables | I32: 0 | J32: =I32/$I$67*100 -> 0
H33: Cables Elèctrics | I33: 0.08 | J33: =I33/$I$67*100 -> 0.03180788
H34: Fins | I34: 0 | J34: =I34/$I$67*100 -> 0
H35: Absorbents | I35: 0 | J35: =I35/$I$67*100 -> 0
H36: Àcids | I36: 0 | J36: =I36/$I$67*100 -> 0
H37: Agulles I Puntxants | I37: 0 | J37: =I37/$I$67*100 -> 0
H38: Amiant | I38: 0 | J38: =I38/$I$67*100 -> 0
H39: Aparells D' Intercanvi De Temperatura | I39: 0 | J39: =I39/$I$67*100 -> 0
H40: Bases | I40: 0 | J40: =I40/$I$67*100 -> 0
H41: Bateries De Cotxe | I41: 0 | J41: =I41/$I$67*100 -> 0
H42: Bombones De Butà | I42: 0 | J42: =I42/$I$67*100 -> 0
H43: Càpsules De Dosi Única | I43: 1.53 | J43: =I43/$I$67*100 -> 0.60832571
H44: Cosmètics | I44: 0 | J44: =I44/$I$67*100 -> 0
... H66: Termos | I66: 0 | J66: =I66/$I$67*100 -> 0
H67: TOTAL RESIDUOS ADMISIBLES | I67: =SUM(I5:I66) -> 251.51 | J67: =SUM(J5:J66) -> 100

Sheet Badia del Vallès
A3: FICHA DE CARACTERIZACION | H3: RESIDUOS ADMISIBLES | L3: RESIDUS NO PERMITIDOS
H4: Fracciones | I4: Cantidad (kg) | J4: % | L4: Fracciones | N4: Cantidad (kg) | O4: %
H5: Restes Vegetals | I5: 16.67 | J5: =I5/$I$67*100 -> 7.3484682 | L5: Escombraries domèstics o barrejat. | N5: 30.65 | O5: =N5/$N$17*100 -> 100
H6: Fusta | I6: 4.83 | J6: =I6/$I$67*100 -> 2.1291602 | L6: Medicaments | N6: 0 | O6: =N6/$N$17*100 -> 0
A7: Entidad: Deixalleria de Badia del Vallès | H7: Fusta Neta | I7: 48.83 | J7: =I7/$I$67*100 -> 21.525237 | L7: Residus industrials i especials grans Q | N7: 0 | O7: =N7/$N$17*100 -> 0
A8: Lugar de la Caracterización: SEMESA | H8: Paper I Cartró | I8: 13.62 | J8: =I8/$I$67*100 -> 6.0039674 | L8: Restes anatòmiques, medic, infecciosos. | N8: 0 | O8: =N8/$N$17*100 -> 0
A9: Empresa Caracterizadora: NOVOTEC CONSULTORES | H9: Tèxtil | I9: 20.54 | J9: =I9/$I$67*100 -> 9.0544413 | L9: Residus radioactius. | N9: 0 | O9: =N9/$N$17*100 -> 0
H10: Plàstic Dur | I10: 28.73 | J10: =I10/$I$67*100 -> 12.664756 | L10: Productes procedents de decomís. | N10: 0 | O10: =N10/$N$17*100 -> 0
A11: Resultado de la Caracterización | H11: Plàstic Film | I11: 23.62 | J11: =I11/$I$67*100 -> 10.412167 | L11: fems escorxadors i lab. | N11: 0 | O11: =N11/$N$17*100 -> 0
H12: Terres I Runes | I12: 32.35 | J12: =I12/$I$67*100 -> 14.260525 | L12: Residus activitats mineres/ext | N12: 0 | O12: =N12/$N$17*100 -> 0
A13: VOLUMINOSOS | C13: Cantidad (kg) | E13: % | H13: Multimaterials | I13: 0.97 | J13: =I13/$I$67*100 -> 0.42759533 | L13: Residus ramaders o agrícoles. | N13: 0 | O13: =N13/$N$17*100 -> 0
A14: PesNet Recollida (*Peso de la muestra total descargada) | C14: 1180 | E14: =E31+E32 -> 100 | H14: Bosses i films | I14: 0.43 | J14: =I14/$I$67*100 -> 0.18955257 | L14: Altre material classif perillós | N14: 0 | O14: =N14/$N$17*100 -> 0
A15: Fustes | C15: 32.51 | E15: =C15/$C$14*100 -> 2.7550847 | H15: Aparells Informàtics I De Telecomunicacions | I15: 0 | J15: =I15/$I$67*100 -> 0 | L15: orgànica | N15: 0 | O15: =N15/$N$17*100 -> 0
A16: Plàstics | C16: 2.81 | E16: =C16/$C$14*100 -> 0.23813559 | H16: Envasos D'Olis | I16: 0 | J16: =I16/$I$67*100 -> 0 | L16: explosius | N16: 0 | O16: =N16/$N$17*100 -> 0
A17: Multimaterial | C17: 7.23 | E17: =C17/$C$14*100 -> 0.61271186 | H17: Envasos Ecoembes | I17: 1.51 | J17: =I17/$I$67*100 -> 0.66563809 | L17: TOTAL RESIDUS NO PERMITIDOS | N17: =SUM(N5:N16) -> 30.65 | O17: =SUM(O5:O16) -> 100
A18: Poda | C18: 0 | E18: =C18/$C$14*100 -> 0 | H18: Envasos Vidre | I18: 1.38 | J18: =I18/$I$67*100 -> 0.6083315
A19: Escuma | C19: 0 | E19: =C19/$C$14*100 -> 0 | H19: Ferralla | I19: 0 | J19: =I19/$I$67*100 -> 0
A20: Para-xocs | C20: 0 | E20: =C20/$C$14*100 -> 0 | H20: Envasos Contingut | I20: 0.72 | J20: =I20/$I$67*100 -> 0.31739035
A21: Tèxtil | C21: 39.72 | E21: =C21/$C$14*100 -> 3.3661017 | H21: Aerosols I Esprais | I21: 0.69 | J21: =I21/$I$67*100 -> 0.30416575
A22: Bidons | C22: 0 | E22: =C22/$C$14*100 -> 0 | H22: Cartutxos De Tinta I Tòners | I22: 0 | J22: =I22/$I$67*100 -> 0 | L22: TOTALES | N22: Cantidad (kg) | O22: %
A23: Cartrons | C23: 0 | E23: =C23/$C$14*100 -> 0 | H23: Cds I Dvds | I23: 0.34 | J23: =I23/$I$67*100 -> 0.14987877 | L23: TOTAL RESIDUOS ADMISIBLES | N23: =I67 -> 226.85 | O23: =N23/$N$25*100 -> 88.097087
A24: Sofas | C24: 263.51 | E24: =C24/$C$14*100 -> 22.331356 | H24: Cintes De Casset I De Vídeo | I24: 0 | J24: =I24/$I$67*100 -> 0 | L24: TOTAL RESIDUS NO PERMITIDOS | N24: =N17 -> 30.65 | O24: =N24/$N$25*100 -> 11.902913
A25: Maleta | C25: 0 | E25: =C25/$C$14*100 -> 0 | H25: Pérdues | I25: 0 | J25: =I25/$I$67*100 -> 0 | L25: TOTALES | N25: =SUM(N23:N24) -> 257.5 | O25: =SUM(O23:O24) -> 100
A26: Caixa de plàstic | C26: 0 | E26: =C26/$C$14*100 -> 0 | H26: Resta | I26: 15.33 | J26: =I26/$I$67*100 -> 6.7577695
A27: Ferralla | C27: 0 | E27: =C27/$C$14*100 -> 0 | H27: Vidre Barrejat | I27: 1.16 | J27: =I27/$I$67*100 -> 0.51135111
A28: Cadira nen cotxe | C28: 0 | E28: =C28/$C$14*100 -> 0 | H28: Vidre Pla | I28: 0 | J28: =I28/$I$67*100 -> 0
A29: Escombra | C29: 0 | E29: =C29/$C$14*100 -> 0 | H29: Olis De Cuina | I29: 0 | J29: =I29/$I$67*100 -> 0
A30: Fibra de vidre | C30: 0 | E30: =C30/$C$14*100 -> 0 | H30: Olis De Motor | I30: 0 | J30: =I30/$I$67*100 -> 0
A31: Total Voluminosos | C31: =SUM(C15:D30) -> 345.78 | E31: =C31/C14*100 -> 29.30339 | H31: Olis Usats No Regenerables | I31: 0 | J31: =I31/$I$67*100 -> 0
A32: Peso restante (*Peso final tras descontar el total de voluminosos) | C32: =C14-C31 -> 834.22 | E32: =C32/C14*100 -> 70.69661 | H32: Cables | I32: 0 | J32: =I32/$I$67*100 -> 0
H33: Cables Elèctrics | I33: 1.42 | J33: =I33/$I$67*100 -> 0.62596429
H34: Fins | I34: 0 | J34: =I34/$I$67*100 -> 0
H35: Absorbents | I35: 0 | J35: =I35/$I$67*100 -> 0
H36: Àcids | I36: 0 | J36: =I36/$I$67*100 -> 0
H37: Agulles I Puntxants | I37: 0 | J37: =I37/$I$67*100 -> 0
H38: Amiant | I38: 0 | J38: =I38/$I$67*100 -> 0
H39: Aparells D' Intercanvi De Temperatura | I39: 0 | J39: =I39/$I$67*100 -> 0
H40: Bases | I40: 0 | J40: =I40/$I$67*100 -> 0
H41: Bateries De Cotxe | I41: 0 | J41: =I41/$I$67*100 -> 0
H42: Bombones De Butà | I42: 0 | J42: =I42/$I$67*100 -> 0
H43: Càpsules De Dosi Única | I43: 0 | J43: =I43/$I$67*100 -> 0
H44: Cosmètics | I44: 0 | J44: =I44/$I$67*100 -> 0
... H66: Termos | I66: 0 | J66: =I66/$I$67*100 -> 0
H67: TOTAL RESIDUOS ADMISIBLES | I67: =SUM(I5:I66) -> 226.85 | J67: =SUM(J5:J66) -> 100

Sheet Montcada i Reixac
A3: FICHA DE CARACTERIZACION | H3: RESIDUOS ADMISIBLES | L3: RESIDUS NO PERMITIDOS
H4: Fracciones | I4: Cantidad (kg) | J4: % | L4: Fracciones | N4: Cantidad (kg) | O4: %
H5: Restes Vegetals | I5: 0 | J5: =I5/$I$67*100 -> 0 | L5: Escombraries domèstics o barrejat. | N5: 6.53 | O5: =N5/$N$17*100 -> 100
H6: Fusta | I6: 0 | J6: =I6/$I$67*100 -> 0 | L6: Medicaments | N6: 0 | O6: =N6/$N$17*100 -> 0
A7: Entidad: Deixalleria Montcada i Reixac | H7: Fusta Neta | I7: 0 | J7: =I7/$I$67*100 -> 0 | L7: Residus industrials i especials grans Q | N7: 0 | O7: =N7/$N$17*100 -> 0
A8: Lugar de la Caracterización: SEMESA | H8: Paper I Cartró | I8: 7.06 | J8: =I8/$I$67*100 -> 6.684973 | L8: Restes anatòmiques, medic, infecciosos. | N8: 0 | O8: =N8/$N$17*100 -> 0
A9: Empresa Caracterizadora: NOVOTEC CONSULTORES | H9: Tèxtil | I9: 0.25 | J9: =I9/$I$67*100 -> 0.23672001 | L9: Residus radioactius. | N9: 0 | O9: =N9/$N$17*100 -> 0
H10: Plàstic Dur | I10: 19.35 | J10: =I10/$I$67*100 -> 18.322129 | L10: Productes procedents de decomís. | N10: 0 | O10: =N10/$N$17*100 -> 0
A11: Resultado de la Caracterización | H11: Plàstic Film | I11: 37.76 | J11: =I11/$I$67*100 -> 35.75419 | L11: fems escorxadors i lab. | N11: 0 | O11: =N11/$N$17*100 -> 0
H12: Terres I Runes | I12: 0 | J12: =I12/$I$67*100 -> 0 | L12: Residus activitats mineres/ext | N12: 0 | O12: =N12/$N$17*100 -> 0
A13: VOLUMINOSOS | C13: Cantidad (kg) | E13: % | H13: Multimaterials | I13: 0 | J13: =I13/$I$67*100 -> 0 | L13: Residus ramaders o agrícoles. | N13: 0 | O13: =N13/$N$17*100 -> 0
A14: PesNet Recollida (*Peso de la muestra total descargada) | C14: 300 | E14: =E31+E32 -> 100 | H14: Bosses i films | I14: 0.47 | J14: =I14/$I$67*100 -> 0.44503361 | L14: Altre material classif perillós | N14: 0 | O14: =N14/$N$17*100 -> 0
A15: Fustes | C15: 24.56 | E15: =C15/$C$14*100 -> 8.1866667 | H15: Aparells Informàtics I De Telecomunicacions | I15: 0 | J15: =I15/$I$67*100 -> 0 | L15: orgànica | N15: 0 | O15: =N15/$N$17*100 -> 0
A16: Plàstics | C16: 0 | E16: =C16/$C$14*100 -> 0 | H16: Envasos D'Olis | I16: 0 | J16: =I16/$I$67*100 -> 0 | L16: explosius | N16: 0 | O16: =N16/$N$17*100 -> 0
A17: Multimaterial | C17: 0 | E17: =C17/$C$14*100 -> 0 | H17: Envasos Ecoembes | I17: 0.66 | J17: =I17/$I$67*100 -> 0.62494082 | L17: TOTAL RESIDUS NO PERMITIDOS | N17: =SUM(N5:N16) -> 6.53 | O17: =SUM(O5:O16) -> 100
A18: Poda | C18: 0 | E18: =C18/$C$14*100 -> 0 | H18: Envasos Vidre | I18: 0 | J18: =I18/$I$67*100 -> 0
A19: Escuma | C19: 0 | E19: =C19/$C$14*100 -> 0 | H19: Ferralla | I19: 0 | J19: =I19/$I$67*100 -> 0
A20: Para-xocs | C20: 0 | E20: =C20/$C$14*100 -> 0 | H20: Envasos Contingut | I20: 0.09 | J20: =I20/$I$67*100 -> 0.085219203
A21: Tèxtil | C21: 0 | E21: =C21/$C$14*100 -> 0 | H21: Aerosols I Esprais | I21: 0 | J21: =I21/$I$67*100 -> 0
A22: Bidons | C22: 0 | E22: =C22/$C$14*100 -> 0 | H22: Cartutxos De Tinta I Tòners | I22: 0 | J22: =I22/$I$67*100 -> 0 | L22: TOTALES | N22: Cantidad (kg) | O22: %
A23: Cartrons | C23: 14.09 | E23: =C23/$C$14*100 -> 4.6966667 | H23: Cds I Dvds | I23: 0 | J23: =I23/$I$67*100 -> 0 | L23: TOTAL RESIDUOS ADMISIBLES | N23: =I67 -> 105.61 | O23: =N23/$N$25*100 -> 94.176922
A24: Sofas | C24: 163.24 | E24: =C24/$C$14*100 -> 54.413333 | H24: Cintes De Casset I De Vídeo | I24: 0 | J24: =I24/$I$67*100 -> 0 | L24: TOTAL RESIDUS NO PERMITIDOS | N24: =N17 -> 6.53 | O24: =N24/$N$25*100 -> 5.8230783
A25: Maleta | C25: 0 | E25: =C25/$C$14*100 -> 0 | H25: Pérdues | I25: 0 | J25: =I25/$I$67*100 -> 0 | L25: TOTALES | N25: =SUM(N23:N24) -> 112.14 | O25: =SUM(O23:O24) -> 100
A26: Caixa de plàstic | C26: 0 | E26: =C26/$C$14*100 -> 0 | H26: Resta | I26: 0 | J26: =I26/$I$67*100 -> 0
A27: Ferralla | C27: 0 | E27: =C27/$C$14*100 -> 0 | H27: Vidre Barrejat | I27: 5.32 | J27: =I27/$I$67*100 -> 5.0374018
A28: Cadira nen cotxe | C28: 0 | E28: =C28/$C$14*100 -> 0 | H28: Vidre Pla | I28: 0 | J28: =I28/$I$67*100 -> 0
A29: Escombra | C29: 0 | E29: =C29/$C$14*100 -> 0 | H29: Olis De Cuina | I29: 0 | J29: =I29/$I$67*100 -> 0
A30: Fibra de vidre | C30: 0 | E30: =C30/$C$14*100 -> 0 | H30: Olis De Motor | I30: 0 | J30: =I30/$I$67*100 -> 0
A31: Total Voluminosos | C31: =SUM(C15:D30) -> 201.89 | E31: =C31/C14*100 -> 67.296667 | H31: Olis Usats No Regenerables | I31: 0 | J31: =I31/$I$67*100 -> 0
A32: Peso restante (*Peso final tras descontar el total de voluminosos) | C32: =C14-C31 -> 98.11 | E32: =C32/C14*100 -> 32.703333 | H32: Cables | I32: 0 | J32: =I32/$I$67*100 -> 0
H33: Cables Elèctrics | I33: 1.37 | J33: =I33/$I$67*100 -> 1.2972256
H34: Fins | I34: 0 | J34: =I34/$I$67*100 -> 0
H35: Absorbents | I35: 6.92 | J35: =I35/$I$67*100 -> 6.5524098
H36: Àcids | I36: 0 | J36: =I36/$I$67*100 -> 0
H37: Agulles I Puntxants | I37: 0 | J37: =I37/$I$67*100 -> 0
H38: Amiant | I38: 0 | J38: =I38/$I$67*100 -> 0
H39: Aparells D' Intercanvi De Temperatura | I39: 0 | J39: =I39/$I$67*100 -> 0
H40: Bases | I40: 0 | J40: =I40/$I$67*100 -> 0
H41: Bateries De Cotxe | I41: 0 | J41: =I41/$I$67*100 -> 0
H42: Bombones De Butà | I42: 0 | J42: =I42/$I$67*100 -> 0
H43: Càpsules De Dosi Única | I43: 0 | J43: =I43/$I$67*100 -> 0
H44: Cosmètics | I44: 0 | J44: =I44/$I$67*100 -> 0
... H66: Termos | I66: 0 | J66: =I66/$I$67*100 -> 0
H67: TOTAL RESIDUOS ADMISIBLES | I67: =SUM(I5:I66) -> 105.61 | J67: =SUM(J5:J66) -> 100

Sheet Pallejà
A3: FICHA DE CARACTERIZACION | H3: RESIDUOS ADMISIBLES | L3: RESIDUS NO PERMITIDOS
H4: Fracciones | I4: Cantidad (kg) | J4: % | L4: Fracciones | N4: Cantidad (kg) | O4: %
H5: Restes Vegetals | I5: 16.31 | J5: =I5/$I$67*100 -> 6.2583938 | L5: Escombraries domèstics o barrejat. | N5: 0 | O5: =N5/$N$17*100 -> #DIV/0!
H6: Fusta | I6: 37.16 | J6: =I6/$I$67*100 -> 14.258854 | L6: Medicaments | N6: 0 | O6: =N6/$N$17*100 -> #DIV/0!
A7: Entidad: Deixalleria Pallejà | H7: Fusta Neta | I7: 37.38 | J7: =I7/$I$67*100 -> 14.343272 | L7: Residus industrials i especials grans Q | N7: 0 | O7: =N7/$N$17*100 -> #DIV/0!
A8: Lugar de la Caracterización: SEMESA | H8: Paper I Cartró | I8: 8.11 | J8: =I8/$I$67*100 -> 3.1119297 | L8: Restes anatòmiques, medic, infecciosos. | N8: 0 | O8: =N8/$N$17*100 -> #DIV/0!
A9: Empresa Caracterizadora: NOVOTEC CONSULTORES | H9: Tèxtil | I9: 28.68 | J9: =I9/$I$67*100 -> 11.00495 | L9: Residus radioactius. | N9: 0 | O9: =N9/$N$17*100 -> #DIV/0!
H10: Plàstic Dur | I10: 49.79 | J10: =I10/$I$67*100 -> 19.105176 | L10: Productes procedents de decomís. | N10: 0 | O10: =N10/$N$17*100 -> #DIV/0!
A11: Resultado de la Caracterización | H11: Plàstic Film | I11: 1.98 | J11: =I11/$I$67*100 -> 0.75975596 | L11: fems escorxadors i lab. | N11: 0 | O11: =N11/$N$17*100 -> #DIV/0!
H12: Terres I Runes | I12: 0 | J12: =I12/$I$67*100 -> 0 | L12: Residus activitats mineres/ext | N12: 0 | O12: =N12/$N$17*100 -> #DIV/0!
A13: VOLUMINOSOS | C13: Cantidad (kg) | E13: % | H13: Multimaterials | I13: 32.27 | J13: =I13/$I$67*100 -> 12.382487 | L13: Residus ramaders o agrícoles. | N13: 0 | O13: =N13/$N$17*100 -> #DIV/0!
A14: PesNet Recollida (*Peso de la muestra total descargada) | C14: 1420 | E14: =E31+E32 -> 100 | H14: Bosses i films | I14: 0.87 | J14: =I14/$I$67*100 -> 0.33383216 | L14: Altre material classif perillós | N14: 0 | O14: =N14/$N$17*100 -> #DIV/0!
A15: Fustes | C15: 0 | E15: =C15/$C$14*100 -> 0 | H15: Aparells Informàtics I De Telecomunicacions | I15: 0 | J15: =I15/$I$67*100 -> 0 | L15: orgànica | N15: 0 | O15: =N15/$N$17*100 -> #DIV/0!
A16: Plàstics | C16: 62.49 | E16: =C16/$C$14*100 -> 4.4007042 | H16: Envasos D'Olis | I16: 0 | J16: =I16/$I$67*100 -> 0 | L16: explosius | N16: 0 | O16: =N16/$N$17*100 -> #DIV/0!
A17: Multimaterial | C17: 2.99 | E17: =C17/$C$14*100 -> 0.21056338 | H17: Envasos Ecoembes | I17: 1.85 | J17: =I17/$I$67*100 -> 0.70987299 | L17: TOTAL RESIDUS NO PERMITIDOS | N17: =SUM(N5:N16) -> 0 | O17: =SUM(O5:O16) -> #DIV/0!
A18: Poda | C18: 0 | E18: =C18/$C$14*100 -> 0 | H18: Envasos Vidre | I18: 1.04 | J18: =I18/$I$67*100 -> 0.39906374
A19: Escuma | C19: 0 | E19: =C19/$C$14*100 -> 0 | H19: Ferralla | I19: 0 | J19: =I19/$I$67*100 -> 0
A20: Para-xocs | C20: 0 | E20: =C20/$C$14*100 -> 0 | H20: Envasos Contingut | I20: 3.62 | J20: =I20/$I$67*100 -> 1.3890488
A21: Tèxtil | C21: 0 | E21: =C21/$C$14*100 -> 0 | H21: Aerosols I Esprais | I21: 0 | J21: =I21/$I$67*100 -> 0
A22: Bidons | C22: 0 | E22: =C22/$C$14*100 -> 0 | H22: Cartutxos De Tinta I Tòners | I22: 0 | J22: =I22/$I$67*100 -> 0 | L22: TOTALES | N22: Cantidad (kg) | O22: %
A23: Cartrons | C23: 0 | E23: =C23/$C$14*100 -> 0 | H23: Cds I Dvds | I23: 0 | J23: =I23/$I$67*100 -> 0 | L23: TOTAL RESIDUOS ADMISIBLES | N23: =I67 -> 260.61 | O23: =N23/$N$25*100 -> 100
A24: Sofas | C24: 376.51 | E24: =C24/$C$14*100 -> 26.514789 | H24: Cintes De Casset I De Vídeo | I24: 0 | J24: =I24/$I$67*100 -> 0 | L24: TOTAL RESIDUS NO PERMITIDOS | N24: =N17 -> 0 | O24: =N24/$N$25*100 -> 0
A25: Maleta | C25: 20.32 | E25: =C25/$C$14*100 -> 1.4309859 | H25: Pérdues | I25: 0 | J25: =I25/$I$67*100 -> 0 | L25: TOTALES | N25: =SUM(N23:N24) -> 260.61 | O25: =SUM(O23:O24) -> 100
A26: Caixa de plàstic | C26: 0 | E26: =C26/$C$14*100 -> 0 | H26: Resta | I26: 18.49 | J26: =I26/$I$67*100 -> 7.0948928
A27: Ferralla | C27: 0 | E27: =C27/$C$14*100 -> 0 | H27: Vidre Barrejat | I27: 0 | J27: =I27/$I$67*100 -> 0
A28: Cadira nen cotxe | C28: 18.69 | E28: =C28/$C$14*100 -> 1.3161972 | H28: Vidre Pla | I28: 0 | J28: =I28/$I$67*100 -> 0
A29: Escombra | C29: 0 | E29: =C29/$C$14*100 -> 0 | H29: Olis De Cuina | I29: 0 | J29: =I29/$I$67*100 -> 0
A30: Fibra de vidre | C30: 0 | E30: =C30/$C$14*100 -> 0 | H30: Olis De Motor | I30: 0 | J30: =I30/$I$67*100 -> 0
A31: Total Voluminosos | C31: =SUM(C15:D30) -> 481 | E31: =C31/C14*100 -> 33.873239 | H31: Olis Usats No Regenerables | I31: 0 | J31: =I31/$I$67*100 -> 0
A32: Peso restante (*Peso final tras descontar el total de voluminosos) | C32: =C14-C31 -> 939 | E32: =C32/C14*100 -> 66.126761 | H32: Cables | I32: 0 | J32: =I32/$I$67*100 -> 0
H33: Cables Elèctrics | I33: 5.23 | J33: =I33/$I$67*100 -> 2.0068301
H34: Fins | I34: 0 | J34: =I34/$I$67*100 -> 0
H35: Absorbents | I35: 0 | J35: =I35/$I$67*100 -> 0
H36: Àcids | I36: 0 | J36: =I36/$I$67*100 -> 0
H37: Agulles I Puntxants | I37: 0 | J37: =I37/$I$67*100 -> 0
H38: Amiant | I38: 0 | J38: =I38/$I$67*100 -> 0
H39: Aparells D' Intercanvi De Temperatura | I39: 0 | J39: =I39/$I$67*100 -> 0
H40: Bases | I40: 0 | J40: =I40/$I$67*100 -> 0
H41: Bateries De Cotxe | I41: 0 | J41: =I41/$I$67*100 -> 0
H42: Bombones De Butà | I42: 0 | J42: =I42/$I$67*100 -> 0
H43: Càpsules De Dosi Única | I43: 0 | J43: =I43/$I$67*100 -> 0
H44: Cosmètics | I44: 0 | J44: =I44/$I$67*100 -> 0
... H66: Termos | I66: 0 | J66: =I66/$I$67*100 -> 0
H67: TOTAL RESIDUOS ADMISIBLES | I67: =SUM(I5:I66) -> 260.61 | J67: =SUM(J5:J66) -> 100

Sheet L'Hospitalet
A3: FICHA DE CARACTERIZACION | H3: RESIDUOS ADMISIBLES | L3: RESIDUS NO PERMITIDOS
H4: Fracciones | I4: Cantidad (kg) | J4: % | L4: Fracciones | N4: Cantidad (kg) | O4: %
H5: Restes Vegetals | I5: 38.56 | J5: =I5/$I$67*100 -> 14.33404 | L5: Escombraries domèstics o barrejat. | N5: 0 | O5: =N5/$N$17*100 -> #DIV/0!
H6: Fusta | I6: 0 | J6: =I6/$I$67*100 -> 0 | L6: Medicaments | N6: 0 | O6: =N6/$N$17*100 -> #DIV/0!
A7: Entidad: Deixalleria de l'Hospitalet de Llobregat | H7: Fusta Neta | I7: 15.62 | J7: =I7/$I$67*100 -> 5.8064756 | L7: Residus industrials i especials grans Q | N7: 0 | O7: =N7/$N$17*100 -> #DIV/0!
A8: Lugar de la Caracterización: SEMESA | H8: Paper I Cartró | I8: 17.23 | J8: =I8/$I$67*100 -> 6.4049664 | L8: Restes anatòmiques, medic, infecciosos. | N8: 0 | O8: =N8/$N$17*100 -> #DIV/0!
A9: Empresa Caracterizadora: NOVOTEC CONSULTORES | H9: Tèxtil | I9: 42.81 | J9: =I9/$I$67*100 -> 15.913907 | L9: Residus radioactius. | N9: 0 | O9: =N9/$N$17*100 -> #DIV/0!
H10: Plàstic Dur | I10: 18.1 | J10: =I10/$I$67*100 -> 6.7283744 | L10: Productes procedents de decomís. | N10: 0 | O10: =N10/$N$17*100 -> #DIV/0!
A11: Resultado de la Caracterización | H11: Plàstic Film | I11: 11.62 | J11: =I11/$I$67*100 -> 4.319542 | L11: fems escorxadors i lab. | N11: 0 | O11: =N11/$N$17*100 -> #DIV/0!
H12: Terres I Runes | I12: 3.8 | J12: =I12/$I$67*100 -> 1.4125869 | L12: Residus activitats mineres/ext | N12: 0 | O12: =N12/$N$17*100 -> #DIV/0!
A13: VOLUMINOSOS | C13: Cantidad (kg) | E13: % | H13: Multimaterials | I13: 39.36 | J13: =I13/$I$67*100 -> 14.631426 | L13: Residus ramaders o agrícoles. | N13: 0 | O13: =N13/$N$17*100 -> #DIV/0!
A14: PesNet Recollida (*Peso de la muestra total descargada) | C14: 2900 | E14: =E31+E32 -> 100 | H14: Bosses i films | I14: 0.4 | J14: =I14/$I$67*100 -> 0.14869336 | L14: Altre material classif perillós | N14: 0 | O14: =N14/$N$17*100 -> #DIV/0!
A15: Fustes | C15: 65.44 | E15: =C15/$C$14*100 -> 2.2565517 | H15: Aparells Informàtics I De Telecomunicacions | I15: 0 | J15: =I15/$I$67*100 -> 0 | L15: orgànica | N15: 0 | O15: =N15/$N$17*100 -> #DIV/0!
A16: Plàstics | C16: 0 | E16: =C16/$C$14*100 -> 0 | H16: Envasos D'Olis | I16: 0 | J16: =I16/$I$67*100 -> 0 | L16: explosius | N16: 0 | O16: =N16/$N$17*100 -> #DIV/0!
A17: Multimaterial | C17: 5.71 | E17: =C17/$C$14*100 -> 0.19689655 | H17: Envasos Ecoembes | I17: 0.69 | J17: =I17/$I$67*100 -> 0.25649604 | L17: TOTAL RESIDUS NO PERMITIDOS | N17: =SUM(N5:N16) -> 0 | O17: =SUM(O5:O16) -> #DIV/0!
A18: Poda | C18: 0 | E18: =C18/$C$14*100 -> 0 | H18: Envasos Vidre | I18: 1.52 | J18: =I18/$I$67*100 -> 0.56503476
A19: Escuma | C19: 0 | E19: =C19/$C$14*100 -> 0 | H19: Ferralla | I19: 0 | J19: =I19/$I$67*100 -> 0
A20: Para-xocs | C20: 0 | E20: =C20/$C$14*100 -> 0 | H20: Envasos Contingut | I20: 1.02 | J20: =I20/$I$67*100 -> 0.37916806
A21: Tèxtil | C21: 0 | E21: =C21/$C$14*100 -> 0 | H21: Aerosols I Esprais | I21: 1.68 | J21: =I21/$I$67*100 -> 0.6245121
A22: Bidons | C22: 0 | E22: =C22/$C$14*100 -> 0 | H22: Cartutxos De Tinta I Tòners | I22: 0 | J22: =I22/$I$67*100 -> 0 | L22: TOTALES | N22: Cantidad (kg) | O22: %
A23: Cartrons | C23: 0 | E23: =C23/$C$14*100 -> 0 | H23: Cds I Dvds | I23: 0.02 | J23: =I23/$I$67*100 -> 0.0074346679 | L23: TOTAL RESIDUOS ADMISIBLES | N23: =I67 -> 269.01 | O23: =N23/$N$25*100 -> 100
A24: Sofas | C24: 83.25 | E24: =C24/$C$14*100 -> 2.8706897 | H24: Cintes De Casset I De Vídeo | I24: 0.46 | J24: =I24/$I$67*100 -> 0.17099736 | L24: TOTAL RESIDUS NO PERMITIDOS | N24: =N17 -> 0 | O24: =N24/$N$25*100 -> 0
A25: Maleta | C25: 0 | E25: =C25/$C$14*100 -> 0 | H25: Pérdues | I25: 0 | J25: =I25/$I$67*100 -> 0 | L25: TOTALES | N25: =SUM(N23:N24) -> 269.01 | O25: =SUM(O23:O24) -> 100
A26: Caixa de plàstic | C26: 0 | E26: =C26/$C$14*100 -> 0 | H26: Resta | I26: 49.51 | J26: =I26/$I$67*100 -> 18.40452
A27: Ferralla | C27: 0 | E27: =C27/$C$14*100 -> 0 | H27: Vidre Barrejat | I27: 2.31 | J27: =I27/$I$67*100 -> 0.85870414
A28: Cadira nen cotxe | C28: 0 | E28: =C28/$C$14*100 -> 0 | H28: Vidre Pla | I28: 0 | J28: =I28/$I$67*100 -> 0
A29: Escombra | C29: 0 | E29: =C29/$C$14*100 -> 0 | H29: Olis De Cuina | I29: 0 | J29: =I29/$I$67*100 -> 0
A30: Fibra de vidre | C30: 0 | E30: =C30/$C$14*100 -> 0 | H30: Olis De Motor | I30: 0 | J30: =I30/$I$67*100 -> 0
A31: Total Voluminosos | C31: =SUM(C15:D30) -> 154.4 | E31: =C31/C14*100 -> 5.3241379 | H31: Olis Usats No Regenerables | I31: 0 | J31: =I31/$I$67*100 -> 0
A32: Peso restante (*Peso final tras descontar el total de voluminosos) | C32: =C14-C31 -> 2745.6 | E32: =C32/C14*100 -> 94.675862 | H32: Cables | I32: 0 | J32: =I32/$I$67*100 -> 0
H33: Cables Elèctrics | I33: 4.15 | J33: =I33/$I$67*100 -> 1.5426936
H34: Fins | I34: 0 | J34: =I34/$I$67*100 -> 0
H35: Absorbents | I35: 0 | J35: =I35/$I$67*100 -> 0
H36: Àcids | I36: 0 | J36: =I36/$I$67*100 -> 0
H37: Agulles I Puntxants | I37: 0 | J37: =I37/$I$67*100 -> 0
H38: Amiant | I38: 0 | J38: =I38/$I$67*100 -> 0
H39: Aparells D' Intercanvi De Temperatura | I39: 0 | J39: =I39/$I$67*100 -> 0
H40: Bases | I40: 0 | J40: =I40/$I$67*100 -> 0
H41: Bateries De Cotxe | I41: 0 | J41: =I41/$I$67*100 -> 0
H42: Bombones De Butà | I42: 0 | J42: =I42/$I$67*100 -> 0
H43: Càpsules De Dosi Única | I43: 0 | J43: =I43/$I$67*100 -> 0
H44: Cosmètics | I44: 0 | J44: =I44/$I$67*100 -> 0
... H66: Termos | I66: 0 | J66: =I66/$I$67*100 -> 0
H67: TOTAL RESIDUOS ADMISIBLES | I67: =SUM(I5:I66) -> 269.01 | J67: =SUM(J5:J66) -> 100

Sheet L'Hospitalet(2)
A3: FICHA DE CARACTERIZACION | H3: RESIDUOS ADMISIBLES | L3: RESIDUS NO PERMITIDOS
H4: Fracciones | I4: Cantidad (kg) | J4: % | L4: Fracciones | N4: Cantidad (kg) | O4: %
H5: Restes Vegetals | I5: 0 | J5: =I5/$I$67*100 -> 0 | L5: Escombraries domèstics o barrejat. | N5: 2.43 | O5: =N5/$N$17*100 -> 55.227273
H6: Fusta | I6: 0 | J6: =I6/$I$67*100 -> 0 | L6: Medicaments | N6: 0 | O6: =N6/$N$17*100 -> 0
A7: Entidad: Deixalleria de l'Hospitalet de Llobregat | H7: Fusta Neta | I7: 32.14 | J7: =I7/$I$67*100 -> 12.868354 | L7: Residus industrials i especials grans Q | N7: 1.97 | O7: =N7/$N$17*100 -> 44.772727
A8: Lugar de la Caracterización: SEMESA | H8: Paper I Cartró | I8: 23.51 | J8: =I8/$I$67*100 -> 9.4130365 | L8: Restes anatòmiques, medic, infecciosos. | N8: 0 | O8: =N8/$N$17*100 -> 0
A9: Empresa Caracterizadora: NOVOTEC CONSULTORES | H9: Tèxtil | I9: 15.33 | J9: =I9/$I$67*100 -> 6.1378924 | L9: Residus radioactius. | N9: 0 | O9: =N9/$N$17*100 -> 0
H10: Plàstic Dur | I10: 114.12 | J10: =I10/$I$67*100 -> 45.691864 | L10: Productes procedents de decomís. | N10: 0 | O10: =N10/$N$17*100 -> 0
A11: Resultado de la Caracterización | H11: Plàstic Film | I11: 24.26 | J11: =I11/$I$67*100 -> 9.7133248 | L11: fems escorxadors i lab. | N11: 0 | O11: =N11/$N$17*100 -> 0
H12: Terres I Runes | I12: 0 | J12: =I12/$I$67*100 -> 0 | L12: Residus activitats mineres/ext | N12: 0 | O12: =N12/$N$17*100 -> 0
A13: VOLUMINOSOS | C13: Cantidad (kg) | E13: % | H13: Multimaterials | I13: 3.59 | J13: =I13/$I$67*100 -> 1.4373799 | L13: Residus ramaders o agrícoles. | N13: 0 | O13: =N13/$N$17*100 -> 0
A14: PesNet Recollida (*Peso de la muestra total descargada) | C14: 1820 | E14: =E31+E32 -> 100 | H14: Bosses i films | I14: 0 | J14: =I14/$I$67*100 -> 0 | L14: Altre material classif perillós | N14: 0 | O14: =N14/$N$17*100 -> 0
A15: Fustes | C15: 42.63 | E15: =C15/$C$14*100 -> 2.3423077 | H15: Aparells Informàtics I De Telecomunicacions | I15: 0 | J15: =I15/$I$67*100 -> 0 | L15: orgànica | N15: 0 | O15: =N15/$N$17*100 -> 0
A16: Plàstics | C16: 47.05 | E16: =C16/$C$14*100 -> 2.5851648 | H16: Envasos D'Olis | I16: 0 | J16: =I16/$I$67*100 -> 0 | L16: explosius | N16: 0 | O16: =N16/$N$17*100 -> 0
A17: Multimaterial | C17: 23.87 | E17: =C17/$C$14*100 -> 1.3115385 | H17: Envasos Ecoembes | I17: 0.91 | J17: =I17/$I$67*100 -> 0.36434978 | L17: TOTAL RESIDUS NO PERMITIDOS | N17: =SUM(N5:N16) -> 4.4 | O17: =SUM(O5:O16) -> 100
A18: Poda | C18: 0 | E18: =C18/$C$14*100 -> 0 | H18: Envasos Vidre | I18: 1.6 | J18: =I18/$I$67*100 -> 0.64061499
A19: Escuma | C19: 0 | E19: =C19/$C$14*100 -> 0 | H19: Ferralla | I19: 0 | J19: =I19/$I$67*100 -> 0
A20: Para-xocs | C20: 0 | E20: =C20/$C$14*100 -> 0 | H20: Envasos Contingut | I20: 1.2 | J20: =I20/$I$67*100 -> 0.48046124
A21: Tèxtil | C21: 16.53 | E21: =C21/$C$14*100 -> 0.90824176 | H21: Aerosols I Esprais | I21: 0 | J21: =I21/$I$67*100 -> 0
A22: Bidons | C22: 13.67 | E22: =C22/$C$14*100 -> 0.7510989 | H22: Cartutxos De Tinta I Tòners | I22: 0 | J22: =I22/$I$67*100 -> 0 | L22: TOTALES | N22: Cantidad (kg) | O22: %
A23: Cartrons | C23: 2.14 | E23: =C23/$C$14*100 -> 0.11758242 | H23: Cds I Dvds | I23: 0.09 | J23: =I23/$I$67*100 -> 0.036034593 | L23: TOTAL RESIDUOS ADMISIBLES | N23: =I67 -> 249.76 | O23: =N23/$N$25*100 -> 98.268807
A24: Sofas | C24: 180.69 | E24: =C24/$C$14*100 -> 9.928022 | H24: Cintes De Casset I De Vídeo | I24: 0.2 | J24: =I24/$I$67*100 -> 0.080076874 | L24: TOTAL RESIDUS NO PERMITIDOS | N24: =N17 -> 4.4 | O24: =N24/$N$25*100 -> 1.7311929
A25: Maleta | C25: 0 | E25: =C25/$C$14*100 -> 0 | H25: Pérdues | I25: 0 | J25: =I25/$I$67*100 -> 0 | L25: TOTALES | N25: =SUM(N23:N24) -> 254.16 | O25: =SUM(O23:O24) -> 100
A26: Caixa de plàstic | C26: 0 | E26: =C26/$C$14*100 -> 0 | H26: Resta | I26: 10.83 | J26: =I26/$I$67*100 -> 4.3361627
A27: Ferralla | C27: 0 | E27: =C27/$C$14*100 -> 0 | H27: Vidre Barrejat | I27: 0.41 | J27: =I27/$I$67*100 -> 0.16415759
A28: Cadira nen cotxe | C28: 2.01 | E28: =C28/$C$14*100 -> 0.11043956 | H28: Vidre Pla | I28: 0 | J28: =I28/$I$67*100 -> 0
A29: Escombra | C29: 0 | E29: =C29/$C$14*100 -> 0 | H29: Olis De Cuina | I29: 0 | J29: =I29/$I$67*100 -> 0
A30: Fibra de vidre | C30: 0 | E30: =C30/$C$14*100 -> 0 | H30: Olis De Motor | I30: 0 | J30: =I30/$I$67*100 -> 0
A31: Total Voluminosos | C31: =SUM(C15:D30) -> 328.59 | E31: =C31/C14*100 -> 18.054396 | H31: Olis Usats No Regenerables | I31: 0 | J31: =I31/$I$67*100 -> 0
A32: Peso restante (*Peso final tras descontar el total de voluminosos) | C32: =C14-C31 -> 1491.41 | E32: =C32/C14*100 -> 81.945604 | H32: Cables | I32: 0 | J32: =I32/$I$67*100 -> 0
H33: Cables Elèctrics | I33: 0 | J33: =I33/$I$67*100 -> 0
H34: Fins | I34: 0 | J34: =I34/$I$67*100 -> 0
H35: Absorbents | I35: 0.67 | J35: =I35/$I$67*100 -> 0.26825753
H36: Àcids | I36: 0 | J36: =I36/$I$67*100 -> 0
H37: Agulles I Puntxants | I37: 0 | J37: =I37/$I$67*100 -> 0
H38: Amiant | I38: 0 | J38: =I38/$I$67*100 -> 0
H39: Aparells D' Intercanvi De Temperatura | I39: 0 | J39: =I39/$I$67*100 -> 0
H40: Bases | I40: 0 | J40: =I40/$I$67*100 -> 0
H41: Bateries De Cotxe | I41: 0 | J41: =I41/$I$67*100 -> 0
H42: Bombones De Butà | I42: 0 | J42: =I42/$I$67*100 -> 0
H43: Càpsules De Dosi Única | I43: 0 | J43: =I43/$I$67*100 -> 0
H44: Cosmètics | I44: 0 | J44: =I44/$I$67*100 -> 0
... H66: Termos | I66: 0 | J66: =I66/$I$67*100 -> 0
H67: TOTAL RESIDUOS ADMISIBLES | I67: =SUM(I5:I66) -> 249.76 | J67: =SUM(J5:J66) -> 100

Sheet Sant Andreu de la Barca
A3: FICHA DE CARACTERIZACION | H3: RESIDUOS ADMISIBLES | L3: RESIDUS NO PERMITIDOS
H4: Fracciones | I4: Cantidad (kg) | J4: % | L4: Fracciones | N4: Cantidad (kg) | O4: %
H5: Restes Vegetals | I5: 0 | J5: =I5/$I$67*100 -> 0 | L5: Escombraries domèstics o barrejat. | N5: 0 | O5: =N5/$N$17*100 -> #DIV/0!
H6: Fusta | I6: 45.32 | J6: =I6/$I$67*100 -> 17.903137 | L6: Medicaments | N6: 0 | O6: =N6/$N$17*100 -> #DIV/0!
A7: Entidad: Deixalleria Sant Andreu de la Barca | H7: Fusta Neta | I7: 37.44 | J7: =I7/$I$67*100 -> 14.790235 | L7: Residus industrials i especials grans Q | N7: 0 | O7: =N7/$N$17*100 -> #DIV/0!
A8: Lugar de la Caracterización: SEMESA | H8: Paper I Cartró | I8: 68.92 | J8: =I8/$I$67*100 -> 27.226041 | L8: Restes anatòmiques, medic, infecciosos. | N8: 0 | O8: =N8/$N$17*100 -> #DIV/0!
A9: Empresa Caracterizadora: NOVOTEC CONSULTORES | H9: Tèxtil | I9: 10.27 | J9: =I9/$I$67*100 -> 4.0570435 | L9: Residus radioactius. | N9: 0 | O9: =N9/$N$17*100 -> #DIV/0!
H10: Plàstic Dur | I10: 27.26 | J10: =I10/$I$67*100 -> 10.768745 | L10: Productes procedents de decomís. | N10: 0 | O10: =N10/$N$17*100 -> #DIV/0!
A11: Resultado de la Caracterización | H11: Plàstic Film | I11: 4.12 | J11: =I11/$I$67*100 -> 1.6275579 | L11: fems escorxadors i lab. | N11: 0 | O11: =N11/$N$17*100 -> #DIV/0!
H12: Terres I Runes | I12: 45.18 | J12: =I12/$I$67*100 -> 17.847831 | L12: Residus activitats mineres/ext | N12: 0 | O12: =N12/$N$17*100 -> #DIV/0!
A13: VOLUMINOSOS | C13: Cantidad (kg) | E13: % | H13: Multimaterials | I13: 4.35 | J13: =I13/$I$67*100 -> 1.7184167 | L13: Residus ramaders o agrícoles. | N13: 0 | O13: =N13/$N$17*100 -> #DIV/0!
A14: PesNet Recollida (*Peso de la muestra total descargada) | C14: 5160 | E14: =E31+E32 -> 100 | H14: Bosses i films | I14: 0 | J14: =I14/$I$67*100 -> 0 | L14: Altre material classif perillós | N14: 0 | O14: =N14/$N$17*100 -> #DIV/0!
A15: Fustes | C15: 30.51 | E15: =C15/$C$14*100 -> 0.59127907 | H15: Aparells Informàtics I De Telecomunicacions | I15: 0.51 | J15: =I15/$I$67*100 -> 0.20146954 | L15: orgànica | N15: 0 | O15: =N15/$N$17*100 -> #DIV/0!
A16: Plàstics | C16: 0 | E16: =C16/$C$14*100 -> 0 | H16: Envasos D'Olis | I16: 0 | J16: =I16/$I$67*100 -> 0 | L16: explosius | N16: 0 | O16: =N16/$N$17*100 -> #DIV/0!
A17: Multimaterial | C17: 46.28 | E17: =C17/$C$14*100 -> 0.89689922 | H17: Envasos Ecoembes | I17: 0.91 | J17: =I17/$I$67*100 -> 0.35948487 | L17: TOTAL RESIDUS NO PERMITIDOS | N17: =SUM(N5:N16) -> 0 | O17: =SUM(O5:O16) -> #DIV/0!
A18: Poda | C18: 0 | E18: =C18/$C$14*100 -> 0 | H18: Envasos Vidre | I18: 0 | J18: =I18/$I$67*100 -> 0
A19: Escuma | C19: 0 | E19: =C19/$C$14*100 -> 0 | H19: Ferralla | I19: 0 | J19: =I19/$I$67*100 -> 0
A20: Para-xocs | C20: 0 | E20: =C20/$C$14*100 -> 0 | H20: Envasos Contingut | I20: 0 | J20: =I20/$I$67*100 -> 0
A21: Tèxtil | C21: 0 | E21: =C21/$C$14*100 -> 0 | H21: Aerosols I Esprais | I21: 0 | J21: =I21/$I$67*100 -> 0
A22: Bidons | C22: 0 | E22: =C22/$C$14*100 -> 0 | H22: Cartutxos De Tinta I Tòners | I22: 0 | J22: =I22/$I$67*100 -> 0 | L22: TOTALES | N22: Cantidad (kg) | O22: %
A23: Cartrons | C23: 4.29 | E23: =C23/$C$14*100 -> 0.083139535 | H23: Cds I Dvds | I23: 0 | J23: =I23/$I$67*100 -> 0 | L23: TOTAL RESIDUOS ADMISIBLES | N23: =I67 -> 253.14 | O23: =N23/$N$25*100 -> 100
A24: Sofas | C24: 516.34 | E24: =C24/$C$14*100 -> 10.006589 | H24: Cintes De Casset I De Vídeo | I24: 0 | J24: =I24/$I$67*100 -> 0 | L24: TOTAL RESIDUS NO PERMITIDOS | N24: =N17 -> 0 | O24: =N24/$N$25*100 -> 0
A25: Maleta | C25: 15.69 | E25: =C25/$C$14*100 -> 0.30406977 | H25: Pérdues | I25: 0 | J25: =I25/$I$67*100 -> 0 | L25: TOTALES | N25: =SUM(N23:N24) -> 253.14 | O25: =SUM(O23:O24) -> 100
A26: Caixa de plàstic | C26: 0 | E26: =C26/$C$14*100 -> 0 | H26: Resta | I26: 0 | J26: =I26/$I$67*100 -> 0
A27: Ferralla | C27: 0 | E27: =C27/$C$14*100 -> 0 | H27: Vidre Barrejat | I27: 4.04 | J27: =I27/$I$67*100 -> 1.5959548
A28: Cadira nen cotxe | C28: 0 | E28: =C28/$C$14*100 -> 0 | H28: Vidre Pla | I28: 3.31 | J28: =I28/$I$67*100 -> 1.3075768
A29: Escombra | C29: 0 | E29: =C29/$C$14*100 -> 0 | H29: Olis De Cuina | I29: 0 | J29: =I29/$I$67*100 -> 0
A30: Fibra de vidre | C30: 0 | E30: =C30/$C$14*100 -> 0 | H30: Olis De Motor | I30: 0 | J30: =I30/$I$67*100 -> 0
A31: Total Voluminosos | C31: =SUM(C15:D30) -> 613.11 | E31: =C31/C14*100 -> 11.881977 | H31: Olis Usats No Regenerables | I31: 0 | J31: =I31/$I$67*100 -> 0
A32: Peso restante (*Peso final tras descontar el total de voluminosos) | C32: =C14-C31 -> 4546.89 | E32: =C32/C14*100 -> 88.118023 | H32: Cables | I32: 0 | J32: =I32/$I$67*100 -> 0
H33: Cables Elèctrics | I33: 0 | J33: =I33/$I$67*100 -> 0
H34: Fins | I34: 0 | J34: =I34/$I$67*100 -> 0
H35: Absorbents | I35: 0 | J35: =I35/$I$67*100 -> 0
H36: Àcids | I36: 0 | J36: =I36/$I$67*100 -> 0
H37: Agulles I Puntxants | I37: 0 | J37: =I37/$I$67*100 -> 0
H38: Amiant | I38: 0 | J38: =I38/$I$67*100 -> 0
H39: Aparells D' Intercanvi De Temperatura | I39: 0 | J39: =I39/$I$67*100 -> 0
H40: Bases | I40: 0 | J40: =I40/$I$67*100 -> 0
H41: Bateries De Cotxe | I41: 0 | J41: =I41/$I$67*100 -> 0
H42: Bombones De Butà | I42: 0 | J42: =I42/$I$67*100 -> 0
H43: Càpsules De Dosi Única | I43: 0 | J43: =I43/$I$67*100 -> 0
H44: Cosmètics | I44: 0 | J44: =I44/$I$67*100 -> 0
... H66: Termos | I66: 0 | J66: =I66/$I$67*100 -> 0
H67: TOTAL RESIDUOS ADMISIBLES | I67: =SUM(I5:I66) -> 253.14 | J67: =SUM(J5:J66) -> 100

Sheet Cornella de Llobregat
A3: FICHA DE CARACTERIZACION | H3: RESIDUOS ADMISIBLES | L3: RESIDUS NO PERMITIDOS
H4: Fracciones | I4: Cantidad (kg) | J4: % | L4: Fracciones | N4: Cantidad (kg) | O4: %
H5: Restes Vegetals | I5: 39.21 | J5: =I5/$I$67*100 -> 15.2331 | L5: Escombraries domèstics o barrejat. | N5: 0 | O5: =N5/$N$17*100 -> #DIV/0!
H6: Fusta | I6: 38.19 | J6: =I6/$I$67*100 -> 14.83683 | L6: Medicaments | N6: 0 | O6: =N6/$N$17*100 -> #DIV/0!
A7: Entidad: Deixalleria Cornella de Llobregat | H7: Fusta Neta | I7: 59.82 | J7: =I7/$I$67*100 -> 23.240093 | L7: Residus industrials i especials grans Q | N7: 0 | O7: =N7/$N$17*100 -> #DIV/0!
A8: Lugar de la Caracterización: SEMESA | H8: Paper I Cartró | I8: 11.4 | J8: =I8/$I$67*100 -> 4.4289044 | L8: Restes anatòmiques, medic, infecciosos. | N8: 0 | O8: =N8/$N$17*100 -> #DIV/0!
A9: Empresa Caracterizadora: NOVOTEC CONSULTORES | H9: Tèxtil | I9: 19.53 | J9: =I9/$I$67*100 -> 7.5874126 | L9: Residus radioactius. | N9: 0 | O9: =N9/$N$17*100 -> #DIV/0!
H10: Plàstic Dur | I10: 47.34 | J10: =I10/$I$67*100 -> 18.391608 | L10: Productes procedents de decomís. | N10: 0 | O10: =N10/$N$17*100 -> #DIV/0!
A11: Resultado de la Caracterización | H11: Plàstic Film | I11: 8.93 | J11: =I11/$I$67*100 -> 3.4693085 | L11: fems escorxadors i lab. | N11: 0 | O11: =N11/$N$17*100 -> #DIV/0!
H12: Terres I Runes | I12: 4.22 | J12: =I12/$I$67*100 -> 1.6394716 | L12: Residus activitats mineres/ext | N12: 0 | O12: =N12/$N$17*100 -> #DIV/0!
A13: VOLUMINOSOS | C13: Cantidad (kg) | E13: % | H13: Multimaterials | I13: 11.6 | J13: =I13/$I$67*100 -> 4.5066045 | L13: Residus ramaders o agrícoles. | N13: 0 | O13: =N13/$N$17*100 -> #DIV/0!
A14: PesNet Recollida (*Peso de la muestra total descargada) | C14: 2900 | E14: =E31+E32 -> 100 | H14: Bosses i films | I14: 0.35 | J14: =I14/$I$67*100 -> 0.13597514 | L14: Altre material classif perillós | N14: 0 | O14: =N14/$N$17*100 -> #DIV/0!
A15: Fustes | C15: 3.68 | E15: =C15/$C$14*100 -> 0.12689655 | H15: Aparells Informàtics I De Telecomunicacions | I15: 0 | J15: =I15/$I$67*100 -> 0 | L15: orgànica | N15: 0 | O15: =N15/$N$17*100 -> #DIV/0!
A16: Plàstics | C16: 3.61 | E16: =C16/$C$14*100 -> 0.12448276 | H16: Envasos D'Olis | I16: 0 | J16: =I16/$I$67*100 -> 0 | L16: explosius | N16: 0 | O16: =N16/$N$17*100 -> #DIV/0!
A17: Multimaterial | C17: 2.51 | E17: =C17/$C$14*100 -> 0.086551724 | H17: Envasos Ecoembes | I17: 0.82 | J17: =I17/$I$67*100 -> 0.31857032 | L17: TOTAL RESIDUS NO PERMITIDOS | N17: =SUM(N5:N16) -> 0 | O17: =SUM(O5:O16) -> #DIV/0!
A18: Poda | C18: 0 | E18: =C18/$C$14*100 -> 0 | H18: Envasos Vidre | I18: 0 | J18: =I18/$I$67*100 -> 0
A19: Escuma | C19: 0 | E19: =C19/$C$14*100 -> 0 | H19: Ferralla | I19: 0 | J19: =I19/$I$67*100 -> 0
A20: Para-xocs | C20: 0 | E20: =C20/$C$14*100 -> 0 | H20: Envasos Contingut | I20: 2.98 | J20: =I20/$I$67*100 -> 1.1577312
A21: Tèxtil | C21: 0 | E21: =C21/$C$14*100 -> 0 | H21: Aerosols I Esprais | I21: 0 | J21: =I21/$I$67*100 -> 0
A22: Bidons | C22: 0 | E22: =C22/$C$14*100 -> 0 | H22: Cartutxos De Tinta I Tòners | I22: 0 | J22: =I22/$I$67*100 -> 0 | L22: TOTALES | N22: Cantidad (kg) | O22: %
A23: Cartrons | C23: 0 | E23: =C23/$C$14*100 -> 0 | H23: Cds I Dvds | I23: 0.14 | J23: =I23/$I$67*100 -> 0.054390054 | L23: TOTAL RESIDUOS ADMISIBLES | N23: =I67 -> 257.4 | O23: =N23/$N$25*100 -> 100
A24: Sofas | C24: 24.17 | E24: =C24/$C$14*100 -> 0.83344828 | H24: Cintes De Casset I De Vídeo | I24: 0 | J24: =I24/$I$67*100 -> 0 | L24: TOTAL RESIDUS NO PERMITIDOS | N24: =N17 -> 0 | O24: =N24/$N$25*100 -> 0
A25: Maleta | C25: 1.83 | E25: =C25/$C$14*100 -> 0.063103448 | H25: Pérdues | I25: 0 | J25: =I25/$I$67*100 -> 0 | L25: TOTALES | N25: =SUM(N23:N24) -> 257.4 | O25: =SUM(O23:O24) -> 100
A26: Caixa de plàstic | C26: 6.28 | E26: =C26/$C$14*100 -> 0.21655172 | H26: Resta | I26: 2.84 | J26: =I26/$I$67*100 -> 1.1033411
A27: Ferralla | C27: 14.79 | E27: =C27/$C$14*100 -> 0.51 | H27: Vidre Barrejat | I27: 0.38 | J27: =I27/$I$67*100 -> 0.14763015
A28: Cadira nen cotxe | C28: 26.17 | E28: =C28/$C$14*100 -> 0.90241379 | H28: Vidre Pla | I28: 0 | J28: =I28/$I$67*100 -> 0
A29: Escombra | C29: 0 | E29: =C29/$C$14*100 -> 0 | H29: Olis De Cuina | I29: 0 | J29: =I29/$I$67*100 -> 0
A30: Fibra de vidre | C30: 0 | E30: =C30/$C$14*100 -> 0 | H30: Olis De Motor | I30: 0 | J30: =I30/$I$67*100 -> 0
A31: Total Voluminosos | C31: =SUM(C15:D30) -> 83.04 | E31: =C31/C14*100 -> 2.8634483 | H31: Olis Usats No Regenerables | I31: 0 | J31: =I31/$I$67*100 -> 0
A32: Peso restante (*Peso final tras descontar el total de voluminosos) | C32: =C14-C31 -> 2816.96 | E32: =C32/C14*100 -> 97.136552 | H32: Cables | I32: 0 | J32: =I32/$I$67*100 -> 0
H33: Cables Elèctrics | I33: 0.87 | J33: =I33/$I$67*100 -> 0.33799534
H34: Fins | I34: 0 | J34: =I34/$I$67*100 -> 0
H35: Absorbents | I35: 0 | J35: =I35/$I$67*100 -> 0
H36: Àcids | I36: 0 | J36: =I36/$I$67*100 -> 0
H37: Agulles I Puntxants | I37: 0 | J37: =I37/$I$67*100 -> 0
H38: Amiant | I38: 0 | J38: =I38/$I$67*100 -> 0
H39: Aparells D' Intercanvi De Temperatura | I39: 0 | J39: =I39/$I$67*100 -> 0
H40: Bases | I40: 0 | J40: =I40/$I$67*100 -> 0
H41: Bateries De Cotxe | I41: 0 | J41: =I41/$I$67*100 -> 0
H42: Bombones De Butà | I42: 0.63 | J42: =I42/$I$67*100 -> 0.24475524
H43: Càpsules De Dosi Única | I43: 0 | J43: =I43/$I$67*100 -> 0
H44: Cosmètics | I44: 0 | J44: =I44/$I$67*100 -> 0
... H66: Termos | I66: 0 | J66: =I66/$I$67*100 -> 0
H67: TOTAL RESIDUOS ADMISIBLES | I67: =SUM(I5:I66) -> 257.4 | J67: =SUM(J5:J66) -> 100

Sheet Barberà del Valles
A3: FICHA DE CARACTERIZACION | H3: RESIDUOS ADMISIBLES | L3: RESIDUS NO PERMITIDOS
H4: Fracciones | I4: Cantidad (kg) | J4: % | L4: Fracciones | N4: Cantidad (kg) | O4: %
H5: Restes Vegetals | I5: 14.16 | J5: =I5/$I$67*100 -> 5.399428 | L5: Escombraries domèstics o barrejat. | N5: 0 | O5: =N5/$N$17*100 -> #DIV/0!
H6: Fusta | I6: 0 | J6: =I6/$I$67*100 -> 0 | L6: Medicaments | N6: 0 | O6: =N6/$N$17*100 -> #DIV/0!
A7: Entidad: Dexalleria Barberà del Valles | H7: Fusta Neta | I7: 51.68 | J7: =I7/$I$67*100 -> 19.706387 | L7: Residus industrials i especials grans Q | N7: 0 | O7: =N7/$N$17*100 -> #DIV/0!
A8: Lugar de la Caracterización: SEMESA | H8: Paper I Cartró | I8: 31.16 | J8: =I8/$I$67*100 -> 11.881792 | L8: Restes anatòmiques, medic, infecciosos. | N8: 0 | O8: =N8/$N$17*100 -> #DIV/0!
A9: Empresa Caracterizadora: NOVOTEC CONSULTORES | H9: Tèxtil | I9: 57.6 | J9: =I9/$I$67*100 -> 21.963775 | L9: Residus radioactius. | N9: 0 | O9: =N9/$N$17*100 -> #DIV/0!
H10: Plàstic Dur | I10: 52.16 | J10: =I10/$I$67*100 -> 19.889418 | L10: Productes procedents de decomís. | N10: 0 | O10: =N10/$N$17*100 -> #DIV/0!
A11: Resultado de la Caracterización | H11: Plàstic Film | I11: 0 | J11: =I11/$I$67*100 -> 0 | L11: fems escorxadors i lab. | N11: 0 | O11: =N11/$N$17*100 -> #DIV/0!
H12: Terres I Runes | I12: 13.24 | J12: =I12/$I$67*100 -> 5.0486177 | L12: Residus activitats mineres/ext | N12: 0 | O12: =N12/$N$17*100 -> #DIV/0!
A13: VOLUMINOSOS | C13: Cantidad (kg) | E13: % | H13: Multimaterials | I13: 32.16 | J13: =I13/$I$67*100 -> 12.263108 | L13: Residus ramaders o agrícoles. | N13: 0 | O13: =N13/$N$17*100 -> #DIV/0!
A14: PesNet Recollida (*Peso de la muestra total descargada) | C14: 2280 | E14: =E31+E32 -> 100 | H14: Bosses i films | I14: 0 | J14: =I14/$I$67*100 -> 0 | L14: Altre material classif perillós | N14: 0 | O14: =N14/$N$17*100 -> #DIV/0!
A15: Fustes | C15: 7.43 | E15: =C15/$C$14*100 -> 0.32587719 | H15: Aparells Informàtics I De Telecomunicacions | I15: 0 | J15: =I15/$I$67*100 -> 0 | L15: orgànica | N15: 0 | O15: =N15/$N$17*100 -> #DIV/0!
A16: Plàstics | C16: 1.97 | E16: =C16/$C$14*100 -> 0.086403509 | H16: Envasos D'Olis | I16: 0 | J16: =I16/$I$67*100 -> 0 | L16: explosius | N16: 0 | O16: =N16/$N$17*100 -> #DIV/0!
A17: Multimaterial | C17: 39.55 | E17: =C17/$C$14*100 -> 1.7346491 | H17: Envasos Ecoembes | I17: 0.43 | J17: =I17/$I$67*100 -> 0.16396568 | L17: TOTAL RESIDUS NO PERMITIDOS | N17: =SUM(N5:N16) -> 0 | O17: =SUM(O5:O16) -> #DIV/0!
A18: Poda | C18: 0 | E18: =C18/$C$14*100 -> 0 | H18: Envasos Vidre | I18: 0.92 | J18: =I18/$I$67*100 -> 0.3508103
A19: Escuma | C19: 0 | E19: =C19/$C$14*100 -> 0 | H19: Ferralla | I19: 0 | J19: =I19/$I$67*100 -> 0
A20: Para-xocs | C20: 0 | E20: =C20/$C$14*100 -> 0 | H20: Envasos Contingut | I20: 2.33 | J20: =I20/$I$67*100 -> 0.8884652
A21: Tèxtil | C21: 0 | E21: =C21/$C$14*100 -> 0 | H21: Aerosols I Esprais | I21: 0 | J21: =I21/$I$67*100 -> 0
A22: Bidons | C22: 0 | E22: =C22/$C$14*100 -> 0 | H22: Cartutxos De Tinta I Tòners | I22: 0 | J22: =I22/$I$67*100 -> 0 | L22: TOTALES | N22: Cantidad (kg) | O22: %
A23: Cartrons | C23: 0 | E23: =C23/$C$14*100 -> 0 | H23: Cds I Dvds | I23: 0.16 | J23: =I23/$I$67*100 -> 0.061010486 | L23: TOTAL RESIDUOS ADMISIBLES | N23: =I67 -> 262.25 | O23: =N23/$N$25*100 -> 100
A24: Sofas | C24: 43.27 | E24: =C24/$C$14*100 -> 1.897807 | H24: Cintes De Casset I De Vídeo | I24: 0 | J24: =I24/$I$67*100 -> 0 | L24: TOTAL RESIDUS NO PERMITIDOS | N24: =N17 -> 0 | O24: =N24/$N$25*100 -> 0
A25: Maleta | C25: 17.81 | E25: =C25/$C$14*100 -> 0.78114035 | H25: Pérdues | I25: 0 | J25: =I25/$I$67*100 -> 0 | L25: TOTALES | N25: =SUM(N23:N24) -> 262.25 | O25: =SUM(O23:O24) -> 100
A26: Caixa de plàstic | C26: 3.52 | E26: =C26/$C$14*100 -> 0.15438596 | H26: Resta | I26: 0 | J26: =I26/$I$67*100 -> 0
A27: Ferralla | C27: 0 | E27: =C27/$C$14*100 -> 0 | H27: Vidre Barrejat | I27: 0 | J27: =I27/$I$67*100 -> 0
A28: Cadira nen cotxe | C28: 37.22 | E28: =C28/$C$14*100 -> 1.6324561 | H28: Vidre Pla | I28: 0.68 | J28: =I28/$I$67*100 -> 0.25929457
A29: Escombra | C29: 0 | E29: =C29/$C$14*100 -> 0 | H29: Olis De Cuina | I29: 0 | J29: =I29/$I$67*100 -> 0
A30: Fibra de vidre | C30: 0 | E30: =C30/$C$14*100 -> 0 | H30: Olis De Motor | I30: 0 | J30: =I30/$I$67*100 -> 0
A31: Total Voluminosos | C31: =SUM(C15:D30) -> 150.77 | E31: =C31/C14*100 -> 6.6127193 | H31: Olis Usats No Regenerables | I31: 0 | J31: =I31/$I$67*100 -> 0
A32: Peso restante (*Peso final tras descontar el total de voluminosos) | C32: =C14-C31 -> 2129.23 | E32: =C32/C14*100 -> 93.387281 | H32: Cables | I32: 0 | J32: =I32/$I$67*100 -> 0
H33: Cables Elèctrics | I33: 0 | J33: =I33/$I$67*100 -> 0
H34: Fins | I34: 0 | J34: =I34/$I$67*100 -> 0
H35: Absorbents | I35: 0 | J35: =I35/$I$67*100 -> 0
H36: Àcids | I36: 0 | J36: =I36/$I$67*100 -> 0
H37: Agulles I Puntxants | I37: 0 | J37: =I37/$I$67*100 -> 0
H38: Amiant | I38: 0 | J38: =I38/$I$67*100 -> 0
H39: Aparells D' Intercanvi De Temperatura | I39: 0 | J39: =I39/$I$67*100 -> 0
H40: Bases | I40: 0 | J40: =I40/$I$67*100 -> 0
H41: Bateries De Cotxe | I41: 0 | J41: =I41/$I$67*100 -> 0
H42: Bombones De Butà | I42: 0 | J42: =I42/$I$67*100 -> 0
H43: Càpsules De Dosi Única | I43: 0 | J43: =I43/$I$67*100 -> 0
H44: Cosmètics | I44: 0 | J44: =I44/$I$67*100 -> 0
... H66: Termos | I66: 0 | J66: =I66/$I$67*100 -> 0
H67: TOTAL RESIDUOS ADMISIBLES | I67: =SUM(I5:I66) -> 262.25 | J67: =SUM(J5:J66) -> 100

Sheet Sant Viçents dels Horts
A3: FICHA DE CARACTERIZACION | H3: RESIDUOS ADMISIBLES | L3: RESIDUS NO PERMITIDOS
H4: Fracciones | I4: Cantidad (kg) | J4: % | L4: Fracciones | N4: Cantidad (kg) | O4: %
H5: Restes Vegetals | I5: 1.29 | J5: =I5/$I$67*100 -> 0.43528141 | L5: Escombraries domèstics o barrejat. | N5: 0 | O5: =N5/$N$17*100 -> #DIV/0!
H6: Fusta | I6: 25.32 | J6: =I6/$I$67*100 -> 8.5436631 | L6: Medicaments | N6: 0 | O6: =N6/$N$17*100 -> #DIV/0!
A7: Entidad: Deixalleria de Sant Viçents dels Horts | H7: Fusta Neta | I7: 0 | J7: =I7/$I$67*100 -> 0 | L7: Residus industrials i especials grans Q | N7: 0 | O7: =N7/$N$17*100 -> #DIV/0!
A8: Lugar de la Caracterización: SEMESA | H8: Paper I Cartró | I8: 29.34 | J8: =I8/$I$67*100 -> 9.9001215 | L8: Restes anatòmiques, medic, infecciosos. | N8: 0 | O8: =N8/$N$17*100 -> #DIV/0!
A9: Empresa Caracterizadora: NOVOTEC CONSULTORES | H9: Tèxtil | I9: 39.47 | J9: =I9/$I$67*100 -> 13.318262 | L9: Residus radioactius. | N9: 0 | O9: =N9/$N$17*100 -> #DIV/0!
H10: Plàstic Dur | I10: 25.61 | J10: =I10/$I$67*100 -> 8.6415171 | L10: Productes procedents de decomís. | N10: 0 | O10: =N10/$N$17*100 -> #DIV/0!
A11: Resultado de la Caracterización | H11: Plàstic Film | I11: 19.42 | J11: =I11/$I$67*100 -> 6.5528411 | L11: fems escorxadors i lab. | N11: 0 | O11: =N11/$N$17*100 -> #DIV/0!
H12: Terres I Runes | I12: 54.26 | J12: =I12/$I$67*100 -> 18.308814 | L12: Residus activitats mineres/ext | N12: 0 | O12: =N12/$N$17*100 -> #DIV/0!
A13: VOLUMINOSOS | C13: Cantidad (kg) | E13: % | H13: Multimaterials | I13: 38.12 | J13: =I13/$I$67*100 -> 12.862735 | L13: Residus ramaders o agrícoles. | N13: 0 | O13: =N13/$N$17*100 -> #DIV/0!
A14: PesNet Recollida (*Peso de la muestra total descargada) | C14: 2540 | E14: =E31+E32 -> 100 | H14: Bosses i films | I14: 0.06 | J14: =I14/$I$67*100 -> 0.020245647 | L14: Altre material classif perillós | N14: 0 | O14: =N14/$N$17*100 -> #DIV/0!
A15: Fustes | C15: 0 | E15: =C15/$C$14*100 -> 0 | H15: Aparells Informàtics I De Telecomunicacions | I15: 0 | J15: =I15/$I$67*100 -> 0 | L15: orgànica | N15: 0 | O15: =N15/$N$17*100 -> #DIV/0!
A16: Plàstics | C16: 26.71 | E16: =C16/$C$14*100 -> 1.0515748 | H16: Envasos D'Olis | I16: 0 | J16: =I16/$I$67*100 -> 0 | L16: explosius | N16: 0 | O16: =N16/$N$17*100 -> #DIV/0!
A17: Multimaterial | C17: 63.45 | E17: =C17/$C$14*100 -> 2.4980315 | H17: Envasos Ecoembes | I17: 2.25 | J17: =I17/$I$67*100 -> 0.75921177 | L17: TOTAL RESIDUS NO PERMITIDOS | N17: =SUM(N5:N16) -> 0 | O17: =SUM(O5:O16) -> #DIV/0!
A18: Poda | C18: 0 | E18: =C18/$C$14*100 -> 0 | H18: Envasos Vidre | I18: 3.88 | J18: =I18/$I$67*100 -> 1.3092185
A19: Escuma | C19: 0 | E19: =C19/$C$14*100 -> 0 | H19: Ferralla | I19: 0 | J19: =I19/$I$67*100 -> 0
A20: Para-xocs | C20: 0 | E20: =C20/$C$14*100 -> 0 | H20: Envasos Contingut | I20: 1.13 | J20: =I20/$I$67*100 -> 0.38129302
A21: Tèxtil | C21: 0 | E21: =C21/$C$14*100 -> 0 | H21: Aerosols I Esprais | I21: 0 | J21: =I21/$I$67*100 -> 0
A22: Bidons | C22: 4.36 | E22: =C22/$C$14*100 -> 0.17165354 | H22: Cartutxos De Tinta I Tòners | I22: 0 | J22: =I22/$I$67*100 -> 0 | L22: TOTALES | N22: Cantidad (kg) | O22: %
A23: Cartrons | C23: 0 | E23: =C23/$C$14*100 -> 0 | H23: Cds I Dvds | I23: 0 | J23: =I23/$I$67*100 -> 0 | L23: TOTAL RESIDUOS ADMISIBLES | N23: =I67 -> 296.36 | O23: =N23/$N$25*100 -> 100
A24: Sofas | C24: 385.43 | E24: =C24/$C$14*100 -> 15.174409 | H24: Cintes De Casset I De Vídeo | I24: 1.7 | J24: =I24/$I$67*100 -> 0.57362667 | L24: TOTAL RESIDUS NO PERMITIDOS | N24: =N17 -> 0 | O24: =N24/$N$25*100 -> 0
A25: Maleta | C25: 9.5 | E25: =C25/$C$14*100 -> 0.37401575 | H25: Pérdues | I25: 0 | J25: =I25/$I$67*100 -> 0 | L25: TOTALES | N25: =SUM(N23:N24) -> 296.36 | O25: =SUM(O23:O24) -> 100
A26: Caixa de plàstic | C26: 0 | E26: =C26/$C$14*100 -> 0 | H26: Resta | I26: 0 | J26: =I26/$I$67*100 -> 0
A27: Ferralla | C27: 0 | E27: =C27/$C$14*100 -> 0 | H27: Vidre Barrejat | I27: 0.57 | J27: =I27/$I$67*100 -> 0.19233365
A28: Cadira nen cotxe | C28: 25.23 | E28: =C28/$C$14*100 -> 0.99330709 | H28: Vidre Pla | I28: 0 | J28: =I28/$I$67*100 -> 0
A29: Escombra | C29: 15.54 | E29: =C29/$C$14*100 -> 0.61181102 | H29: Olis De Cuina | I29: 0 | J29: =I29/$I$67*100 -> 0
A30: Fibra de vidre | C30: 0 | E30: =C30/$C$14*100 -> 0 | H30: Olis De Motor | I30: 0 | J30: =I30/$I$67*100 -> 0
A31: Total Voluminosos | C31: =SUM(C15:D30) -> 530.22 | E31: =C31/C14*100 -> 20.874803 | H31: Olis Usats No Regenerables | I31: 0 | J31: =I31/$I$67*100 -> 0
A32: Peso restante (*Peso final tras descontar el total de voluminosos) | C32: =C14-C31 -> 2009.78 | E32: =C32/C14*100 -> 79.125197 | H32: Cables | I32: 0 | J32: =I32/$I$67*100 -> 0
H33: Cables Elèctrics | I33: 0 | J33: =I33/$I$67*100 -> 0
H34: Fins | I34: 0 | J34: =I34/$I$67*100 -> 0
H35: Absorbents | I35: 0 | J35: =I35/$I$67*100 -> 0
H36: Àcids | I36: 0 | J36: =I36/$I$67*100 -> 0
H37: Agulles I Puntxants | I37: 0 | J37: =I37/$I$67*100 -> 0
H38: Amiant | I38: 0 | J38: =I38/$I$67*100 -> 0
H39: Aparells D' Intercanvi De Temperatura | I39: 0 | J39: =I39/$I$67*100 -> 0
H40: Bases | I40: 0 | J40: =I40/$I$67*100 -> 0
H41: Bateries De Cotxe | I41: 0 | J41: =I41/$I$67*100 -> 0
H42: Bombones De Butà | I42: 0 | J42: =I42/$I$67*100 -> 0
H43: Càpsules De Dosi Única | I43: 0 | J43: =I43/$I$67*100 -> 0
H44: Cosmètics | I44: 0 | J44: =I44/$I$67*100 -> 0
... H66: Termos | I66: 0 | J66: =I66/$I$67*100 -> 0
H67: TOTAL RESIDUOS ADMISIBLES | I67: =SUM(I5:I66) -> 296.36 | J67: =SUM(J5:J66) -> 100

Sheet Molins de Rei
A3: FICHA DE CARACTERIZACION | H3: RESIDUOS ADMISIBLES | L3: RESIDUS NO PERMITIDOS
H4: Fracciones | I4: Cantidad (kg) | J4: % | L4: Fracciones | N4: Cantidad (kg) | O4: %
H5: Restes Vegetals | I5: 0 | J5: =I5/$I$67*100 -> 0 | L5: Escombraries domèstics o barrejat. | N5: 0 | O5: =N5/$N$17*100 -> #DIV/0!
H6: Fusta | I6: 0 | J6: =I6/$I$67*100 -> 0 | L6: Medicaments | N6: 0 | O6: =N6/$N$17*100 -> #DIV/0!
A7: Entidad: Deixalleria Molins de Rei | H7: Fusta Neta | I7: 54.74 | J7: =I7/$I$67*100 -> 21.410412 | L7: Residus industrials i especials grans Q | N7: 0 | O7: =N7/$N$17*100 -> #DIV/0!
A8: Lugar de la Caracterización: SEMESA | H8: Paper I Cartró | I8: 12.16 | J8: =I8/$I$67*100 -> 4.756131 | L8: Restes anatòmiques, medic, infecciosos. | N8: 0 | O8: =N8/$N$17*100 -> #DIV/0!
A9: Empresa Caracterizadora: NOVOTEC CONSULTORES | H9: Tèxtil | I9: 79.18 | J9: =I9/$I$67*100 -> 30.969609 | L9: Residus radioactius. | N9: 0 | O9: =N9/$N$17*100 -> #DIV/0!
H10: Plàstic Dur | I10: 49.82 | J10: =I10/$I$67*100 -> 19.486056 | L10: Productes procedents de decomís. | N10: 0 | O10: =N10/$N$17*100 -> #DIV/0!
A11: Resultado de la Caracterización | H11: Plàstic Film | I11: 0 | J11: =I11/$I$67*100 -> 0 | L11: fems escorxadors i lab. | N11: 0 | O11: =N11/$N$17*100 -> #DIV/0!
H12: Terres I Runes | I12: 1.95 | J12: =I12/$I$67*100 -> 0.76270192 | L12: Residus activitats mineres/ext | N12: 0 | O12: =N12/$N$17*100 -> #DIV/0!
A13: VOLUMINOSOS | C13: Cantidad (kg) | E13: % | H13: Multimaterials | I13: 15.34 | J13: =I13/$I$67*100 -> 5.9999218 | L13: Residus ramaders o agrícoles. | N13: 0 | O13: =N13/$N$17*100 -> #DIV/0!
A14: PesNet Recollida (*Peso de la muestra total descargada) | C14: 3160 | E14: =E31+E32 -> 100 | H14: Bosses i films | I14: 0.22 | J14: =I14/$I$67*100 -> 0.086048422 | L14: Altre material classif perillós | N14: 0 | O14: =N14/$N$17*100 -> #DIV/0!
A15: Fustes | C15: 0 | E15: =C15/$C$14*100 -> 0 | H15: Aparells Informàtics I De Telecomunicacions | I15: 0 | J15: =I15/$I$67*100 -> 0 | L15: orgànica | N15: 0 | O15: =N15/$N$17*100 -> #DIV/0!
A16: Plàstics | C16: 20.53 | E16: =C16/$C$14*100 -> 0.64968354 | H16: Envasos D'Olis | I16: 0 | J16: =I16/$I$67*100 -> 0 | L16: explosius | N16: 0 | O16: =N16/$N$17*100 -> #DIV/0!
A17: Multimaterial | C17: 75.69 | E17: =C17/$C$14*100 -> 2.3952532 | H17: Envasos Ecoembes | I17: 0.27 | J17: =I17/$I$67*100 -> 0.10560488 | L17: TOTAL RESIDUS NO PERMITIDOS | N17: =SUM(N5:N16) -> 0 | O17: =SUM(O5:O16) -> #DIV/0!
A18: Poda | C18: 0 | E18: =C18/$C$14*100 -> 0 | H18: Envasos Vidre | I18: 0.9 | J18: =I18/$I$67*100 -> 0.35201627
A19: Escuma | C19: 0 | E19: =C19/$C$14*100 -> 0 | H19: Ferralla | I19: 0 | J19: =I19/$I$67*100 -> 0
A20: Para-xocs | C20: 0 | E20: =C20/$C$14*100 -> 0 | H20: Envasos Contingut | I20: 0 | J20: =I20/$I$67*100 -> 0
A21: Tèxtil | C21: 0 | E21: =C21/$C$14*100 -> 0 | H21: Aerosols I Esprais | I21: 0 | J21: =I21/$I$67*100 -> 0
A22: Bidons | C22: 0 | E22: =C22/$C$14*100 -> 0 | H22: Cartutxos De Tinta I Tòners | I22: 0 | J22: =I22/$I$67*100 -> 0 | L22: TOTALES | N22: Cantidad (kg) | O22: %
A23: Cartrons | C23: 0 | E23: =C23/$C$14*100 -> 0 | H23: Cds I Dvds | I23: 0.02 | J23: =I23/$I$67*100 -> 0.0078225838 | L23: TOTAL RESIDUOS ADMISIBLES | N23: =I67 -> 255.67 | O23: =N23/$N$25*100 -> 100
A24: Sofas | C24: 347.21 | E24: =C24/$C$14*100 -> 10.987658 | H24: Cintes De Casset I De Vídeo | I24: 0 | J24: =I24/$I$67*100 -> 0 | L24: TOTAL RESIDUS NO PERMITIDOS | N24: =N17 -> 0 | O24: =N24/$N$25*100 -> 0
A25: Maleta | C25: 0 | E25: =C25/$C$14*100 -> 0 | H25: Pérdues | I25: 0 | J25: =I25/$I$67*100 -> 0 | L25: TOTALES | N25: =SUM(N23:N24) -> 255.67 | O25: =SUM(O23:O24) -> 100
A26: Caixa de plàstic | C26: 0 | E26: =C26/$C$14*100 -> 0 | H26: Resta | I26: 19.32 | J26: =I26/$I$67*100 -> 7.556616
A27: Ferralla | C27: 0 | E27: =C27/$C$14*100 -> 0 | H27: Vidre Barrejat | I27: 0 | J27: =I27/$I$67*100 -> 0
A28: Cadira nen cotxe | C28: 38.81 | E28: =C28/$C$14*100 -> 1.2281646 | H28: Vidre Pla | I28: 0 | J28: =I28/$I$67*100 -> 0
A29: Escombra | C29: 0 | E29: =C29/$C$14*100 -> 0 | H29: Olis De Cuina | I29: 0 | J29: =I29/$I$67*100 -> 0
A30: Fibra de vidre | C30: 0 | E30: =C30/$C$14*100 -> 0 | H30: Olis De Motor | I30: 0 | J30: =I30/$I$67*100 -> 0
A31: Total Voluminosos | C31: =SUM(C15:D30) -> 482.24 | E31: =C31/C14*100 -> 15.260759 | H31: Olis Usats No Regenerables | I31: 0 | J31: =I31/$I$67*100 -> 0
A32: Peso restante (*Peso final tras descontar el total de voluminosos) | C32: =C14-C31 -> 2677.76 | E32: =C32/C14*100 -> 84.739241 | H32: Cables | I32: 0 | J32: =I32/$I$67*100 -> 0
H33: Cables Elèctrics | I33: 0 | J33: =I33/$I$67*100 -> 0
H34: Fins | I34: 0 | J34: =I34/$I$67*100 -> 0
H35: Absorbents | I35: 0 | J35: =I35/$I$67*100 -> 0
H36: Àcids | I36: 0 | J36: =I36/$I$67*100 -> 0
H37: Agulles I Puntxants | I37: 0 | J37: =I37/$I$67*100 -> 0
H38: Amiant | I38: 0 | J38: =I38/$I$67*100 -> 0
H39: Aparells D' Intercanvi De Temperatura | I39: 0 | J39: =I39/$I$67*100 -> 0
H40: Bases | I40: 0 | J40: =I40/$I$67*100 -> 0
H41: Bateries De Cotxe | I41: 0 | J41: =I41/$I$67*100 -> 0
H42: Bombones De Butà | I42: 0 | J42: =I42/$I$67*100 -> 0
H43: Càpsules De Dosi Única | I43: 0 | J43: =I43/$I$67*100 -> 0
H44: Cosmètics | I44: 0 | J44: =I44/$I$67*100 -> 0
... H66: Termos | I66: 0 | J66: =I66/$I$67*100 -> 0
H67: TOTAL RESIDUOS ADMISIBLES | I67: =SUM(I5:I66) -> 255.67 | J67: =SUM(J5:J66) -> 100

Sheet Sant Cugat
A3: FICHA DE CARACTERIZACION | H3: RESIDUOS ADMISIBLES | L3: RESIDUS NO PERMITIDOS
H4: Fracciones | I4: Cantidad (kg) | J4: % | L4: Fracciones | N4: Cantidad (kg) | O4: %
H5: Restes Vegetals | I5: 2.25 | J5: =I5/$I$67*100 -> 0.87986861 | L5: Escombraries domèstics o barrejat. | N5: 2.15 | O5: =N5/$N$17*100 -> 100
H6: Fusta | I6: 0 | J6: =I6/$I$67*100 -> 0 | L6: Medicaments | N6: 0 | O6: =N6/$N$17*100 -> 0
A7: Entidad: Deixalleria Sant Cugat | H7: Fusta Neta | I7: 14.9 | J7: =I7/$I$67*100 -> 5.8266854 | L7: Residus industrials i especials grans Q | N7: 0 | O7: =N7/$N$17*100 -> 0
A8: Lugar de la Caracterización: SEMESA | H8: Paper I Cartró | I8: 25.31 | J8: =I8/$I$67*100 -> 9.8975442 | L8: Restes anatòmiques, medic, infecciosos. | N8: 0 | O8: =N8/$N$17*100 -> 0
A9: Empresa Caracterizadora: NOVOTEC CONSULTORES | H9: Tèxtil | I9: 21.84 | J9: =I9/$I$67*100 -> 8.5405913 | L9: Residus radioactius. | N9: 0 | O9: =N9/$N$17*100 -> 0
H10: Plàstic Dur | I10: 125.61 | J10: =I10/$I$67*100 -> 49.120131 | L10: Productes procedents de decomís. | N10: 0 | O10: =N10/$N$17*100 -> 0
A11: Resultado de la Caracterización | H11: Plàstic Film | I11: 8.89 | J11: =I11/$I$67*100 -> 3.4764586 | L11: fems escorxadors i lab. | N11: 0 | O11: =N11/$N$17*100 -> 0
H12: Terres I Runes | I12: 17.17 | J12: =I12/$I$67*100 -> 6.7143751 | L12: Residus activitats mineres/ext | N12: 0 | O12: =N12/$N$17*100 -> 0
A13: VOLUMINOSOS | C13: Cantidad (kg) | E13: % | H13: Multimaterials | I13: 14.58 | J13: =I13/$I$67*100 -> 5.7015486 | L13: Residus ramaders o agrícoles. | N13: 0 | O13: =N13/$N$17*100 -> 0
A14: PesNet Recollida (*Peso de la muestra total descargada) | C14: 2860 | E14: =E31+E32 -> 100 | H14: Bosses i films | I14: 0.63 | J14: =I14/$I$67*100 -> 0.24636321 | L14: Altre material classif perillós | N14: 0 | O14: =N14/$N$17*100 -> 0
A15: Fustes | C15: 38.71 | E15: =C15/$C$14*100 -> 1.3534965 | H15: Aparells Informàtics I De Telecomunicacions | I15: 0 | J15: =I15/$I$67*100 -> 0 | L15: orgànica | N15: 0 | O15: =N15/$N$17*100 -> 0
A16: Plàstics | C16: 62.68 | E16: =C16/$C$14*100 -> 2.1916084 | H16: Envasos D'Olis | I16: 0 | J16: =I16/$I$67*100 -> 0 | L16: explosius | N16: 0 | O16: =N16/$N$17*100 -> 0
A17: Multimaterial | E17: =C17/$C$14*100 -> 0 | H17: Envasos Ecoembes | I17: 2.93 | J17: =I17/$I$67*100 -> 1.1457845 | L17: TOTAL RESIDUS NO PERMITIDOS | N17: =SUM(N5:N16) -> 2.15 | O17: =SUM(O5:O16) -> 100
A18: Poda | E18: =C18/$C$14*100 -> 0 | H18: Envasos Vidre | I18: 1.07 | J18: =I18/$I$67*100 -> 0.4184264
A19: Escuma | E19: =C19/$C$14*100 -> 0 | H19: Ferralla | I19: 0 | J19: =I19/$I$67*100 -> 0
A20: Para-xocs | E20: =C20/$C$14*100 -> 0 | H20: Envasos Contingut | I20: 0.94 | J20: =I20/$I$67*100 -> 0.36758955
A21: Tèxtil | E21: =C21/$C$14*100 -> 0 | H21: Aerosols I Esprais | I21: 0 | J21: =I21/$I$67*100 -> 0
A22: Bidons | E22: =C22/$C$14*100 -> 0 | H22: Cartutxos De Tinta I Tòners | I22: 0 | J22: =I22/$I$67*100 -> 0 | L22: TOTALES | N22: Cantidad (kg) | O22: %
A23: Cartrons | E23: =C23/$C$14*100 -> 0 | H23: Cds I Dvds | I23: 0.13 | J23: =I23/$I$67*100 -> 0.050836853 | L23: TOTAL RESIDUOS ADMISIBLES | N23: =I67 -> 255.72 | O23: =N23/$N$25*100 -> 99.166247
A24: Sofas | C24: 15.16 | E24: =C24/$C$14*100 -> 0.53006993 | H24: Cintes De Casset I De Vídeo | I24: 1.18 | J24: =I24/$I$67*100 -> 0.4614422 | L24: TOTAL RESIDUS NO PERMITIDOS | N24: =N17 -> 2.15 | O24: =N24/$N$25*100 -> 0.83375344
A25: Maleta | C25: 5.91 | E25: =C25/$C$14*100 -> 0.20664336 | H25: Pérdues | I25: 0 | J25: =I25/$I$67*100 -> 0 | L25: TOTALES | N25: =SUM(N23:N24) -> 257.87 | O25: =SUM(O23:O24) -> 100
A26: Caixa de plàstic | E26: =C26/$C$14*100 -> 0 | H26: Resta | I26: 0 | J26: =I26/$I$67*100 -> 0
A27: Ferralla | C27: 68.27 | E27: =C27/$C$14*100 -> 2.3870629 | H27: Vidre Barrejat | I27: 0 | J27: =I27/$I$67*100 -> 0
A28: Cadira nen cotxe | E28: =C28/$C$14*100 -> 0 | H28: Vidre Pla | I28: 0.27 | J28: =I28/$I$67*100 -> 0.10558423
A29: Escombra | E29: =C29/$C$14*100 -> 0 | H29: Olis De Cuina | I29: 0 | J29: =I29/$I$67*100 -> 0
A30: Fibra de vidre | C30: 53.42 | E30: =C30/$C$14*100 -> 1.8678322 | H30: Olis De Motor | I30: 0 | J30: =I30/$I$67*100 -> 0
A31: Total Voluminosos | C31: =SUM(C15:D30) -> 244.15 | E31: =C31/C14*100 -> 8.5367133 | H31: Olis Usats No Regenerables | I31: 0 | J31: =I31/$I$67*100 -> 0
A32: Peso restante (*Peso final tras descontar el total de voluminosos) | C32: =C14-C31 -> 2615.85 | E32: =C32/C14*100 -> 91.463287 | H32: Cables | I32: 0 | J32: =I32/$I$67*100 -> 0
H33: Cables Elèctrics | I33: 0 | J33: =I33/$I$67*100 -> 0
H34: Fins | I34: 0 | J34: =I34/$I$67*100 -> 0
H35: Absorbents | I35: 0 | J35: =I35/$I$67*100 -> 0
H36: Àcids | I36: 0 | J36: =I36/$I$67*100 -> 0
H37: Agulles I Puntxants | I37: 0 | J37: =I37/$I$67*100 -> 0
H38: Amiant | I38: 0 | J38: =I38/$I$67*100 -> 0
H39: Aparells D' Intercanvi De Temperatura | I39: 0 | J39: =I39/$I$67*100 -> 0
H40: Bases | I40: 0 | J40: =I40/$I$67*100 -> 0
H41: Bateries De Cotxe | I41: 0 | J41: =I41/$I$67*100 -> 0
H42: Bombones De Butà | I42: 0 | J42: =I42/$I$67*100 -> 0
H43: Càpsules De Dosi Única | I43: 0 | J43: =I43/$I$67*100 -> 0
H44: Cosmètics | I44: 0 | J44: =I44/$I$67*100 -> 0
... H66: Termos | I66: 0 | J66: =I66/$I$67*100 -> 0
H67: TOTAL RESIDUOS ADMISIBLES | I67: =SUM(I5:I66) -> 255.72 | J67: =SUM(J5:J66) -> 100

Sheet Punt Verde de Sant Andreu
A3: FICHA DE CARACTERIZACION | H3: RESIDUOS ADMISIBLES | L3: RESIDUS NO PERMITIDOS
H4: Fracciones | I4: Cantidad (kg) | J4: % | L4: Fracciones | N4: Cantidad (kg) | O4: %
H5: Restes Vegetals | I5: 0 | J5: =I5/$I$67*100 -> 0 | L5: Escombraries domèstics o barrejat. | N5: 0 | O5: =N5/$N$17*100 -> #DIV/0!
H6: Fusta | I6: 0 | J6: =I6/$I$67*100 -> 0 | L6: Medicaments | N6: 0 | O6: =N6/$N$17*100 -> #DIV/0!
A7: Entidad: Punt Verde de Sant Andreu | H7: Fusta Neta | I7: 54.6 | J7: =I7/$I$67*100 -> 19.863936 | L7: Residus industrials i especials grans Q | N7: 0 | O7: =N7/$N$17*100 -> #DIV/0!
A8: Lugar de la Caracterización: SEMESA | H8: Paper I Cartró | I8: 22.5 | J8: =I8/$I$67*100 -> 8.1856878 | L8: Restes anatòmiques, medic, infecciosos. | N8: 0 | O8: =N8/$N$17*100 -> #DIV/0!
A9: Empresa Caracterizadora: NOVOTEC CONSULTORES | H9: Tèxtil | I9: 46.7 | J9: =I9/$I$67*100 -> 16.98985 | L9: Residus radioactius. | N9: 0 | O9: =N9/$N$17*100 -> #DIV/0!
H10: Plàstic Dur | I10: 68.35 | J10: =I10/$I$67*100 -> 24.8663 | L10: Productes procedents de decomís. | N10: 0 | O10: =N10/$N$17*100 -> #DIV/0!
A11: Resultado de la Caracterización | H11: Plàstic Film | I11: 10.94 | J11: =I11/$I$67*100 -> 3.9800633 | L11: fems escorxadors i lab. | N11: 0 | O11: =N11/$N$17*100 -> #DIV/0!
H12: Terres I Runes | I12: 0 | J12: =I12/$I$67*100 -> 0 | L12: Residus activitats mineres/ext | N12: 0 | O12: =N12/$N$17*100 -> #DIV/0!
A13: VOLUMINOSOS | C13: Cantidad (kg) | E13: % | H13: Multimaterials | I13: 39.64 | J13: =I13/$I$67*100 -> 14.421363 | L13: Residus ramaders o agrícoles. | N13: 0 | O13: =N13/$N$17*100 -> #DIV/0!
A14: PesNet Recollida (*Peso de la muestra total descargada) | C14: 4600 | E14: =E31+E32 -> 100 | H14: Bosses i films | I14: 1.03 | J14: =I14/$I$67*100 -> 0.3747226 | L14: Altre material classif perillós | N14: 0 | O14: =N14/$N$17*100 -> #DIV/0!
A15: Fustes | C15: 42.35 | E15: =C15/$C$14*100 -> 0.92065217 | H15: Aparells Informàtics I De Telecomunicacions | I15: 0 | J15: =I15/$I$67*100 -> 0 | L15: orgànica | N15: 0 | O15: =N15/$N$17*100 -> #DIV/0!
A16: Plàstics | C16: 9.16 | E16: =C16/$C$14*100 -> 0.19913043 | H16: Envasos D'Olis | I16: 0 | J16: =I16/$I$67*100 -> 0 | L16: explosius | N16: 0 | O16: =N16/$N$17*100 -> #DIV/0!
A17: Multimaterial | C17: 0 | E17: =C17/$C$14*100 -> 0 | H17: Envasos Ecoembes | I17: 0.09 | J17: =I17/$I$67*100 -> 0.032742751 | L17: TOTAL RESIDUS NO PERMITIDOS | N17: =SUM(N5:N16) -> 0 | O17: =SUM(O5:O16) -> #DIV/0!
A18: Poda | C18: 0 | E18: =C18/$C$14*100 -> 0 | H18: Envasos Vidre | I18: 2.23 | J18: =I18/$I$67*100 -> 0.81129261
A19: Escuma | C19: 0 | E19: =C19/$C$14*100 -> 0 | H19: Ferralla | I19: 0 | J19: =I19/$I$67*100 -> 0
A20: Para-xocs | C20: 0 | E20: =C20/$C$14*100 -> 0 | H20: Envasos Contingut | I20: 0.79 | J20: =I20/$I$67*100 -> 0.28740859
A21: Tèxtil | C21: 0 | E21: =C21/$C$14*100 -> 0 | H21: Aerosols I Esprais | I21: 4.13 | J21: =I21/$I$67*100 -> 1.5025285
A22: Bidons | C22: 0 | E22: =C22/$C$14*100 -> 0 | H22: Cartutxos De Tinta I Tòners | I22: 0 | J22: =I22/$I$67*100 -> 0 | L22: TOTALES | N22: Cantidad (kg) | O22: %
A23: Cartrons | C23: 0 | E23: =C23/$C$14*100 -> 0 | H23: Cds I Dvds | I23: 0 | J23: =I23/$I$67*100 -> 0 | L23: TOTAL RESIDUOS ADMISIBLES | N23: =I67 -> 274.87 | O23: =N23/$N$25*100 -> 100
A24: Sofas | C24: 16.31 | E24: =C24/$C$14*100 -> 0.35456522 | H24: Cintes De Casset I De Vídeo | I24: 0 | J24: =I24/$I$67*100 -> 0 | L24: TOTAL RESIDUS NO PERMITIDOS | N24: =N17 -> 0 | O24: =N24/$N$25*100 -> 0
A25: Maleta | C25: 17.82 | E25: =C25/$C$14*100 -> 0.3873913 | H25: Pérdues | I25: 0 | J25: =I25/$I$67*100 -> 0 | L25: TOTALES | N25: =SUM(N23:N24) -> 274.87 | O25: =SUM(O23:O24) -> 100
A26: Caixa de plàstic | C26: 0 | E26: =C26/$C$14*100 -> 0 | H26: Resta | I26: 0 | J26: =I26/$I$67*100 -> 0
A27: Ferralla | C27: 0 | E27: =C27/$C$14*100 -> 0 | H27: Vidre Barrejat | I27: 0.24 | J27: =I27/$I$67*100 -> 0.087314003
A28: Cadira nen cotxe | C28: 0 | E28: =C28/$C$14*100 -> 0 | H28: Vidre Pla | I28: 0 | J28: =I28/$I$67*100 -> 0
A29: Escombra | C29: 0 | E29: =C29/$C$14*100 -> 0 | H29: Olis De Cuina | I29: 0 | J29: =I29/$I$67*100 -> 0
A30: Fibra de vidre | C30: 17.94 | E30: =C30/$C$14*100 -> 0.39 | H30: Olis De Motor | I30: 0 | J30: =I30/$I$67*100 -> 0
A31: Total Voluminosos | C31: =SUM(C15:D30) -> 103.58 | E31: =C31/C14*100 -> 2.2517391 | H31: Olis Usats No Regenerables | I31: 0 | J31: =I31/$I$67*100 -> 0
A32: Peso restante (*Peso final tras descontar el total de voluminosos) | C32: =C14-C31 -> 4496.42 | E32: =C32/C14*100 -> 97.748261 | H32: Cables | I32: 1.14 | J32: =I32/$I$67*100 -> 0.41474151
H33: Cables Elèctrics | I33: 18.64 | J33: =I33/$I$67*100 -> 6.7813876
H34: Fins | I34: 0 | J34: =I34/$I$67*100 -> 0
H35: Absorbents | I35: 0 | J35: =I35/$I$67*100 -> 0
H36: Àcids | I36: 0 | J36: =I36/$I$67*100 -> 0
H37: Agulles I Puntxants | I37: 0 | J37: =I37/$I$67*100 -> 0
H38: Amiant | I38: 0 | J38: =I38/$I$67*100 -> 0
H39: Aparells D' Intercanvi De Temperatura | I39: 0 | J39: =I39/$I$67*100 -> 0
H40: Bases | I40: 0 | J40: =I40/$I$67*100 -> 0
H41: Bateries De Cotxe | I41: 0 | J41: =I41/$I$67*100 -> 0
H42: Bombones De Butà | I42: 0 | J42: =I42/$I$67*100 -> 0
H43: Càpsules De Dosi Única | I43: 0 | J43: =I43/$I$67*100 -> 0
H44: Cosmètics | I44: 0 | J44: =I44/$I$67*100 -> 0
... H66: Termos | I66: 0 | J66: =I66/$I$67*100 -> 0
H67: TOTAL RESIDUOS ADMISIBLES | I67: =SUM(I5:I66) -> 274.87 | J67: =SUM(J5:J66) -> 100

Sheet Sant Boi
A3: FICHA DE CARACTERIZACION | H3: RESIDUOS ADMISIBLES | L3: RESIDUS NO PERMITIDOS
H4: Fracciones | I4: Cantidad (kg) | J4: % | L4: Fracciones | N4: Cantidad (kg) | O4: %
H5: Restes Vegetals | I5: 23.51 | J5: =I5/$I$67*100 -> 8.1592282 | L5: Escombraries domèstics o barrejat. | N5: 3.12 | O5: =N5/$N$17*100 -> 100
H6: Fusta | I6: 33.84 | J6: =I6/$I$67*100 -> 11.744291 | L6: Medicaments | N6: 0 | O6: =N6/$N$17*100 -> 0
A7: Entidad: Sant Boi | H7: Fusta Neta | I7: 0 | J7: =I7/$I$67*100 -> 0 | L7: Residus industrials i especials grans Q | N7: 0 | O7: =N7/$N$17*100 -> 0
A8: Lugar de la Caracterización: SEMESA | H8: Paper I Cartró | I8: 42.64 | J8: =I8/$I$67*100 -> 14.798362 | L8: Restes anatòmiques, medic, infecciosos. | N8: 0 | O8: =N8/$N$17*100 -> 0
A9: Empresa Caracterizadora: NOVOTEC CONSULTORES | H9: Tèxtil | I9: 62.49 | J9: =I9/$I$67*100 -> 21.687374 | L9: Residus radioactius. | N9: 0 | O9: =N9/$N$17*100 -> 0
H10: Plàstic Dur | I10: 19.21 | J10: =I10/$I$67*100 -> 6.666898 | L10: Productes procedents de decomís. | N10: 0 | O10: =N10/$N$17*100 -> 0
A11: Resultado de la Caracterización | H11: Plàstic Film | I11: 4.88 | J11: =I11/$I$67*100 -> 1.6936212 | L11: fems escorxadors i lab. | N11: 0 | O11: =N11/$N$17*100 -> 0
H12: Terres I Runes | I12: 1.39 | J12: =I12/$I$67*100 -> 0.48240439 | L12: Residus activitats mineres/ext | N12: 0 | O12: =N12/$N$17*100 -> 0
A13: VOLUMINOSOS | C13: Cantidad (kg) | E13: % | H13: Multimaterials | I13: 7.42 | J13: =I13/$I$67*100 -> 2.5751371 | L13: Residus ramaders o agrícoles. | N13: 0 | O13: =N13/$N$17*100 -> 0
A14: PesNet Recollida (*Peso de la muestra total descargada) | C14: 3120 | E14: =E31+E32 -> 100 | H14: Bosses i films | I14: 0.38 | J14: =I14/$I$67*100 -> 0.13188034 | L14: Altre material classif perillós | N14: 0 | O14: =N14/$N$17*100 -> 0
A15: Fustes | C15: 49.8 | E15: =C15/$C$14*100 -> 1.5961538 | H15: Aparells Informàtics I De Telecomunicacions | I15: 0 | J15: =I15/$I$67*100 -> 0 | L15: orgànica | N15: 0 | O15: =N15/$N$17*100 -> 0
A16: Plàstics | C16: 7.42 | E16: =C16/$C$14*100 -> 0.23782051 | H16: Envasos D'Olis | I16: 0 | J16: =I16/$I$67*100 -> 0 | L16: explosius | N16: 0 | O16: =N16/$N$17*100 -> 0
A17: Multimaterial | C17: 0 | E17: =C17/$C$14*100 -> 0 | H17: Envasos Ecoembes | I17: 0.8 | J17: =I17/$I$67*100 -> 0.27764281 | L17: TOTAL RESIDUS NO PERMITIDOS | N17: =SUM(N5:N16) -> 3.12 | O17: =SUM(O5:O16) -> 100
A18: Poda | C18: 0 | E18: =C18/$C$14*100 -> 0 | H18: Envasos Vidre | I18: 0.52 | J18: =I18/$I$67*100 -> 0.18046783
A19: Escuma | C19: 0 | E19: =C19/$C$14*100 -> 0 | H19: Ferralla | I19: 0 | J19: =I19/$I$67*100 -> 0
A20: Para-xocs | C20: 0 | E20: =C20/$C$14*100 -> 0 | H20: Envasos Contingut | I20: 12.96 | J20: =I20/$I$67*100 -> 4.4978136
A21: Tèxtil | C21: 0 | E21: =C21/$C$14*100 -> 0 | H21: Aerosols I Esprais | I21: 0 | J21: =I21/$I$67*100 -> 0
A22: Bidons | C22: 11.14 | E22: =C22/$C$14*100 -> 0.35705128 | H22: Cartutxos De Tinta I Tòners | I22: 2.62 | J22: =I22/$I$67*100 -> 0.90928021 | L22: TOTALES | N22: Cantidad (kg) | O22: %
A23: Cartrons | C23: 0 | E23: =C23/$C$14*100 -> 0 | H23: Cds I Dvds | I23: 0.28 | J23: =I23/$I$67*100 -> 0.097174984 | L23: TOTAL RESIDUOS ADMISIBLES | N23: =I67 -> 288.14 | O23: =N23/$N$25*100 -> 98.928792
A24: Sofas | C24: 46.72 | E24: =C24/$C$14*100 -> 1.4974359 | H24: Cintes De Casset I De Vídeo | I24: 0.67 | J24: =I24/$I$67*100 -> 0.23252586 | L24: TOTAL RESIDUS NO PERMITIDOS | N24: =N17 -> 3.12 | O24: =N24/$N$25*100 -> 1.0712079
A25: Maleta | C25: 10.55 | E25: =C25/$C$14*100 -> 0.33814103 | H25: Pérdues | I25: 0 | J25: =I25/$I$67*100 -> 0 | L25: TOTALES | N25: =SUM(N23:N24) -> 291.26 | O25: =SUM(O23:O24) -> 100
A26: Caixa de plàstic | C26: 7.49 | E26: =C26/$C$14*100 -> 0.2400641 | H26: Resta | I26: 0 | J26: =I26/$I$67*100 -> 0
A27: Ferralla | C27: 13.51 | E27: =C27/$C$14*100 -> 0.43301282 | H27: Vidre Barrejat | I27: 10.15 | J27: =I27/$I$67*100 -> 3.5225932
A28: Cadira nen cotxe | C28: 0 | E28: =C28/$C$14*100 -> 0 | H28: Vidre Pla | I28: 1.79 | J28: =I28/$I$67*100 -> 0.62122579
A29: Escombra | C29: 0 | E29: =C29/$C$14*100 -> 0 | H29: Olis De Cuina | I29: 0 | J29: =I29/$I$67*100 -> 0
A30: Fibra de vidre | C30: 0 | E30: =C30/$C$14*100 -> 0 | H30: Olis De Motor | I30: 0 | J30: =I30/$I$67*100 -> 0
A31: Total Voluminosos | C31: =SUM(C15:D30) -> 146.63 | E31: =C31/C14*100 -> 4.6996795 | H31: Olis Usats No Regenerables | I31: 0 | J31: =I31/$I$67*100 -> 0
A32: Peso restante (*Peso final tras descontar el total de voluminosos) | C32: =C14-C31 -> 2973.37 | E32: =C32/C14*100 -> 95.300321 | H32: Cables | I32: 0 | J32: =I32/$I$67*100 -> 0
H33: Cables Elèctrics | I33: 0 | J33: =I33/$I$67*100 -> 0
H34: Fins | I34: 0 | J34: =I34/$I$67*100 -> 0
H35: Absorbents | I35: 19.41 | J35: =I35/$I$67*100 -> 6.7363087
H36: Àcids | I36: 0 | J36: =I36/$I$67*100 -> 0
H37: Agulles I Puntxants | I37: 0 | J37: =I37/$I$67*100 -> 0
H38: Amiant | I38: 0 | J38: =I38/$I$67*100 -> 0
H39: Aparells D' Intercanvi De Temperatura | I39: 0 | J39: =I39/$I$67*100 -> 0
H40: Bases | I40: 0 | J40: =I40/$I$67*100 -> 0
H41: Bateries De Cotxe | I41: 0 | J41: =I41/$I$67*100 -> 0
H42: Bombones De Butà | I42: 8.17 | J42: =I42/$I$67*100 -> 2.8354272
H43: Càpsules De Dosi Única | I43: 0 | J43: =I43/$I$67*100 -> 0
H44: Cosmètics | I44: 0 | J44: =I44/$I$67*100 -> 0
... H66: Termos | I66: 0 | J66: =I66/$I$67*100 -> 0
H67: TOTAL RESIDUOS ADMISIBLES | I67: =SUM(I5:I66) -> 288.14 | J67: =SUM(J5:J66) -> 100

Sheet Viladecans
A3: FICHA DE CARACTERIZACION | H3: RESIDUOS ADMISIBLES | L3: RESIDUS NO PERMITIDOS
H4: Fracciones | I4: Cantidad (kg) | J4: % | L4: Fracciones | N4: Cantidad (kg) | O4: %
H5: Restes Vegetals | I5: 25.64 | J5: =I5/$I$67*100 -> 8.7718098 | L5: Escombraries domèstics o barrejat. | N5: 0 | O5: =N5/$N$17*100 -> #DIV/0!
H6: Fusta | I6: 56.15 | J6: =I6/$I$67*100 -> 19.209716 | L6: Medicaments | N6: 0 | O6: =N6/$N$17*100 -> #DIV/0!
A7: Entidad: Deixalleria de Viladecans | H7: Fusta Neta | I7: 1.82 | J7: =I7/$I$67*100 -> 0.62264796 | L7: Residus industrials i especials grans Q | N7: 0 | O7: =N7/$N$17*100 -> #DIV/0!
A8: Lugar de la Caracterización: SEMESA | H8: Paper I Cartró | I8: 48.76 | J8: =I8/$I$67*100 -> 16.681492 | L8: Restes anatòmiques, medic, infecciosos. | N8: 0 | O8: =N8/$N$17*100 -> #DIV/0!
A9: Empresa Caracterizadora: NOVOTEC CONSULTORES | H9: Tèxtil | I9: 42.73 | J9: =I9/$I$67*100 -> 14.618543 | L9: Residus radioactius. | N9: 0 | O9: =N9/$N$17*100 -> #DIV/0!
H10: Plàstic Dur | I10: 36.57 | J10: =I10/$I$67*100 -> 12.511119 | L10: Productes procedents de decomís. | N10: 0 | O10: =N10/$N$17*100 -> #DIV/0!
A11: Resultado de la Caracterización | H11: Plàstic Film | I11: 3.87 | J11: =I11/$I$67*100 -> 1.3239822 | L11: fems escorxadors i lab. | N11: 0 | O11: =N11/$N$17*100 -> #DIV/0!
H12: Terres I Runes | I12: 49.82 | J12: =I12/$I$67*100 -> 17.044133 | L12: Residus activitats mineres/ext | N12: 0 | O12: =N12/$N$17*100 -> #DIV/0!
A13: VOLUMINOSOS | C13: Cantidad (kg) | E13: % | H13: Multimaterials | I13: 0.29 | J13: =I13/$I$67*100 -> 0.099213137 | L13: Residus ramaders o agrícoles. | N13: 0 | O13: =N13/$N$17*100 -> #DIV/0!
A14: PesNet Recollida (*Peso de la muestra total descargada) | C14: 3020 | E14: =E31+E32 -> 100 | H14: Bosses i films | I14: 0 | J14: =I14/$I$67*100 -> 0 | L14: Altre material classif perillós | N14: 0 | O14: =N14/$N$17*100 -> #DIV/0!
A15: Fustes | C15: 81.34 | E15: =C15/$C$14*100 -> 2.6933775 | H15: Aparells Informàtics I De Telecomunicacions | I15: 0 | J15: =I15/$I$67*100 -> 0 | L15: orgànica | N15: 0 | O15: =N15/$N$17*100 -> #DIV/0!
A16: Plàstics | C16: 2.34 | E16: =C16/$C$14*100 -> 0.077483444 | H16: Envasos D'Olis | I16: 1.87 | J16: =I16/$I$67*100 -> 0.63975368 | L16: explosius | N16: 0 | O16: =N16/$N$17*100 -> #DIV/0!
A17: Multimaterial | C17: 24.51 | E17: =C17/$C$14*100 -> 0.8115894 | H17: Envasos Ecoembes | I17: 0.29 | J17: =I17/$I$67*100 -> 0.099213137 | L17: TOTAL RESIDUS NO PERMITIDOS | N17: =SUM(N5:N16) -> 0 | O17: =SUM(O5:O16) -> #DIV/0!
A18: Poda | C18: 0 | E18: =C18/$C$14*100 -> 0 | H18: Envasos Vidre | I18: 0 | J18: =I18/$I$67*100 -> 0
A19: Escuma | C19: 0 | E19: =C19/$C$14*100 -> 0 | H19: Ferralla | I19: 0.07 | J19: =I19/$I$67*100 -> 0.023947999
A20: Para-xocs | C20: 0 | E20: =C20/$C$14*100 -> 0 | H20: Envasos Contingut | I20: 0 | J20: =I20/$I$67*100 -> 0
A21: Tèxtil | C21: 13.41 | E21: =C21/$C$14*100 -> 0.44403974 | H21: Aerosols I Esprais | I21: 0 | J21: =I21/$I$67*100 -> 0
A22: Bidons | C22: 0 | E22: =C22/$C$14*100 -> 0 | H22: Cartutxos De Tinta I Tòners | I22: 0.06 | J22: =I22/$I$67*100 -> 0.020526856 | L22: TOTALES | N22: Cantidad (kg) | O22: %
A23: Cartrons | C23: 0 | E23: =C23/$C$14*100 -> 0 | H23: Cds I Dvds | I23: 0 | J23: =I23/$I$67*100 -> 0 | L23: TOTAL RESIDUOS ADMISIBLES | N23: =I67 -> 292.3 | O23: =N23/$N$25*100 -> 100
A24: Sofas | C24: 159.76 | E24: =C24/$C$14*100 -> 5.2900662 | H24: Cintes De Casset I De Vídeo | I24: 0 | J24: =I24/$I$67*100 -> 0 | L24: TOTAL RESIDUS NO PERMITIDOS | N24: =N17 -> 0 | O24: =N24/$N$25*100 -> 0
A25: Maleta | C25: 0 | E25: =C25/$C$14*100 -> 0 | H25: Pérdues | I25: 0 | J25: =I25/$I$67*100 -> 0 | L25: TOTALES | N25: =SUM(N23:N24) -> 292.3 | O25: =SUM(O23:O24) -> 100
A26: Caixa de plàstic | C26: 0 | E26: =C26/$C$14*100 -> 0 | H26: Resta | I26: 0 | J26: =I26/$I$67*100 -> 0
A27: Ferralla | C27: 0 | E27: =C27/$C$14*100 -> 0 | H27: Vidre Barrejat | I27: 0 | J27: =I27/$I$67*100 -> 0
A28: Cadira nen cotxe | C28: 0 | E28: =C28/$C$14*100 -> 0 | H28: Vidre Pla | I28: 0 | J28: =I28/$I$67*100 -> 0
A29: Escombra | C29: 17.48 | E29: =C29/$C$14*100 -> 0.57880795 | H29: Olis De Cuina | I29: 0 | J29: =I29/$I$67*100 -> 0
A30: Fibra de vidre | C30: 6.59 | E30: =C30/$C$14*100 -> 0.21821192 | H30: Olis De Motor | I30: 0 | J30: =I30/$I$67*100 -> 0
A31: Total Voluminosos | C31: =SUM(C15:D30) -> 305.43 | E31: =C31/C14*100 -> 10.113576 | H31: Olis Usats No Regenerables | I31: 0 | J31: =I31/$I$67*100 -> 0
A32: Peso restante (*Peso final tras descontar el total de voluminosos) | C32: =C14-C31 -> 2714.57 | E32: =C32/C14*100 -> 89.886424 | H32: Cables | I32: 0 | J32: =I32/$I$67*100 -> 0
H33: Cables Elèctrics | I33: 0 | J33: =I33/$I$67*100 -> 0
H34: Fins | I34: 0 | J34: =I34/$I$67*100 -> 0
H35: Absorbents | I35: 0 | J35: =I35/$I$67*100 -> 0
H36: Àcids | I36: 0 | J36: =I36/$I$67*100 -> 0
H37: Agulles I Puntxants | I37: 0 | J37: =I37/$I$67*100 -> 0
H38: Amiant | I38: 0 | J38: =I38/$I$67*100 -> 0
H39: Aparells D' Intercanvi De Temperatura | I39: 0 | J39: =I39/$I$67*100 -> 0
H40: Bases | I40: 0 | J40: =I40/$I$67*100 -> 0
H41: Bateries De Cotxe | I41: 0 | J41: =I41/$I$67*100 -> 0
H42: Bombones De Butà | I42: 3.85 | J42: =I42/$I$67*100 -> 1.3171399
H43: Càpsules De Dosi Única | I43: 0.12 | J43: =I43/$I$67*100 -> 0.041053712
H44: Cosmètics | I44: 0 | J44: =I44/$I$67*100 -> 0
... H66: Termos | I66: 0 | J66: =I66/$I$67*100 -> 0
H67: TOTAL RESIDUOS ADMISIBLES | I67: =SUM(I5:I66) -> 292.3 | J67: =SUM(J5:J66) -> 100

Sheet Castelldefels
A3: FICHA DE CARACTERIZACION | H3: RESIDUOS ADMISIBLES | L3: RESIDUS NO PERMITIDOS
H4: Fracciones | I4: Cantidad (kg) | J4: % | L4: Fracciones | N4: Cantidad (kg) | O4: %
H5: Restes Vegetals | I5: 16.25 | J5: =I5/$I$67*100 -> 6.3843162 | L5: Escombraries domèstics o barrejat. | N5: 0 | O5: =N5/$N$17*100 -> 0
H6: Fusta | I6: 17.37 | J6: =I6/$I$67*100 -> 6.8243429 | L6: Medicaments | N6: 0.46 | O6: =N6/$N$17*100 -> 100
A7: Entidad: Deixalleria Castelldefels | H7: Fusta Neta | I7: 0 | J7: =I7/$I$67*100 -> 0 | L7: Residus industrials i especials grans Q | N7: 0 | O7: =N7/$N$17*100 -> 0
A8: Lugar de la Caracterización: SEMESA | H8: Paper I Cartró | I8: 12.37 | J8: =I8/$I$67*100 -> 4.8599379 | L8: Restes anatòmiques, medic, infecciosos. | N8: 0 | O8: =N8/$N$17*100 -> 0
A9: Empresa Caracterizadora: NOVOTEC CONSULTORES | H9: Tèxtil | I9: 42.25 | J9: =I9/$I$67*100 -> 16.599222 | L9: Residus radioactius. | N9: 0 | O9: =N9/$N$17*100 -> 0
H10: Plàstic Dur | I10: 62.46 | J10: =I10/$I$67*100 -> 24.539347 | L10: Productes procedents de decomís. | N10: 0 | O10: =N10/$N$17*100 -> 0
A11: Resultado de la Caracterización | H11: Plàstic Film | I11: 0 | J11: =I11/$I$67*100 -> 0 | L11: fems escorxadors i lab. | N11: 0 | O11: =N11/$N$17*100 -> 0
H12: Terres I Runes | I12: 34.72 | J12: =I12/$I$67*100 -> 13.640828 | L12: Residus activitats mineres/ext | N12: 0 | O12: =N12/$N$17*100 -> 0
A13: VOLUMINOSOS | C13: Cantidad (kg) | E13: % | H13: Multimaterials | I13: 22.17 | J13: =I13/$I$67*100 -> 8.7101717 | L13: Residus ramaders o agrícoles. | N13: 0 | O13: =N13/$N$17*100 -> 0
A14: PesNet Recollida (*Peso de la muestra total descargada) | C14: 1980 | E14: =E31+E32 -> 100 | H14: Bosses i films | I14: 0.86 | J14: =I14/$I$67*100 -> 0.33787766 | L14: Altre material classif perillós | N14: 0 | O14: =N14/$N$17*100 -> 0
A15: Fustes | C15: 15.83 | E15: =C15/$C$14*100 -> 0.79949495 | H15: Aparells Informàtics I De Telecomunicacions | I15: 9.76 | J15: =I15/$I$67*100 -> 3.8345185 | L15: orgànica | N15: 0 | O15: =N15/$N$17*100 -> 0
A16: Plàstics | C16: 49.76 | E16: =C16/$C$14*100 -> 2.5131313 | H16: Envasos D'Olis | I16: 0 | J16: =I16/$I$67*100 -> 0 | L16: explosius | N16: 0 | O16: =N16/$N$17*100 -> 0
A17: Multimaterial | C17: 0 | E17: =C17/$C$14*100 -> 0 | H17: Envasos Ecoembes | I17: 6.05 | J17: =I17/$I$67*100 -> 2.37693 | L17: TOTAL RESIDUS NO PERMITIDOS | N17: =SUM(N5:N16) -> 0.46 | O17: =SUM(O5:O16) -> 100
A18: Poda | C18: 0 | E18: =C18/$C$14*100 -> 0 | H18: Envasos Vidre | I18: 1.12 | J18: =I18/$I$67*100 -> 0.44002672
A19: Escuma | C19: 0 | E19: =C19/$C$14*100 -> 0 | H19: Ferralla | I19: 0 | J19: =I19/$I$67*100 -> 0
A20: Para-xocs | C20: 0 | E20: =C20/$C$14*100 -> 0 | H20: Envasos Contingut | I20: 4.97 | J20: =I20/$I$67*100 -> 1.9526186
A21: Tèxtil | C21: 0 | E21: =C21/$C$14*100 -> 0 | H21: Aerosols I Esprais | I21: 0 | J21: =I21/$I$67*100 -> 0
A22: Bidons | C22: 0 | E22: =C22/$C$14*100 -> 0 | H22: Cartutxos De Tinta I Tòners | I22: 0 | J22: =I22/$I$67*100 -> 0 | L22: TOTALES | N22: Cantidad (kg) | O22: %
A23: Cartrons | C23: 0 | E23: =C23/$C$14*100 -> 0 | H23: Cds I Dvds | I23: 5.26 | J23: =I23/$I$67*100 -> 2.066554 | L23: TOTAL RESIDUOS ADMISIBLES | N23: =I67 -> 254.53 | O23: =N23/$N$25*100 -> 99.819601
A24: Sofas | C24: 37.22 | E24: =C24/$C$14*100 -> 1.879798 | H24: Cintes De Casset I De Vídeo | I24: 0 | J24: =I24/$I$67*100 -> 0 | L24: TOTAL RESIDUS NO PERMITIDOS | N24: =N17 -> 0.46 | O24: =N24/$N$25*100 -> 0.18039923
A25: Maleta | C25: 7.85 | E25: =C25/$C$14*100 -> 0.39646465 | H25: Pérdues | I25: 0 | J25: =I25/$I$67*100 -> 0 | L25: TOTALES | N25: =SUM(N23:N24) -> 254.99 | O25: =SUM(O23:O24) -> 100
A26: Caixa de plàstic | C26: 7.96 | E26: =C26/$C$14*100 -> 0.4020202 | H26: Resta | I26: 8.89 | J26: =I26/$I$67*100 -> 3.4927121
A27: Ferralla | C27: 0 | E27: =C27/$C$14*100 -> 0 | H27: Vidre Barrejat | I27: 1.02 | J27: =I27/$I$67*100 -> 0.40073862
A28: Cadira nen cotxe | C28: 12.37 | E28: =C28/$C$14*100 -> 0.62474747 | H28: Vidre Pla | I28: 0 | J28: =I28/$I$67*100 -> 0
A29: Escombra | C29: 0 | E29: =C29/$C$14*100 -> 0 | H29: Olis De Cuina | I29: 0 | J29: =I29/$I$67*100 -> 0
A30: Fibra de vidre | C30: 186.17 | E30: =C30/$C$14*100 -> 9.4025253 | H30: Olis De Motor | I30: 0 | J30: =I30/$I$67*100 -> 0
A31: Total Voluminosos | C31: =SUM(C15:D30) -> 317.16 | E31: =C31/C14*100 -> 16.018182 | H31: Olis Usats No Regenerables | I31: 0 | J31: =I31/$I$67*100 -> 0
A32: Peso restante (*Peso final tras descontar el total de voluminosos) | C32: =C14-C31 -> 1662.84 | E32: =C32/C14*100 -> 83.981818 | H32: Cables | I32: 0 | J32: =I32/$I$67*100 -> 0
H33: Cables Elèctrics | I33: 4.65 | J33: =I33/$I$67*100 -> 1.8268966
H34: Fins | I34: 0 | J34: =I34/$I$67*100 -> 0
H35: Absorbents | I35: 0 | J35: =I35/$I$67*100 -> 0
H36: Àcids | I36: 0 | J36: =I36/$I$67*100 -> 0
H37: Agulles I Puntxants | I37: 0 | J37: =I37/$I$67*100 -> 0
H38: Amiant | I38: 0 | J38: =I38/$I$67*100 -> 0
H39: Aparells D' Intercanvi De Temperatura | I39: 0 | J39: =I39/$I$67*100 -> 0
H40: Bases | I40: 0 | J40: =I40/$I$67*100 -> 0
H41: Bateries De Cotxe | I41: 0 | J41: =I41/$I$67*100 -> 0
H42: Bombones De Butà | I42: 0 | J42: =I42/$I$67*100 -> 0
H43: Càpsules De Dosi Única | I43: 2.37 | J43: =I43/$I$67*100 -> 0.93112796
H44: Cosmètics | I44: 0 | J44: =I44/$I$67*100 -> 0
... H66: Termos | I66: 0 | J66: =I66/$I$67*100 -> 0
H67: TOTAL RESIDUOS ADMISIBLES | I67: =SUM(I5:I66) -> 254.53 | J67: =SUM(J5:J66) -> 100

Sheet El Prat
A3: FICHA DE CARACTERIZACION | H3: RESIDUOS ADMISIBLES | L3: RESIDUS NO PERMITIDOS
H4: Fracciones | I4: Cantidad (kg) | J4: % | L4: Fracciones | N4: Cantidad (kg) | O4: %
H5: Restes Vegetals | I5: 66.24 | J5: =I5/$I$67*100 -> 23.434515 | L5: Escombraries domèstics o barrejat. | N5: 32.72 | O5: =N5/$N$17*100 -> 100
H6: Fusta | I6: 29.16 | J6: =I6/$I$67*100 -> 10.316281 | L6: Medicaments | N6: 0 | O6: =N6/$N$17*100 -> 0
A7: Entidad: Deixalleria Deixalleria El Prat | H7: Fusta Neta | I7: 0 | J7: =I7/$I$67*100 -> 0 | L7: Residus industrials i especials grans Q | N7: 0 | O7: =N7/$N$17*100 -> 0
A8: Lugar de la Caracterización: SEMESA | H8: Paper I Cartró | I8: 28.19 | J8: =I8/$I$67*100 -> 9.9731126 | L8: Restes anatòmiques, medic, infecciosos. | N8: 0 | O8: =N8/$N$17*100 -> 0
A9: Empresa Caracterizadora: NOVOTEC CONSULTORES | H9: Tèxtil | I9: 30.17 | J9: =I9/$I$67*100 -> 10.673601 | L9: Residus radioactius. | N9: 0 | O9: =N9/$N$17*100 -> 0
H10: Plàstic Dur | I10: 41.89 | J10: =I10/$I$67*100 -> 14.819925 | L10: Productes procedents de decomís. | N10: 0 | O10: =N10/$N$17*100 -> 0
A11: Resultado de la Caracterización | H11: Plàstic Film | I11: 16.38 | J11: =I11/$I$67*100 -> 5.794948 | L11: fems escorxadors i lab. | N11: 0 | O11: =N11/$N$17*100 -> 0
H12: Terres I Runes | I12: 1.27 | J12: =I12/$I$67*100 -> 0.44930305 | L12: Residus activitats mineres/ext | N12: 0 | O12: =N12/$N$17*100 -> 0
A13: VOLUMINOSOS | C13: Cantidad (kg) | E13: % | H13: Multimaterials | I13: 11.9 | J13: =I13/$I$67*100 -> 4.210005 | L13: Residus ramaders o agrícoles. | N13: 0 | O13: =N13/$N$17*100 -> 0
A14: PesNet Recollida (*Peso de la muestra total descargada) | C14: 3200 | E14: =E31+E32 -> 100 | H14: Bosses i films | I14: 0.76 | J14: =I14/$I$67*100 -> 0.26887427 | L14: Altre material classif perillós | N14: 0 | O14: =N14/$N$17*100 -> 0
A15: Fustes | C15: 10.36 | E15: =C15/$C$14*100 -> 0.32375 | H15: Aparells Informàtics I De Telecomunicacions | I15: 0 | J15: =I15/$I$67*100 -> 0 | L15: orgànica | N15: 0 | O15: =N15/$N$17*100 -> 0
A16: Plàstics | C16: 89.72 | E16: =C16/$C$14*100 -> 2.80375 | H16: Envasos D'Olis | I16: 0 | J16: =I16/$I$67*100 -> 0 | L16: explosius | N16: 0 | O16: =N16/$N$17*100 -> 0
A17: Multimaterial | C17: 0 | E17: =C17/$C$14*100 -> 0 | H17: Envasos Ecoembes | I17: 17.32 | J17: =I17/$I$67*100 -> 6.127503 | L17: TOTAL RESIDUS NO PERMITIDOS | N17: =SUM(N5:N16) -> 32.72 | O17: =SUM(O5:O16) -> 100
A18: Poda | C18: 0 | E18: =C18/$C$14*100 -> 0 | H18: Envasos Vidre | I18: 6.08 | J18: =I18/$I$67*100 -> 2.1509941
A19: Escuma | C19: 0 | E19: =C19/$C$14*100 -> 0 | H19: Ferralla | I19: 0 | J19: =I19/$I$67*100 -> 0
A20: Para-xocs | C20: 0 | E20: =C20/$C$14*100 -> 0 | H20: Envasos Contingut | I20: 4.77 | J20: =I20/$I$67*100 -> 1.6875398
A21: Tèxtil | C21: 0 | E21: =C21/$C$14*100 -> 0 | H21: Aerosols I Esprais | I21: 0 | J21: =I21/$I$67*100 -> 0
A22: Bidons | C22: 0 | E22: =C22/$C$14*100 -> 0 | H22: Cartutxos De Tinta I Tòners | I22: 0 | J22: =I22/$I$67*100 -> 0 | L22: TOTALES | N22: Cantidad (kg) | O22: %
A23: Cartrons | C23: 0 | E23: =C23/$C$14*100 -> 0 | H23: Cds I Dvds | I23: 0 | J23: =I23/$I$67*100 -> 0 | L23: TOTAL RESIDUOS ADMISIBLES | N23: =I67 -> 282.66 | O23: =N23/$N$25*100 -> 89.625214
A24: Sofas | C24: 0 | E24: =C24/$C$14*100 -> 0 | H24: Cintes De Casset I De Vídeo | I24: 0 | J24: =I24/$I$67*100 -> 0 | L24: TOTAL RESIDUS NO PERMITIDOS | N24: =N17 -> 32.72 | O24: =N24/$N$25*100 -> 10.374786
A25: Maleta | C25: 4.5 | E25: =C25/$C$14*100 -> 0.140625 | H25: Pérdues | I25: 0 | J25: =I25/$I$67*100 -> 0 | L25: TOTALES | N25: =SUM(N23:N24) -> 315.38 | O25: =SUM(O23:O24) -> 100
A26: Caixa de plàstic | C26: 0 | E26: =C26/$C$14*100 -> 0 | H26: Resta | I26: 23.86 | J26: =I26/$I$67*100 -> 8.4412368
A27: Ferralla | C27: 0 | E27: =C27/$C$14*100 -> 0 | H27: Vidre Barrejat | I27: 0 | J27: =I27/$I$67*100 -> 0
A28: Cadira nen cotxe | C28: 6.17 | E28: =C28/$C$14*100 -> 0.1928125 | H28: Vidre Pla | I28: 3.53 | J28: =I28/$I$67*100 -> 1.2488502
A29: Escombra | C29: 0 | E29: =C29/$C$14*100 -> 0 | H29: Olis De Cuina | I29: 0 | J29: =I29/$I$67*100 -> 0
A30: Fibra de vidre | C30: 0 | E30: =C30/$C$14*100 -> 0 | H30: Olis De Motor | I30: 0 | J30: =I30/$I$67*100 -> 0
A31: Total Voluminosos | C31: =SUM(C15:D30) -> 110.75 | E31: =C31/C14*100 -> 3.4609375 | H31: Olis Usats No Regenerables | I31: 0 | J31: =I31/$I$67*100 -> 0
A32: Peso restante (*Peso final tras descontar el total de voluminosos) | C32: =C14-C31 -> 3089.25 | E32: =C32/C14*100 -> 96.539062 | H32: Cables | I32: 0 | J32: =I32/$I$67*100 -> 0
H33: Cables Elèctrics | I33: 0.45 | J33: =I33/$I$67*100 -> 0.15920187
H34: Fins | I34: 0 | J34: =I34/$I$67*100 -> 0
H35: Absorbents | I35: 0 | J35: =I35/$I$67*100 -> 0
H36: Àcids | I36: 0 | J36: =I36/$I$67*100 -> 0
H37: Agulles I Puntxants | I37: 0 | J37: =I37/$I$67*100 -> 0
H38: Amiant | I38: 0 | J38: =I38/$I$67*100 -> 0
H39: Aparells D' Intercanvi De Temperatura | I39: 0 | J39: =I39/$I$67*100 -> 0
H40: Bases | I40: 0 | J40: =I40/$I$67*100 -> 0
H41: Bateries De Cotxe | I41: 0 | J41: =I41/$I$67*100 -> 0
H42: Bombones De Butà | I42: 0 | J42: =I42/$I$67*100 -> 0
H43: Càpsules De Dosi Única | I43: 0 | J43: =I43/$I$67*100 -> 0
H44: Cosmètics | I44: 0 | J44: =I44/$I$67*100 -> 0
... H66: Termos | I66: 0 | J66: =I66/$I$67*100 -> 0
H67: TOTAL RESIDUOS ADMISIBLES | I67: =SUM(I5:I66) -> 282.66 | J67: =SUM(J5:J66) -> 100

Sheet Sant Adria del Besos
A3: FICHA DE CARACTERIZACION | H3: RESIDUOS ADMISIBLES | L3: RESIDUS NO PERMITIDOS
H4: Fracciones | I4: Cantidad (kg) | J4: % | L4: Fracciones | N4: Cantidad (kg) | O4: %
H5: Restes Vegetals | I5: 0 | J5: =I5/$I$67*100 -> 0 | L5: Escombraries domèstics o barrejat. | N5: 0 | O5: =N5/$N$17*100 -> #DIV/0!
H6: Fusta | I6: 45.42 | J6: =I6/$I$67*100 -> 17.946894 | L6: Medicaments | N6: 0 | O6: =N6/$N$17*100 -> #DIV/0!
A7: Entidad: Deixalleria Sant Adria del Besos | H7: Fusta Neta | I7: 15.27 | J7: =I7/$I$67*100 -> 6.0336652 | L7: Residus industrials i especials grans Q | N7: 0 | O7: =N7/$N$17*100 -> #DIV/0!
A8: Lugar de la Caracterización: SEMESA | H8: Paper I Cartró | I8: 0 | J8: =I8/$I$67*100 -> 0 | L8: Restes anatòmiques, medic, infecciosos. | N8: 0 | O8: =N8/$N$17*100 -> #DIV/0!
A9: Empresa Caracterizadora: NOVOTEC CONSULTORES | H9: Tèxtil | I9: 13.38 | J9: =I9/$I$67*100 -> 5.2868658 | L9: Residus radioactius. | N9: 0 | O9: =N9/$N$17*100 -> #DIV/0!
H10: Plàstic Dur | I10: 11.84 | J10: =I10/$I$67*100 -> 4.6783626 | L10: Productes procedents de decomís. | N10: 0 | O10: =N10/$N$17*100 -> #DIV/0!
A11: Resultado de la Caracterización | H11: Plàstic Film | I11: 0 | J11: =I11/$I$67*100 -> 0 | L11: fems escorxadors i lab. | N11: 0 | O11: =N11/$N$17*100 -> #DIV/0!
H12: Terres I Runes | I12: 1.94 | J12: =I12/$I$67*100 -> 0.76655603 | L12: Residus activitats mineres/ext | N12: 0 | O12: =N12/$N$17*100 -> #DIV/0!
A13: VOLUMINOSOS | C13: Cantidad (kg) | E13: % | H13: Multimaterials | I13: 7.19 | J13: =I13/$I$67*100 -> 2.8409989 | L13: Residus ramaders o agrícoles. | N13: 0 | O13: =N13/$N$17*100 -> #DIV/0!
A14: PesNet Recollida (*Peso de la muestra total descargada) | C14: 3140 | E14: =E31+E32 -> 100 | H14: Bosses i films | I14: 0.47 | J14: =I14/$I$67*100 -> 0.18571203 | L14: Altre material classif perillós | N14: 0 | O14: =N14/$N$17*100 -> #DIV/0!
A15: Fustes | C15: 122.76 | E15: =C15/$C$14*100 -> 3.9095541 | H15: Aparells Informàtics I De Telecomunicacions | I15: 0 | J15: =I15/$I$67*100 -> 0 | L15: orgànica | N15: 0 | O15: =N15/$N$17*100 -> #DIV/0!
A16: Plàstics | C16: 8.12 | E16: =C16/$C$14*100 -> 0.25859873 | H16: Envasos D'Olis | I16: 0 | J16: =I16/$I$67*100 -> 0 | L16: explosius | N16: 0 | O16: =N16/$N$17*100 -> #DIV/0!
A17: Multimaterial | C17: 2.86 | E17: =C17/$C$14*100 -> 0.091082803 | H17: Envasos Ecoembes | I17: 0.36 | J17: =I17/$I$67*100 -> 0.14224751 | L17: TOTAL RESIDUS NO PERMITIDOS | N17: =SUM(N5:N16) -> 0 | O17: =SUM(O5:O16) -> #DIV/0!
A18: Poda | C18: 0 | E18: =C18/$C$14*100 -> 0 | H18: Envasos Vidre | I18: 0.6 | J18: =I18/$I$67*100 -> 0.23707918
A19: Escuma | C19: 0 | E19: =C19/$C$14*100 -> 0 | H19: Ferralla | I19: 0 | J19: =I19/$I$67*100 -> 0
A20: Para-xocs | C20: 0 | E20: =C20/$C$14*100 -> 0 | H20: Envasos Contingut | I20: 0 | J20: =I20/$I$67*100 -> 0
A21: Tèxtil | C21: 0 | E21: =C21/$C$14*100 -> 0 | H21: Aerosols I Esprais | I21: 0 | J21: =I21/$I$67*100 -> 0
A22: Bidons | C22: 0 | E22: =C22/$C$14*100 -> 0 | H22: Cartutxos De Tinta I Tòners | I22: 0 | J22: =I22/$I$67*100 -> 0 | L22: TOTALES | N22: Cantidad (kg) | O22: %
A23: Cartrons | C23: 0 | E23: =C23/$C$14*100 -> 0 | H23: Cds I Dvds | I23: 0 | J23: =I23/$I$67*100 -> 0 | L23: TOTAL RESIDUOS ADMISIBLES | N23: =I67 -> 253.08 | O23: =N23/$N$25*100 -> 100
A24: Sofas | C24: 37.4 | E24: =C24/$C$14*100 -> 1.1910828 | H24: Cintes De Casset I De Vídeo | I24: 0 | J24: =I24/$I$67*100 -> 0 | L24: TOTAL RESIDUS NO PERMITIDOS | N24: =N17 -> 0 | O24: =N24/$N$25*100 -> 0
A25: Maleta | C25: 3.62 | E25: =C25/$C$14*100 -> 0.11528662 | H25: Pérdues | I25: 0 | J25: =I25/$I$67*100 -> 0 | L25: TOTALES | N25: =SUM(N23:N24) -> 253.08 | O25: =SUM(O23:O24) -> 100
A26: Caixa de plàstic | C26: 0 | E26: =C26/$C$14*100 -> 0 | H26: Resta | I26: 0 | J26: =I26/$I$67*100 -> 0
A27: Ferralla | C27: 0 | E27: =C27/$C$14*100 -> 0 | H27: Vidre Barrejat | I27: 0 | J27: =I27/$I$67*100 -> 0
A28: Cadira nen cotxe | C28: 0 | E28: =C28/$C$14*100 -> 0 | H28: Vidre Pla | I28: 0 | J28: =I28/$I$67*100 -> 0
A29: Escombra | C29: 0 | E29: =C29/$C$14*100 -> 0 | H29: Olis De Cuina | I29: 0 | J29: =I29/$I$67*100 -> 0
A30: Fibra de vidre | C30: 0 | E30: =C30/$C$14*100 -> 0 | H30: Olis De Motor | I30: 0 | J30: =I30/$I$67*100 -> 0
A31: Total Voluminosos | C31: =SUM(C15:D30) -> 174.76 | E31: =C31/C14*100 -> 5.5656051 | H31: Olis Usats No Regenerables | I31: 0 | J31: =I31/$I$67*100 -> 0
A32: Peso restante (*Peso final tras descontar el total de voluminosos) | C32: =C14-C31 -> 2965.24 | E32: =C32/C14*100 -> 94.434395 | H32: Cables | I32: 0 | J32: =I32/$I$67*100 -> 0
H33: Cables Elèctrics | I33: 0.42 | J33: =I33/$I$67*100 -> 0.16595543
H34: Fins | I34: 0 | J34: =I34/$I$67*100 -> 0
H35: Absorbents | I35: 153.92 | J35: =I35/$I$67*100 -> 60.818713
H36: Àcids | I36: 0 | J36: =I36/$I$67*100 -> 0
H37: Agulles I Puntxants | I37: 0 | J37: =I37/$I$67*100 -> 0
H38: Amiant | I38: 0 | J38: =I38/$I$67*100 -> 0
H39: Aparells D' Intercanvi De Temperatura | I39: 0 | J39: =I39/$I$67*100 -> 0
H40: Bases | I40: 0 | J40: =I40/$I$67*100 -> 0
H41: Bateries De Cotxe | I41: 0 | J41: =I41/$I$67*100 -> 0
H42: Bombones De Butà | I42: 0 | J42: =I42/$I$67*100 -> 0
H43: Càpsules De Dosi Única | I43: 0 | J43: =I43/$I$67*100 -> 0
H44: Cosmètics | I44: 0 | J44: =I44/$I$67*100 -> 0
... H66: Termos | I66: 0 | J66: =I66/$I$67*100 -> 0
H67: TOTAL RESIDUOS ADMISIBLES | I67: =SUM(I5:I66) -> 253.08 | J67: =SUM(J5:J66) -> 100

Sheet Gavà
A3: FICHA DE CARACTERIZACION | H3: RESIDUOS ADMISIBLES | L3: RESIDUS NO PERMITIDOS
H4: Fracciones | I4: Cantidad (kg) | J4: % | L4: Fracciones | N4: Cantidad (kg) | O4: %
H5: Restes Vegetals | I5: 0 | J5: =I5/$I$67*100 -> 0 | L5: Escombraries domèstics o barrejat. | N5: 0 | O5: =N5/$N$17*100 -> #DIV/0!
H6: Fusta | I6: 45.42 | J6: =I6/$I$67*100 -> 17.946894 | L6: Medicaments | N6: 0 | O6: =N6/$N$17*100 -> #DIV/0!
A7: Entidad: Deixalleria Gavà | H7: Fusta Neta | I7: 15.27 | J7: =I7/$I$67*100 -> 6.0336652 | L7: Residus industrials i especials grans Q | N7: 0 | O7: =N7/$N$17*100 -> #DIV/0!
A8: Lugar de la Caracterización: SEMESA | H8: Paper I Cartró | I8: 0 | J8: =I8/$I$67*100 -> 0 | L8: Restes anatòmiques, medic, infecciosos. | N8: 0 | O8: =N8/$N$17*100 -> #DIV/0!
A9: Empresa Caracterizadora: NOVOTEC CONSULTORES | H9: Tèxtil | I9: 13.38 | J9: =I9/$I$67*100 -> 5.2868658 | L9: Residus radioactius. | N9: 0 | O9: =N9/$N$17*100 -> #DIV/0!
H10: Plàstic Dur | I10: 11.84 | J10: =I10/$I$67*100 -> 4.6783626 | L10: Productes procedents de decomís. | N10: 0 | O10: =N10/$N$17*100 -> #DIV/0!
A11: Resultado de la Caracterización | H11: Plàstic Film | I11: 0 | J11: =I11/$I$67*100 -> 0 | L11: fems escorxadors i lab. | N11: 0 | O11: =N11/$N$17*100 -> #DIV/0!
H12: Terres I Runes | I12: 1.94 | J12: =I12/$I$67*100 -> 0.76655603 | L12: Residus activitats mineres/ext | N12: 0 | O12: =N12/$N$17*100 -> #DIV/0!
A13: VOLUMINOSOS | C13: Cantidad (kg) | E13: % | H13: Multimaterials | I13: 7.19 | J13: =I13/$I$67*100 -> 2.8409989 | L13: Residus ramaders o agrícoles. | N13: 0 | O13: =N13/$N$17*100 -> #DIV/0!
A14: PesNet Recollida (*Peso de la muestra total descargada) | C14: 3140 | E14: =E31+E32 -> 100 | H14: Bosses i films | I14: 0.47 | J14: =I14/$I$67*100 -> 0.18571203 | L14: Altre material classif perillós | N14: 0 | O14: =N14/$N$17*100 -> #DIV/0!
A15: Fustes | C15: 122.76 | E15: =C15/$C$14*100 -> 3.9095541 | H15: Aparells Informàtics I De Telecomunicacions | I15: 0 | J15: =I15/$I$67*100 -> 0 | L15: orgànica | N15: 0 | O15: =N15/$N$17*100 -> #DIV/0!
A16: Plàstics | C16: 8.12 | E16: =C16/$C$14*100 -> 0.25859873 | H16: Envasos D'Olis | I16: 0 | J16: =I16/$I$67*100 -> 0 | L16: explosius | N16: 0 | O16: =N16/$N$17*100 -> #DIV/0!
A17: Multimaterial | C17: 2.86 | E17: =C17/$C$14*100 -> 0.091082803 | H17: Envasos Ecoembes | I17: 0.36 | J17: =I17/$I$67*100 -> 0.14224751 | L17: TOTAL RESIDUS NO PERMITIDOS | N17: =SUM(N5:N16) -> 0 | O17: =SUM(O5:O16) -> #DIV/0!
A18: Poda | C18: 0 | E18: =C18/$C$14*100 -> 0 | H18: Envasos Vidre | I18: 0.6 | J18: =I18/$I$67*100 -> 0.23707918
A19: Escuma | C19: 0 | E19: =C19/$C$14*100 -> 0 | H19: Ferralla | I19: 0 | J19: =I19/$I$67*100 -> 0
A20: Para-xocs | C20: 0 | E20: =C20/$C$14*100 -> 0 | H20: Envasos Contingut | I20: 0 | J20: =I20/$I$67*100 -> 0
A21: Tèxtil | C21: 0 | E21: =C21/$C$14*100 -> 0 | H21: Aerosols I Esprais | I21: 0 | J21: =I21/$I$67*100 -> 0
A22: Bidons | C22: 0 | E22: =C22/$C$14*100 -> 0 | H22: Cartutxos De Tinta I Tòners | I22: 0 | J22: =I22/$I$67*100 -> 0 | L22: TOTALES | N22: Cantidad (kg) | O22: %
A23: Cartrons | C23: 0 | E23: =C23/$C$14*100 -> 0 | H23: Cds I Dvds | I23: 0 | J23: =I23/$I$67*100 -> 0 | L23: TOTAL RESIDUOS ADMISIBLES | N23: =I67 -> 253.08 | O23: =N23/$N$25*100 -> 100
A24: Sofas | C24: 37.4 | E24: =C24/$C$14*100 -> 1.1910828 | H24: Cintes De Casset I De Vídeo | I24: 0 | J24: =I24/$I$67*100 -> 0 | L24: TOTAL RESIDUS NO PERMITIDOS | N24: =N17 -> 0 | O24: =N24/$N$25*100 -> 0
A25: Maleta | C25: 3.62 | E25: =C25/$C$14*100 -> 0.11528662 | H25: Pérdues | I25: 0 | J25: =I25/$I$67*100 -> 0 | L25: TOTALES | N25: =SUM(N23:N24) -> 253.08 | O25: =SUM(O23:O24) -> 100
A26: Caixa de plàstic | C26: 0 | E26: =C26/$C$14*100 -> 0 | H26: Resta | I26: 0 | J26: =I26/$I$67*100 -> 0
A27: Ferralla | C27: 0 | E27: =C27/$C$14*100 -> 0 | H27: Vidre Barrejat | I27: 0 | J27: =I27/$I$67*100 -> 0
A28: Cadira nen cotxe | C28: 0 | E28: =C28/$C$14*100 -> 0 | H28: Vidre Pla | I28: 0 | J28: =I28/$I$67*100 -> 0
A29: Escombra | C29: 0 | E29: =C29/$C$14*100 -> 0 | H29: Olis De Cuina | I29: 0 | J29: =I29/$I$67*100 -> 0
A30: Fibra de vidre | C30: 0 | E30: =C30/$C$14*100 -> 0 | H30: Olis De Motor | I30: 0 | J30: =I30/$I$67*100 -> 0
A31: Total Voluminosos | C31: =SUM(C15:D30) -> 174.76 | E31: =C31/C14*100 -> 5.5656051 | H31: Olis Usats No Regenerables | I31: 0 | J31: =I31/$I$67*100 -> 0
A32: Peso restante (*Peso final tras descontar el total de voluminosos) | C32: =C14-C31 -> 2965.24 | E32: =C32/C14*100 -> 94.434395 | H32: Cables | I32: 0 | J32: =I32/$I$67*100 -> 0
H33: Cables Elèctrics | I33: 0.42 | J33: =I33/$I$67*100 -> 0.16595543
H34: Fins | I34: 0 | J34: =I34/$I$67*100 -> 0
H35: Absorbents | I35: 153.92 | J35: =I35/$I$67*100 -> 60.818713
H36: Àcids | I36: 0 | J36: =I36/$I$67*100 -> 0
H37: Agulles I Puntxants | I37: 0 | J37: =I37/$I$67*100 -> 0
H38: Amiant | I38: 0 | J38: =I38/$I$67*100 -> 0
H39: Aparells D' Intercanvi De Temperatura | I39: 0 | J39: =I39/$I$67*100 -> 0
H40: Bases | I40: 0 | J40: =I40/$I$67*100 -> 0
H41: Bateries De Cotxe | I41: 0 | J41: =I41/$I$67*100 -> 0
H42: Bombones De Butà | I42: 0 | J42: =I42/$I$67*100 -> 0
H43: Càpsules De Dosi Única | I43: 0 | J43: =I43/$I$67*100 -> 0
H44: Cosmètics | I44: 0 | J44: =I44/$I$67*100 -> 0
... H66: Termos | I66: 0 | J66: =I66/$I$67*100 -> 0
H67: TOTAL RESIDUOS ADMISIBLES | I67: =SUM(I5:I66) -> 253.08 | J67: =SUM(J5:J66) -> 100

Sheet Tiana - Montgat
A3: FICHA DE CARACTERIZACION | H3: RESIDUOS ADMISIBLES | L3: RESIDUS NO PERMITIDOS
H4: Fracciones | I4: Cantidad (kg) | J4: % | L4: Fracciones | N4: Cantidad (kg) | O4: %
H5: Restes Vegetals | I5: 48.91 | J5: =I5/$I$67*100 -> 19.117417 | L5: Escombraries domèstics o barrejat. | N5: 10.16 | O5: =N5/$N$17*100 -> 100
H6: Fusta | I6: 0 | J6: =I6/$I$67*100 -> 0 | L6: Medicaments | N6: 0 | O6: =N6/$N$17*100 -> 0
A7: Entidad: Deixalleria Tiana - Montgat | H7: Fusta Neta | I7: 22.32 | J7: =I7/$I$67*100 -> 8.7242026 | L7: Residus industrials i especials grans Q | N7: 0 | O7: =N7/$N$17*100 -> 0
A8: Lugar de la Caracterización: SEMESA | H8: Paper I Cartró | I8: 42.56 | J8: =I8/$I$67*100 -> 16.635397 | L8: Restes anatòmiques, medic, infecciosos. | N8: 0 | O8: =N8/$N$17*100 -> 0
A9: Empresa Caracterizadora: NOVOTEC CONSULTORES | H9: Tèxtil | I9: 39.64 | J9: =I9/$I$67*100 -> 15.494059 | L9: Residus radioactius. | N9: 0 | O9: =N9/$N$17*100 -> 0
H10: Plàstic Dur | I10: 9.69 | J10: =I10/$I$67*100 -> 3.7875235 | L10: Productes procedents de decomís. | N10: 0 | O10: =N10/$N$17*100 -> 0
A11: Resultado de la Caracterización | H11: Plàstic Film | I11: 12.74 | J11: =I11/$I$67*100 -> 4.9796748 | L11: fems escorxadors i lab. | N11: 0 | O11: =N11/$N$17*100 -> 0
H12: Terres I Runes | I12: 25.66 | J12: =I12/$I$67*100 -> 10.029706 | L12: Residus activitats mineres/ext | N12: 0 | O12: =N12/$N$17*100 -> 0
A13: VOLUMINOSOS | C13: Cantidad (kg) | E13: % | H13: Multimaterials | I13: 0.64 | J13: =I13/$I$67*100 -> 0.25015635 | L13: Residus ramaders o agrícoles. | N13: 0 | O13: =N13/$N$17*100 -> 0
A14: PesNet Recollida (*Peso de la muestra total descargada) | C14: 2760 | E14: =E31+E32 -> 100 | H14: Bosses i films | I14: 11.76 | J14: =I14/$I$67*100 -> 4.5966229 | L14: Altre material classif perillós | N14: 0 | O14: =N14/$N$17*100 -> 0
A15: Fustes | C15: 44.65 | E15: =C15/$C$14*100 -> 1.6177536 | H15: Aparells Informàtics I De Telecomunicacions | I15: 0 | J15: =I15/$I$67*100 -> 0 | L15: orgànica | N15: 0 | O15: =N15/$N$17*100 -> 0
A16: Plàstics | C16: 35.67 | E16: =C16/$C$14*100 -> 1.2923913 | H16: Envasos D'Olis | I16: 5.47 | J16: =I16/$I$67*100 -> 2.138055 | L16: explosius | N16: 0 | O16: =N16/$N$17*100 -> 0
A17: Multimaterial | C17: 16.51 | E17: =C17/$C$14*100 -> 0.59818841 | H17: Envasos Ecoembes | I17: 7.14 | J17: =I17/$I$67*100 -> 2.7908068 | L17: TOTAL RESIDUS NO PERMITIDOS | N17: =SUM(N5:N16) -> 10.16 | O17: =SUM(O5:O16) -> 100
A18: Poda | C18: 0 | E18: =C18/$C$14*100 -> 0 | H18: Envasos Vidre | I18: 0 | J18: =I18/$I$67*100 -> 0
A19: Escuma | C19: 0 | E19: =C19/$C$14*100 -> 0 | H19: Ferralla | I19: 6.03 | J19: =I19/$I$67*100 -> 2.3569418
A20: Para-xocs | C20: 0 | E20: =C20/$C$14*100 -> 0 | H20: Envasos Contingut | I20: 0 | J20: =I20/$I$67*100 -> 0
A21: Tèxtil | C21: 0 | E21: =C21/$C$14*100 -> 0 | H21: Aerosols I Esprais | I21: 0 | J21: =I21/$I$67*100 -> 0
A22: Bidons | C22: 3.89 | E22: =C22/$C$14*100 -> 0.14094203 | H22: Cartutxos De Tinta I Tòners | I22: 0 | J22: =I22/$I$67*100 -> 0 | L22: TOTALES | N22: Cantidad (kg) | O22: %
A23: Cartrons | C23: 0 | E23: =C23/$C$14*100 -> 0 | H23: Cds I Dvds | I23: 7.34 | J23: =I23/$I$67*100 -> 2.8689806 | L23: TOTAL RESIDUOS ADMISIBLES | N23: =I67 -> 255.84 | O23: =N23/$N$25*100 -> 96.180451
A24: Sofas | C24: 31.65 | E24: =C24/$C$14*100 -> 1.1467391 | H24: Cintes De Casset I De Vídeo | I24: 0 | J24: =I24/$I$67*100 -> 0 | L24: TOTAL RESIDUS NO PERMITIDOS | N24: =N17 -> 10.16 | O24: =N24/$N$25*100 -> 3.8195489
A25: Maleta | C25: 4.16 | E25: =C25/$C$14*100 -> 0.15072464 | H25: Pérdues | I25: 0 | J25: =I25/$I$67*100 -> 0 | L25: TOTALES | N25: =SUM(N23:N24) -> 266 | O25: =SUM(O23:O24) -> 100
A26: Caixa de plàstic | C26: 0 | E26: =C26/$C$14*100 -> 0 | H26: Resta | I26: 5.57 | J26: =I26/$I$67*100 -> 2.177142
A27: Ferralla | C27: 0 | E27: =C27/$C$14*100 -> 0 | H27: Vidre Barrejat | I27: 0 | J27: =I27/$I$67*100 -> 0
A28: Cadira nen cotxe | C28: 10.18 | E28: =C28/$C$14*100 -> 0.36884058 | H28: Vidre Pla | I28: 0 | J28: =I28/$I$67*100 -> 0
A29: Escombra | C29: 0 | E29: =C29/$C$14*100 -> 0 | H29: Olis De Cuina | I29: 0 | J29: =I29/$I$67*100 -> 0
A30: Fibra de vidre | C30: 0 | E30: =C30/$C$14*100 -> 0 | H30: Olis De Motor | I30: 0 | J30: =I30/$I$67*100 -> 0
A31: Total Voluminosos | C31: =SUM(C15:D30) -> 146.71 | E31: =C31/C14*100 -> 5.3155797 | H31: Olis Usats No Regenerables | I31: 0 | J31: =I31/$I$67*100 -> 0
A32: Peso restante (*Peso final tras descontar el total de voluminosos) | C32: =C14-C31 -> 2613.29 | E32: =C32/C14*100 -> 94.68442 | H32: Cables | I32: 1.19 | J32: =I32/$I$67*100 -> 0.46513446
H33: Cables Elèctrics | I33: 0 | J33: =I33/$I$67*100 -> 0
H34: Fins | I34: 0 | J34: =I34/$I$67*100 -> 0
H35: Absorbents | I35: 0 | J35: =I35/$I$67*100 -> 0
H36: Àcids | I36: 0 | J36: =I36/$I$67*100 -> 0
H37: Agulles I Puntxants | I37: 0 | J37: =I37/$I$67*100 -> 0
H38: Amiant | I38: 0 | J38: =I38/$I$67*100 -> 0
H39: Aparells D' Intercanvi De Temperatura | I39: 0 | J39: =I39/$I$67*100 -> 0
H40: Bases | I40: 0 | J40: =I40/$I$67*100 -> 0
H41: Bateries De Cotxe | I41: 0 | J41: =I41/$I$67*100 -> 0
H42: Bombones De Butà | I42: 0 | J42: =I42/$I$67*100 -> 0
H43: Càpsules De Dosi Única | I43: 0 | J43: =I43/$I$67*100 -> 0
H44: Cosmètics | I44: 0 | J44: =I44/$I$67*100 -> 0
... H66: Termos | I66: 0 | J66: =I66/$I$67*100 -> 0
H67: TOTAL RESIDUOS ADMISIBLES | I67: =SUM(I5:I66) -> 255.84 | J67: =SUM(J5:J66) -> 100
