Workbook

Sheet 0
C13: Exposición
C14: Objectes Comuns
C15: Museu del Disseny de Barcelona
C16: sala B
C32: MEDICIONES
C34: Suministro, producción, transporte y colocación en sala con personal especializado y según calendario, de todos los elementos relacionados en este documento. Incluye los medios auxiliares necesarios para llevar a cabo todos los trabajos.
C35: Incluye el desmontaje de la exposición de diseño de producto "Del món al museu", presentada actualmente en la planta 1ª del Museo.
C37: Este documento está acompañado de un conjunto de planos, estructurado con los mísmos capítulos y apartados.
C38: En los planos constructivos de cada tipo se detallan dimensiones y materiales.
C39: En caso de detectar alguna discrepancia, consultar con la Dirección Facultativa
C49: DESCRIPCIÓN GENERAL
C51: Códigos
B52: IT | C52: ITINERARI
B53: P | C53: PARLAMENT
B54: V | C54: EXPOSICIÓ VARIABLE
C57: Cuestiones generales respecto al mobiliario:
C59: Todos los elementos se realizan y montan previamente en taller.
C61: ATENCIÓN: la nomenclatura de los elementos no se corresponde necesariamente con su medida exacta
C63: MATERIALES y ACABADOS
C65: “Objectes Comuns” es una exposición permanente, con una vida estimada de 5 a 10 años y con un nivel de uso y visitas alto. Los acabados deberan ser de calidad alta y larga durabilidad. En especial todos los lacados sobre madera y acero deberán ofrecer una buena resistencia a la abrasión simple, con lo cual las pinturas usadas, su aplicación y túnel de secado deberán garantizar una buena conservación en la solución aplicada durante ese período.
C66: DM
C67: DM de varios grosores, acabados sin aristas vivas, a lacar en blanco mate al agua. Acabado aplicado en todas las caras en paneles opacos suspendidos en estantería y puntos de acceso táctil y panelados en interior de vitrina. En el resto de elementos, la cara no visible debe tener tratamiento del mismo color que garantice la ausencia de deformación. Aplicado con cuatro semanas de antelación al transporte a la sala.
C69: Estructura metálica
C70: Estructura acero S235-St37. Tubo cuadrado 40/40/2 y 40/20/2, pletinas de varios grosores, perfiles laminados L 40/40/2,5, U 20/15 . Plancha de acero galvanizado plegada. Todos los tubos se soldarán a tope, con una anchura de garganta no inferior a 5mm. Todo acabado con laca al horno, al agua blanco mate en Itinerari y Parlament, y en barníz transparente en la Exposición Variable.
C72: Vidrio
C73: Vidrio EXTRACLARO Polarwhite laminado stadip 6+6mm cantos pulidos y biselados para depositar sobre estructura metálica en estantería.
C74: Vidrio EXTRACLARO Polarwhite laminado stadip 4+4mm cantos pulidos y biselados para cerrar unidad expositiva vitrina en Exposición variable.
... C98: Medidas en CENTÍMETROS: alto, largo, fondo.

Sheet 1-C
A1: CAPITULO - 1 | D1: CERRAMIENTOS | G1: 0
A3: 1 | B3: CERRAMIENTOS PLADUR
D5: Cerramientos varios realizados en Panelado tipo Pladur acabado calidad Q3, con aristas bien definidas listo para pintar.
B6: 1 | C6: CP1 | D6: CERRAMIENTO A UNA CARA PARA CEGADO VENTANA ITINERARI
D8: Estructura de perfileria de acero galvanizado (montantes y canales 34mm) en interior de embocado. Doble panelado de placa de yeso tipo Pladur F (EN-520) Acabado con aristas bien definidas y listo para pintar
D9: Dim: 215 cm H x 570 cm L | E9: m2 | F9: 12.25
B11: 2 | C11: CP2 | D11: CERRAMIENTO A UNA CARA PARA CEGADO DE PUERTAS LATERALES
D13: Estructura de perfileria de acero galvanizado (montantes y canales 34mm) en interior de embocado. Doble panelado de placa de yeso tipo Pladur F (EN-520) La placa exterior cubre el embocado y toda la superfície La placa interior queda enrasada con el embocado y cubre tan solo el interior de las aberturas. Acabado con aristas bien definidas y listo para pintar
D14: Dim : 387 cm H x 577 cm L | E14: m2 | F14: 22.33
B16: 3 | C16: CP3 | D16: CERRAMIENTO A UNA CARA PARA CEGADO DE VENTANA PARLAMENT
D18: Estructura de perfilería de acero galvanizado (montantes y canales 34mm) en interior de embocado. Doble panelado de placa de yeso tipo Pladur F (EN-520) La placa exterior cubre el embocado y toda la superfície Acabado con aristas bien definidas y listo para pintar
D19: ATENCIÓN. Este hueco alojará una estructura preparada para recibir una pieza sanitaria suspendida de la casa Roca. Los trabajos de pladur deben realizarse con la estructura especial ubicada. Estructura galvanizada y panel interior se adaptan al perfil de la estructura especial. El panel exterior cubre toda la superficie. Se dispondrá de una plantilla para ubicar los espárragos de suspensión.
D20: Dim : 215 cm H x 175 cm L | E20: m2 | F20: 3.76
B22: 4 | C22: CP4 | D22: CERRAMIENTO A UNA CARA PARLAMENT
D24: Estructura de perfileria de acero galvanizado (montantes y canales 125mm) Doble panelado de placa de yeso tipo Pladur F (EN-520) 7,20 ml trasdosado sobre muro de sala 3,95 ml tramo curvo (Placa tipo Flexiform) 5,20 ml tabique Acabado con aristas bien definidas y listo para pintar
D25: ATENCIÓN. En tramo exento de la pared debe ser autoportante y una vez montada la estanteria, se conectan los dos elementos
D26: Dim : 380 cm H x 16,4 m L | E26: m2 | F26: 62.32
B28: 5 | C28: CP5 | D28: CERRAMIENTO A UNA CARA PARA CEGADO DE LUCERNARIO
D30: Estructura de perfileria de acero galvanizado (montantes y canales 34mm) montada sobre liston fijado en plano inclinado y plano horizontal en techo. Panelado simple de placa Pladur F (EN-520). Arista inferior bien acabada para marcar el rehundido. 14.80 ml tramo curvo (Placa tipo Flexiform) Acabado con aristas bien definidas listo para pintar
D31: ATENCIÓN: Incluye desmontaje de la cortina y su estructura de soporte que actualmente cubre el lucernario
D32: Dim : 135 cm H x 39 metros L | E32: m2 | F32: 52.65

Sheet 2-P
A1: CAPITULO - 2 | D1: PINTURA | G1: 0
A3: 1 | B3: PINTURA PLÁSTICA AL AGUA PARED | G3: 0
B5: 1 | D5: Preparación masillado y tres capas de pintura plástica mate al agua sobre superfície vertical de Pared Existente o Pladur hasta una altura de 540 cm. Color Blanco NCS S-0500-N o Blanco Museu Disseny. | E5: m2 | F5: 542
A7: 2 | B7: PINTURA ESMALTE AL AGUA | G7: 0
B9: 1 | D9: Preparación y tres capas de pintura al esmalte mate al agua sobre puerta y premarco existente de Puerta de salida de Cargas, de dimensiones 390 x 260 cm. Incluye sólo la cara interior exposición. Color Blanco NCS S-0500-N o Blanco Museu Disseny. | E9: m2 | F9: 10.15

Sheet 3-SE
A1: CAPITULO - 3 | D1: SOPORTES EXPOSITIVOS | G1: =G3+G135+G195 -> 0
A3: 1 | B3: ITINERARI | G3: 0
D4: ESTANTERÍA
D6: Estantería compuesta por una serie de elementos descritos a continuación, realizados en taller, ensamblados entre sí y fijados al perímetro cuando es posible (IT-1, IT-2, IT-5). Los tramos perpendiculares al perímetro (IT-3, IT-4, IT-6), se arriostran mediante tirantes. Los tramos IT-0 (título Itinerario) y P-0 (título Parlament) son estructuras bidimensionales que se unen a la estanteria. Los elementos se disponen siguiendo una modulación de 60, 120, 180, 240, 300, 360 cm según el esquema indica.
B8: 1 | C8: ELEMENTOS VERTICALES
C10: V | D10: MONTANTE VERTICAL | E10: uds | F10: =SUM(F12:F13) -> 11
D11: Tubo metálico soldado 40/40/2mm Pie regulable
D12: V256 | E12: uds | F12: 2
D13: V380 | E13: uds | F13: 9
C15: M | D15: MARCOS VERTICALES | E15: uds | F15: =SUM(F17:F20) -> 34
D16: Marcos realizados en tubo metálico soldado 40/40/2mm Pies regulables en base de marco Incluye piezas soldadas para conexión a otros componentes y orificios para paso de cableado.
D17: M120 | E17: uds | F17: 25 | G17: 0
D18: M120-90-C | E18: uds | F18: 4 | G18: 0
D19: M120-60-C | E19: uds | F19: 2 | G19: 0
D20: M60 | E20: uds | F20: 3
C22: U | D22: PIEZAS DE UNIÓN A PARED | E22: uds | F22: 63
D23: Pletina 2mm e. plegada en U con dos puntos de fijación a plano vertical y perforación tipo coliso para fijación a montante. En los tramos perpendiculares a perímetro se usa para unir montantes a marcos (IT-0, P-0)
B25: 2 | C25: ELEMENTOS HORIZONTALES
D27: Tubo metálico soldado 40/40/2mm Recorte en extremos para encajar en piezas de espera
C28: L | D28: BARRAS LONGITUDINALES | E28: uds | F28: =SUM(F29:F33) -> 170
D29: L360 | E29: uds | F29: 12
D30: L240 | E30: uds | F30: 58
D31: L174 | E31: uds | F31: 12
D32: L120 | E32: uds | F32: 86
D33: L120-2 (tubo 40/20/2) | E33: uds | F33: 2
C35: T | D35: BARRAS TRANSVERSALES | E35: uds | F35: =SUM(F36:F39) -> 61
D36: T60 | E36: uds | F36: 1
D37: T90 | E37: uds | F37: 12
D38: T120 | E38: uds | F38: 45
D39: T120-2 (tubo 40/20/2) | E39: uds | F39: 3
B41: 3 | C41: ESTANTES | E41: uds | F41: =SUM(F44:F47) -> 18
D43: Estructura metálica y panel de vidrio laminado Extraclaro Polarwhite 6+6 Fijados a Barras transversales T Marco en tubo 40/40/2 y 40/20/2 Aletas perfil L 40/40/2.5 (soldadas a diferente altura para permitir solape) Perfil de sección circular soldado por cara interior. Tope para vidrio. Lámina de silicona neutra 2mm entre vidrio y marco metálico.
D44: E120/80 | E44: uds | F44: 4
D45: E240-2 | E45: uds | F45: 10
D46: E240-3 | E46: uds | F46: 2
D47: E360 | E47: uds | F47: 2
B49: 4 | C49: PANELES OPACOS | E49: uds | F49: =SUM(F52:F60) -> 45
D51: Panel DM 19mm fijado a montantes y barras horizontales Fijación a estructura estantería desde cara frontal 4, 6 o 8 uds según dimensión de placa. Placa 50/50 atornillada a trasera panel Perfil 10/20/50mmL atornillado a montante
D52: P114/114 | E52: uds | F52: 9
D53: P114/172 | E53: uds | F53: 1
D54: P174/54 | E54: uds | F54: 4
D55: P174/114 | E55: uds | F55: 16
D56: P174/234 | E56: uds | F56: 6
D57: p174/172 | E57: uds | F57: 2
D58: P234/114 | E58: uds | F58: 5
D59: P234/234 | E59: uds | F59: 1
D60: P234/172 | E60: uds | F60: 1
B62: 5 | C62: RIGIDIZACIÓN
D64: En los tramos perpendiculares al perímetro (IT-3, IT-4, IT-6) la estantería se triangula por su cara posterior.
C65: T | D65: Varilla rígida 5mm con terminación hembrilla en sus dos extremos. Varios largos | E65: uds | F65: 44
C66: U-T | D66: Pieza de anclaje a montante vertical con platinas para recibir tirantes | E66: uds | F66: 42
B68: 6 | C68: BASES HORIZONTALES | E68: uds | F68: =F70+F78 -> 50
C70: B | D70: TARIMAS soporte obras | E70: uds | F70: =SUM(F72:F76) -> 30
D71: Prisma realizado en DM con rehundido frontal para paso de estructura, laterales vistos, trasera abierta para entrada de cableado excepto en los tramos perpendiculares al perímetro IT-3, IT-4, IT-6. (En estos tramos, trasera cerrada y vista). En los puntos indicados, hornacina con tapa horizontal para alojar pieza compacta Tipo Ofiblock Compact para 4 tomas schuko.
D72: B-120/60 | E72: uds | F72: 3
D73: B-120/60 | E73: uds | F73: 11
D74: B-240 | E74: uds | F74: 13
D75: B-360 | E75: uds | F75: 1
D76: B-180 | E76: uds | F76: 2
C78: B-c | D78: TARIMAS soporte cartelas | E78: uds | F78: =SUM(F80:F82) -> 20
D79: Prisma realizado en DM con rehundido frontal, laterales vistos. En los puntos indicados, el rehundido crece para alojar la Unidad táctil
D80: Bc-120 | E80: uds | F80: 5
D81: Bc-240 | E81: uds | F81: 9
D82: Bc-360 | E82: uds | F82: 6
B84: 7 | C84: VITRINAS
C86: VE | D86: VITRINAS EXTRAÍBLES | E86: uds | F86: =SUM(F89:F91) -> 4
D87: Estructura metálica fijada a barras transversales T, diedro en panel DM y campana de metacrilato de 4 caras montada sobre perfil que se desliza mediante guías para permitir acceso a interior.
D88: Barras horizontales 120L / 240L Tubo 40/20/2 en parte fija y parte extraíble Juego de guías de extracción. Dm 19mm fijado a pletinas soldadas a parte fija Perfil U 20/15 para recibir campana Pletinas de cierre. Tornillo de seguridad Campana 4 caras metacrilato transparente 10mm Soporte abatible tubo 40/40/2
D89: VE 110/60 | E89: uds | F89: 2
D90: VE 110/80 | E90: uds | F90: 1
D91: VE 230/80 | E91: uds | F91: 1
C94: V | D94: VITRINAS SIMPLES
D95: Base realizada en plancha de acero galvanizado e:15mm, plegado, Panel DM 19mm fresado por cara inferior para ocultar fijación Campana de metacrilato de 5 caras, cantos pulidos, aristas horizontales dobladas, con 2 perforaciones avellanadas en taller, para atornillar a tuerca embutida en base.
D96: V 30/30-30 | E96: uds | F96: 1
C98: V-L | D98: VITRINA en L
D99: Base realizada en plancha de acero galvanizado e:15mm, plegado, fijada a pared. Diedro en Panel DM 19mm, fresado por cara posterior para aligerar peso y ocultar fijación a pared. Campana de metacrilato de 4 caras, cantos pulidos, aristas horizontales dobladas, con 2 perforaciones avellanadas en taller, para atornillar a tuerca embutida en base.
D100: V45/70-45 | E100: uds | F100: 1
B102: 8 | C102: PUNTO DE ACCESO TÁCTIL | E102: uds | F102: 3
C104: PT | D104: Tubo metálico soldado 40/40/2mm, 40/20/2 Pletinas 30/30/2 soldadas a tubo Panel DM 19mm 2 piezas, 50x30 y 75x50 Orificios para paso de cableado La base Bc incorpora un rehundido en el que encaja esta estructura. Una vez en posición, fijar a la parte oculta del zócalo.
B106: 9 | C106: SOPORTES de OBRA
C108: BE | D108: BASES
D109: Prismas realizados en DM 19mm
D110: BE-60/40-100 | E110: uds | F110: 1
D111: BE-60/25-25 | E111: uds | F111: 1
D112: BE-40/25-25 | E112: uds | F112: 1
C114: SE | D114: SOPORTES ESPECÍFICOS
D115: Estructura metálica 40/40, 40/20 a barras longitidinales L o transversales T Pletinas 30/30/2 para fijacion de panelado Panel DM 19mm
C116: SE1 | D116: Moto Impala | E116: uds | F116: 1
C117: SE2 | D117: Estante | E117: uds | F117: 1
C118: SE3 | D118: Banco Catalano | E118: uds | F118: 1
C119: SE4 | D119: 1992 | E119: uds | F119: 1
C121: SE5 | D121: Bolsas de papel Vinçon | E121: uds | F121: 14
D122: plancha de acero galvanizado e:15mm, plegado
C123: SE6 | D123: Calaixera SAMURO
D124: Ménsula para sustentar puerta: L40/40/3 + cable acero inoxidable 2mm con tensor | E124: uds | F124: 1
C126: A | D126: ANCLAJES
D127: Anclajes para fijar objetos a plano vertical u horizontal
D128: Fregona | E128: uds | F128: 1
D129: Varilla con terminal hembrilla ∅3(palo) Varilla con terminal cáncamo (base)
B131: 10 | C131: MARCOS AV | E131: uds | F131: 4
...

Sheet 4-GR
A1: CAPITULO - 4 | D1: GRAFICA | G1: 0
A3: 1 | B3: ROTULACIÓN PLANTILLA | G3: 0
B5: 1 | C5: VESTÍBULO EXTERIOR | E5: PA
D6: Rotulación gráfica mediante plantilla-trepa en vinilo adhesivo y pintura esmalte al agua mate estarcido a rodillo o muñeca.
D7: Requiere de andamio de 4 alturas para pintar hasta 11 metros de alto. (Ideal uso de plataforma -góndola elevadora de guillotina tipo Genie)
D8: Texto repetido 4,5 veces: Objectes Comuns. Texto subtítulo en 3 idiomas
A10: 2 | B10: IMPRESIÓN DIRECTA SOBRE PANEL | G10: 0
D11: (Paneles ya contabilizados en el capítulo Estanteria - Paneles opacos)
B12: 1 | C12: PANELES TÍTULOS | E12: uds | F12: 2
D13: Impresión digital directa a una tinta sobre panel lacado blanco de dimensiones 234 x 114 cm.
D14: Título general: Objectes Comuns Título segunda parte: Parlament
B15: 2 | C15: PANELES DE TEXTO VERTICAL
D16: Impresión digital directa a una tinta sobre panel lacado blanco de dimensiones
D17: 174 cmH x 114 cmL | E17: uds | F17: 9
D18: 114 cmH x 114 cmL | E18: uds | F18: 3
A20: 3 | B20: IMPRESIÓN DIRECTA SOBRE PLACA DE ALUMINIO | G20: 0
D22: Impresión directa de cartela sobre placa de aluminio de 1,5 mm. de grueso y lacada blanco color NCS S 0500-N o Blanco Museu Disseny
B24: 1 | C24: CARTELA ITINERARI
C25: 1 | D25: Básica: Texto e imagen una tinta , DIM: 24 x 20 cm. | E25: uds | F25: 120
C26: 2 | D26: Comentada: Texto y fotografía en escala de grises o CMYK Dim: 120 x 20 cm. | E26: uds | F26: 14
C27: 3 | D27: Foto: Texto y fotografía en escala de grises o CMYK Dim: 24 x 20 cm. | E27: uds | F27: 10
B29: 2 | C29: CARTELA PARLAMENT
C30: 1 | D30: Texto a una tinta, Dim: 36 x 24 cm | E30: uds | F30: 74
C31: 2 | D31: Texto a una tinta, Placa en L Dim: 36+10 x 24 cm | E31: uds | F31: 20
B33: 3 | C33: CARTELA exposición VARIABLE
C34: 1 | D34: Básica: Texto una tinta , DIM: 12 X 10 cm. | E34: uds | F34: 40
C35: 2 | D35: Comentada: Texto una tinta , DIM: 24 X 20 cm. | E35: uds | F35: 22
A37: 4 | B37: IMPRESIÓN CARTELAS BRAILLE | G37: 0
B39: 1 | C39: CARTELA TÁCTIL | E39: uds | F39: 6
D40: Impresión y encapsulado de cartela con texto y texto en relieve Braille para cartela accesible sobre placa de aluminio lacado Blanco mate color NCS S 0500-N de dimensiones 20 x 30 cm.
A42: 5 | B42: SERIGRAFÍA | G42: 0
D44: Escaneado, pantallas e impresión de Serigrafía In situ (Sala B) de texto a una tinta sobre tarima.
C45: 1 | D45: Itinerari Dim: 60 x 72 cm | E45: uds | F45: 14
C46: 2 | D46: Parlament Dim: 40 x 60 | E46: uds | F46: 9
A48: 6 | B48: VINILO CORTE TRANSFERIBLE | G48: 0
D50: Vinilo de corte transferible mate tipo Avery Economy 500
C51: 1 | D51: Parlament. Título y textos (3 idiomas) pared. Dim: 300 x 60cm | E51: uds | F51: 3
C52: 2 | D52: Parlament . Frases pared. Dim 120 x 120cm | E52: uds | F52: 9
C53: 3 | D53: Parlament. Silueta humana. Dim 180 x 90 cm | E53: uds | F53: 1
C54: 4 | D54: Frase despedida Dim: 300 x 120cm | E54: uds | F54: 1
C55: 5 | D55: Expo Variable. Dim 120 x 120cm | E55: uds | F55: 1
A57: 7 | B57: VINILO IMPRESO | G57: 0
D59: Impresión digital impreso en CMYK sobre vinilo mate adhesivo opaco
C60: 1 | D60: Ventana a hall lateral. Adhesivado a cara interior
D61: Dim: 555 cmL x 220cm H | E61: uds | F61: 1
C63: 2 | D63: Ventanas a hall principal. Adhesivadas a cara interior
D64: Dim: 110 cmL x 220 cmH | E64: uds | F64: 2
A66: 8 | B66: VINILO LISO | G66: 0
B68: 1 | C68: VINILO LISO OPACO
D70: Vinilo adhesivo opaco en lámina adherido a superficie de cristal existente para ocultar Pladur a 1 cara en cegado puertas y ventanas
C71: 1 | D71: Puerta lateral 2 hojas Dim 220cmH x 220cmL (110+110) | E71: uds | F71: 2
C72: 2 | D72: Puerta lateral vidrio fijo alto Dim 160cmH x 223 cmL | E72: uds | F72: 2
C73: 3 | D73: Ventana lateral salida Dim: 220cmH x 175cmL | E73: uds | F73: 1
B75: 2 | C75: VINILO LISO OPALIZADO MATE
D77: Vinilo adhesivo opalizado mate en lámina adherido a superfície de metacrilato
C78: 1 | D78: Vitrina IT . Dim 110 x 60 cm | E78: uds | F78: 2
C79: 2 | D79: Vitrina IT . Dim 110 x 80 cm | E79: uds | F79: 1
C80: 3 | D80: Vitrina IT . Dim 230 x 80 cm | E80: uds | F80: 1
A82: 9 | B82: CAJAS DE LUZ CON IMAGEN RETROILUMINADA | G82: 0
D84: Caja de luz para retroiluminación tipo LightBox 50 con marco de aluminio lacado blanco de 50 mm. de espesor con sistema de retroiluminación LED a 7250 lumens/m2 con tª color 3000ºK y dimmer para regulación de intensidad y cable para conexión. | E84: uds | F84: =SUM(F89:F106) -> 20
D85: Incluye retoque digital e impresión digital CMYK sobre tela backlight montada a tensión en cara visible marcos.
D87: Medidas aproximadas a la espera de disponer de los archivos definitivos. Listado en orden de exposición H x L, en cm.
D89: 170 x 230 | E89: uds | F89: 1
D90: 70 x 65 | E90: uds | F90: 2
D91: 185 x 110 | E91: uds | F91: 1
D92: 70 x 55 | E92: uds | F92: 1
D93: 70 x 45 | E93: uds | F93: 1
D94: 65 x 45 | E94: uds | F94: 1
D95: 65 x 90 | E95: uds | F95: 1
D96: 60 x 45 | E96: uds | F96: 2
D97: 55 x 90 | E97: uds | F97: 1
D98: 70 x 90 | E98: uds | F98: 1
D99: 135 x 110 | E99: uds | F99: 1
D100: 90 x 40 | E100: uds | F100: 1
... D106: 60 x 100 | E106: uds | F106: 1

Sheet 5-Av
A1: CAPITULO - 5 | D1: EQUIPOS E INSTALACIONES AUDIOVISUALES | G1: 0
A3: 1 | B3: SUMINISTRO DE EQUIPOS NUEVOS
B5: 1 | C5: ITINERARI | G5: 0
C7: Av-IT | D7: Monitor TFT-LED Full HD de 46” de gama profesional , Rendimiento 16/7, Luminosidad 350 cd/m2, bisel estrecho y visión 180º, montado en fijación Vesa ultranarrow dentro de Marco-Caja embellecedor previstos en partida Marcos Pantalla | E7: uds | F7: 4
D8: Incluye Reproductor Media Stick para reproducción de contenidos 32 GB
B10: 2 | C10: PARLAMENT | G10: 0
C12: Av-P | D12: Monitor TFT-LED 4K de 43”, de gama profesional, Rendimiento 16/7, Luminosidad 350 cd/m2, con bisel estrecho, con lector-reproductor Media Stick USB y visión 180º montado en fijación Vesa Ultranarrow en Marco-caja embellecedor previsto en partida Marcos Pantalla. | E12: uds | F12: 9
D14: EQUIPOS ESPECÍFICOS OBJETOS PARLAMENT AV E
C15: AV E1 | D15: (Rosespèdia) Tablet 10” Full HD en soporte específico preparado para auto-arranque y auto-carga | E15: uds | F15: 1
C17: AV E2 | D17: (Med + Info) Teléfono móvil 6” adaptado para ser usado como pantalla permanente. Autoarranque y auto-carga. Conectado a Objeto Pulsera. | E17: uds | F17: 1
C19: AV E3 | D19: (Mackea) Tablet 10” Full HD en soporte específico preparado para auto-arranque y auto-carga. | E19: uds | F19: 1
C21: AV E4 | D21: (Pide Comparte Conecta) Tablet 10” Full HD en soporte específico preparado para auto-arranque y auto-carga. | E21: uds | F21: 1
B24: 3 | C24: Exposición VARIABLE | G24: 0
C27: Av E5 | D27: (Catálogo on line Banco Aero) Tablet 10” Full HD en soporte específico preparado para auto-arranque y auto-carga | E27: uds | F27: 1
A30: 2 | B30: TRABAJOS DE INSTALACIÓN AUDIOVISUAL
D32: Instalación, volcado archivos, puesta en marcha y ajustes de los equipos audiovisuales para dejar la instalación en perfecto funcionamiento de todos los equipos | E32: PA | G32: 0

Sheet 6-ELEC
A1: CAPITULO - 6 | D1: ELECTRICIDAD | G1: 0
D3: El Museo prevee ejecutar antes del inicio del montaje, una instalación en superfície con tubo de acero galvanizado y 29 tomas hembra ubicadas en cajas de superfície en pavimento siguiendo toda la distribución perimetral de la museografía. Las lineas y tensiones ya se han dispuesto en previsión de los elementos a instalar en la exposición.
D5: En el centro de la sala, donde va ubicada la Exposición Variable, dispondrá una caja Akermann empotrada en el pavimento, con dos tomas de enchufe y 2 tomas RJ45
A7: 1 | B7: ELECTRIFICACIÓN TARIMAS | G7: 0
D8: Toda la instalación deberá estar correctamente ejecutada conforme a la normativa vigente, en especial la Guia BT 49 de Instalaciones eléctricas en Muebles.
D10: Bases Schücko (tipo Ofiblock KV 45 , 4 elementos, de Simon o similar) ocultas bajo la tarima incluye alimentación desde las cajas en sala
C11: 1 | D11: TARIMAS ITINERARI
D12: Ocultas en hornacina con tapa horizontal | E12: uds | F12: 20
C13: 2 | D13: TARIMAS PARLAMENT
D14: Ocultas bajo la tarima frontal, fijadas a costilla, acessibles desde el rehundido del zócalo | E14: uds | F14: 15
A16: 2 | B16: TRABAJOS DE ELECTRIFICACIÓN | E16: PA | G16: 0
D18: Extender cableado y realizar las conexiones para dejar en perfecto funcionamiento tanto los AV como todos los Objetos de la colección que llevan conexión eléctrica.
D20: Monitores, Cajas de luz y objetos a alimentar, colgados en pared de sala se electrifican mediante cableado oculto tras el Pladur de perímetro y llegan en cable contínuo hasta las cajas multiples de la partida anterior.
D22: Monitores, Cajas de luz y objetos a alimentar colgados en panel vertical, se electrifican mediante cableado oculto en estructura de estanteria y llegan en cable contínuo hasta las cajas multiples de la partida anterior.
D24: Las cajas de luz y los monitores Led se conectaran con tomas Schucko y los objetos de la colección se conectaran con tomas Schucko o con regleta directamente (apliques, campana extractora etc...)
D26: Relación de elementos a alimentar eléctricamente | E26: uds | F26: =SUM(F28:F31) -> 91
D28: Equipos Av, con terminal Schucko | E28: uds | F28: 18
D29: Cajas de luz Led con terminal Schucko | E29: uds | F29: 20
D30: Objetos de la Colección con terminal Schucko | E30: uds | F30: 22
D31: Objetos de la Colección a alimentar mediante regleta | E31: uds | F31: 31

Sheet 7-ILU
A1: CAPITULO - 7 | D1: ILUMINACIÓN | G1: 0
D3: Para cubrir todos los puntos de iluminación necesarios el Museo prevee implementar los carriles ya existentes con unos carriles trifásicos ERCO nuevos alineados paralelamente a las estructuras museográficas principales. suspendidos a la misma altura que los existentes, a 435 cm de altura.
D5: Para la iluminación museográfica se dispondrá de los equipos actualmente utilizados en la colección Permanente de la 1ª Planta del Museo con todos los complementos: lentes escultura-Narrow Spot, Spot etc.
D7: Listado aproximado instalación actual-material requerido:
D8: Proyector OptecLED ERCO 8-38W 130 mm. diámetro. | E8: uds | F8: 22
D9: Proyector OptecLED ERCO 4-19W 105 mm. diámetro. | E9: uds | F9: 82
D10: Proyector OptecLED ERCO 2-10W 70 mm. Diámetro | E10: uds | F10: 120
D11: Proyector de contornos Optec LED ERCO 6-10W 70 mm. Diámetro | E11: uds | F11: 20
A13: 1 | B13: SUMINISTRO DE EQUIPOS NUEVOS
C15: 1 | D15: Tira de Led | E15: ml | F15: 15
D16: Tira de LED flexible Constant L03 15W/m, 3 pasos en la elipse MacAdam, cinta adhesiva 3M 300LSE y PCB de 2 Oz. Temp. Color 2700 grados K
C18: 2 | D18: Perfil de aluminio | E18: ml | F18: 15
D19: Perfil de aluminio para superficie lacado blanco LINE 4501.
A21: 2 | B21: TRABAJOS DE ILUMINACIÓN
C23: 1 | D23: Trabajos de diseño y coordinación del montaje | E23: PA
C24: 2 | D24: Jornadas de Iluminador | E24: dias | F24: 5
C25: 3 | D25: Jornadas de técnico | E25: dias | F25: 5
C26: 4 | D26: Alquiler de medios auxiliares (elevador eléctrico con plataforma desplazable) | E26: dias | F26: 5
C27: 5 | D27: Kit de montaje | E27: PA
C28: 6 | D28: Material Fungible | E28: PA
C29: 8 | D29: Redacción de documento As built | E29: PA

Sheet 8-DESMONTAJE P1
A1: CAPITULO - 8 | D1: DESMONTAJE en planta 1 de la EXPOSICIÓN : "Del món al museu" | G1: =G3 -> 0
A3: 1 | B3: RETIRADA DE OBRA EXPOSITIVA
D5: Retirada de todas las piezas de la exposición y traslado a las reservas del Museo de las piezas a guardar , y a la sala B de exposiciones, de las piezas a exponer en la nueva presentación ("Objectes comuns")
D6: Incluye todos los medios auxiliares necesarios
D8: 4 personas durante 8 jornadas | E8: PA
A10: 2 | B10: DESMONTAJE
B12: 1 | C12: EQUIPOS AUDIOVISUALES Y DE ILUMINACIÓN
D13: Desmontaje y retirada de todos los equipos audiovisuales y de iluminación existentes en la exposición
D14: Pantallas y reproductores se protejerán con plástico de burbujas, se señalizarán y trasladarán al almacén de exposiciones del Museo
D15: Los equipos de iluminación se retirarán y bajarán a la sala B para ser utilizados en la nueva presentación ("Objectes comuns")
D17: Incluye todos los medios auxiliares necesarios
D19: 2 técnicos durante 2 jornadas | E19: PA
B21: 2 | C21: INSTALACIÓN ELÉCTRICA
D22: Desmontaje y retirada de toda la instalación eléctrica que alimenta la exposición, dejando liberado el cuadro eléctrico correspondiente a esta sala
B24: 3 | C24: ELEMENTOS DE MUSEOGRAFÍA
D25: Desmontaje de paredes, peanas, vitrinas, gráfica y resto de recursos expositivos empleados en la exposición.
D26: Separación de las piezas desmontadas por materiales y traslado a las plantas de reciclaje correspondientes. Los materiales no reciclables serán trasladados a una planta de desechos autorizada.

Sheet 9-MONTAJE sala B
A1: CAPITULO - 9 | D1: MONTAJE DE OBRA en sala B de la exposición "Objectes comuns" | G1: =G3 -> 0
A3: 1 | B3: MONTAJE DE OBRA EXPOSITIVA
D5: Manipulación por parte de personal especializado de la relación de piezas a exponer, que figuran en el anexo correspondiente.
D6: Incluye todos los medios auxiliares necesarios
D8: 4 personas durante 10 jornadas | E8: PA

Sheet RESUMEN
A1: RESUMEN
A4: CAPITULO - 1 | D4: CERRAMIENTOS | G4: ='1-C'!G1 -> 0
A6: CAPITULO - 2 | D6: PINTURA | G6: ='2-P'!G1 -> 0
A8: CAPITULO - 3 | D8: SOPORTES EXPOSITIVOS | G8: ='3-SE'!G1 -> 0
A10: CAPITULO - 4 | D10: GRAFICA | G10: ='4-GR'!G1 -> 0
A12: CAPITULO - 5 | D12: EQUIPOS E INSTALACIONES AUDIOVISUALES | G12: ='5-Av'!G1 -> 0
A14: CAPITULO - 6 | D14: ELECTRICIDAD | G14: ='6-ELEC'!G1 -> 0
A16: CAPITULO - 7 | D16: ILUMINACIÓN | G16: ='7-ILU'!G1 -> 0
A18: CAPITULO - 8 | D18: DESMONTAJE exposicion P1 | G18: ='8-DESMONTAJE P1'!G1 -> 0
A20: CAPITULO - 9 | D20: MONTAJE DE OBRA en sala B | G20: ='9-MONTAJE sala B'!G1 -> 0
A22: TOTAL BASE | G22: =SUM(G4:G21) -> 0
A24: IVA 21% | G24: =G22*0.21 -> 0
A25: TOTAL AMB IVA | G25: =G22+G24 -> 0
