Workbook
Name Print_Area: Presupost!$A$1:$K$257
Name Print_Area: Resum!$A$1:$G$19
Name Print_Titles: Presupost!$1:$1

Sheet Presupost
A1: CAPÍTOL | B1: CODI | C1: DESCRIPCIÓ PARTIDA | E1: UNITATS | F1: FONS | G1: LARGADA | H1: ALÇADA | I1: SUPERFÍCIE | J1: PREU UNITAT | K1: PREU TOTAL
A3: 1 | B3: DESMUNTATGE Y ARRANJAMENT PLANTA QUARTA | K3: =K5+K31 -> 0
A5: 1.1 | C5: DESMUNTATGE | K5: =SUM(K6:K27)/2 -> 0
B6: 1.1.1 | C6: Desmuntatge conjunt de cartel·les | D6: ut. | E6: 150 | K6: =E6*J6 -> 0
C7: Desmuntatge conjunt de cartel·les, 150 unitats de diferent mides, i de tots els caragols de fixació i els seus embellidors, protegir-les i guardar-les en caixes per ser reutilizades.Inclou trasllat del conjunt a magatzems del museu.
C8: TOTAL | K8: =SUM(K6:K7) -> 0
B10: 1.1.2 | C10: Desmuntatge de les taules a sala i trasladar a taller (Segons plànol 4P01) | D10: ut. | E10: 12 | K10: =E10*J10 -> 0
C11: Desmuntatge de les taules i trasllat a taller , per a la seva posterior manipulació. Inclou recollir cable d'acer inoxidable amb les noves barres metàl·liques per a reutilitzar en el futur juntament amb el sistema de motors i enrotllar el cable sobrant i embridar dins de l'espai del fals sostre.
C12: TOTAL | K12: =SUM(K10:K11) -> 0
B13: 1.1.3 | C13: Desmuntatge panells corredissos (Segons plànol 4P01) | D13: ut. | E13: 2 | K13: =E13*J13 -> 0
C14: Desmuntatge 2 panells corredissos, de estructura d'acer o fusta i acabat de panel de contraxapat de fusta. Desmuntatge de les guies corredisses Retirada a abocadors selectius.
C15: TOTAL | K15: =SUM(K13:K14) -> 0
B16: 1.1.4 | C16: Desmuntatge il·luminació (Segons plànol 4P02) | D16: ut, | E16: 57 | K16: =E16*J16 -> 0
C17: Desmuntatge i retirada conjunt focus il·luminació, projector Optec lent spherolite oval flood ref 71013 de ERCO, de l'exposició de la planta quarta per a la seva reutilització posterior en planta primera. Trasllat a magatzems. Inclou embalatge de protecció i caixes per guardar-los.
C18: TOTAL | K18: =SUM(K16:K17) -> 0
B19: 1.1.5 | C19: Desmuntatge caixa de llum de títol (Segons plànol 4P01) | D19: ut. | E19: 1 | K19: =E19*J19 -> 0
C20: Desmuntatge caixa de llum de títol , protegir-la i guardar-les en caixes per ser reutilizades. Inclou trasllat del conjunt a magatzems del museu.
C21: TOTAL | K21: =SUM(K19:K20) -> 0
B22: 1.1.6 | C22: Instal·lacions (Segons plànol 4P01) | D22: ut. | E22: 2 | K22: =E22*J22 -> 0
C23: Desmuntatge de les conexións d'instal·lacions elèctriques de la caixa de llum Titól i del monitor entrevistes.
C24: TOTAL | K24: =SUM(K22:K23) -> 0
B25: 1.1.7 | C25: Arrencat indicacions podo tàctil (Segons plànol 4P01) | D25: ml | E25: 1 | G25: 40 | K25: =E25*J25*G25 -> 0
C26: Arrencat franja podotàctil (formada per dues franges de botons enganxats reseguint el perímetre de les taules) , inclou la neteja de restes i marques al paviment. Retirada a abocadors selectius.
C27: TOTAL | K27: =SUM(K25:K26) -> 0
A31: 1.2 | C31: ARRANJAMENT PLANTA QUARTA | K31: =SUM(K32:K44)/2 -> 0
B32: 1.2.1 | C32: Arranjament plaques de guix laminat i pintura plàstica sobre plaques de guix laminat (Segons plànol 4P03)
C33: Arranjament plaques de guix laminat, arracada de vinils (infografia, creditos, i de explicacio dels catells olipics) ; Pintat total de la sala fins al fals sostre. Aplicació manual de dues mans de pintura plàstica, color a escollir DF, acabat mat, textura llisa, la primera mà diluïda amb un 20% d'aigua i la següent sense diluir, (rendiment: 0,1 l/m² cada mà); prèvia aplicació d'una mà d'emprimació a base de copolímers acrílics en suspensió aquosa, sobre parament interior de plaques de guix laminat, vertical, de més de 3 m d'altura. El preu inclou la protecció dels elements de l'entorn que puguin veure's afectats durant els treballs i la resolució de punts singulars.
D34: m2 | E34: 1 | G34: 35 | H34: 4.05 | I34: =G34*H34 -> 141.75 | K34: =E34*J34*I34 -> 0
E35: 1 | G35: 36 | H35: 4.05 | I35: =G35*H35 -> 145.8 | K35: =E35*J35*I35 -> 0
E36: 1 | G36: 14.6 | H36: 1.05 | I36: =G36*H36 -> 15.33 | K36: =E36*J36*I36 -> 0
E37: 1 | G37: 5.25 | H37: 1.05 | I37: =G37*H37 -> 5.5125 | K37: =E37*J37*I37 -> 0
C38: TOTAL | K38: =SUM(K34:K37) -> 0
B39: 1.2.2 | C39: Bloquejar base de fixació a terra de los tensor inferiors existents (Segons plànol 4P03, AT01) | D39: ut. | E39: 29 | K39: =E39*J39 -> 0
C40: Bloquejar base de fixació a terra de los tensor inferiors existents de les taules, tipus Bilma B-07 en la posició tancada perquè no sobresurti del pavimentt mitjançant un cordó de silicona transparent.
C41: TOTAL | K41: =SUM(K39:K40) -> 0
B42: 1.2.3 | C42: Barres metàl·liques de penjar per al sistema de motorització (Segons plànol 4P03, AT01) | D42: ut | E42: 24 | G42: 9.5 | K42: =E42*J42*G42 -> 0
C43: Barres metàl·liques, perfil T de 50mm i una llargada de 9,5m segons plànols, mecanitzat amb forat per a penjar des dels tensors de les taules existents. Inclou escurçar els cable d'acer inoxidable perquè quedin tots al mateix nivell just per sota del fals sostre quan el sistema estigui recollit. Acabat de vares amb dues mans de mini i dues d'esmalt mat color a definir per la DF. Tot acabat i funcionant.
C44: TOTAL | K44: =SUM(K42:K43) -> 0
A46: 2 | B46: ADEQUACIÓ PLANTA PRIMERA | K46: =K57+K48+K111 -> 0
A48: 2.1 | C48: ADEQUACIÓ PLANTA PRIMERA | K48: =SUM(K49:K56) -> 0
B49: 2.1.1 | C49: Reparacions parcials murs i envans de pladur degut a incidències de la retirada de l'anterior exposició | D49: pa | E49: 1 | K49: =J49*E49 -> 0
C50: Reparacions parcials de les possibles incidències en els murs de plaques de guix laminat de la sala per la retirada de l'antiga exposició.
C51: TOTAL | K51: =SUM(K49:K50) -> 0
B53: 2.1.2 | C53: Reconstrucció del trasdossat autoportant de plaques de guix laminat sobre la vidriera de la façana a Glòries (Segons plànol 1P01) | D53: m2 | E53: 1 | G53: 18.4 | H53: 4.4 | I53: =G53*H53 -> 80.96 | K53: =I53*J53 -> 0
C54: Reconstrucció del trasdossat autoportant lliure sobre la vidriera de façana a Glòries, de 105 mm d'espessor, amb nivell de qualitat de l'acabat Q2, format per placa de guix laminat de 15 mm d'espessor, cargolada directament a una estructura autoportant d'acer galvanitzat formada per canals horitzontals, sòlidament fixats al terra i al sostre i muntants verticals de 90 mm i 0,6 mm d'espessor amb una modulació de 400 mm i amb disposició normal "H", muntats sobre canals al costat del parament vertical. Inclús banda acústica; fixacions per a l'ancoratge de canals i muntants metàl·lics; cargols per a la fixació de les plaques; cinta de paper amb reforç metàl·lic i pasta i cinta per al tractament de junts. El preu inclou la resolució de trobades i punts singulars, repassos i pintat.
C55: TOTAL | K55: =SUM(K53:K54) -> 0
A57: 2.2 | C57: ADEQUACIÓ PLANTA PRIMERA | K57: =SUM(K58:K110)/2 -> 0
B58: 2.2.1 | C58: Tall envà de plaques de guix laminatdel mur d'accés de bombers. (Segons plànol 1P01) | D58: m2 | E58: 1 | G58: 2.3 | H58: 3.85 | I58: =G58*H58 -> 8.855 | K58: =I58*J58*E58 -> 0
C59: Tall i enderroc amb mitjans manuals de part del envà de plaques guix laminat del mur d'accés de bombers per façana i refer cantell del envà. encintat, i pintat. Retirada de les runes, càrrega manual al abocadors selectius. Inclou reparació en paviment de fusta i del fals sostre metàl·lic si fos necessari.
C60: TOTAL | K60: =SUM(K58:K59) -> 0
B61: 2.2.2 | C61: Nou envà de plaques guix laminat. Tancament espai AV entrevistes. (Segons plànol 1P01) | D61: m2 | E61: 1 | F61: 0.1 | G61: 6.15 | H61: 3.85 | I61: =G61*H61 -> 23.6775 | K61: =I61*J61*E61 -> 0
C62: Nou envà senzill (15+70+15)/400 (70) (2 normal), amb plaques de guix laminat, de 100 mm de gruix total, amb nivell de qualitat de l'acabat estàndard (Q2), format per una estructura simple de perfils de xapa d'acer galvanitzat de 70 mm d'amplada, a base de muntants (elements verticals) separats 400 mm entre si, amb disposició normal "N" i canals (elements horitzontals), a la què es cargolen dues plaques en total (una placa tipus normal en cada cara, de 15 mm d'espessor cada placa). Inclús banda acústica de dilatació autoadhesiva; fixacions per a l'ancoratge de canals i muntants metàl·lics; cargols per a la fixació de les plaques; cinta de paper amb reforç metàl·lic i pasta i cinta per al tractament de junts. El preu inclou la resolució de trobades i punts singulars, i pintat.
C63: TOTAL | K63: =SUM(K61:K61) -> 0
B64: 2.2.3 | C64: Pintat sala. Pintura plàstica sobre plaques de guix laminat. (Segons plànol 1P01)
C65: Pintat total de la sala fins al fals sostre. Aplicació manual de dues mans de pintura plàstica, color a escollir DF, acabat mat, textura llisa, clasificació de reacció al foc C-s2 o d0 segons UNE-EN 13501, la primera mà diluïda amb un 20% d'aigua i la següent sense diluir, (rendiment: 0,1 l/m² cada mà); prèvia aplicació d'una mà d'emprimació a base de copolímers acrílics en suspensió aquosa, sobre parament interior de plaques de guix laminat, vertical, de més de 3 m d'altura. El preu inclou la protecció dels elements de l'entorn que puguin veure's afectats durant els treballs i la resolució de punts singulars.
C66: Costat curt sala | D66: m2 | E66: 2 | G66: 18.4 | H66: 3.9 | I66: =G66*H66 -> 71.76 | K66: =I66*J66*E66 -> 0
C67: Costat larg sala, accés | E67: 1 | G67: 36.5 | H67: 3.9 | I67: =G67*H67 -> 142.35 | K67: =I67*J67*E67 -> 0
C68: Costat muntacargues | E68: 1 | G68: 36.5 | H68: 3.9 | I68: =G68*H68 -> 142.35 | K68: =I68*J68*E68 -> 0
C69: Costat passadis fons i lateral muntacargues | E69: 2 | G69: 6.4 | H69: 3.9 | I69: =G69*H69 -> 24.96 | K69: =I69*J69*E69 -> 0
C70: envá access bombers | E70: 2 | G70: 3.35 | H70: 3.9 | I70: =G70*H70 -> 13.065 | K70: =I70*J70*E70 -> 0
C71: nou envà entrevistes | E71: 2 | G71: 6.15 | H71: 3.9 | I71: =G71*H71 -> 23.985 | K71: =I71*J71*E71 -> 0
C72: TOTAL | K72: =SUM(K64:K71) -> 0
B73: 2.2.4 | C73: Polit paviment de fusta de la sala (Segons plànol 1P01)
C74: Reparació de paviment de fusta de sala mitjançant polit mecànic, eliminant la capa superficial i el vernís deteriorat, i posterior formació de capa de protecció incolora i brillant composta per una mà de fons aquós protector (rendiment: 0,22 l/m²) i dues mans d'acabat amb vernís a l'aigua a porus tancat, (rendiment: 0,055 l/m² cada mà). clasificació de reacció al foc C-s2 o d0 segons UNE-EN 13501
C75: passadís distribuïdor | D75: m2 | E75: 1 | F75: 1.96 | G75: 36.32 | I75: =G75*F75 -> 71.1872 | K75: =I75*J75 -> 0
C76: sala | E76: 1 | F76: 9.94 | G76: 36.32 | I76: =G76*F76 -> 361.0208 | K76: =I76*J76 -> 0
C77: fons costat passadis escala | E77: 1 | F77: 6.5 | G77: 6.81 | I77: =G77*F77 -> 44.265 | K77: =I77*J77 -> 0
C78: fons costat mutacargues | E78: 1 | F78: 6.5 | G78: 7.71 | I78: =G78*F78 -> 50.115 | K78: =I78*J78 -> 0
C79: passadis escala | E79: 1 | F79: 1.9 | G79: 8.3 | I79: =G79*F79 -> 15.77 | K79: =I79*J79 -> 0
C80: TOTAL | K80: =SUM(K74:K79) -> 0
B81: 2.2.5 | C81: Estructura per al nou mur de l'espai distribuidor d'accés (Segons plànol 1P06 -1P07)
C82: Estructura del nou mur, a base de tubs d'acer soldats, format per dos muntants longitudinals de dimensió 40x40x2mm i una llargada 5970mm , 9 muntants verticals de dimensió 40x20x2mm i una llargada 1520mm, un pilar de tub de dimensió 40x40x2mm i una llargada 2450mm, platina d'unió al següent pilar de 1520x40x5mm, i un travesser de 80x40x2mm d'un llarg 2300mm. Inclou platina d'ancorat al mur de la sala de 180x140x5 amb forats colissos, peça d'unió entre el pilar i el travesser amb mecanitzacions avellanades per a M8 , i peça de fixació al paviment de fusta existent de la sala amb mecanitzacions avellanades per a M8. Tot totalment pintat amb 2 mans de Mini i 2 mans d'esmalt ignífug mat color a definir per la DF. Inclou caragols. Inclou el pilar de final un pilar de tub de dimencions 40x40x2mm i una llargada 2450mm, i un travesser de 80x40x2mm d'un llarg 2300mm. Inclou platina d'ancorat al mur de la sala de 180x140x5 amb forats colissos, peça d'unió entre el pilar i el travesser amb mecanitzacions avellanades per a M8 , i peça de fixació al paviment de fusta existent de la sala amb mecanitzacions avellanades per a M8. Inclou quatre barres roscades soldades als pilars M8 i femelles de fixació, per a la unió entre parts. Acabat mur: acabat frontal de contraxapat de fusta ignífug de 10mm +5mm, i acabat posterior de contraxapat de fusta de 10mm. Tot totalment pintat amb 2 imprimació i 2 mans d'esmalt mat color a definir per la DF. inclou caragols i rematades de contraxapat.
C83: Módul de estructura del nou mur | D83: ut. | E83: 4 | K83: =J83*E83 -> 0
C84: Pilar final de estructura del nou mur | D84: ut. | E84: 1 | K84: =J84*E84 -> 0
C85: TOTAL | K85: =SUM(K83:K84) -> 0
B86: 2.2.6 | C86: Suplement d'altura nou mur de l'espai distribuidor d'accés (Segons plànol 1P06 -1P07) | D86: ut. | E86: 4 | K86: =J86*E86 -> 0
C87: Suplement de 30cm d'altura pel nou de mur l'espai distribuidor d'accés, esctuctura a base de tub d'acer soldat a platines segon planos, format per un muntant longitudinal de dimensió 40x40x2mm i una llargada 5600mm i dues platines d'ancorat a la estructura de mur de 40x95x5 amb forats colissos avellanades per a M8 , acabat amb dues franjes de contraxapat de fusta ignífug de 10mm i de 15mm a dues cares, segon detall. Tot totalment pintat amb 2 imprimació i 2 mans d'esmalt mat color a definir per la DF. inclou caragols i rematades de contraxapat. nota: s'avaluarà en durant obra si és necessari aquest suplement depenent de l'entrada de llum des dels dos accessos
C88: TOTAL | K88: =SUM(K86:K87) -> 0
B89: 2.2.7 | C89: Subministrament i col·locació franja podotàctil (Segons plànols 1P01) | D89: ml | E89: 33.5 | K89: =E89*J89 -> 0
C90: Subministrament i col·locació franja podotàctil resseguint el perímetre de les taules, segons plànols, de 70 mm d'ample (formada por dues franges de botons). Botons de 25 mm de diàmetre ( 26 botones x ml) 871 botones, Total metres lineals, encolats amb adhesiu 3M 93020LE ,Inclou instal·lació amb plantilla
C91: TOTAL | K91: =SUM(K89:K90) -> 0
B92: 2.2.8 | C92: Subministrament i col·locació de 4 suports de monitors (Segons plànols 1P02) | D92: ut. | E92: 4 | K92: =E92*J92 -> 0
C93: Subministrament i col·locació de 4 suports tipus VESA dels monitors Samsung Monitor LED DB32D 721,4 x 420,3 x 49,9 mm, a trasdossat de plaques de guix laminat.
C94: TOTAL | K94: =SUM(K92:K93) -> 0
B95: 2.2.9 | C95: Muntatge il·luminació (Segons plànols 1P05) | D95: ut. | E95: 57 | K95: =E95*J95 -> 0
C96: Muntatge del conjunt focus il·luminació existent, Optec lent spherolite oval flood ref 71013 de ERCO. Inclou el trasllat des de el magatzems. Inclou la posada en marxa i total funcionament de totes les lluminàries, amb l'aprovació prèvia de la DF.
C97: TOTAL | K97: =SUM(K95:K96) -> 0
B98: 2.2.10 | C98: Col·locació de suport existent del monitor de "entrevistes" (Segons plànols 1P02) | D98: ut. | E98: 1 | K98: =E98*J98 -> 0
C99: Col·locació del suport de monitor de "entrevistes" existent, tipus VESA a mur de guix laminat.
C100: TOTAL | K100: =SUM(K98:K99) -> 0
B101: 2.2.11 | C101: Instal·lacions monitors AV de entrevistes i AV Multimedia (Segons plànols 1P02) | D101: ut. | E101: 5 | K101: =E101*J101 -> 0
C102: Muntatge instal·lacions elèctriques equips audiovisuals. Totalment muntada en obra i en funcionament, aprovació prèvia de la DF ,
C103: TOTAL | K103: =SUM(K101:K102) -> 0
B104: 2.2.12 | C104: Muntatge caixa de llum de títol (Segons plànols 1P01) | D104: ut. | E104: 1 | K104: =E104*J104 -> 0
C105: Col·locació caixa de llum de títol, segons plànol ,de 70 mm d'ample (formada per 2 franges de botons). Inclou les instal·lacions elèctriques. Totalment muntada en obra i en funcionament, aprovació prèvia de la DF, inclou el trasllat des de magatzem.
C106: TOTAL | K106: =SUM(K104:K105) -> 0
B107: 2.2.13 | C107: Desmuntatge i muntatge cortina enrotllable existent (Segons plànols 4P03 i 1P01) | D107: ut. | E107: 1 | K107: =E107*J107 -> 0
C108: desmuntatge de cortina enrotllable existent, de 1600mm de amplada, en la planta quarta i muntatge en la planta primera. inclou mitjans auxiliars, el trasllat entre les dues planta, totalment acabat i funcionant
C109: TOTAL | K109: =SUM(K107:K108) -> 0
A111: 2.3 | C111: ADECUACIÓ INSTAL.LACIONS DE SALA | K111: =SUM(K112:K148)/2 -> 0
...

Sheet Resum
A2: Resum per capítols
A4: 1 | B4: =Presupost!B3 -> DESMUNTATGE Y ARRANJAMENT PLANTA QUARTA | G4: =Presupost!K3 -> 0
A5: 2 | B5: =Presupost!B46 -> ADEQUACIÓ PLANTA PRIMERA | G5: =Presupost!K46 -> 0
A6: 3 | B6: ADEQUACIÓ DE TAULES | G6: =Presupost!K149 -> 0
A7: 4 | B7: NOUS ELEMENTS DE LA MUSEOGRAFIA, DE GRÀFICA I DE MOBILIARI | G7: =Presupost!K207 -> 0
A8: 5 | B8: ASSISTÈNCIA PER A DESMUNTATGE, MUNTAGE I COL·LOCACIÓ DE PECES I GRÀFICA | G8: =Presupost!K246 -> 0
A9: 6 | B9: OTROS | G9: =Presupost!K264 -> 0
B10: TOTAL BASE | G10: =SUM(G4:G9) -> 0
B11: IVA 21% | G11: =G10*0.21 -> 0
B12: TOTAL AMB IVA | G12: =G10+G11 -> 0
