Workbook
Name Print_Area: Presupost!$A$1:$K$257
Name Print_Area: Resum!$A$1:$G$19
Name Print_Titles: Presupost!$1:$1

Sheet Presupost
A1: CAPÍTOL | B1: CODI | C1: DESCRIPCIÓ PARTIDA | E1: UNITATS | F1: FONS | G1: LARGADA | H1: ALÇADA | I1: SUPERFÍCIE | J1: PREU UNITAT | K1: PREU TOTAL
A3: 1 | B3: DESMUNTATGE Y ARRANJAMENT PLANTA QUARTA | K3: =K5+K31 -> 0
A5: 1.1 | C5: DESMUNTATGE | K5: =SUM(K6:K27)/2 -> 0
B6: 1.1.1 | C6: Desmuntatge conjunt de cartel·les | D6: ut. | E6: 150 | K6: =E6*J6 -> 0
C7: Desmuntatge conjunt de cartel·les, 150 unitats de diferent mides, i de tots els caragols de fixació i els seus embellidors, protegir-les i guardar-les en caixes per ser reutilizades.Inclou trasllat del conjunt a magatzems del museu.
C8: TOTAL | K8: =SUM(K6:K7) -> 0
B10: 1.1.2 | C10: Desmuntatge de les taules a sala i trasladar a taller (Segons plànol 4P01) | D10: ut. | E10: 12 | K10: =E10*J10 -> 0
C11: Desmuntatge de les taules i trasllat a taller , per a la seva posterior manipulació. Inclou recollir cable d'acer inoxidable amb les noves barres metàl·liques per a reutilitzar en el futur juntament amb el sistema de motors i enrotllar el cable sobrant i embridar dins de l'espai del fals sostre.
C12: TOTAL | K12: =SUM(K10:K11) -> 0
B13: 1.1.3 | C13: Desmuntatge panells corredissos (Segons plànol 4P01) | D13: ut. | E13: 2 | K13: =E13*J13 -> 0
C14: Desmuntatge 2 panells corredissos, de estructura d'acer o fusta i acabat de panel de contraxapat de fusta. Desmuntatge de les guies corredisses Retirada a abocadors selectius.
C15: TOTAL | K15: =SUM(K13:K14) -> 0
B16: 1.1.4 | C16: Desmuntatge il·luminació (Segons plànol 4P02) | D16: ut, | E16: 57 | K16: =E16*J16 -> 0
C17: Desmuntatge i retirada conjunt focus il·luminació, projector Optec lent spherolite oval flood ref 71013 de ERCO, de l'exposició de la planta quarta per a la seva reutilització posterior en planta primera. Trasllat a magatzems. Inclou embalatge de protecció i caixes per guardar-los.
C18: TOTAL | K18: =SUM(K16:K17) -> 0
B19: 1.1.5 | C19: Desmuntatge caixa de llum de títol (Segons plànol 4P01) | D19: ut. | E19: 1 | K19: =E19*J19 -> 0
C20: Desmuntatge caixa de llum de títol , protegir-la i guardar-les en caixes per ser reutilizades. Inclou trasllat del conjunt a magatzems del museu.
C21: TOTAL | K21: =SUM(K19:K20) -> 0
B22: 1.1.6 | C22: Instal·lacions (Segons plànol 4P01) | D22: ut. | E22: 2 | K22: =E22*J22 -> 0
C23: Desmuntatge de les conexións d'instal·lacions elèctriques de la caixa de llum Titól i del monitor entrevistes.
C24: TOTAL | K24: =SUM(K22:K23) -> 0
B25: 1.1.7 | C25: Arrencat indicacions podo tàctil (Segons plànol 4P01) | D25: ml | E25: 1 | G25: 40 | K25: =E25*J25*G25 -> 0
C26: Arrencat franja podotàctil (formada per dues franges de botons enganxats reseguint el perímetre de les taules) , inclou la neteja de restes i marques al paviment. Retirada a abocadors selectius.
C27: TOTAL | K27: =SUM(K25:K26) -> 0
A31: 1.2 | C31: ARRANJAMENT PLANTA QUARTA | K31: =SUM(K32:K44)/2 -> 0
B32: 1.2.1 | C32: Arranjament plaques de guix laminat i pintura plàstica sobre plaques de guix laminat (Segons plànol 4P03)
C33: Arranjament plaques de guix laminat, arracada de vinils (infografia, creditos, i de explicacio dels catells olipics) ; Pintat total de la sala fins al fals sostre. Aplicació manual de dues mans de pintura plàstica, color a escollir DF, acabat mat, textura llisa, la primera mà diluïda amb un 20% d'aigua i la següent sense diluir, (rendiment: 0,1 l/m² cada mà); prèvia aplicació d'una mà d'emprimació a base de copolímers acrílics en suspensió aquosa, sobre parament interior de plaques de guix laminat, vertical, de més de 3 m d'altura. El preu inclou la protecció dels elements de l'entorn que puguin veure's afectats durant els treballs i la resolució de punts singulars.
D34: m2 | E34: 1 | G34: 35 | H34: 4.05 | I34: =G34*H34 -> 141.75 | K34: =E34*J34*I34 -> 0
E35: 1 | G35: 36 | H35: 4.05 | I35: =G35*H35 -> 145.8 | K35: =E35*J35*I35 -> 0
E36: 1 | G36: 14.6 | H36: 1.05 | I36: =G36*H36 -> 15.33 | K36: =E36*J36*I36 -> 0
E37: 1 | G37: 5.25 | H37: 1.05 | I37: =G37*H37 -> 5.5125 | K37: =E37*J37*I37 -> 0
C38: TOTAL | K38: =SUM(K34:K37) -> 0
B39: 1.2.2 | C39: Bloquejar base de fixació a terra de los tensor inferiors existents (Segons plànol 4P03, AT01) | D39: ut. | E39: 29 | K39: =E39*J39 -> 0
C40: Bloquejar base de fixació a terra de los tensor inferiors existents de les taules, tipus Bilma B-07 en la posició tancada perquè no sobresurti del pavimentt mitjançant un cordó de silicona transparent.
C41: TOTAL | K41: =SUM(K39:K40) -> 0
B42: 1.2.3 | C42: Barres metàl·liques de penjar per al sistema de motorització (Segons plànol 4P03, AT01) | D42: ut | E42: 24 | G42: 9.5 | K42: =E42*J42*G42 -> 0
C43: Barres metàl·liques, perfil T de 50mm i una llargada de 9,5m segons plànols, mecanitzat amb forat per a penjar des dels tensors de les taules existents. Inclou escurçar els cable d'acer inoxidable perquè quedin tots al mateix nivell just per sota del fals sostre quan el sistema estigui recollit. Acabat de vares amb dues mans de mini i dues d'esmalt mat color a definir per la DF. Tot acabat i funcionant.
C44: TOTAL | K44: =SUM(K42:K43) -> 0
A46: 2 | B46: ADEQUACIÓ PLANTA PRIMERA | K46: =K57+K48+K111 -> 0
A48: 2.1 | C48: ADEQUACIÓ PLANTA PRIMERA | K48: =SUM(K49:K56) -> 0
...

Sheet Resum
A2: Resum per capítols
A4: 1 | B4: =Presupost!B3 -> DESMUNTATGE Y ARRANJAMENT PLANTA QUARTA | G4: =Presupost!K3 -> 0
A5: 2 | B5: =Presupost!B46 -> ADEQUACIÓ PLANTA PRIMERA | G5: =Presupost!K46 -> 0
A6: 3 | B6: ADEQUACIÓ DE TAULES | G6: =Presupost!K149 -> 0
A7: 4 | B7: NOUS ELEMENTS DE LA MUSEOGRAFIA, DE GRÀFICA I DE MOBILIARI | G7: =Presupost!K207 -> 0
A8: 5 | B8: ASSISTÈNCIA PER A DESMUNTATGE, MUNTAGE I COL·LOCACIÓ DE PECES I GRÀFICA | G8: =Presupost!K246 -> 0
A9: 6 | B9: OTROS | G9: =Presupost!K264 -> 0
B10: TOTAL BASE | G10: =SUM(G4:G9) -> 0
B11: IVA 21% | G11: =G10*0.21 -> 0
B12: TOTAL AMB IVA | G12: =G10+G11 -> 0
